{"text_format":"1","workbook":"xlsx","n_sheets":9,"sheets":["MN_5 DM","Sheet3","Sheet1","Middle School D1","Middle School D2","High School D1","High School D2","ScoresBySorting","Sheet2"],"not_rendered":{"charts":0,"images":0,"macros":1,"external_links":0,"defined_names":6,"comments":0,"pivot_tables":0},"unopened":[],"bounds":{"document_bytes":16777216,"sheet_cells":100000,"rows_first":2000,"rows_last":500,"rows_between":2000,"halvings":0,"cell_chars":16384,"cell_head_chars":4096},"cells_cut":0,"cells_raw":0,"read":"whole","date_system":"1900"}

{"sheet":"MN_5 DM","index":0,"n_rows":405,"n_cols":17,"rows_kept":405,"cut":false,"hidden":false,"merged":[]}
[null,"Overall Lap by Division Race Report as of 8/28/2022 9:53:58 PM"]
["IYRaceID","Place","Points","Division","Name","Team","Category","Comment","IYRaceID","Plate","Laps","Adjust","Total","Lap 1","Lap 2","Lap 3","Lap 4"]
["100430928",1,500,{"$f":"VLOOKUP(F3,Sheet2!$A$2:$B$86,2,FALSE)","v":1},"LANDON HAGEN","Brainerd High School","6th Grade Boys D1",null,100430928,8016,1,"00:00:00","00:18:22","00:18:22"]
[100405726,2,490,1,"GUS LAYMAN","Rock Ridge Composite","6th Grade Boys D1",null,100405726,8115,1,"00:00:00","00:18:42","00:18:42"]
[100406084,3,481,{"$f":"VLOOKUP(F5,Sheet2!$A$2:$B$86,2,FALSE)","v":1},"CAMERON HYSONG","Mounds View High School","6th Grade Boys D1",null,100406084,8083,1,"00:00:00","00:20:45","00:20:45"]
[100390041,4,472,{"$f":"VLOOKUP(F6,Sheet2!$A$2:$B$86,2,FALSE)","v":1},"BECKETT CRAINE","Crosby-Ironton High School","6th Grade Boys D1",null,100390041,8035,1,"00:00:00","00:21:21","00:21:21"]
[100432243,5,464,{"$f":"VLOOKUP(F7,Sheet2!$A$2:$B$86,2,FALSE)","v":1},"AUGUST MAYER","Chaska High School","6th Grade Boys D1",null,100432243,8023,1,"00:00:00","00:21:30","00:21:30"]
[100429585,6,456,{"$f":"VLOOKUP(F8,Sheet2!$A$2:$B$86,2,FALSE)","v":1},"DILLON LARSON","Alexandria Area Youth Cycling","6th Grade Boys D1",null,100429585,8002,1,"00:00:00","00:22:40","00:22:40"]
[100420497,7,448,{"$f":"VLOOKUP(F9,Sheet2!$A$2:$B$86,2,FALSE)","v":1},"NOAH DAHN","New Prague Middle and High School","6th Grade Boys D1",null,100420497,8093,1,"00:00:00","00:23:55","00:23:55"]
[100420233,8,441,1,"PATRICK GRAMM","Rock Ridge Composite","6th Grade Boys D1",null,100420233,8113,1,"00:00:00","00:24:04","00:24:04"]
[100429282,9,434,{"$f":"VLOOKUP(F11,Sheet2!$A$2:$B$86,2,FALSE)","v":1},"ETHAN REID","Brainerd High School","6th Grade Boys D1",null,100429282,8017,1,"00:00:00","00:24:17","00:24:17"]
[100407570,10,427,1,"KIERAN ROARK","Rock Ridge Composite","6th Grade Boys D1",null,100407570,8118,1,"00:00:00","00:25:15","00:25:15"]
[100432397,1,500,{"$f":"VLOOKUP(F13,Sheet2!$A$2:$B$86,2,FALSE)","v":2},"CASH CONNELLY","Tioga Trailblazers","6th Grade Boys D2",null,100432397,8156,1,"00:00:00","00:19:40","00:19:40"]
[100429379,2,490,{"$f":"VLOOKUP(F14,Sheet2!$A$2:$B$86,2,FALSE)","v":2},"MAX LARSEN","St Cloud Area Composite","6th Grade Boys D2",null,100429379,8134,1,"00:00:00","00:20:28","00:20:28"]
[100389720,3,481,{"$f":"VLOOKUP(F15,Sheet2!$A$2:$B$86,2,FALSE)","v":2},"CARTER BOLSTER","Minnesota Valley Composite","6th Grade Boys D2",null,100389720,8069,1,"00:00:00","00:21:20","00:21:20"]
[100410387,4,472,{"$f":"VLOOKUP(F16,Sheet2!$A$2:$B$86,2,FALSE)","v":2},"ALEXANDER MCNAMARA","Totino Grace High School","6th Grade Boys D2",null,100410387,8157,1,"00:00:00","00:22:34","00:22:34"]
[100408099,5,464,{"$f":"VLOOKUP(F17,Sheet2!$A$2:$B$86,2,FALSE)","v":2},"XAVIER OLSON","Minnesota Valley Composite","6th Grade Boys D2",null,100408099,8071,1,"00:00:00","00:24:09","00:24:09"]
[100426763,6,456,{"$f":"VLOOKUP(F18,Sheet2!$A$2:$B$86,2,FALSE)","v":2},"GARRETT LUSIGNAN","Minnesota Valley Composite","6th Grade Boys D2",null,100426763,8070,1,"00:00:00","00:36:07","00:36:07"]
[100430601,1,500,{"$f":"VLOOKUP(F19,Sheet2!$A$2:$B$86,2,FALSE)","v":2},"PHOEBE HACKENSACK","St Cloud Area Composite","6th Grade Girls",null,100430601,9067,1,"00:00:00","00:19:52","00:19:52"]
[100412462,2,490,{"$f":"VLOOKUP(F20,Sheet2!$A$2:$B$86,2,FALSE)","v":1},"CLAIRE FOLKESTAD","Alexandria Area Youth Cycling","6th Grade Girls",null,100412462,9002,1,"00:00:00","00:21:13","00:21:13"]
[100408226,3,481,{"$f":"VLOOKUP(F21,Sheet2!$A$2:$B$86,2,FALSE)","v":1},"RYLIN CONVERSE","Alexandria Area Youth Cycling","6th Grade Girls",null,100408226,9001,1,"00:00:00","00:21:36","00:21:36"]
[100406949,4,472,1,"SELAH BEUKEMA","Rock Ridge Composite","6th Grade Girls",null,100406949,9056,1,"00:00:00","00:21:42","00:21:42"]
[100431804,5,464,{"$f":"VLOOKUP(F23,Sheet2!$A$2:$B$86,2,FALSE)","v":1},"STELLA MUSEUS","Brainerd High School","6th Grade Girls",null,100431804,9015,1,"00:00:00","00:23:37","00:23:37"]
[100400794,6,456,{"$f":"VLOOKUP(F24,Sheet2!$A$2:$B$86,2,FALSE)","v":2},"CORA METELAK","Tioga Trailblazers","6th Grade Girls",null,100400794,9074,1,"00:00:00","00:24:43","00:24:43"]
[100428934,7,448,{"$f":"VLOOKUP(F25,Sheet2!$A$2:$B$86,2,FALSE)","v":2},"GEMMA BANKS","Elk River Composite","6th Grade Girls",null,100428934,9028,1,"00:00:00","00:25:04","00:25:04"]
[100406833,8,441,{"$f":"VLOOKUP(F26,Sheet2!$A$2:$B$86,2,FALSE)","v":1},"CAMILLE NESBURG","Chanhassen High School","6th Grade Girls",null,100406833,9018,1,"00:00:00","00:26:09","00:26:09"]
[100431651,9,434,{"$f":"VLOOKUP(F27,Sheet2!$A$2:$B$86,2,FALSE)","v":1},"SAGE LARSON","Crosby-Ironton High School","6th Grade Girls",null,100431651,9025,1,"00:00:00","00:26:16","00:26:16"]
[100422932,10,427,{"$f":"VLOOKUP(F28,Sheet2!$A$2:$B$86,2,FALSE)","v":2},"NATALIE MCCORMACK","Elk River Composite","6th Grade Girls",null,100422932,9029,1,"00:00:00","00:27:59","00:27:59"]
[100431533,11,420,{"$f":"VLOOKUP(F29,Sheet2!$A$2:$B$86,2,FALSE)","v":1},"NOELLE PALMER","Chanhassen High School","6th Grade Girls",null,100431533,9019,1,"00:00:00","00:34:04","00:34:04"]
[100392330,1,500,{"$f":"VLOOKUP(F30,Sheet2!$A$2:$B$86,2,FALSE)","v":1},"OWEN RITTER","Crosby-Ironton High School","7th Grade Boys D1",null,100392330,6564,1,"00:00:00","00:16:41","00:16:41"]
[100429671,2,490,{"$f":"VLOOKUP(F31,Sheet2!$A$2:$B$86,2,FALSE)","v":1},"RYLAN O'HEARN","Brainerd High School","7th Grade Boys D1",null,100429671,6531,1,"00:00:00","00:17:20","00:17:20"]
[100392775,3,481,{"$f":"VLOOKUP(F32,Sheet2!$A$2:$B$86,2,FALSE)","v":1},"LINCOLN STUBER","New Prague Middle and High School","7th Grade Boys D1",null,100392775,6656,1,"00:00:00","00:17:34","00:17:34"]
[100390997,4,472,{"$f":"VLOOKUP(F33,Sheet2!$A$2:$B$86,2,FALSE)","v":1},"EZRA JACOBSON","Crosby-Ironton High School","7th Grade Boys D1",null,100390997,6563,1,"00:00:00","00:18:05","00:18:05"]
[100392417,5,464,{"$f":"VLOOKUP(F34,Sheet2!$A$2:$B$86,2,FALSE)","v":1},"PATRICK RYAN","Brainerd High School","7th Grade Boys D1",null,100392417,6533,1,"00:00:00","00:18:06","00:18:06"]
[100391153,6,456,{"$f":"VLOOKUP(F35,Sheet2!$A$2:$B$86,2,FALSE)","v":1},"CASEY KELLY","New Prague Middle and High School","7th Grade Boys D1",null,100391153,6653,1,"00:00:00","00:18:09","00:18:09"]
[100432632,7,448,{"$f":"VLOOKUP(F36,Sheet2!$A$2:$B$86,2,FALSE)","v":1},"AIDEN PRETTYMAN","Brainerd High School","7th Grade Boys D1",null,100432632,6532,1,"00:00:00","00:18:11","00:18:11"]
[100390768,8,441,{"$f":"VLOOKUP(F37,Sheet2!$A$2:$B$86,2,FALSE)","v":1},"ELIJAH HAYES","Brainerd High School","7th Grade Boys D1",null,100390768,6530,1,"00:00:00","00:18:17","00:18:17"]
[100413120,9,434,{"$f":"VLOOKUP(F38,Sheet2!$A$2:$B$86,2,FALSE)","v":1},"MASON DEALWIS","Chanhassen High School","7th Grade Boys D1",null,100413120,6539,1,"00:00:00","00:18:19","00:18:19"]
[100392267,10,427,{"$f":"VLOOKUP(F39,Sheet2!$A$2:$B$86,2,FALSE)","v":1},"BEN RASMUSSEN","New Prague Middle and High School","7th Grade Boys D1",null,100392267,6655,1,"00:00:00","00:18:21","00:18:21"]
[100432168,11,420,{"$f":"VLOOKUP(F40,Sheet2!$A$2:$B$86,2,FALSE)","v":1},"LEVI TURNER","Crosby-Ironton High School","7th Grade Boys D1",null,100432168,6565,1,"00:00:00","00:19:55","00:19:55"]
[100392225,12,414,{"$f":"VLOOKUP(F41,Sheet2!$A$2:$B$86,2,FALSE)","v":1},"LEVI PRESTON","Alexandria Area Youth Cycling","7th Grade Boys D1",null,100392225,6509,1,"00:00:00","00:19:59","00:19:59"]
[100390666,13,408,{"$f":"VLOOKUP(F42,Sheet2!$A$2:$B$86,2,FALSE)","v":1},"MACKEAN HAINES","Brainerd High School","7th Grade Boys D1",null,100390666,6529,1,"00:00:00","00:20:10","00:20:10"]
[100409722,14,402,{"$f":"VLOOKUP(F43,Sheet2!$A$2:$B$86,2,FALSE)","v":1},"NICOLAS SANDERS","Chanhassen High School","7th Grade Boys D1",null,100409722,6542,1,"00:00:00","00:20:17","00:20:17"]
[100406311,15,396,{"$f":"VLOOKUP(F44,Sheet2!$A$2:$B$86,2,FALSE)","v":1},"JOSHUA HENDERSON","Mounds View High School","7th Grade Boys D1",null,100406311,6809,1,"00:00:00","00:21:20","00:21:20"]
[100391871,16,390,{"$f":"VLOOKUP(F45,Sheet2!$A$2:$B$86,2,FALSE)","v":1},"MILO NEEDHAM","Mounds View High School","7th Grade Boys D1",null,100391871,6637,1,"00:00:00","00:22:02","00:22:02"]
[100389829,17,385,{"$f":"VLOOKUP(F46,Sheet2!$A$2:$B$86,2,FALSE)","v":1},"GRIFFEN BUGHER","Alexandria Area Youth Cycling","7th Grade Boys D1",null,100389829,6503,1,"00:00:00","00:22:59","00:22:59"]
[100390049,18,380,{"$f":"VLOOKUP(F47,Sheet2!$A$2:$B$86,2,FALSE)","v":1},"CALEB CROWSER","Alexandria Area Youth Cycling","7th Grade Boys D1",null,100390049,6504,1,"00:00:00","00:23:01","00:23:01"]
[100426483,19,375,{"$f":"VLOOKUP(F48,Sheet2!$A$2:$B$86,2,FALSE)","v":1},"WESTON GRABER","New Prague Middle and High School","7th Grade Boys D1",null,100426483,6652,1,"00:00:00","00:23:05","00:23:05"]
[100434946,20,370,{"$f":"VLOOKUP(F49,Sheet2!$A$2:$B$86,2,FALSE)","v":1},"KELTON HUGHES","Alexandria Area Youth Cycling","7th Grade Boys D1",null,100434946,6807,1,"00:00:00","00:23:45","00:23:45"]
[100418426,21,365,{"$f":"VLOOKUP(F50,Sheet2!$A$2:$B$86,2,FALSE)","v":1},"RYAN GLICK","White Bear Lake High School","7th Grade Boys D1",null,100418426,6787,1,"00:00:00","00:24:25","00:24:25"]
[100389433,22,360,{"$f":"VLOOKUP(F51,Sheet2!$A$2:$B$86,2,FALSE)","v":1},"PIKE AMUNDSON","Alexandria Area Youth Cycling","7th Grade Boys D1",null,100389433,6501,1,"00:00:00","00:25:02","00:25:02"]
[100391141,23,356,{"$f":"VLOOKUP(F52,Sheet2!$A$2:$B$86,2,FALSE)","v":1},"LANCE KAREL","Mounds View High School","7th Grade Boys D1",null,100391141,6635,1,"00:00:00","00:25:22","00:25:22"]
[100415033,24,352,{"$f":"VLOOKUP(F53,Sheet2!$A$2:$B$86,2,FALSE)","v":1},"CAMDEN DANIELSON","Alexandria Area Youth Cycling","7th Grade Boys D1",null,100415033,6505,1,"00:00:00","00:25:32","00:25:32"]
[100430594,25,348,{"$f":"VLOOKUP(F54,Sheet2!$A$2:$B$86,2,FALSE)","v":1},"BARRETT DOWNER","Alexandria Area Youth Cycling","7th Grade Boys D1",null,100430594,6506,1,"00:00:00","00:28:38","00:28:38"]
[100407725,26,344,{"$f":"VLOOKUP(F55,Sheet2!$A$2:$B$86,2,FALSE)","v":1},"LIAM PATREK","Mounds View High School","7th Grade Boys D1",null,100407725,6638,1,"00:00:00","00:31:00","00:31:00"]
[100391366,1,500,{"$f":"VLOOKUP(F56,Sheet2!$A$2:$B$86,2,FALSE)","v":2},"JACK LARSEN","St Cloud Area Composite","7th Grade Boys D2",null,100391366,6739,1,"00:00:00","00:18:01","00:18:01"]
[100390530,2,490,{"$f":"VLOOKUP(F57,Sheet2!$A$2:$B$86,2,FALSE)","v":2},"LEVI GEISLER","Tioga Trailblazers","7th Grade Boys D2",null,100390530,6759,1,"00:00:00","00:18:51","00:18:51"]
[100390709,3,481,{"$f":"VLOOKUP(F58,Sheet2!$A$2:$B$86,2,FALSE)","v":2},"TYLER HANSON","Elk River Composite","7th Grade Boys D2",null,100390709,6584,1,"00:00:00","00:18:54","00:18:54"]
[100390296,4,472,{"$f":"VLOOKUP(F59,Sheet2!$A$2:$B$86,2,FALSE)","v":2},"CALM ENZ","Northwest Composite","7th Grade Boys D2",null,100390296,6659,1,"00:00:00","00:19:53","00:19:53"]
[100428031,5,464,{"$f":"VLOOKUP(F60,Sheet2!$A$2:$B$86,2,FALSE)","v":2},"IAN ARTLEY","Northwest Composite","7th Grade Boys D2",null,100428031,6658,1,"00:00:00","00:20:03","00:20:03"]
[100421438,6,456,{"$f":"VLOOKUP(F61,Sheet2!$A$2:$B$86,2,FALSE)","v":2},"BEN JOHNSON","Tioga Trailblazers","7th Grade Boys D2",null,100421438,6761,1,"00:00:00","00:20:11","00:20:11"]
[100392503,7,448,{"$f":"VLOOKUP(F62,Sheet2!$A$2:$B$86,2,FALSE)","v":2},"BENNETT SCHMALTZ","Roseville Area Composite","7th Grade Boys D2",null,100392503,6721,1,"00:00:00","00:20:16","00:20:16"]
[100391421,8,441,{"$f":"VLOOKUP(F63,Sheet2!$A$2:$B$86,2,FALSE)","v":2},"ISAAC LEISETH","Northwest Composite","7th Grade Boys D2",null,100391421,6660,1,"00:00:00","00:20:29","00:20:29"]
[100424568,9,434,{"$f":"VLOOKUP(F64,Sheet2!$A$2:$B$86,2,FALSE)","v":2},"HENRY LOE","Roseville Area Composite","7th Grade Boys D2",null,100424568,6720,1,"00:00:00","00:21:04","00:21:04"]
[100391627,10,427,{"$f":"VLOOKUP(F65,Sheet2!$A$2:$B$86,2,FALSE)","v":2},"BRADY MATTSON","Tioga Trailblazers","7th Grade Boys D2",null,100391627,6762,1,"00:00:00","00:21:13","00:21:13"]
[100411446,11,420,{"$f":"VLOOKUP(F66,Sheet2!$A$2:$B$86,2,FALSE)","v":2},"THOMAS SEGARI","Tioga Trailblazers","7th Grade Boys D2",null,100411446,6763,1,"00:00:00","00:23:34","00:23:34"]
[100389305,12,414,{"$f":"VLOOKUP(F67,Sheet2!$A$2:$B$86,2,FALSE)","v":2},"LIAM WEBER","Elk River Composite","7th Grade Boys D2",null,100389305,6585,1,"00:00:00","00:24:07","00:24:07"]
[100389916,13,408,{"$f":"VLOOKUP(F68,Sheet2!$A$2:$B$86,2,FALSE)","v":2},"NICK CASTAGNERI","Elk River Composite","7th Grade Boys D2",null,100389916,6583,1,"00:00:00","00:24:27","00:24:27"]
[100425535,14,402,{"$f":"VLOOKUP(F69,Sheet2!$A$2:$B$86,2,FALSE)","v":2},"GAVIN GOLDENMAN","Roseville Area Composite","7th Grade Boys D2",null,100425535,6719,1,"00:00:00","00:26:03","00:26:03"]
[100420802,1,500,{"$f":"VLOOKUP(F70,Sheet2!$A$2:$B$86,2,FALSE)","v":1},"ALEXIS RIDGEWAY","New Prague Middle and High School","7th Grade Girls",null,100420802,7552,1,"00:00:00","00:19:20","00:19:20"]
[100392315,2,490,{"$f":"VLOOKUP(F71,Sheet2!$A$2:$B$86,2,FALSE)","v":1},"VANESSA RICKMEYER","Crosby-Ironton High School","7th Grade Girls",null,100392315,7516,1,"00:00:00","00:20:00","00:20:00"]
[100391498,3,481,{"$f":"VLOOKUP(F72,Sheet2!$A$2:$B$86,2,FALSE)","v":1},"AVERY LONERGAN","Crosby-Ironton High School","7th Grade Girls",null,100391498,7515,1,"00:00:00","00:20:16","00:20:16"]
[100392777,4,472,{"$f":"VLOOKUP(F73,Sheet2!$A$2:$B$86,2,FALSE)","v":1},"ADDISON SUCHY","Alexandria Area Youth Cycling","7th Grade Girls",null,100392777,7501,1,"00:00:00","00:20:22","00:20:22"]
[100409174,5,464,{"$f":"VLOOKUP(F74,Sheet2!$A$2:$B$86,2,FALSE)","v":1},"JADON CARLSON","Mounds View High School","7th Grade Girls",null,100409174,7545,1,"00:00:00","00:20:48","00:20:48"]
[100392890,6,456,{"$f":"VLOOKUP(F75,Sheet2!$A$2:$B$86,2,FALSE)","v":1},"GEORGI TOFTNESS","Crosby-Ironton High School","7th Grade Girls",null,100392890,7518,1,"00:00:00","00:21:08","00:21:08"]
[100390104,7,448,{"$f":"VLOOKUP(F76,Sheet2!$A$2:$B$86,2,FALSE)","v":2},"CLARA DAVIS","Northwest Composite","7th Grade Girls",null,100390104,7553,1,"00:00:00","00:21:38","00:21:38"]
[100430559,8,441,{"$f":"VLOOKUP(F77,Sheet2!$A$2:$B$86,2,FALSE)","v":1},"NORAH ROTH","Crosby-Ironton High School","7th Grade Girls",null,100430559,7517,1,"00:00:00","00:21:55","00:21:55"]
[100391250,9,434,{"$f":"VLOOKUP(F78,Sheet2!$A$2:$B$86,2,FALSE)","v":1},"MONIQUE KONOTOPKA","Chaska High School","7th Grade Girls",null,100391250,7512,1,"00:00:00","00:22:51","00:22:51"]
[100390129,10,427,{"$f":"VLOOKUP(F79,Sheet2!$A$2:$B$86,2,FALSE)","v":2},"ADELE DENTON","Totino Grace High School","7th Grade Girls",null,100390129,7580,1,"00:00:00","00:23:09","00:23:09"]
[100389971,11,420,{"$f":"VLOOKUP(F80,Sheet2!$A$2:$B$86,2,FALSE)","v":2},"ALLISON CLAYDON","Roseville Area Composite","7th Grade Girls",null,100389971,7567,1,"00:00:00","00:23:22","00:23:22"]
[100408103,12,414,{"$f":"VLOOKUP(F81,Sheet2!$A$2:$B$86,2,FALSE)","v":2},"INGRID OLSON","Minnesota Valley Composite","7th Grade Girls",null,100408103,7539,1,"00:00:00","00:23:34","00:23:34"]
[100388717,13,408,{"$f":"VLOOKUP(F82,Sheet2!$A$2:$B$86,2,FALSE)","v":2},"AMBER MAKI","Northwest Composite","7th Grade Girls",null,100388717,7554,1,"00:00:00","00:25:44","00:25:44"]
[100392669,14,402,{"$f":"VLOOKUP(F83,Sheet2!$A$2:$B$86,2,FALSE)","v":2},"HAILEY SOINE","Kerkhoven Composite","7th Grade Girls",null,100392669,7535,1,"00:00:00","00:27:27","00:27:27"]
[100392072,15,396,{"$f":"VLOOKUP(F84,Sheet2!$A$2:$B$86,2,FALSE)","v":2},"NICOLETTE PARMER","North Dakota Composite","7th Grade Girls",null,100392072,7589,1,"00:00:00","00:44:01","00:44:01"]
[100432588,16,390,{"$f":"VLOOKUP(F85,Sheet2!$A$2:$B$86,2,FALSE)","v":2},"JOSEPHINE NEAL","St Cloud Area Composite","7th Grade Girls",null,100432588,7572,1,"00:00:00","01:01:21","01:01:21"]
[100392241,1,500,{"$f":"VLOOKUP(F86,Sheet2!$A$2:$B$86,2,FALSE)","v":1},"THOMAS QUACKENBUSH","Mounds View High School","8th Grade Boys D1",null,100392241,5163,1,"00:00:00","00:16:54","00:16:54"]
[100389750,2,490,{"$f":"VLOOKUP(F87,Sheet2!$A$2:$B$86,2,FALSE)","v":1},"HAYDEN BRAITH","New Prague Middle and High School","8th Grade Boys D1",null,100389750,5180,1,"00:00:00","00:16:55","00:16:55"]
[100392411,3,481,{"$f":"VLOOKUP(F88,Sheet2!$A$2:$B$86,2,FALSE)","v":1},"BRADYN RUPPERT","Chanhassen High School","8th Grade Boys D1",null,100392411,5046,1,"00:00:00","00:17:12","00:17:12"]
[100389517,4,472,{"$f":"VLOOKUP(F89,Sheet2!$A$2:$B$86,2,FALSE)","v":1},"WYATT BACKOWSKI","Crosby-Ironton High School","8th Grade Boys D1",null,100389517,5059,1,"00:00:00","00:17:13","00:17:13"]
[100407702,5,464,{"$f":"VLOOKUP(F90,Sheet2!$A$2:$B$86,2,FALSE)","v":1},"LAKEN BARTEL","Mounds View High School","8th Grade Boys D1",null,100407702,5159,1,"00:00:00","00:17:14","00:17:14"]
[100390667,6,456,{"$f":"VLOOKUP(F91,Sheet2!$A$2:$B$86,2,FALSE)","v":1},"IAN HALBMAIER","New Prague Middle and High School","8th Grade Boys D1",null,100390667,5184,1,"00:00:00","00:17:50","00:17:50"]
[100424730,7,448,{"$f":"VLOOKUP(F92,Sheet2!$A$2:$B$86,2,FALSE)","v":1},"BARON TIKALSKY","New Prague Middle and High School","8th Grade Boys D1",null,100424730,5188,1,"00:00:00","00:18:31","00:18:31"]
[100392163,8,441,1,"WYATT PETRACK","Rock Ridge Composite","8th Grade Boys D1",null,100392163,5244,1,"00:00:00","00:18:36","00:18:36"]
[100420495,9,434,{"$f":"VLOOKUP(F94,Sheet2!$A$2:$B$86,2,FALSE)","v":1},"HENRY DAHN","New Prague Middle and High School","8th Grade Boys D1",null,100420495,5182,1,"00:00:00","00:18:40","00:18:40"]
[100391174,10,427,{"$f":"VLOOKUP(F95,Sheet2!$A$2:$B$86,2,FALSE)","v":1},"SYD KENNEDY","Chanhassen High School","8th Grade Boys D1",null,100391174,5044,1,"00:00:00","00:18:41","00:18:41"]
[100391916,11,420,{"$f":"VLOOKUP(F96,Sheet2!$A$2:$B$86,2,FALSE)","v":1},"WILL NICHOLS","Alexandria Area Youth Cycling","8th Grade Boys D1",null,100391916,5003,1,"00:00:00","00:19:03","00:19:03"]
[100391857,12,414,{"$f":"VLOOKUP(F97,Sheet2!$A$2:$B$86,2,FALSE)","v":1},"KAEGAN MUSEUS","Brainerd High School","8th Grade Boys D1",null,100391857,5033,1,"00:00:00","00:19:05","00:19:05"]
[100389926,13,408,{"$f":"VLOOKUP(F98,Sheet2!$A$2:$B$86,2,FALSE)","v":1},"GREYSEN CHARNSTROM","New Prague Middle and High School","8th Grade Boys D1",null,100389926,5181,1,"00:00:00","00:19:06","00:19:06"]
[100392750,14,402,{"$f":"VLOOKUP(F99,Sheet2!$A$2:$B$86,2,FALSE)","v":1},"NOLAN STONE","Chaska High School","8th Grade Boys D1",null,100392750,5052,1,"00:00:00","00:19:11","00:19:11"]
[100411201,15,396,{"$f":"VLOOKUP(F100,Sheet2!$A$2:$B$86,2,FALSE)","v":1},"TYLER ROSEMEIER","New Prague Middle and High School","8th Grade Boys D1",null,100411201,5187,1,"00:00:00","00:19:20","00:19:20"]
[100390581,16,390,{"$f":"VLOOKUP(F101,Sheet2!$A$2:$B$86,2,FALSE)","v":1},"ALEX GRABRIAN","Crosby-Ironton High School","8th Grade Boys D1",null,100390581,5060,1,"00:00:00","00:19:22","00:19:22"]
[100404616,17,385,{"$f":"VLOOKUP(F102,Sheet2!$A$2:$B$86,2,FALSE)","v":1},"NOLAN SIEDENBURG","Chaska High School","8th Grade Boys D1",null,100404616,5051,1,"00:00:00","00:19:23","00:19:23"]
[100392996,18,380,{"$f":"VLOOKUP(F103,Sheet2!$A$2:$B$86,2,FALSE)","v":1},"ANDY VIZECKY","Mounds View High School","8th Grade Boys D1",null,100392996,5167,1,"00:00:00","00:19:25","00:19:25"]
[100390284,19,375,1,"BECKETT ENGEL","Rock Ridge Composite","8th Grade Boys D1",null,100390284,5241,1,"00:00:00","00:19:29","00:19:29"]
[100392520,20,370,{"$f":"VLOOKUP(F105,Sheet2!$A$2:$B$86,2,FALSE)","v":1},"BEN SCHOLTEN","Alexandria Area Youth Cycling","8th Grade Boys D1",null,100392520,5005,1,"00:00:00","00:19:33","00:19:33"]
[100390288,21,365,{"$f":"VLOOKUP(F106,Sheet2!$A$2:$B$86,2,FALSE)","v":1},"JACKSON ENGELBRECHT","Alexandria Area Youth Cycling","8th Grade Boys D1",null,100390288,5001,1,"00:00:00","00:19:33","00:19:33"]
[100407894,22,360,{"$f":"VLOOKUP(F107,Sheet2!$A$2:$B$86,2,FALSE)","v":1},"WALTER RATWIK","Mounds View High School","8th Grade Boys D1",null,100407894,5164,1,"00:00:00","00:20:02","00:20:02"]
[100392155,23,356,{"$f":"VLOOKUP(F108,Sheet2!$A$2:$B$86,2,FALSE)","v":1},"GAVIN PETERSON","Alexandria Area Youth Cycling","8th Grade Boys D1",null,100392155,5004,1,"00:00:00","00:21:06","00:21:06"]
[100390613,24,352,{"$f":"VLOOKUP(F109,Sheet2!$A$2:$B$86,2,FALSE)","v":1},"ISAAC GRIEVE","Alexandria Area Youth Cycling","8th Grade Boys D1",null,100390613,5002,1,"00:00:00","00:21:51","00:21:51"]
[100393142,25,348,{"$f":"VLOOKUP(F110,Sheet2!$A$2:$B$86,2,FALSE)","v":1},"COLIN WILD","Chaska High School","8th Grade Boys D1",null,100393142,5053,1,"00:00:00","00:22:28","00:22:28"]
[100392825,26,344,{"$f":"VLOOKUP(F111,Sheet2!$A$2:$B$86,2,FALSE)","v":1},"IAN TELSROW","White Bear Lake High School","8th Grade Boys D1",null,100392825,5352,1,"00:00:00","00:22:53","00:22:53"]
[100429427,27,340,{"$f":"VLOOKUP(F112,Sheet2!$A$2:$B$86,2,FALSE)","v":1},"ALEX THIELEN","White Bear Lake High School","8th Grade Boys D1",null,100429427,5353,1,"00:00:00","00:23:48","00:23:48"]
[100428605,28,336,{"$f":"VLOOKUP(F113,Sheet2!$A$2:$B$86,2,FALSE)","v":1},"AVERY PLISCOTT","Brainerd High School","8th Grade Boys D1",null,100428605,5034,1,"00:00:00","00:24:03","00:24:03"]
[100391214,1,500,{"$f":"VLOOKUP(F114,Sheet2!$A$2:$B$86,2,FALSE)","v":2},"MAX KLABUNDE","Rogers High School","8th Grade Boys D2",null,100391214,5248,1,"00:00:00","00:16:16","00:16:16"]
[100390473,2,490,{"$f":"VLOOKUP(F115,Sheet2!$A$2:$B$86,2,FALSE)","v":2},"EDWARD FULL","Elk River Composite","8th Grade Boys D2",null,100390473,5095,1,"00:00:00","00:16:18","00:16:18"]
[100392498,3,481,{"$f":"VLOOKUP(F116,Sheet2!$A$2:$B$86,2,FALSE)","v":2},"HANK SCHLAUDERAFF","Northwest Composite","8th Grade Boys D2",null,100392498,5194,1,"00:00:00","00:16:38","00:16:38"]
[100392296,4,472,{"$f":"VLOOKUP(F117,Sheet2!$A$2:$B$86,2,FALSE)","v":2},"MASON REINER","Eden Prairie High School","8th Grade Boys D2",null,100392296,5075,1,"00:00:00","00:16:41","00:16:41"]
[100428898,5,464,{"$f":"VLOOKUP(F118,Sheet2!$A$2:$B$86,2,FALSE)","v":2},"BRAYDEN BORER","Elk River Composite","8th Grade Boys D2",null,100428898,5092,1,"00:00:00","00:18:23","00:18:23"]
[100392029,6,456,{"$f":"VLOOKUP(F119,Sheet2!$A$2:$B$86,2,FALSE)","v":2},"AIDAN OLSTAD","Eden Prairie High School","8th Grade Boys D2",null,100392029,5074,1,"00:00:00","00:18:25","00:18:25"]
[100389685,7,448,{"$f":"VLOOKUP(F120,Sheet2!$A$2:$B$86,2,FALSE)","v":2},"NOLAN BLAHA","Northwest Composite","8th Grade Boys D2",null,100389685,5193,1,"00:00:00","00:18:26","00:18:26"]
[100427245,8,441,{"$f":"VLOOKUP(F121,Sheet2!$A$2:$B$86,2,FALSE)","v":2},"LIAM LISTON","Eden Prairie High School","8th Grade Boys D2",null,100427245,5073,1,"00:00:00","00:18:50","00:18:50"]
[100391875,9,434,{"$f":"VLOOKUP(F122,Sheet2!$A$2:$B$86,2,FALSE)","v":2},"AIDEN NELSON","Elk River Composite","8th Grade Boys D2",null,100391875,5096,1,"00:00:00","00:18:59","00:18:59"]
[100392352,10,427,{"$f":"VLOOKUP(F123,Sheet2!$A$2:$B$86,2,FALSE)","v":2},"DAVID ROBINSON","North Dakota Composite","8th Grade Boys D2",null,100392352,5191,1,"00:00:00","00:19:05","00:19:05"]
[100429358,11,420,{"$f":"VLOOKUP(F124,Sheet2!$A$2:$B$86,2,FALSE)","v":2},"JACKSON TRIPP","Elk River Composite","8th Grade Boys D2",null,100429358,5097,1,"00:00:00","00:19:07","00:19:07"]
[100391468,12,414,{"$f":"VLOOKUP(F125,Sheet2!$A$2:$B$86,2,FALSE)","v":2},"EMMETT LIND","West Range Composite","8th Grade Boys D2",null,100391468,5347,1,"00:00:00","00:19:26","00:19:26"]
[100392710,13,408,{"$f":"VLOOKUP(F126,Sheet2!$A$2:$B$86,2,FALSE)","v":2},"JACOB STAEHLING","St Cloud Area Composite","8th Grade Boys D2",null,100392710,5274,1,"00:00:00","00:19:28","00:19:28"]
[100430925,14,402,{"$f":"VLOOKUP(F127,Sheet2!$A$2:$B$86,2,FALSE)","v":2},"ERIC STANGEL","Tioga Trailblazers","8th Grade Boys D2",null,100430925,5327,1,"00:00:00","00:19:30","00:19:30"]
[100392511,15,396,{"$f":"VLOOKUP(F128,Sheet2!$A$2:$B$86,2,FALSE)","v":2},"IAN SCHNEIDER","St Cloud Area Composite","8th Grade Boys D2",null,100392511,5273,1,"00:00:00","00:19:35","00:19:35"]
[100419473,16,390,{"$f":"VLOOKUP(F129,Sheet2!$A$2:$B$86,2,FALSE)","v":2},"TUCKER CROWE","West Range Composite","8th Grade Boys D2",null,100419473,5346,1,"00:00:00","00:20:05","00:20:05"]
[100393175,17,385,{"$f":"VLOOKUP(F130,Sheet2!$A$2:$B$86,2,FALSE)","v":2},"OWEN WINDORSKI","Tioga Trailblazers","8th Grade Boys D2",null,100393175,5329,1,"00:00:00","00:20:10","00:20:10"]
[100426314,18,380,{"$f":"VLOOKUP(F131,Sheet2!$A$2:$B$86,2,FALSE)","v":2},"BRODY WIELAND","Eden Prairie High School","8th Grade Boys D2",null,100426314,5076,1,"00:00:00","00:20:49","00:20:49"]
[100391176,19,375,{"$f":"VLOOKUP(F132,Sheet2!$A$2:$B$86,2,FALSE)","v":2},"WILLIAM KENOWSKI","Tioga Trailblazers","8th Grade Boys D2",null,100391176,5322,1,"00:00:00","00:20:54","00:20:54"]
[100389618,20,370,{"$f":"VLOOKUP(F133,Sheet2!$A$2:$B$86,2,FALSE)","v":2},"JONNY BENSON","Kerkhoven Composite","8th Grade Boys D2",null,100389618,5129,1,"00:00:00","00:20:59","00:20:59"]
[100427219,21,365,{"$f":"VLOOKUP(F134,Sheet2!$A$2:$B$86,2,FALSE)","v":2},"MICAH STRICKLAND","Kerkhoven Composite","8th Grade Boys D2",null,100427219,5132,1,"00:00:00","00:21:21","00:21:21"]
[100392085,22,360,{"$f":"VLOOKUP(F135,Sheet2!$A$2:$B$86,2,FALSE)","v":2},"THORVALD PATENAUDE","North Dakota Kindred Composite","8th Grade Boys D2",null,100392085,5189,1,"00:00:00","00:22:52","00:22:52"]
[100393043,23,356,{"$f":"VLOOKUP(F136,Sheet2!$A$2:$B$86,2,FALSE)","v":2},"BRADY WALSKI","North Dakota Composite","8th Grade Boys D2",null,100393043,5192,1,"00:00:00","00:29:07","00:29:07"]
[100392848,1,500,{"$f":"VLOOKUP(F137,Sheet2!$A$2:$B$86,2,FALSE)","v":1},"ABIGAIL THOMES","Brainerd High School","8th Grade Girls","Warning- Discarded Item",100392848,6011,1,"00:00:00","00:18:42","00:18:42"]
[100393138,2,490,{"$f":"VLOOKUP(F138,Sheet2!$A$2:$B$86,2,FALSE)","v":2},"LILY WILCOX","St Cloud Area Composite","8th Grade Girls",null,100393138,6060,1,"00:00:00","00:18:59","00:18:59"]
[100391401,3,481,1,"DALLAS LAYMAN","Rock Ridge Composite","8th Grade Girls",null,100391401,6056,1,"00:00:00","00:19:52","00:19:52"]
[100391867,4,472,{"$f":"VLOOKUP(F140,Sheet2!$A$2:$B$86,2,FALSE)","v":1},"ELLE MYRAN","Chanhassen High School","8th Grade Girls",null,100391867,6014,1,"00:00:00","00:19:53","00:19:53"]
[100430600,5,464,{"$f":"VLOOKUP(F141,Sheet2!$A$2:$B$86,2,FALSE)","v":2},"NORA HACKENSACK","St Cloud Area Composite","8th Grade Girls",null,100430600,6059,1,"00:00:00","00:19:53","00:19:53"]
[100433146,6,456,{"$f":"VLOOKUP(F142,Sheet2!$A$2:$B$86,2,FALSE)","v":2},"ANNA MOORS","Northwest Composite","8th Grade Girls",null,100433146,6044,1,"00:00:00","00:21:02","00:21:02"]
[100405745,7,448,{"$f":"VLOOKUP(F143,Sheet2!$A$2:$B$86,2,FALSE)","v":1},"SARAH BIROS","Mounds View High School","8th Grade Girls",null,100405745,6042,1,"00:00:00","00:32:02","00:32:02"]
[100427192,8,441,1,"LILLIAN KAINZ","Rock Ridge Composite","8th Grade Girls",null,100427192,6055,1,"00:00:00","00:33:46","00:33:46"]
[100389504,1,500,{"$f":"VLOOKUP(F145,Sheet2!$A$2:$B$86,2,FALSE)","v":1},"GRANT ATTERSON","Chaska High School","Freshman Boys D1",null,100389504,3554,2,"00:00:00","00:32:53","00:16:26","00:16:27"]
[100429637,2,490,{"$f":"VLOOKUP(F146,Sheet2!$A$2:$B$86,2,FALSE)","v":1},"FINN NELSON","Crosby-Ironton High School","Freshman Boys D1",null,100429637,3570,2,"00:00:00","00:33:54","00:16:44","00:17:10"]
[100429635,3,481,{"$f":"VLOOKUP(F147,Sheet2!$A$2:$B$86,2,FALSE)","v":1},"OSKAR NELSON","Crosby-Ironton High School","Freshman Boys D1",null,100429635,3572,2,"00:00:00","00:34:07","00:16:50","00:17:17"]
[100390042,4,472,{"$f":"VLOOKUP(F148,Sheet2!$A$2:$B$86,2,FALSE)","v":1},"COOPER CRAINE","Crosby-Ironton High School","Freshman Boys D1",null,100390042,3569,2,"00:00:00","00:35:09","00:17:22","00:17:46"]
[100407002,5,464,{"$f":"VLOOKUP(F149,Sheet2!$A$2:$B$86,2,FALSE)","v":1},"ANGUS LEVINS","White Bear Lake High School","Freshman Boys D1",null,100407002,3894,2,"00:00:00","00:35:24","00:17:40","00:17:44"]
[100409178,6,456,{"$f":"VLOOKUP(F150,Sheet2!$A$2:$B$86,2,FALSE)","v":1},"CORBAN CARLSON","Mounds View High School","Freshman Boys D1",null,100409178,3695,2,"00:00:00","00:35:25","00:17:46","00:17:38"]
[100426799,7,448,{"$f":"VLOOKUP(F151,Sheet2!$A$2:$B$86,2,FALSE)","v":1},"GARRETT TOBIAS","New Prague Middle and High School","Freshman Boys D1",null,100426799,3731,2,"00:00:00","00:35:50","00:18:07","00:17:43"]
[100392774,8,441,{"$f":"VLOOKUP(F152,Sheet2!$A$2:$B$86,2,FALSE)","v":1},"JEREMIAH STUBER","New Prague Middle and High School","Freshman Boys D1",null,100392774,3730,2,"00:00:00","00:36:03","00:18:09","00:17:54"]
[100393036,9,434,{"$f":"VLOOKUP(F153,Sheet2!$A$2:$B$86,2,FALSE)","v":1},"JAMES WALLEK","White Bear Lake High School","Freshman Boys D1",null,100393036,3901,2,"00:00:00","00:36:23","00:18:05","00:18:18"]
[100411162,10,427,{"$f":"VLOOKUP(F154,Sheet2!$A$2:$B$86,2,FALSE)","v":1},"SULLIVAN ROONEY","Alexandria Area Youth Cycling","Freshman Boys D1",null,100411162,3506,2,"00:00:00","00:36:24","00:18:12","00:18:11"]
[100391372,11,420,{"$f":"VLOOKUP(F155,Sheet2!$A$2:$B$86,2,FALSE)","v":1},"JOEY LARSON","New Prague Middle and High School","Freshman Boys D1",null,100391372,3728,2,"00:00:00","00:37:10","00:18:38","00:18:31"]
[100390124,12,414,{"$f":"VLOOKUP(F156,Sheet2!$A$2:$B$86,2,FALSE)","v":1},"XAVIER DEMARRE","Chaska High School","Freshman Boys D1",null,100390124,3555,2,"00:00:00","00:37:36","00:18:40","00:18:56"]
[100392884,13,408,1,"SILAS TODAY","Rock Ridge Composite","Freshman Boys D1",null,100392884,3783,2,"00:00:00","00:37:43","00:18:32","00:19:11"]
[100389530,14,402,{"$f":"VLOOKUP(F158,Sheet2!$A$2:$B$86,2,FALSE)","v":1},"LUCAS BAKKER","Alexandria Area Youth Cycling","Freshman Boys D1",null,100389530,3502,2,"00:00:00","00:37:48","00:18:35","00:19:13"]
[100390989,15,396,{"$f":"VLOOKUP(F159,Sheet2!$A$2:$B$86,2,FALSE)","v":1},"KELLGREN JABS","New Prague Middle and High School","Freshman Boys D1",null,100390989,3727,2,"00:00:00","00:37:50","00:18:41","00:19:09"]
[100426418,16,390,{"$f":"VLOOKUP(F160,Sheet2!$A$2:$B$86,2,FALSE)","v":1},"LUKAS HOLICKY","New Prague Middle and High School","Freshman Boys D1",null,100426418,3726,2,"00:00:00","00:38:03","00:18:53","00:19:10"]
[100389649,17,385,1,"SIMON BEUKEMA","Rock Ridge Composite","Freshman Boys D1",null,100389649,3776,2,"00:00:00","00:38:24","00:19:30","00:18:55"]
[100391179,18,380,{"$f":"VLOOKUP(F162,Sheet2!$A$2:$B$86,2,FALSE)","v":1},"GRANT KERFOOT","Chaska High School","Freshman Boys D1",null,100391179,3559,2,"00:00:00","00:38:25","00:19:18","00:19:07"]
[100392114,19,375,{"$f":"VLOOKUP(F163,Sheet2!$A$2:$B$86,2,FALSE)","v":1},"TUCKER PEDERSON","Crosby-Ironton High School","Freshman Boys D1",null,100392114,3573,2,"00:00:00","00:38:26","00:18:51","00:19:35"]
[100391559,20,370,{"$f":"VLOOKUP(F164,Sheet2!$A$2:$B$86,2,FALSE)","v":1},"ALEX MAKI","White Bear Lake High School","Freshman Boys D1",null,100391559,3895,2,"00:00:00","00:39:15","00:19:44","00:19:31"]
[100392359,21,365,{"$f":"VLOOKUP(F165,Sheet2!$A$2:$B$86,2,FALSE)","v":1},"ERIK RODEWALD","Alexandria Area Youth Cycling","Freshman Boys D1",null,100392359,3505,2,"00:00:00","00:39:41","00:19:26","00:20:15"]
[100392690,22,360,{"$f":"VLOOKUP(F166,Sheet2!$A$2:$B$86,2,FALSE)","v":1},"JEDIAH SOXMAN","Brainerd High School","Freshman Boys D1",null,100392690,3536,2,"00:00:00","00:39:43","00:19:48","00:19:55"]
[100390366,23,356,{"$f":"VLOOKUP(F167,Sheet2!$A$2:$B$86,2,FALSE)","v":1},"AYDEN FERREL","Chanhassen High School","Freshman Boys D1",null,100390366,3549,2,"00:00:00","00:40:04","00:19:35","00:20:29"]
[100392948,24,352,1,"WYATT TYMINSKI","Rock Ridge Composite","Freshman Boys D1",null,100392948,3784,2,"00:00:00","00:40:31","00:19:46","00:20:45"]
[100390291,25,348,{"$f":"VLOOKUP(F169,Sheet2!$A$2:$B$86,2,FALSE)","v":1},"SAWYER ENGEN","White Bear Lake High School","Freshman Boys D1",null,100390291,3890,2,"00:00:00","00:40:46","00:19:40","00:21:06"]
[100431163,26,344,{"$f":"VLOOKUP(F170,Sheet2!$A$2:$B$86,2,FALSE)","v":1},"LOGAN STROHMEYER","Duluth East High School","Freshman Boys D1",null,100431163,3918,2,"00:00:00","00:41:08","00:21:00","00:20:09"]
[100392280,27,340,{"$f":"VLOOKUP(F171,Sheet2!$A$2:$B$86,2,FALSE)","v":1},"NATHAN RECTOR","Chanhassen High School","Freshman Boys D1",null,100392280,3551,2,"00:00:00","00:41:14","00:20:23","00:20:52"]
[100392957,28,336,{"$f":"VLOOKUP(F172,Sheet2!$A$2:$B$86,2,FALSE)","v":1},"CHRISTIAN URNESS","Alexandria Area Youth Cycling","Freshman Boys D1",null,100392957,3508,2,"00:00:00","00:41:25","00:20:39","00:20:46"]
[100391383,29,332,{"$f":"VLOOKUP(F173,Sheet2!$A$2:$B$86,2,FALSE)","v":1},"SAWYER LARSON","Alexandria Area Youth Cycling","Freshman Boys D1",null,100391383,3504,2,"00:00:00","00:41:57","00:20:54","00:21:03"]
[100390762,30,329,{"$f":"VLOOKUP(F174,Sheet2!$A$2:$B$86,2,FALSE)","v":1},"OWEN HAWLEY","Chaska High School","Freshman Boys D1",null,100390762,3556,2,"00:00:00","00:42:04","00:21:13","00:20:51"]
[100427670,31,326,{"$f":"VLOOKUP(F175,Sheet2!$A$2:$B$86,2,FALSE)","v":1},"SAMUEL KALINA","Alexandria Area Youth Cycling","Freshman Boys D1",null,100427670,3503,2,"00:00:00","00:42:10","00:21:18","00:20:51"]
[100392507,32,323,{"$f":"VLOOKUP(F176,Sheet2!$A$2:$B$86,2,FALSE)","v":1},"MICAH SCHMIDT","Chanhassen High School","Freshman Boys D1",null,100392507,3552,2,"00:00:00","00:42:49","00:20:34","00:22:16"]
[100390497,33,320,{"$f":"VLOOKUP(F177,Sheet2!$A$2:$B$86,2,FALSE)","v":1},"WADE GANSKE","Chanhassen High School","Freshman Boys D1",null,100390497,3550,2,"00:00:00","00:42:56","00:20:59","00:21:57"]
[100428728,34,317,{"$f":"VLOOKUP(F178,Sheet2!$A$2:$B$86,2,FALSE)","v":1},"CARTER RUSH","Alexandria Area Youth Cycling","Freshman Boys D1",null,100428728,3507,2,"00:00:00","00:44:02","00:22:01","00:22:01"]
[100424422,35,314,{"$f":"VLOOKUP(F179,Sheet2!$A$2:$B$86,2,FALSE)","v":1},"GEORGE HILLSTROM","Brainerd High School","Freshman Boys D1",null,100424422,3533,2,"00:00:00","00:45:25","00:22:45","00:22:40"]
[100389450,36,311,{"$f":"VLOOKUP(F180,Sheet2!$A$2:$B$86,2,FALSE)","v":1},"ETHAN ANDERSON","White Bear Lake High School","Freshman Boys D1",null,100389450,3887,2,"00:00:00","00:45:50","00:22:13","00:23:37"]
[100389598,37,308,{"$f":"VLOOKUP(F181,Sheet2!$A$2:$B$86,2,FALSE)","v":1},"EZRA BENDELE","White Bear Lake High School","Freshman Boys D1",null,100389598,3889,2,"00:00:00","00:48:05","00:23:37","00:24:29"]
[100389670,38,306,{"$f":"VLOOKUP(F182,Sheet2!$A$2:$B$86,2,FALSE)","v":1},"LUKE BIROS","Mounds View High School","Freshman Boys D1",null,100389670,3694,2,"00:00:00","00:52:18","00:25:48","00:26:31"]
[100392969,1,500,{"$f":"VLOOKUP(F183,Sheet2!$A$2:$B$86,2,FALSE)","v":2},"OWEN VANDAL","Duluth Composite","Freshman Boys D2",null,100392969,3578,2,"00:00:00","00:33:01","00:16:29","00:16:33"]
[100392557,2,490,{"$f":"VLOOKUP(F184,Sheet2!$A$2:$B$86,2,FALSE)","v":2},"ISAAC SCHWARZ","North Dakota Kindred Composite","Freshman Boys D2",null,100392557,3738,2,"00:00:00","00:33:01","00:16:29","00:16:33"]
[100428923,3,481,{"$f":"VLOOKUP(F185,Sheet2!$A$2:$B$86,2,FALSE)","v":2},"QUINN SPOHN","Duluth Composite","Freshman Boys D2",null,100428923,3577,2,"00:00:00","00:35:21","00:17:37","00:17:43"]
[100392020,4,472,{"$f":"VLOOKUP(F186,Sheet2!$A$2:$B$86,2,FALSE)","v":2},"ODEN OLSON","Minnesota Valley Composite","Freshman Boys D2",null,100392020,3675,2,"00:00:00","00:35:39","00:17:45","00:17:54"]
[100392073,5,464,{"$f":"VLOOKUP(F187,Sheet2!$A$2:$B$86,2,FALSE)","v":2},"BRODY PARMER","North Dakota Composite","Freshman Boys D2",null,100392073,3736,2,"00:00:00","00:36:01","00:17:41","00:18:19"]
[100390573,6,456,{"$f":"VLOOKUP(F188,Sheet2!$A$2:$B$86,2,FALSE)","v":2},"ARTHUR GOODMAN","Duluth Composite","Freshman Boys D2",null,100390573,3574,2,"00:00:00","00:36:36","00:18:11","00:18:25"]
[100389936,7,448,{"$f":"VLOOKUP(F189,Sheet2!$A$2:$B$86,2,FALSE)","v":2},"ELI CHERNE","Tioga Trailblazers","Freshman Boys D2",null,100389936,3852,2,"00:00:00","00:36:36","00:18:12","00:18:24"]
[100427947,8,441,{"$f":"VLOOKUP(F190,Sheet2!$A$2:$B$86,2,FALSE)","v":2},"BREVIK BROWN","Tioga Trailblazers","Freshman Boys D2",null,100427947,3851,2,"00:00:00","00:36:38","00:18:12","00:18:27"]
[100392528,9,434,{"$f":"VLOOKUP(F191,Sheet2!$A$2:$B$86,2,FALSE)","v":2},"BEN SCHROEDER","Tioga Trailblazers","Freshman Boys D2",null,100392528,3855,2,"00:00:00","00:37:10","00:18:34","00:18:36"]
[100426536,10,427,{"$f":"VLOOKUP(F192,Sheet2!$A$2:$B$86,2,FALSE)","v":2},"GABE LINDSTROM","Northwest Composite","Freshman Boys D2",null,100426536,3743,2,"00:00:00","00:37:13","00:18:41","00:18:32"]
[100393220,11,420,{"$f":"VLOOKUP(F193,Sheet2!$A$2:$B$86,2,FALSE)","v":2},"MIKKOL YOST","Bemidji Composite","Freshman Boys D2",null,100393220,3931,2,"00:00:00","00:37:49","00:18:39","00:19:09"]
[100431778,12,414,{"$f":"VLOOKUP(F194,Sheet2!$A$2:$B$86,2,FALSE)","v":2},"ALEXANDER KLINNERT","Northwest Composite","Freshman Boys D2",null,100431778,3742,2,"00:00:00","00:38:04","00:18:49","00:19:15"]
[100392413,13,408,{"$f":"VLOOKUP(F195,Sheet2!$A$2:$B$86,2,FALSE)","v":2},"SAWYER RUST","Duluth Composite","Freshman Boys D2",null,100392413,3576,2,"00:00:00","00:39:03","00:18:56","00:20:06"]
[100428900,14,402,{"$f":"VLOOKUP(F196,Sheet2!$A$2:$B$86,2,FALSE)","v":2},"GARRETT PETERSON","Spectrum High School","Freshman Boys D2",null,100428900,3814,2,"00:00:00","00:39:05","00:19:48","00:19:18"]
[100391377,15,396,{"$f":"VLOOKUP(F197,Sheet2!$A$2:$B$86,2,FALSE)","v":2},"LIAM LARSON","Bemidji Composite","Freshman Boys D2",null,100391377,3930,2,"00:00:00","00:39:24","00:19:39","00:19:45"]
[100389638,16,390,{"$f":"VLOOKUP(F198,Sheet2!$A$2:$B$86,2,FALSE)","v":2},"BRODY BERGLIN","Totino Grace High School","Freshman Boys D2",null,100389638,3859,2,"00:00:00","00:39:28","00:19:38","00:19:49"]
[100392968,17,385,{"$f":"VLOOKUP(F199,Sheet2!$A$2:$B$86,2,FALSE)","v":2},"FINNEGAN VANDAL","Duluth Composite","Freshman Boys D2",null,100392968,3916,2,"00:00:00","00:39:31","00:19:44","00:19:48"]
[100392460,18,380,{"$f":"VLOOKUP(F200,Sheet2!$A$2:$B$86,2,FALSE)","v":2},"KEATON SAUVAGEAU","North Dakota Kindred Composite","Freshman Boys D2",null,100392460,3737,2,"00:00:00","00:39:31","00:19:49","00:19:43"]
[100392672,19,375,{"$f":"VLOOKUP(F201,Sheet2!$A$2:$B$86,2,FALSE)","v":2},"BEN SOLEM","Tioga Trailblazers","Freshman Boys D2",null,100392672,3856,2,"00:00:00","00:40:29","00:19:50","00:20:39"]
[100430909,20,370,{"$f":"VLOOKUP(F202,Sheet2!$A$2:$B$86,2,FALSE)","v":2},"ELIJAH LANE","Tioga Trailblazers","Freshman Boys D2",null,100430909,3854,2,"00:00:00","00:40:31","00:20:32","00:19:58"]
[100391940,21,365,{"$f":"VLOOKUP(F203,Sheet2!$A$2:$B$86,2,FALSE)","v":2},"LIAM NORDBY","Minnesota Valley Composite","Freshman Boys D2",null,100391940,3674,2,"00:00:00","00:41:23","00:20:37","00:20:45"]
[100389533,22,360,{"$f":"VLOOKUP(F204,Sheet2!$A$2:$B$86,2,FALSE)","v":2},"WYATT BANKS","Elk River Composite","Freshman Boys D2",null,100389533,3624,2,"00:00:00","00:41:49","00:20:53","00:20:56"]
[100390293,23,356,{"$f":"VLOOKUP(F205,Sheet2!$A$2:$B$86,2,FALSE)","v":2},"SIMON ENGLUND","Roseville Area Composite","Freshman Boys D2",null,100390293,3797,2,"00:00:00","00:41:50","00:20:54","00:20:57"]
[100391606,24,352,{"$f":"VLOOKUP(F206,Sheet2!$A$2:$B$86,2,FALSE)","v":2},"JACK MARTIN","Bemidji Composite","Freshman Boys D2",null,100391606,3932,2,"00:00:00","00:41:54","00:20:47","00:21:06"]
[100392017,25,348,{"$f":"VLOOKUP(F207,Sheet2!$A$2:$B$86,2,FALSE)","v":2},"MARCUS OLSON","Northwest Composite","Freshman Boys D2",null,100392017,3744,2,"00:00:00","00:42:36","00:20:31","00:22:04"]
[100391909,26,344,{"$f":"VLOOKUP(F208,Sheet2!$A$2:$B$86,2,FALSE)","v":2},"WILLEM NIBBELINK","Roseville Area Composite","Freshman Boys D2",null,100391909,3798,2,"00:00:00","00:42:36","00:20:58","00:21:38"]
[100391652,27,340,{"$f":"VLOOKUP(F209,Sheet2!$A$2:$B$86,2,FALSE)","v":2},"JONATHAN MCCORMACK","Elk River Composite","Freshman Boys D2",null,100391652,3627,2,"00:00:00","00:43:05","00:21:27","00:21:38"]
[100391013,28,336,{"$f":"VLOOKUP(F210,Sheet2!$A$2:$B$86,2,FALSE)","v":2},"GAVIN JASCHKE","Bemidji Composite","Freshman Boys D2",null,100391013,3929,2,"00:00:00","00:43:16","00:21:02","00:22:14"]
[100391833,29,332,{"$f":"VLOOKUP(F211,Sheet2!$A$2:$B$86,2,FALSE)","v":2},"KAMERON MOSCHO","St Cloud Area Composite","Freshman Boys D2",null,100391833,3815,2,"00:00:00","00:43:31","00:20:35","00:22:56"]
[100428483,30,329,{"$f":"VLOOKUP(F212,Sheet2!$A$2:$B$86,2,FALSE)","v":2},"ANDRES MORENO JOHNSON","Eden Prairie High School","Freshman Boys D2",null,100428483,3601,2,"00:00:00","00:43:40","00:21:46","00:21:54"]
[100390437,31,326,{"$f":"VLOOKUP(F213,Sheet2!$A$2:$B$86,2,FALSE)","v":2},"JOE FRENSKO","Minnesota Valley Composite","Freshman Boys D2",null,100390437,3672,2,"00:00:00","00:44:11","00:21:44","00:22:27"]
[100390603,32,323,{"$f":"VLOOKUP(F214,Sheet2!$A$2:$B$86,2,FALSE)","v":2},"ARI GREENBERG","North Dakota Composite","Freshman Boys D2",null,100390603,3734,2,"00:00:00","00:44:52","00:21:45","00:23:07"]
[100429439,33,320,{"$f":"VLOOKUP(F215,Sheet2!$A$2:$B$86,2,FALSE)","v":2},"COLE SHOULTZ","Elk River Composite","Freshman Boys D2",null,100429439,3631,2,"00:00:00","00:45:44","00:21:28","00:24:16"]
[100429869,34,317,{"$f":"VLOOKUP(F216,Sheet2!$A$2:$B$86,2,FALSE)","v":2},"JACKSON EMORY","Eden Prairie High School","Freshman Boys D2",null,100429869,3600,2,"00:00:00","00:46:26","00:22:09","00:24:17"]
[100392808,35,314,{"$f":"VLOOKUP(F217,Sheet2!$A$2:$B$86,2,FALSE)","v":2},"LANCE TABBERT","Tioga Trailblazers","Freshman Boys D2",null,100392808,3857,2,"00:00:00","00:46:41","00:22:43","00:23:58"]
[100424792,36,311,{"$f":"VLOOKUP(F218,Sheet2!$A$2:$B$86,2,FALSE)","v":2},"NOAH SMITH","North Dakota Composite","Freshman Boys D2",null,100424792,3739,2,"00:00:00","00:46:52","00:22:55","00:23:57"]
[100391545,37,308,{"$f":"VLOOKUP(F219,Sheet2!$A$2:$B$86,2,FALSE)","v":2},"BROCK MAGRUDER","Elk River Composite","Freshman Boys D2",null,100391545,3626,2,"00:00:00","00:47:00","00:23:09","00:23:51"]
[100432537,38,306,{"$f":"VLOOKUP(F220,Sheet2!$A$2:$B$86,2,FALSE)","v":2},"MAX BERNIER","North Dakota Kindred Composite","Freshman Boys D2",null,100432537,3733,2,"00:00:00","00:48:38","00:23:48","00:24:51"]
[100390051,39,304,{"$f":"VLOOKUP(F221,Sheet2!$A$2:$B$86,2,FALSE)","v":2},"CHARLEY CROWSON","Roseville Area Composite","Freshman Boys D2",null,100390051,3796,2,"00:00:00","00:51:06","00:24:17","00:26:49"]
[100392629,40,302,{"$f":"VLOOKUP(F222,Sheet2!$A$2:$B$86,2,FALSE)","v":2},"LUKAS SKINNER","Roseville Area Composite","Freshman Boys D2",null,100392629,3799,2,"00:00:00","00:52:18","00:26:20","00:25:57"]
[100391887,41,null,{"$f":"VLOOKUP(F223,Sheet2!$A$2:$B$86,2,FALSE)","v":2},"JACK NELSON","Elk River Composite","Freshman Boys D2","DNF - Medical",100391887,3628,1,"00:00:00","00:00:00","00:00:00"]
[100392416,1,500,{"$f":"VLOOKUP(F224,Sheet2!$A$2:$B$86,2,FALSE)","v":1},"JOSEPHINE RYAN","Duluth East High School","Freshman Girls",null,100392416,4514,2,"00:00:00","00:36:58","00:18:14","00:18:44"]
[100391315,2,490,{"$f":"VLOOKUP(F225,Sheet2!$A$2:$B$86,2,FALSE)","v":2},"NATALIA KUNZE","Duluth Composite","Freshman Girls",null,100391315,4570,2,"00:00:00","00:38:09","00:19:18","00:18:51"]
[100391870,3,481,{"$f":"VLOOKUP(F226,Sheet2!$A$2:$B$86,2,FALSE)","v":1},"ESME NEEDHAM","Mounds View High School","Freshman Girls",null,100391870,4533,2,"00:00:00","00:39:18","00:19:16","00:20:02"]
[100392342,4,472,1,"SOPHIE ROARK","Rock Ridge Composite","Freshman Girls",null,100392342,4546,2,"00:00:00","00:42:39","00:21:13","00:21:26"]
[100419075,5,464,{"$f":"VLOOKUP(F228,Sheet2!$A$2:$B$86,2,FALSE)","v":1},"LACEY SIIRA","Alexandria Area Youth Cycling","Freshman Girls",null,100419075,4502,2,"00:00:00","00:44:04","00:21:51","00:22:14"]
[100420801,6,456,{"$f":"VLOOKUP(F229,Sheet2!$A$2:$B$86,2,FALSE)","v":1},"ADDISON RIDGEWAY","New Prague Middle and High School","Freshman Girls",null,100420801,4537,2,"00:00:00","00:45:41","00:22:20","00:23:22"]
[100391599,7,448,{"$f":"VLOOKUP(F230,Sheet2!$A$2:$B$86,2,FALSE)","v":1},"CORA MARTENSEN","Brainerd High School","Freshman Girls",null,100391599,4505,2,"00:00:00","00:46:46","00:22:12","00:24:34"]
[100390489,8,441,1,"SYLVIE GALLOWAY","Rock Ridge Composite","Freshman Girls",null,100390489,4545,2,"00:00:00","00:47:45","00:23:22","00:24:22"]
[100430414,9,434,{"$f":"VLOOKUP(F232,Sheet2!$A$2:$B$86,2,FALSE)","v":1},"ATTI HOVEN","Alexandria Area Youth Cycling","Freshman Girls",null,100430414,4501,2,"00:00:00","00:48:44","00:23:37","00:25:07"]
[100393201,10,427,{"$f":"VLOOKUP(F233,Sheet2!$A$2:$B$86,2,FALSE)","v":1},"PAIGE WORCESTER","Duluth East High School","Freshman Girls",null,100393201,4571,2,"00:00:00","00:51:10","00:24:53","00:26:17"]
[100432608,11,420,{"$f":"VLOOKUP(F234,Sheet2!$A$2:$B$86,2,FALSE)","v":2},"JULIA CALVERT","Bemidji Composite","Freshman Girls",null,100432608,4576,2,"00:00:00","00:51:24","00:25:19","00:26:05"]
[100391113,12,null,{"$f":"VLOOKUP(F235,Sheet2!$A$2:$B$86,2,FALSE)","v":2},"FINN JORGENSEN","Bemidji Composite","Freshman Girls","DNF",100391113,4575,1,"00:00:00","00:26:59","00:26:59"]
[100390013,1,500,{"$f":"VLOOKUP(F236,Sheet2!$A$2:$B$86,2,FALSE)","v":1},"PARKER CONVERSE","Alexandria Area Youth Cycling","JV2 Boys D1",null,100390013,2003,2,"00:00:00","00:33:20","00:16:35","00:16:45"]
[100389648,2,490,1,"SAMUEL BEUKEMA","Rock Ridge Composite","JV2 Boys D1",null,100389648,2387,2,"00:00:00","00:33:46","00:16:42","00:17:04"]
[100392371,3,481,{"$f":"VLOOKUP(F238,Sheet2!$A$2:$B$86,2,FALSE)","v":1},"ANDREW ROLOFF","Mounds View High School","JV2 Boys D1",null,100392371,2257,2,"00:00:00","00:34:03","00:16:54","00:17:09"]
[100393089,4,472,{"$f":"VLOOKUP(F239,Sheet2!$A$2:$B$86,2,FALSE)","v":1},"CHARLIE WENNERSTROM","Chanhassen High School","JV2 Boys D1",null,100393089,2076,2,"00:00:00","00:34:10","00:16:55","00:17:15"]
[100391474,5,464,{"$f":"VLOOKUP(F240,Sheet2!$A$2:$B$86,2,FALSE)","v":1},"ISAAC LINDHOLM","White Bear Lake High School","JV2 Boys D1",null,100391474,2560,2,"00:00:00","00:34:26","00:17:12","00:17:13"]
[100391937,6,456,{"$f":"VLOOKUP(F241,Sheet2!$A$2:$B$86,2,FALSE)","v":1},"BISHOP NOETZEL","Brainerd High School","JV2 Boys D1",null,100391937,2059,2,"00:00:00","00:34:48","00:17:38","00:17:10"]
[100391488,7,448,{"$f":"VLOOKUP(F242,Sheet2!$A$2:$B$86,2,FALSE)","v":1},"ARRON LOCKWOOD","Brainerd High School","JV2 Boys D1",null,100391488,2056,2,"00:00:00","00:34:55","00:16:57","00:17:58"]
[100390076,8,441,{"$f":"VLOOKUP(F243,Sheet2!$A$2:$B$86,2,FALSE)","v":1},"SAMUEL DAHN","New Prague Middle and High School","JV2 Boys D1",null,100390076,2290,2,"00:00:00","00:35:05","00:17:34","00:17:31"]
[100392691,9,434,{"$f":"VLOOKUP(F244,Sheet2!$A$2:$B$86,2,FALSE)","v":1},"JARET SOXMAN","Brainerd High School","JV2 Boys D1",null,100392691,2061,2,"00:00:00","00:35:27","00:17:41","00:17:46"]
[100428655,10,427,{"$f":"VLOOKUP(F245,Sheet2!$A$2:$B$86,2,FALSE)","v":1},"CAMERON USHER","Alexandria Area Youth Cycling","JV2 Boys D1",null,100428655,2010,2,"00:00:00","00:35:30","00:17:37","00:17:52"]
[100392092,11,420,{"$f":"VLOOKUP(F246,Sheet2!$A$2:$B$86,2,FALSE)","v":1},"HAYDEN PATTON","Brainerd High School","JV2 Boys D1",null,100392092,2060,2,"00:00:00","00:35:51","00:17:58","00:17:53"]
[100391016,12,414,{"$f":"VLOOKUP(F247,Sheet2!$A$2:$B$86,2,FALSE)","v":1},"GABRIEL JAVAHERIAN","Duluth East High School","JV2 Boys D1",null,100391016,2098,2,"00:00:00","00:35:53","00:18:05","00:17:48"]
[100431032,13,408,{"$f":"VLOOKUP(F248,Sheet2!$A$2:$B$86,2,FALSE)","v":1},"SAWYER FILIPIAK","Alexandria Area Youth Cycling","JV2 Boys D1",null,100431032,2004,2,"00:00:00","00:35:53","00:17:45","00:18:08"]
[100421014,14,402,{"$f":"VLOOKUP(F249,Sheet2!$A$2:$B$86,2,FALSE)","v":1},"CHARLES EVANGELISTA","Chanhassen High School","JV2 Boys D1",null,100421014,2071,2,"00:00:00","00:36:08","00:17:41","00:18:27"]
[100419077,15,396,{"$f":"VLOOKUP(F250,Sheet2!$A$2:$B$86,2,FALSE)","v":1},"TYLER SIIRA","Alexandria Area Youth Cycling","JV2 Boys D1",null,100419077,2009,2,"00:00:00","00:36:12","00:18:07","00:18:04"]
[100424931,17,385,{"$f":"VLOOKUP(F251,Sheet2!$A$2:$B$86,2,FALSE)","v":1},"OWEN ANDERSON","Alexandria Area Youth Cycling","JV2 Boys D1",null,100424931,2001,2,"00:00:00","00:36:18","00:18:01","00:18:16"]
[100390160,18,380,{"$f":"VLOOKUP(F252,Sheet2!$A$2:$B$86,2,FALSE)","v":1},"WALKER DIETZ","White Bear Lake High School","JV2 Boys D1",null,100390160,2556,2,"00:00:00","00:36:27","00:18:20","00:18:07"]
[100390893,19,375,{"$f":"VLOOKUP(F253,Sheet2!$A$2:$B$86,2,FALSE)","v":1},"SPENCER HOLLENHORST","Crosby-Ironton High School","JV2 Boys D1",null,100390893,2096,2,"00:00:00","00:36:29","00:17:52","00:18:38"]
[100391188,22,360,{"$f":"VLOOKUP(F254,Sheet2!$A$2:$B$86,2,FALSE)","v":1},"JACOB KILIAN","New Prague Middle and High School","JV2 Boys D1",null,100391188,2291,2,"00:00:00","00:36:55","00:18:04","00:18:51"]
[100393105,23,356,{"$f":"VLOOKUP(F255,Sheet2!$A$2:$B$86,2,FALSE)","v":1},"DRAKE WETHERILL","Mounds View High School","JV2 Boys D1",null,100393105,2266,2,"00:00:00","00:37:02","00:17:37","00:19:25"]
[100392368,25,348,{"$f":"VLOOKUP(F256,Sheet2!$A$2:$B$86,2,FALSE)","v":1},"BLAKE ROLFER","White Bear Lake High School","JV2 Boys D1",null,100392368,2563,2,"00:00:00","00:37:12","00:18:11","00:19:01"]
[100390946,26,344,{"$f":"VLOOKUP(F257,Sheet2!$A$2:$B$86,2,FALSE)","v":1},"TRESTON HUGHES","Alexandria Area Youth Cycling","JV2 Boys D1",null,100390946,2007,2,"00:00:00","00:37:14","00:18:28","00:18:45"]
[100389853,28,336,{"$f":"VLOOKUP(F258,Sheet2!$A$2:$B$86,2,FALSE)","v":1},"ELI BURTON","Mounds View High School","JV2 Boys D1",null,100389853,2249,2,"00:00:00","00:38:00","00:18:46","00:19:14"]
[100406832,29,332,{"$f":"VLOOKUP(F259,Sheet2!$A$2:$B$86,2,FALSE)","v":1},"SEBASTIAN NESBURG","Chanhassen High School","JV2 Boys D1",null,100406832,2074,2,"00:00:00","00:38:25","00:17:45","00:20:40"]
[100392484,30,329,{"$f":"VLOOKUP(F260,Sheet2!$A$2:$B$86,2,FALSE)","v":1},"CASEY SCHELL","Mounds View High School","JV2 Boys D1",null,100392484,2258,2,"00:00:00","00:38:28","00:18:39","00:19:49"]
[100389463,34,317,{"$f":"VLOOKUP(F261,Sheet2!$A$2:$B$86,2,FALSE)","v":1},"HENRY ANDERSSON","Mounds View High School","JV2 Boys D1",null,100389463,2245,2,"00:00:00","00:39:15","00:18:36","00:20:38"]
[100390433,35,314,{"$f":"VLOOKUP(F262,Sheet2!$A$2:$B$86,2,FALSE)","v":1},"DEACON FRENCH","Crosby-Ironton High School","JV2 Boys D1",null,100390433,2095,2,"00:00:00","00:39:17","00:18:42","00:20:36"]
[100392771,16,390,{"$f":"VLOOKUP(F263,Sheet2!$A$2:$B$86,2,FALSE)","v":1},"GAVIN STRONG","Mounds View High School","JV2 Boys D1",null,100392771,2262,2,"00:00:00","00:36:14","00:17:46","00:18:28"]
[100432063,20,370,{"$f":"VLOOKUP(F264,Sheet2!$A$2:$B$86,2,FALSE)","v":1},"DIEGO PEYSSONNEL","Mounds View High School","JV2 Boys D1",null,100432063,2255,2,"00:00:00","00:36:36","00:17:56","00:18:39"]
[100390779,21,365,1,"DUTCH HEDBLOM","Rock Ridge Composite","JV2 Boys D1",null,100390779,2389,2,"00:00:00","00:36:45","00:18:04","00:18:41"]
[100411522,24,352,{"$f":"VLOOKUP(F266,Sheet2!$A$2:$B$86,2,FALSE)","v":1},"ANDREW KONOTOPKA","Chaska High School","JV2 Boys D1",null,100411522,2083,2,"00:00:00","00:37:05","00:18:07","00:18:58"]
[100392747,27,340,{"$f":"VLOOKUP(F267,Sheet2!$A$2:$B$86,2,FALSE)","v":1},"HAYDEN STOB","White Bear Lake High School","JV2 Boys D1",null,100392747,2564,2,"00:00:00","00:37:25","00:18:39","00:18:46"]
[100390760,31,326,{"$f":"VLOOKUP(F268,Sheet2!$A$2:$B$86,2,FALSE)","v":1},"MARSHALL HAWKS","White Bear Lake High School","JV2 Boys D1",null,100390760,2559,2,"00:00:00","00:38:41","00:19:15","00:19:26"]
[100390528,32,323,{"$f":"VLOOKUP(F269,Sheet2!$A$2:$B$86,2,FALSE)","v":1},"HOLDEN GEIR","White Bear Lake High School","JV2 Boys D1",null,100390528,2558,2,"00:00:00","00:39:10","00:19:01","00:20:09"]
[100390511,33,320,{"$f":"VLOOKUP(F270,Sheet2!$A$2:$B$86,2,FALSE)","v":1},"WESLEY GARRISON","Alexandria Area Youth Cycling","JV2 Boys D1",null,100390511,2005,2,"00:00:00","00:39:11","00:18:57","00:20:15"]
[100392542,36,311,{"$f":"VLOOKUP(F271,Sheet2!$A$2:$B$86,2,FALSE)","v":1},"TANNER SCHULTZ","Mounds View High School","JV2 Boys D1",null,100392542,2261,2,"00:00:00","00:39:19","00:19:22","00:19:57"]
[100427242,37,308,{"$f":"VLOOKUP(F272,Sheet2!$A$2:$B$86,2,FALSE)","v":1},"TUCKER CONNELLY","New Prague Middle and High School","JV2 Boys D1",null,100427242,2289,2,"00:00:00","00:39:34","00:19:40","00:19:54"]
[100432637,38,306,1,"ALDEN KNUDSON","Rock Ridge Composite","JV2 Boys D1",null,100432637,2391,2,"00:00:00","00:39:49","00:19:41","00:20:08"]
[100406131,39,304,{"$f":"VLOOKUP(F274,Sheet2!$A$2:$B$86,2,FALSE)","v":1},"ANDREW PERRON","Mounds View High School","JV2 Boys D1",null,100406131,2253,2,"00:00:00","00:40:52","00:20:07","00:20:45"]
[100430412,40,302,{"$f":"VLOOKUP(F275,Sheet2!$A$2:$B$86,2,FALSE)","v":1},"GABE HOVEN","Alexandria Area Youth Cycling","JV2 Boys D1",null,100430412,2006,2,"00:00:00","00:41:05","00:20:16","00:20:49"]
[100392199,41,300,1,"ETHAN POND","Rock Ridge Composite","JV2 Boys D1",null,100392199,2395,2,"00:00:00","00:41:59","00:21:08","00:20:51"]
[100393011,42,298,{"$f":"VLOOKUP(F277,Sheet2!$A$2:$B$86,2,FALSE)","v":1},"RATAN VUYYURU","Chanhassen High School","JV2 Boys D1",null,100393011,2075,2,"00:00:00","00:42:21","00:20:08","00:22:14"]
[100392121,43,296,{"$f":"VLOOKUP(F278,Sheet2!$A$2:$B$86,2,FALSE)","v":1},"TAYLEN PELOQUIN","White Bear Lake High School","JV2 Boys D1",null,100392121,2562,2,"00:00:00","00:43:35","00:21:14","00:22:21"]
[100406225,44,294,{"$f":"VLOOKUP(F279,Sheet2!$A$2:$B$86,2,FALSE)","v":1},"ODIN WESTERN","Mounds View High School","JV2 Boys D1",null,100406225,2265,2,"00:00:00","00:44:49","00:20:33","00:24:16"]
[100389911,45,292,{"$f":"VLOOKUP(F280,Sheet2!$A$2:$B$86,2,FALSE)","v":1},"LOGAN CASEY","Mounds View High School","JV2 Boys D1",null,100389911,2250,2,"00:00:00","00:44:53","00:21:25","00:23:28"]
[100390726,46,290,{"$f":"VLOOKUP(F281,Sheet2!$A$2:$B$86,2,FALSE)","v":1},"LIAM HARRINGTON","Chanhassen High School","JV2 Boys D1",null,100390726,2073,2,"00:00:00","00:51:30","00:25:27","00:26:03"]
[100393228,1,500,{"$f":"VLOOKUP(F282,Sheet2!$A$2:$B$86,2,FALSE)","v":2},"HOLDEN ZAK","St Cloud Area Composite","JV2 Boys D2","Warning: Discarded Item",100393228,2443,2,"00:00:00","00:34:15","00:16:49","00:17:26"]
[100431109,2,490,{"$f":"VLOOKUP(F283,Sheet2!$A$2:$B$86,2,FALSE)","v":2},"DOMENIC HEGMAN","Rogers High School","JV2 Boys D2",null,100431109,2406,2,"00:00:00","00:35:07","00:17:09","00:17:58"]
[100390336,3,481,{"$f":"VLOOKUP(F284,Sheet2!$A$2:$B$86,2,FALSE)","v":2},"ZACH FAHEY","Minnesota Valley Composite","JV2 Boys D2",null,100390336,2202,2,"00:00:00","00:35:42","00:17:49","00:17:53"]
[100390793,4,472,{"$f":"VLOOKUP(F285,Sheet2!$A$2:$B$86,2,FALSE)","v":2},"SETH HEIN","North Dakota Composite","JV2 Boys D2",null,100390793,2294,2,"00:00:00","00:35:58","00:17:28","00:18:30"]
[100431188,5,464,{"$f":"VLOOKUP(F286,Sheet2!$A$2:$B$86,2,FALSE)","v":2},"LUKE WARZECHA","Eden Prairie High School","JV2 Boys D2",null,100431188,2119,2,"00:00:00","00:35:58","00:17:48","00:18:10"]
[100391546,6,456,{"$f":"VLOOKUP(F287,Sheet2!$A$2:$B$86,2,FALSE)","v":2},"GRADY MAGRUDER","Elk River Composite","JV2 Boys D2",null,100391546,2589,2,"00:00:00","00:36:01","00:17:50","00:18:11"]
[100392486,7,448,{"$f":"VLOOKUP(F288,Sheet2!$A$2:$B$86,2,FALSE)","v":2},"SAWYER SCHETTL","Minnesota Valley Composite","JV2 Boys D2",null,100392486,2204,2,"00:00:00","00:36:09","00:18:19","00:17:51"]
[100392733,8,441,{"$f":"VLOOKUP(F289,Sheet2!$A$2:$B$86,2,FALSE)","v":2},"CHARLIE STEFFEN","Eden Prairie High School","JV2 Boys D2",null,100392733,2118,2,"00:00:00","00:36:27","00:18:04","00:18:23"]
[100391469,9,434,{"$f":"VLOOKUP(F290,Sheet2!$A$2:$B$86,2,FALSE)","v":2},"HOWIE LIND","West Range Composite","JV2 Boys D2",null,100391469,2553,2,"00:00:00","00:36:41","00:18:17","00:18:24"]
[100391918,10,427,{"$f":"VLOOKUP(F291,Sheet2!$A$2:$B$86,2,FALSE)","v":2},"JACOB NICHOLSON","Northwest Composite","JV2 Boys D2",null,100391918,2302,2,"00:00:00","00:36:44","00:18:01","00:18:43"]
[100391018,11,420,{"$f":"VLOOKUP(F292,Sheet2!$A$2:$B$86,2,FALSE)","v":2},"BO JEFFERS","Elk River Composite","JV2 Boys D2",null,100391018,2130,2,"00:00:00","00:37:38","00:18:18","00:19:20"]
[100391033,12,414,{"$f":"VLOOKUP(F293,Sheet2!$A$2:$B$86,2,FALSE)","v":2},"XANDER JESSEN","Northwest Composite","JV2 Boys D2",null,100391033,2301,2,"00:00:00","00:38:03","00:18:41","00:19:22"]
[100390406,13,408,{"$f":"VLOOKUP(F294,Sheet2!$A$2:$B$86,2,FALSE)","v":2},"TOMMY FOSSE","Northwest Composite","JV2 Boys D2",null,100390406,2298,2,"00:00:00","00:38:03","00:18:18","00:19:45"]
[100392461,14,402,{"$f":"VLOOKUP(F295,Sheet2!$A$2:$B$86,2,FALSE)","v":2},"NOAH SAUVAGEAU","North Dakota Kindred Composite","JV2 Boys D2",null,100392461,2297,2,"00:00:00","00:38:30","00:18:47","00:19:43"]
[100431795,15,396,{"$f":"VLOOKUP(F296,Sheet2!$A$2:$B$86,2,FALSE)","v":2},"ANDREW HACKENMUELLER","St Cloud Area Composite","JV2 Boys D2",null,100431795,2440,2,"00:00:00","00:38:40","00:18:41","00:20:00"]
[100392305,16,390,{"$f":"VLOOKUP(F297,Sheet2!$A$2:$B$86,2,FALSE)","v":2},"JONAH RICARD","St Cloud Area Composite","JV2 Boys D2",null,100392305,2442,2,"00:00:00","00:39:00","00:19:04","00:19:56"]
[100390596,17,385,{"$f":"VLOOKUP(F298,Sheet2!$A$2:$B$86,2,FALSE)","v":2},"JOSEPH GRAY","Elk River Composite","JV2 Boys D2",null,100390596,2129,2,"00:00:00","00:39:12","00:19:19","00:19:54"]
[100390895,18,380,{"$f":"VLOOKUP(F299,Sheet2!$A$2:$B$86,2,FALSE)","v":2},"LANDON HOLM","Northwest Composite","JV2 Boys D2",null,100390895,2300,2,"00:00:00","00:40:22","00:19:32","00:20:50"]
[100425317,19,375,{"$f":"VLOOKUP(F300,Sheet2!$A$2:$B$86,2,FALSE)","v":2},"LAWRENCE BASIL MIHU","North Dakota Composite","JV2 Boys D2",null,100425317,2296,2,"00:00:00","00:41:12","00:20:25","00:20:47"]
[100392387,20,370,{"$f":"VLOOKUP(F301,Sheet2!$A$2:$B$86,2,FALSE)","v":2},"JUSTIN ROSENBOOM","Kerkhoven Composite","JV2 Boys D2",null,100392387,2166,2,"00:00:00","00:44:33","00:21:34","00:22:59"]
[100389560,21,365,{"$f":"VLOOKUP(F302,Sheet2!$A$2:$B$86,2,FALSE)","v":2},"RYAN BARSNESS","Tioga Trailblazers","JV2 Boys D2",null,100389560,2500,2,"00:00:00","00:45:24","00:21:53","00:23:31"]
[100427217,22,360,{"$f":"VLOOKUP(F303,Sheet2!$A$2:$B$86,2,FALSE)","v":2},"BENJAMIN STRICKLAND","Kerkhoven Composite","JV2 Boys D2",null,100427217,2167,2,"00:00:00","00:46:05","00:22:46","00:23:19"]
[100389615,23,356,{"$f":"VLOOKUP(F304,Sheet2!$A$2:$B$86,2,FALSE)","v":2},"CARL BENSON","Kerkhoven Composite","JV2 Boys D2",null,100389615,2164,2,"00:00:00","00:46:38","00:22:50","00:23:47"]
[100390476,24,352,{"$f":"VLOOKUP(F305,Sheet2!$A$2:$B$86,2,FALSE)","v":2},"TIMOTHY GABBARD","Northwest Composite","JV2 Boys D2","Bike Swap",100390476,2299,2,"00:10:00","00:56:25","00:26:25","00:20:00"]
[100391042,1,500,{"$f":"VLOOKUP(F306,Sheet2!$A$2:$B$86,2,FALSE)","v":1},"AVA JOHNSON","Crosby-Ironton High School","JV2 Girls",null,100391042,3018,2,"00:00:00","00:37:00","00:18:15","00:18:45"]
[100389461,2,490,{"$f":"VLOOKUP(F307,Sheet2!$A$2:$B$86,2,FALSE)","v":1},"ZOE ANDERSON","Chanhassen High School","JV2 Girls",null,100389461,3014,2,"00:00:00","00:38:23","00:18:57","00:19:25"]
[100389721,3,481,{"$f":"VLOOKUP(F308,Sheet2!$A$2:$B$86,2,FALSE)","v":2},"CARISSA BOLSTER","Minnesota Valley Composite","JV2 Girls",null,100389721,3040,2,"00:00:00","00:38:39","00:19:14","00:19:25"]
[100389687,4,472,{"$f":"VLOOKUP(F309,Sheet2!$A$2:$B$86,2,FALSE)","v":1},"GRETCHEN BLANKENSHIP","White Bear Lake High School","JV2 Girls",null,100389687,3104,2,"00:00:00","00:39:00","00:19:19","00:19:41"]
[100390197,5,464,{"$f":"VLOOKUP(F310,Sheet2!$A$2:$B$86,2,FALSE)","v":1},"MADELINE DORNFELD","Mounds View High School","JV2 Girls",null,100390197,3046,2,"00:00:00","00:39:08","00:19:29","00:19:38"]
[100426764,6,456,{"$f":"VLOOKUP(F311,Sheet2!$A$2:$B$86,2,FALSE)","v":2},"FAYE CALVERT","Bemidji Composite","JV2 Girls",null,100426764,3009,2,"00:00:00","00:39:43","00:19:56","00:19:48"]
[100390490,7,448,1,"WRENNA GALLOWAY","Rock Ridge Composite","JV2 Girls",null,100390490,3068,2,"00:00:00","00:39:44","00:19:55","00:19:49"]
[100391259,8,441,{"$f":"VLOOKUP(F313,Sheet2!$A$2:$B$86,2,FALSE)","v":1},"KATERINA KOSTAL","Mounds View High School","JV2 Girls",null,100391259,3049,2,"00:00:00","00:40:37","00:20:32","00:20:04"]
[100429090,9,434,{"$f":"VLOOKUP(F314,Sheet2!$A$2:$B$86,2,FALSE)","v":1},"ISABELLE SMITH","Brainerd High School","JV2 Girls",null,100429090,3013,2,"00:00:00","00:41:30","00:20:47","00:20:43"]
[100428592,10,427,{"$f":"VLOOKUP(F315,Sheet2!$A$2:$B$86,2,FALSE)","v":2},"BREE TORGERSON","Duluth Composite","JV2 Girls",null,100428592,3019,2,"00:00:00","00:42:47","00:21:14","00:21:33"]
[100427818,11,420,{"$f":"VLOOKUP(F316,Sheet2!$A$2:$B$86,2,FALSE)","v":1},"GRACE CONROY","White Bear Lake High School","JV2 Girls",null,100427818,3105,2,"00:00:00","00:43:26","00:21:14","00:22:13"]
[100428613,12,414,{"$f":"VLOOKUP(F317,Sheet2!$A$2:$B$86,2,FALSE)","v":1},"TEVA FEIT","New Prague Middle and High School","JV2 Girls",null,100428613,3062,2,"00:00:00","00:44:16","00:22:21","00:21:56"]
[100391654,13,408,{"$f":"VLOOKUP(F318,Sheet2!$A$2:$B$86,2,FALSE)","v":1},"PAULINA MCCULLOUGH","Mounds View High School","JV2 Girls",null,100391654,3051,2,"00:00:00","00:44:36","00:21:55","00:22:42"]
[100391359,14,402,{"$f":"VLOOKUP(F319,Sheet2!$A$2:$B$86,2,FALSE)","v":1},"KENNEDY LANGE","White Bear Lake High School","JV2 Girls",null,100391359,3107,2,"00:00:00","00:46:18","00:22:36","00:23:42"]
[100391015,15,396,{"$f":"VLOOKUP(F320,Sheet2!$A$2:$B$86,2,FALSE)","v":1},"BEATRICE JAVAHERIAN","Duluth East High School","JV2 Girls",null,100391015,3022,2,"00:00:00","00:46:33","00:22:49","00:23:44"]
[100424755,16,390,{"$f":"VLOOKUP(F321,Sheet2!$A$2:$B$86,2,FALSE)","v":1},"HAYLEY HECKAMAN","White Bear Lake High School","JV2 Girls",null,100424755,3106,2,"00:00:00","00:57:50","00:28:52","00:28:58"]
[100427190,17,385,1,"NORAH KAINZ","Rock Ridge Composite","JV2 Girls",null,100427190,3070,2,"00:00:00","00:59:00","00:29:20","00:29:40"]
[100393041,1,540,{"$f":"VLOOKUP(F323,Sheet2!$A$2:$B$86,2,FALSE)","v":1},"LUKE WALSH","Alexandria Area Youth Cycling","JV3 Boys",null,100393041,1008,3,"00:00:00","00:47:15","00:15:44","00:16:01","00:15:29"]
[100391659,2,530,{"$f":"VLOOKUP(F324,Sheet2!$A$2:$B$86,2,FALSE)","v":2},"BODEE MCFADDEN","Duluth Composite","JV3 Boys",null,100391659,1216,3,"00:00:00","00:47:15","00:15:43","00:16:02","00:15:30"]
[100389761,3,521,{"$f":"VLOOKUP(F325,Sheet2!$A$2:$B$86,2,FALSE)","v":2},"OWEN BRATTEBO","Eden Prairie High School","JV3 Boys",null,100389761,1074,3,"00:00:00","00:47:36","00:16:08","00:15:46","00:15:43"]
[100420800,4,512,{"$f":"VLOOKUP(F326,Sheet2!$A$2:$B$86,2,FALSE)","v":1},"DANIEL RIDGEWAY JR.","New Prague Middle and High School","JV3 Boys",null,100420800,1125,3,"00:00:00","00:48:09","00:15:42","00:16:30","00:15:57"]
[100392923,5,504,{"$f":"VLOOKUP(F327,Sheet2!$A$2:$B$86,2,FALSE)","v":1},"RYE TRUITT","Duluth East High School","JV3 Boys",null,100392923,1066,3,"00:00:00","00:48:27","00:15:43","00:16:29","00:16:14"]
[100391688,6,496,{"$f":"VLOOKUP(F328,Sheet2!$A$2:$B$86,2,FALSE)","v":1},"COLIN MCSHANE","Duluth East High School","JV3 Boys",null,100391688,1065,3,"00:00:00","00:48:57","00:16:23","00:16:12","00:16:21"]
[100392889,7,488,{"$f":"VLOOKUP(F329,Sheet2!$A$2:$B$86,2,FALSE)","v":1},"OLIVER TOFTNESS","Crosby-Ironton High School","JV3 Boys",null,100392889,1061,3,"00:00:00","00:49:01","00:16:26","00:16:18","00:16:17"]
[100390039,8,481,{"$f":"VLOOKUP(F330,Sheet2!$A$2:$B$86,2,FALSE)","v":1},"SAMUEL COUGHLIN","Crosby-Ironton High School","JV3 Boys",null,100390039,1057,3,"00:00:00","00:49:03","00:16:25","00:16:20","00:16:19"]
[100390012,9,474,{"$f":"VLOOKUP(F331,Sheet2!$A$2:$B$86,2,FALSE)","v":1},"COLTON CONVERSE","Alexandria Area Youth Cycling","JV3 Boys",null,100390012,1003,3,"00:00:00","00:49:23","00:16:14","00:16:33","00:16:37"]
[100392556,10,467,{"$f":"VLOOKUP(F332,Sheet2!$A$2:$B$86,2,FALSE)","v":2},"ELIJAH SCHWARZ","North Dakota Kindred Composite","JV3 Boys",null,100392556,1131,3,"00:00:00","00:49:23","00:16:24","00:16:30","00:16:29"]
[100391333,11,460,{"$f":"VLOOKUP(F333,Sheet2!$A$2:$B$86,2,FALSE)","v":2},"COLTEN LAJOIE","Duluth Composite","JV3 Boys",null,100391333,1062,3,"00:00:00","00:49:39","00:16:25","00:16:41","00:16:33"]
[100391258,12,454,{"$f":"VLOOKUP(F334,Sheet2!$A$2:$B$86,2,FALSE)","v":1},"ANTONIN KOSTAL","Mounds View High School","JV3 Boys",null,100391258,1113,3,"00:00:00","00:49:40","00:16:25","00:16:34","00:16:40"]
[100390344,13,448,{"$f":"VLOOKUP(F335,Sheet2!$A$2:$B$86,2,FALSE)","v":1},"TYLER FATH","Alexandria Area Youth Cycling","JV3 Boys",null,100390344,1004,3,"00:00:00","00:49:42","00:16:36","00:16:35","00:16:31"]
[100392409,14,442,{"$f":"VLOOKUP(F336,Sheet2!$A$2:$B$86,2,FALSE)","v":1},"LANDON RUNGE","Alexandria Area Youth Cycling","JV3 Boys",null,100392409,1007,3,"00:00:00","00:49:45","00:16:35","00:16:35","00:16:36"]
[100432653,16,430,{"$f":"VLOOKUP(F337,Sheet2!$A$2:$B$86,2,FALSE)","v":2},"LOUIS MORRISSEY","Bemidji Composite","JV3 Boys",null,100432653,1026,3,"00:00:00","00:49:52","00:16:42","00:16:38","00:16:31"]
[100389848,17,425,{"$f":"VLOOKUP(F338,Sheet2!$A$2:$B$86,2,FALSE)","v":2},"ANDREW BURQUEST","Spectrum High School","JV3 Boys",null,100389848,1172,3,"00:00:00","00:49:54","00:16:39","00:16:36","00:16:40"]
[100392353,18,420,{"$f":"VLOOKUP(F339,Sheet2!$A$2:$B$86,2,FALSE)","v":2},"LUKAS ROBINSON","North Dakota Composite","JV3 Boys",null,100392353,1130,3,"00:00:00","00:49:55","00:16:26","00:16:40","00:16:50"]
[100391789,19,415,{"$f":"VLOOKUP(F340,Sheet2!$A$2:$B$86,2,FALSE)","v":1},"JOHNATHAN MONARSKI","Chanhassen High School","JV3 Boys",null,100391789,1043,3,"00:00:00","00:49:56","00:16:35","00:16:38","00:16:44"]
[100420502,20,410,{"$f":"VLOOKUP(F341,Sheet2!$A$2:$B$86,2,FALSE)","v":2},"XENOPHON WESTIE","Eden Prairie High School","JV3 Boys",null,100420502,1224,3,"00:00:00","00:49:58","00:16:13","00:16:50","00:16:55"]
[100392736,21,405,{"$f":"VLOOKUP(F342,Sheet2!$A$2:$B$86,2,FALSE)","v":1},"CARSON STENGER","New Prague Middle and High School","JV3 Boys",null,100392736,1126,3,"00:00:00","00:49:58","00:16:35","00:16:39","00:16:45"]
[100391320,22,400,{"$f":"VLOOKUP(F343,Sheet2!$A$2:$B$86,2,FALSE)","v":2},"COOPER KUZEL","Bemidji Composite","JV3 Boys",null,100391320,1023,3,"00:00:00","00:50:00","00:16:49","00:16:39","00:16:33"]
[100391420,23,396,{"$f":"VLOOKUP(F344,Sheet2!$A$2:$B$86,2,FALSE)","v":2},"HAYDEN LEISETH","Northwest Composite","JV3 Boys",null,100391420,1132,3,"00:00:00","00:50:26","00:16:29","00:16:31","00:17:26"]
[100390814,24,392,{"$f":"VLOOKUP(F345,Sheet2!$A$2:$B$86,2,FALSE)","v":1},"DYLAN HENDERSON","Chaska High School","JV3 Boys",null,100390814,1045,3,"00:00:00","00:51:02","00:16:45","00:17:13","00:17:03"]
[100391321,25,388,{"$f":"VLOOKUP(F346,Sheet2!$A$2:$B$86,2,FALSE)","v":2},"REED KUZEL","Bemidji Composite","JV3 Boys",null,100391321,1024,3,"00:00:00","00:51:05","00:17:12","00:16:55","00:16:58"]
[100392033,26,384,{"$f":"VLOOKUP(F347,Sheet2!$A$2:$B$86,2,FALSE)","v":1},"NATHAN OMAN","Chaska High School","JV3 Boys",null,100392033,1047,3,"00:00:00","00:51:08","00:16:50","00:17:07","00:17:11"]
[100391967,27,380,{"$f":"VLOOKUP(F348,Sheet2!$A$2:$B$86,2,FALSE)","v":2},"MATTHEW O'BRIEN","Rogers High School","JV3 Boys",null,100391967,1164,3,"00:00:00","00:51:08","00:16:34","00:17:01","00:17:34"]
[100391586,43,336,{"$f":"VLOOKUP(F349,Sheet2!$A$2:$B$86,2,FALSE)","v":2},"BRENNAN MARKIEWICZ","Eden Prairie High School","JV3 Boys",null,100391586,1075,3,"00:00:00","00:54:36","00:17:35","00:18:21","00:18:40"]
[100392320,46,330,{"$f":"VLOOKUP(F350,Sheet2!$A$2:$B$86,2,FALSE)","v":1},"LUKE RIDGEWAY","Mounds View High School","JV3 Boys",null,100392320,1114,3,"00:00:00","00:55:54","00:18:00","00:18:56","00:18:58"]
[100389532,15,436,{"$f":"VLOOKUP(F351,Sheet2!$A$2:$B$86,2,FALSE)","v":2},"COLTON BANKS","Elk River Composite","JV3 Boys",null,100389532,1083,3,"00:00:00","00:49:48","00:16:09","00:16:34","00:17:05"]
[100391376,28,376,{"$f":"VLOOKUP(F352,Sheet2!$A$2:$B$86,2,FALSE)","v":1},"KAL LARSON","Crosby-Ironton High School","JV3 Boys",null,100391376,1058,3,"00:00:00","00:51:19","00:16:41","00:17:32","00:17:06"]
[100389516,29,372,{"$f":"VLOOKUP(F353,Sheet2!$A$2:$B$86,2,FALSE)","v":1},"HAYDEN BACKOWSKI","Crosby-Ironton High School","JV3 Boys",null,100389516,1056,3,"00:00:00","00:51:23","00:16:53","00:17:13","00:17:18"]
[100392376,30,369,{"$f":"VLOOKUP(F354,Sheet2!$A$2:$B$86,2,FALSE)","v":1},"BAYLEN ROOKER","Crosby-Ironton High School","JV3 Boys",null,100392376,1060,3,"00:00:00","00:52:09","00:17:15","00:17:34","00:17:20"]
[100389849,31,366,{"$f":"VLOOKUP(F355,Sheet2!$A$2:$B$86,2,FALSE)","v":2},"MATTHEW BURQUEST","Spectrum High School","JV3 Boys",null,100389849,1173,3,"00:00:00","00:52:13","00:17:21","00:17:27","00:17:26"]
[100390594,32,363,{"$f":"VLOOKUP(F356,Sheet2!$A$2:$B$86,2,FALSE)","v":1},"DAMON GRAY","White Bear Lake High School","JV3 Boys",null,100390594,1203,3,"00:00:00","00:52:14","00:17:29","00:17:30","00:17:15"]
[100392298,33,360,{"$f":"VLOOKUP(F357,Sheet2!$A$2:$B$86,2,FALSE)","v":1},"EVAN REINSCH","Chaska High School","JV3 Boys",null,100392298,1048,3,"00:00:00","00:52:15","00:17:24","00:17:29","00:17:22"]
[100389942,34,357,{"$f":"VLOOKUP(F358,Sheet2!$A$2:$B$86,2,FALSE)","v":2},"JAMES CHIRI","Irondale High School","JV3 Boys",null,100389942,1097,3,"00:00:00","00:52:19","00:17:13","00:17:34","00:17:32"]
[100389421,35,354,{"$f":"VLOOKUP(F359,Sheet2!$A$2:$B$86,2,FALSE)","v":2},"SETH ALMANASEER","North Dakota Composite","JV3 Boys",null,100389421,1127,3,"00:00:00","00:52:22","00:17:12","00:17:36","00:17:34"]
[100391380,36,351,{"$f":"VLOOKUP(F360,Sheet2!$A$2:$B$86,2,FALSE)","v":2},"AIDAN LARSON","Bemidji Composite","JV3 Boys",null,100391380,1025,3,"00:00:00","00:52:22","00:17:17","00:17:37","00:17:28"]
[100389940,37,348,{"$f":"VLOOKUP(F361,Sheet2!$A$2:$B$86,2,FALSE)","v":1},"MAXWELL CHINN","Alexandria Area Youth Cycling","JV3 Boys",null,100389940,1001,3,"00:00:00","00:53:16","00:17:26","00:17:55","00:17:55"]
[100390995,38,346,{"$f":"VLOOKUP(F362,Sheet2!$A$2:$B$86,2,FALSE)","v":2},"NOLAN JACOBS","St Cloud Area Composite","JV3 Boys",null,100390995,1174,3,"00:00:00","00:53:29","00:17:49","00:17:55","00:17:45"]
[100391251,39,344,{"$f":"VLOOKUP(F363,Sheet2!$A$2:$B$86,2,FALSE)","v":1},"STEVEN KONOTOPKA","Chaska High School","JV3 Boys",null,100391251,1046,3,"00:00:00","00:53:37","00:17:50","00:17:51","00:17:56"]
[100392087,40,342,{"$f":"VLOOKUP(F364,Sheet2!$A$2:$B$86,2,FALSE)","v":1},"MAX PATRICK-DROPIK","Alexandria Area Youth Cycling","JV3 Boys",null,100392087,1006,3,"00:00:00","00:53:55","00:17:47","00:18:00","00:18:08"]
[100392366,41,340,{"$f":"VLOOKUP(F365,Sheet2!$A$2:$B$86,2,FALSE)","v":2},"OWEN ROGHOLT","St Cloud Area Composite","JV3 Boys",null,100392366,1175,3,"00:00:00","00:54:13","00:17:14","00:18:17","00:18:42"]
[100389941,42,338,{"$f":"VLOOKUP(F366,Sheet2!$A$2:$B$86,2,FALSE)","v":1},"SPENSER CHINN","Alexandria Area Youth Cycling","JV3 Boys",null,100389941,1002,3,"00:00:00","00:54:33","00:17:51","00:18:39","00:18:03"]
[100388824,44,334,{"$f":"VLOOKUP(F367,Sheet2!$A$2:$B$86,2,FALSE)","v":2},"JACK MUELLER","Bemidji Composite","JV3 Boys",null,100388824,1027,3,"00:00:00","00:55:02","00:17:36","00:18:54","00:18:33"]
[100390425,45,332,{"$f":"VLOOKUP(F368,Sheet2!$A$2:$B$86,2,FALSE)","v":1},"KARL FRANSON","Alexandria Area Youth Cycling","JV3 Boys",null,100390425,1005,3,"00:00:00","00:55:09","00:18:04","00:18:29","00:18:36"]
[100429626,47,329,{"$f":"VLOOKUP(F369,Sheet2!$A$2:$B$86,2,FALSE)","v":2},"SIMON PRYOR","North Dakota Composite","JV3 Boys",null,100429626,1129,3,"00:00:00","00:57:28","00:18:36","00:19:00","00:19:52"]
[100390733,48,328,{"$f":"VLOOKUP(F370,Sheet2!$A$2:$B$86,2,FALSE)","v":2},"STIRLING HART","Bemidji Composite","JV3 Boys",null,100390733,1022,3,"00:00:00","00:59:01","00:19:07","00:19:50","00:20:04"]
[100389707,49,327,{"$f":"VLOOKUP(F371,Sheet2!$A$2:$B$86,2,FALSE)","v":2},"CHARLIE BOESE","North Dakota Composite","JV3 Boys",null,100389707,1128,3,"00:00:00","00:59:23","00:19:00","00:19:58","00:20:26"]
[100392175,50,326,{"$f":"VLOOKUP(F372,Sheet2!$A$2:$B$86,2,FALSE)","v":1},"JACOB PIERCE","White Bear Lake High School","JV3 Boys",null,100392175,1204,3,"00:00:00","01:00:43","00:19:13","00:20:43","00:20:47"]
[100389447,51,325,{"$f":"VLOOKUP(F373,Sheet2!$A$2:$B$86,2,FALSE)","v":1},"ENOCH ANDERSON","Crosby-Ironton High School","JV3 Boys","Bike Swap",100389447,1055,3,"00:10:00","01:09:09","00:21:15","00:19:23","00:18:31"]
[100391414,1,540,{"$f":"VLOOKUP(F374,Sheet2!$A$2:$B$86,2,FALSE)","v":1},"PHOEBE LEEGE","Duluth East High School","JV3 Girls",null,100391414,1541,3,"00:00:00","00:52:38","00:18:11","00:16:57","00:17:30"]
[100390193,2,530,{"$f":"VLOOKUP(F375,Sheet2!$A$2:$B$86,2,FALSE)","v":2},"ELLA DOLS","St Cloud Area Composite","JV3 Girls",null,100390193,1534,3,"00:00:00","00:54:53","00:18:12","00:18:24","00:18:17"]
[100389554,3,521,{"$f":"VLOOKUP(F376,Sheet2!$A$2:$B$86,2,FALSE)","v":1},"DANICA BARRETT","Chanhassen High School","JV3 Girls",null,100389554,1510,3,"00:00:00","00:54:54","00:18:13","00:18:24","00:18:17"]
[100393202,4,512,{"$f":"VLOOKUP(F377,Sheet2!$A$2:$B$86,2,FALSE)","v":1},"CHARLI WORCESTER","Duluth East High School","JV3 Girls",null,100393202,1512,3,"00:00:00","00:54:54","00:18:12","00:18:25","00:18:17"]
[100390864,5,504,{"$f":"VLOOKUP(F378,Sheet2!$A$2:$B$86,2,FALSE)","v":1},"COURTNEY HISLOP","Duluth East High School","JV3 Girls",null,100390864,1542,3,"00:00:00","00:56:02","00:18:38","00:18:39","00:18:44"]
[100390558,6,496,{"$f":"VLOOKUP(F379,Sheet2!$A$2:$B$86,2,FALSE)","v":1},"TIAHNA GOEKE","Alexandria Area Youth Cycling","JV3 Girls",null,100390558,1501,3,"00:00:00","00:56:06","00:18:42","00:18:37","00:18:47"]
[100390718,7,488,{"$f":"VLOOKUP(F380,Sheet2!$A$2:$B$86,2,FALSE)","v":1},"MICHON HARJU","Duluth East High School","JV3 Girls",null,100390718,1511,3,"00:00:00","00:57:19","00:19:31","00:18:59","00:18:48"]
[100391156,8,481,{"$f":"VLOOKUP(F381,Sheet2!$A$2:$B$86,2,FALSE)","v":2},"JADAH KELLY","North Dakota Composite","JV3 Girls",null,100391156,1526,3,"00:00:00","00:57:21","00:18:46","00:19:35","00:19:01"]
[100390660,9,474,{"$f":"VLOOKUP(F382,Sheet2!$A$2:$B$86,2,FALSE)","v":1},"STELLA HAGEN","Brainerd High School","JV3 Girls",null,100390660,1505,3,"00:00:00","01:00:26","00:19:31","00:20:22","00:20:33"]
[100390379,10,467,{"$f":"VLOOKUP(F383,Sheet2!$A$2:$B$86,2,FALSE)","v":2},"SANDY FISH","Roseville Area Composite","JV3 Girls",null,100390379,1531,3,"00:00:00","01:00:29","00:20:12","00:20:29","00:19:48"]
[100391719,11,460,{"$f":"VLOOKUP(F384,Sheet2!$A$2:$B$86,2,FALSE)","v":1},"SOPHIA METZDORFF","New Prague Middle and High School","JV3 Girls",null,100391719,1525,3,"00:00:00","01:00:40","00:20:15","00:20:31","00:19:54"]
[100429294,12,454,{"$f":"VLOOKUP(F385,Sheet2!$A$2:$B$86,2,FALSE)","v":2},"AUDREY KEMPEL","Elk River Composite","JV3 Girls",null,100429294,1517,3,"00:00:00","01:02:43","00:20:15","00:20:30","00:21:58"]
[100390735,13,448,{"$f":"VLOOKUP(F386,Sheet2!$A$2:$B$86,2,FALSE)","v":1},"ROSLYN HARTLEY","Duluth East High School","JV3 Girls",null,100390735,1543,3,"00:00:00","01:04:11","00:20:56","00:21:33","00:21:42"]
[100391600,14,442,{"$f":"VLOOKUP(F387,Sheet2!$A$2:$B$86,2,FALSE)","v":1},"SELAH MARTENSEN","Brainerd High School","JV3 Girls",null,100391600,1506,3,"00:00:00","01:07:40","00:21:45","00:23:18","00:22:38"]
[100392384,1,575,{"$f":"VLOOKUP(F388,Sheet2!$A$2:$B$86,2,FALSE)","v":1},"AIDAN ROSEMEIER","New Prague Middle and High School","Varsity Boys",null,100392384,40,4,"00:00:00","01:02:45","00:15:58","00:15:24","00:15:37","00:15:46"]
[100429138,2,565,{"$f":"VLOOKUP(F389,Sheet2!$A$2:$B$86,2,FALSE)","v":2},"ETHANM LUNDBERG","Northwest Composite","Varsity Boys",null,100429138,41,4,"00:00:00","01:03:36","00:16:03","00:15:51","00:15:49","00:15:54"]
[100390659,3,556,{"$f":"VLOOKUP(F390,Sheet2!$A$2:$B$86,2,FALSE)","v":1},"HAYDEN HAGEN","Brainerd High School","Varsity Boys",null,100390659,6,4,"00:00:00","01:03:42","00:15:59","00:15:45","00:15:48","00:16:10"]
[100431756,4,547,{"$f":"VLOOKUP(F391,Sheet2!$A$2:$B$86,2,FALSE)","v":1},"CARL MORSE","Duluth East High School","Varsity Boys",null,100431756,17,4,"00:00:00","01:03:43","00:16:00","00:15:50","00:16:06","00:15:47"]
[100390961,5,539,{"$f":"VLOOKUP(F392,Sheet2!$A$2:$B$86,2,FALSE)","v":1},"RILEY HUSEBY","New Prague Middle and High School","Varsity Boys",null,100390961,39,4,"00:00:00","01:05:46","00:16:11","00:16:32","00:16:42","00:16:22"]
[100392016,6,531,{"$f":"VLOOKUP(F393,Sheet2!$A$2:$B$86,2,FALSE)","v":2},"JACOB T OLSON","Northwest Composite","Varsity Boys",null,100392016,42,4,"00:00:00","01:05:52","00:16:02","00:16:22","00:16:39","00:16:49"]
[100432661,7,523,{"$f":"VLOOKUP(F394,Sheet2!$A$2:$B$86,2,FALSE)","v":1},"SAM BAILEY","Duluth East High School","Varsity Boys",null,100432661,63,4,"00:00:00","01:05:57","00:16:20","00:16:28","00:16:39","00:16:32"]
[100390651,8,516,{"$f":"VLOOKUP(F395,Sheet2!$A$2:$B$86,2,FALSE)","v":1},"BRADLEY HACHEY","Crosby-Ironton High School","Varsity Boys",null,100390651,15,4,"00:00:00","01:06:45","00:16:19","00:16:46","00:16:40","00:17:00"]
[100392516,9,509,{"$f":"VLOOKUP(F396,Sheet2!$A$2:$B$86,2,FALSE)","v":1},"LOU SCHOLLE","Chanhassen High School","Varsity Boys",null,100392516,12,4,"00:00:00","01:08:30","00:16:12","00:16:54","00:17:43","00:17:42"]
[100391173,10,502,{"$f":"VLOOKUP(F397,Sheet2!$A$2:$B$86,2,FALSE)","v":1},"SETH KENNEDY","Chanhassen High School","Varsity Boys",null,100391173,65,4,"00:00:00","01:09:52","00:17:01","00:17:13","00:17:50","00:17:49"]
[100391465,11,495,{"$f":"VLOOKUP(F398,Sheet2!$A$2:$B$86,2,FALSE)","v":2},"JACK LIISTE","Totino Grace High School","Varsity Boys",null,100391465,58,4,"00:00:00","01:11:59","00:17:15","00:18:42","00:18:11","00:17:52"]
[100391478,12,489,{"$f":"VLOOKUP(F399,Sheet2!$A$2:$B$86,2,FALSE)","v":1},"PARKER LINN","Brainerd High School","Varsity Boys","Bike Swap",100391478,7,4,"00:10:00","01:21:58","00:17:20","00:20:38","00:16:24","00:17:37"]
[100391413,1,575,{"$f":"VLOOKUP(F400,Sheet2!$A$2:$B$86,2,FALSE)","v":1},"CHLOE LEEGE","Duluth East High School","Varsity Girls",null,100391413,509,4,"00:00:00","01:12:27","00:18:05","00:17:59","00:18:15","00:18:07"]
[100391263,2,565,{"$f":"VLOOKUP(F401,Sheet2!$A$2:$B$86,2,FALSE)","v":1},"THEA KRAMER","Duluth East High School","Varsity Girls",null,100391263,508,4,"00:00:00","01:12:29","00:18:05","00:17:59","00:18:15","00:18:10"]
[100389503,3,556,{"$f":"VLOOKUP(F402,Sheet2!$A$2:$B$86,2,FALSE)","v":1},"GRACE ATTERSON","Chaska High School","Varsity Girls",null,100389503,505,4,"00:00:00","01:12:29","00:18:24","00:17:57","00:17:59","00:18:10"]
[100392414,4,547,{"$f":"VLOOKUP(F403,Sheet2!$A$2:$B$86,2,FALSE)","v":1},"ADDIE RYAN","Brainerd High School","Varsity Girls",null,100392414,501,4,"00:00:00","01:12:29","00:18:08","00:17:56","00:18:14","00:18:10"]
[100389992,5,539,{"$f":"VLOOKUP(F404,Sheet2!$A$2:$B$86,2,FALSE)","v":1},"LEAH COLEMAN","Duluth East High School","Varsity Girls",null,100389992,507,4,"00:00:00","01:15:53","00:18:06","00:17:57","00:19:13","00:20:36"]
[100392485,6,531,{"$f":"VLOOKUP(F405,Sheet2!$A$2:$B$86,2,FALSE)","v":1},"SELAH SCHERMAN","New Prague Middle and High School","Varsity Girls",null,100392485,515,4,"00:00:00","01:17:42","00:18:59","00:19:15","00:19:30","00:19:58"]

{"sheet":"Sheet3","index":1,"n_rows":210,"n_cols":10,"rows_kept":210,"cut":false,"hidden":false,"merged":[]}
[]
[null,1,null,"Brainerd High School",null,null,2,null,null,"Rock Ridge Composite"]
[null,1,null,{"$f":"nextUnique($C$2:$C$210,$D$2:D2)","v":0},null,null,2,null,null,{"$f":"nextUnique($H$2:$H$195,$J$2:J2)","v":0}]
[null,1,null,{"$f":"nextUnique($C$2:$C$210,$D$2:D3)","v":"No More Unique"},null,null,2,null,null,{"$f":"nextUnique($H$2:$H$195,$J$2:J3)","v":"No More Unique"}]
[null,1,null,{"$f":"nextUnique($C$2:$C$210,$D$2:D4)","v":"No More Unique"},null,null,2,null,null,{"$f":"nextUnique($H$2:$H$195,$J$2:J4)","v":"No More Unique"}]
[null,1,null,{"$f":"nextUnique($C$2:$C$210,$D$2:D5)","v":"No More Unique"},null,null,2,null,null,{"$f":"nextUnique($H$2:$H$195,$J$2:J5)","v":"No More Unique"}]
[null,1,null,{"$f":"nextUnique($C$2:$C$210,$D$2:D6)","v":"No More Unique"},null,null,2,null,null,{"$f":"nextUnique($H$2:$H$195,$J$2:J6)","v":"No More Unique"}]
[null,1,null,{"$f":"nextUnique($C$2:$C$210,$D$2:D7)","v":"No More Unique"},null,null,2,null,null,{"$f":"nextUnique($H$2:$H$195,$J$2:J7)","v":"No More Unique"}]
[null,1,null,{"$f":"nextUnique($C$2:$C$210,$D$2:D8)","v":"No More Unique"},null,null,2,null,null,{"$f":"nextUnique($H$2:$H$195,$J$2:J8)","v":"No More Unique"}]
[null,1,null,null,null,null,2,null,null,{"$f":"nextUnique($H$2:$H$195,$J$2:J9)","v":"No More Unique"}]
[null,1,null,null,null,null,2,null,null,{"$f":"nextUnique($H$2:$H$195,$J$2:J10)","v":"No More Unique"}]
[null,1,null,null,null,null,2,null,null,{"$f":"nextUnique($H$2:$H$195,$J$2:J11)","v":"No More Unique"}]
[null,1,null,null,null,null,2,null,null,{"$f":"nextUnique($H$2:$H$195,$J$2:J12)","v":"No More Unique"}]
[null,1,null,null,null,null,2,null,null,{"$f":"nextUnique($H$2:$H$195,$J$2:J13)","v":"No More Unique"}]
[null,1,null,null,null,null,2,null,null,{"$f":"nextUnique($H$2:$H$195,$J$2:J14)","v":"No More Unique"}]
[null,1,null,null,null,null,2,null,null,{"$f":"nextUnique($H$2:$H$195,$J$2:J15)","v":"No More Unique"}]
[null,1,null,null,null,null,2,null,null,{"$f":"nextUnique($H$2:$H$195,$J$2:J16)","v":"No More Unique"}]
[null,1,null,null,null,null,2,null,null,{"$f":"nextUnique($H$2:$H$195,$J$2:J17)","v":"No More Unique"}]
[null,1,null,null,null,null,2,null,null,{"$f":"nextUnique($H$2:$H$195,$J$2:J18)","v":"No More Unique"}]
[null,1,null,null,null,null,2,null,null,{"$f":"nextUnique($H$2:$H$195,$J$2:J19)","v":"No More Unique"}]
[null,1,null,null,null,null,2]
[null,1,null,null,null,null,2]
[null,1,null,null,null,null,2]
[null,1,null,null,null,null,2]
[null,1,null,null,null,null,2]
[null,1,null,null,null,null,2]
[null,1,null,null,null,null,2]
[null,1,null,null,null,null,2]
[null,1,null,null,null,null,2]
[null,1,null,null,null,null,2]
[null,1,null,null,null,null,2]
[null,1,null,null,null,null,2]
[null,1,null,null,null,null,2]
[null,1,null,null,null,null,2]
[null,1,null,null,null,null,2]
[null,1,null,null,null,null,2]
[null,1,null,null,null,null,2]
[null,1,null,null,null,null,2]
[null,1,null,null,null,null,2]
[null,1,null,null,null,null,2]
[null,1,null,null,null,null,2]
[null,1,null,null,null,null,2]
[null,1,null,null,null,null,2]
[null,1,null,null,null,null,2]
[null,1,null,null,null,null,2]
[null,1,null,null,null,null,2]
[null,1,null,null,null,null,2]
[null,1,null,null,null,null,2]
[null,1,null,null,null,null,2]
[null,1,null,null,null,null,2]
[null,1,null,null,null,null,2]
[null,1,null,null,null,null,2]
[null,1,null,null,null,null,2]
[null,1,null,null,null,null,2]
[null,1,null,null,null,null,2]
[null,1,null,null,null,null,2]
[null,1,null,null,null,null,2]
[null,1,null,null,null,null,2]
[null,1,null,null,null,null,2]
[null,1,null,null,null,null,2]
[null,1,null,null,null,null,2]
[null,1,null,null,null,null,2]
[null,1,null,null,null,null,2]
[null,1,null,null,null,null,2]
[null,1,null,null,null,null,2]
[null,1,null,null,null,null,2]
[null,1,null,null,null,null,2]
[null,1,null,null,null,null,2]
[null,1,null,null,null,null,2]
[null,1,null,null,null,null,2]
[null,1,null,null,null,null,2]
[null,1,null,null,null,null,2]
[null,1,null,null,null,null,2]
[null,1,null,null,null,null,2]
[null,1,null,null,null,null,2]
[null,1,null,null,null,null,2]
[null,1,null,null,null,null,2]
[null,1,null,null,null,null,2]
[null,1,null,null,null,null,2]
[null,1,null,null,null,null,2]
[null,1,null,null,null,null,2]
[null,1,null,null,null,null,2]
[null,1,null,null,null,null,2]
[null,1,null,null,null,null,2]
[null,1,null,null,null,null,2]
[null,1,null,null,null,null,2]
[null,1,null,null,null,null,2]
[null,1,null,null,null,null,2]
[null,1,null,null,null,null,2]
[null,1,null,null,null,null,2]
[null,1,null,null,null,null,2]
[null,1,null,null,null,null,2]
[null,1,null,null,null,null,2]
[null,1,null,null,null,null,2]
[null,1,null,null,null,null,2]
[null,1,null,null,null,null,2]
[null,1,null,null,null,null,2]
[null,1,null,null,null,null,2]
[null,1,null,null,null,null,2]
[null,1,null,null,null,null,2]
[null,1,null,null,null,null,2]
[null,1,null,null,null,null,2]
[null,1,null,null,null,null,2]
[null,1,null,null,null,null,2]
[null,1,null,null,null,null,2]
[null,1,null,null,null,null,2]
[null,1,null,null,null,null,2]
[null,1,null,null,null,null,2]
[null,1,null,null,null,null,2]
[null,1,null,null,null,null,2]
[null,1,null,null,null,null,2]
[null,1,null,null,null,null,2]
[null,1,null,null,null,null,2]
[null,1,null,null,null,null,2]
[null,1,null,null,null,null,2]
[null,1,null,null,null,null,2]
[null,1,null,null,null,null,2]
[null,1,null,null,null,null,2]
[null,1,null,null,null,null,2]
[null,1,null,null,null,null,2]
[null,1,null,null,null,null,2]
[null,1,null,null,null,null,2]
[null,1,null,null,null,null,2]
[null,1,null,null,null,null,2]
[null,1,null,null,null,null,2]
[null,1,null,null,null,null,2]
[null,1,null,null,null,null,2]
[null,1,null,null,null,null,2]
[null,1,null,null,null,null,2]
[null,1,null,null,null,null,2]
[null,1,null,null,null,null,2]
[null,1,null,null,null,null,2]
[null,1,null,null,null,null,2]
[null,1,null,null,null,null,2]
[null,1,null,null,null,null,2]
[null,1,null,null,null,null,2]
[null,1,null,null,null,null,2]
[null,1,null,null,null,null,2]
[null,1,null,null,null,null,2]
[null,1,null,null,null,null,2]
[null,1,null,null,null,null,2]
[null,1,null,null,null,null,2]
[null,1,null,null,null,null,2]
[null,1,null,null,null,null,2]
[null,1,null,null,null,null,2]
[null,1,null,null,null,null,2]
[null,1,null,null,null,null,2]
[null,1,null,null,null,null,2]
[null,1,null,null,null,null,2]
[null,1,null,null,null,null,2]
[null,1,null,null,null,null,2]
[null,1,null,null,null,null,2]
[null,1,null,null,null,null,2]
[null,1,null,null,null,null,2]
[null,1,null,null,null,null,2]
[null,1,null,null,null,null,2]
[null,1,null,null,null,null,2]
[null,1,null,null,null,null,2]
[null,1,null,null,null,null,2]
[null,1,null,null,null,null,2]
[null,1,null,null,null,null,2]
[null,1,null,null,null,null,2]
[null,1,null,null,null,null,2]
[null,1,null,null,null,null,2]
[null,1,null,null,null,null,2]
[null,1,null,null,null,null,2]
[null,1,null,null,null,null,2]
[null,1,null,null,null,null,2]
[null,1,null,null,null,null,2]
[null,1,null,null,null,null,2]
[null,1,null,null,null,null,2]
[null,1,null,null,null,null,2]
[null,1,null,null,null,null,2]
[null,1,null,null,null,null,2]
[null,1,null,null,null,null,2]
[null,1,null,null,null,null,2]
[null,1,null,null,null,null,2]
[null,1,null,null,null,null,2]
[null,1,null,null,null,null,2]
[null,1,null,null,null,null,2]
[null,1,null,null,null,null,2]
[null,1,null,null,null,null,2]
[null,1,null,null,null,null,2]
[null,1,null,null,null,null,2]
[null,1,null,null,null,null,2]
[null,1,null,null,null,null,2]
[null,1,null,null,null,null,2]
[null,1,null,null,null,null,2]
[null,1,null,null,null,null,2]
[null,1,null,null,null,null,2]
[null,1,null,null,null,null,2]
[null,1,null,null,null,null,2]
[null,1,null,null,null,null,2]
[null,1,null,null,null,null,2]
[null,1,null,null,null,null,2]
[null,1]
[null,1]
[null,1]
[null,1]
[null,1]
[null,1]
[null,1]
[null,1]
[null,1]
[null,1]
[null,1]
[null,1]
[null,1]
[null,1]
[null,1]

{"sheet":"Sheet1","index":2,"n_rows":62,"n_cols":12,"rows_kept":62,"cut":false,"hidden":false,"merged":[[0,0,0,2],[12,0,12,2],[29,0,29,2],[42,0,42,2]]}
["Middle School D1"]
["Place","TEAM","Score",null,"Rider 1","Rider 2","Rider 3","Rider 4"]
[1,"Brainerd High School",1954,null,"(G) ABIGAIL THOMES - [500]","(B) LANDON HAGEN - [500]","(B) RYLAN O'HEARN - [490]","(G) STELLA MUSEUS - [464]"]
[2,"Crosby-Ironton High School",1943,null,"(B) OWEN RITTER - [500]","(G) VANESSA RICKMEYER - [490]","(G) AVERY LONERGAN - [481]","(B) BECKETT CRAINE - [472]"]
[3,"New Prague Middle and High School",1927,null,"(G) ALEXIS RIDGEWAY - [500]","(B) HAYDEN BRAITH - [490]","(B) LINCOLN STUBER - [481]","(B) CASEY KELLY - [456]"]
[4,"Mounds View High School",1909,null,"(B) THOMAS QUACKENBUSH - [500]","(B) CAMERON HYSONG - [481]","(G) JADON CARLSON - [464]","(B) LAKEN BARTEL - [464]"]
[5,"Alexandria Area Youth Cycling",1899,null,"(G) CLAIRE FOLKESTAD - [490]","(G) RYLIN CONVERSE - [481]","(G) ADDISON SUCHY - [472]","(B) DILLON LARSON - [456]"]
[6,"Rock Ridge Composite",1884,null,"(B) GUS LAYMAN - [490]","(G) DALLAS LAYMAN - [481]","(G) SELAH BEUKEMA - [472]","(G) LILLIAN KAINZ - [441]"]
[7,"Chanhassen High School",1828,null,"(B) BRADYN RUPPERT - [481]","(G) ELLE MYRAN - [472]","(G) CAMILLE NESBURG - [441]","(B) MASON DEALWIS - [434]"]
[8,"Chaska High School",1685,null,"(B) AUGUST MAYER - [464]","(G) MONIQUE KONOTOPKA - [434]","(B) NOLAN STONE - [402]","(B) NOLAN SIEDENBURG - [385]"]
[9,"White Bear Lake High School",1049,null,"(B) RYAN GLICK - [365]","(B) IAN TELSROW - [344]","(B) ALEX THIELEN - [340]","()  - [0]"]
[]
["Middle School D2","Middle School D2"]
["Place","TEAM","SCORE",null,"Rider 1","Rider 2","Rider 3","Rider 4"]
[1,"St Cloud Area Composite",1980,null,"(G) PHOEBE HACKENSACK - [500]","(B) JACK LARSEN - [500]","(G) LILY WILCOX - [490]","(B) MAX LARSEN - [490]"]
[2,"Tioga Trailblazers",1902,null,"(B) CASH CONNELLY - [500]","(B) LEVI GEISLER - [490]","(G) CORA METELAK - [456]","(B) BEN JOHNSON - [456]"]
[3,"Elk River Composite",1883,null,"(B) EDWARD FULL - [490]","(B) TYLER HANSON - [481]","(B) BRAYDEN BORER - [464]","(G) GEMMA BANKS - [448]"]
[4,"Northwest Composite",1873,null,"(B) HANK SCHLAUDERAFF - [481]","(B) CALM ENZ - [472]","(B) IAN ARTLEY - [464]","(G) ANNA MOORS - [456]"]
[5,"Minnesota Valley Composite",1815,null,"(B) CARTER BOLSTER - [481]","(B) XAVIER OLSON - [464]","(B) GARRETT LUSIGNAN - [456]","(G) INGRID OLSON - [414]"]
[6,"Roseville Area Composite",1704,null,"(B) BENNETT SCHMALTZ - [448]","(B) HENRY LOE - [434]","(G) ALLISON CLAYDON - [420]","(B) GAVIN GOLDENMAN - [402]"]
[7,"Eden Prairie High School",1369,null,"(B) MASON REINER - [472]","(B) AIDAN OLSTAD - [456]","(B) LIAM LISTON - [441]","()  - [0]"]
[8,"North Dakota Composite",1179,null,"(B) DAVID ROBINSON - [427]","(G) NICOLETTE PARMER - [396]","(B) BRADY WALSKI - [356]","()  - [0]"]
[9,"Kerkhoven Composite",1137,null,"(G) HAILEY SOINE - [402]","(B) JONNY BENSON - [370]","(B) MICAH STRICKLAND - [365]","()  - [0]"]
[10,"Totino Grace High School",899,null,"(B) ALEXANDER MCNAMARA - [472]","(G) ADELE DENTON - [427]","()  - [0]","()  - [0]"]
[11,"West Range Composite",804,null,"(B) EMMETT LIND - [414]","(B) TUCKER CROWE - [390]","()  - [0]","()  - [0]"]
[12,"Rogers High School",500,null,"(B) MAX KLABUNDE - [500]","()  - [0]","()  - [0]","()  - [0]"]
[13,"North Dakota Kindred Composite",360,null,"(B) THORVALD PATENAUDE - [360]","()  - [0]","()  - [0]","()  - [0]"]
[14]
[]
["High School D1","High School D1"]
["Place","TEAM","Score",null,"Rider 1","Rider 2","Rider 3","Rider 4","Rider 5","Rider 6","Rider 7","Rider 8"]
[1,"Duluth East High School",4305,null,"(G) CHLOE LEEGE - [575]","(G) THEA KRAMER - [565]","(B) CARL MORSE - [547]","(G) PHOEBE LEEGE - [540]","(G) LEAH COLEMAN - [539]","(B) SAM BAILEY - [523]","(G) CHARLI WORCESTER - [512]","(G) COURTNEY HISLOP - [504]"]
[2,"New Prague Middle and High School",3962,null,"(B) AIDAN ROSEMEIER - [575]","(B) RILEY HUSEBY - [539]","(G) SELAH SCHERMAN - [531]","(B) DANIEL RIDGEWAY JR. - [512]","(G) SOPHIA METZDORFF - [460]","(G) ADDISON RIDGEWAY - [456]","(B) GARRETT TOBIAS - [448]","(B) JEREMIAH STUBER - [441]"]
[3,"Brainerd High School",3860,null,"(B) HAYDEN HAGEN - [556]","(G) ADDIE RYAN - [547]","(B) PARKER LINN - [489]","(G) STELLA HAGEN - [474]","(B) BISHOP NOETZEL - [456]","(G) CORA MARTENSEN - [448]","(B) ARRON LOCKWOOD - [448]","(G) SELAH MARTENSEN - [442]"]
[4,"Alexandria Area Youth Cycling",3798,null,"(B) LUKE WALSH - [540]","(B) PARKER CONVERSE - [500]","(G) TIAHNA GOEKE - [496]","(B) COLTON CONVERSE - [474]","(G) LACEY SIIRA - [464]","(B) TYLER FATH - [448]","(B) LANDON RUNGE - [442]","(G) ATTI HOVEN - [434]"]
[5,"Chanhassen High School",3667,null,"(G) DANICA BARRETT - [521]","(B) LOU SCHOLLE - [509]","(B) SETH KENNEDY - [502]","(G) ZOE ANDERSON - [490]","(B) CHARLIE WENNERSTROM - [472]","(B) JOHNATHAN MONARSKI - [415]","(B) CHARLES EVANGELISTA - [402]","(B) AYDEN FERREL - [356]"]
[6,"Mounds View High School",3575,null,"(G) ESME NEEDHAM - [481]","(B) ANDREW ROLOFF - [481]","(G) MADELINE DORNFELD - [464]","(B) CORBAN CARLSON - [456]","(B) ANTONIN KOSTAL - [454]","(G) KATERINA KOSTAL - [441]","(G) PAULINA MCCULLOUGH - [408]","(B) GAVIN STRONG - [390]"]
[7,"Crosby-Ironton High School",3428,null,"(B) BRADLEY HACHEY - [516]","(G) AVA JOHNSON - [500]","(B) FINN NELSON - [490]","(B) OLIVER TOFTNESS - [488]","(B) OSKAR NELSON - [481]","(B) SAMUEL COUGHLIN - [481]","(B) COOPER CRAINE - [472]","()  - [0]"]
[8,"White Bear Lake High School",3426,null,"(G) GRETCHEN BLANKENSHIP - [472]","(B) ANGUS LEVINS - [464]","(B) ISAAC LINDHOLM - [464]","(B) JAMES WALLEK - [434]","(G) GRACE CONROY - [420]","(G) KENNEDY LANGE - [402]","(G) HAYLEY HECKAMAN - [390]","(B) WALKER DIETZ - [380]"]
[9,"Rock Ridge Composite",3394,null,"(B) SAMUEL BEUKEMA - [490]","(G) SOPHIE ROARK - [472]","(G) WRENNA GALLOWAY - [448]","(G) SYLVIE GALLOWAY - [441]","(B) SILAS TODAY - [408]","(G) NORAH KAINZ - [385]","(B) SIMON BEUKEMA - [385]","(B) DUTCH HEDBLOM - [365]"]
[10,"Chaska High School",2986,null,"(G) GRACE ATTERSON - [556]","(B) GRANT ATTERSON - [500]","(B) XAVIER DEMARRE - [414]","(B) DYLAN HENDERSON - [392]","(B) NATHAN OMAN - [384]","(B) GRANT KERFOOT - [380]","(B) EVAN REINSCH - [360]","()  - [0]"]
[]
["High School D2","High School D2"]
["Place","TEAM","Score",null,"Rider 1","Rider 2","Rider 3","Rider 4"]
[1,"Duluth Composite",2001,null,"(B) BODEE MCFADDEN - [530]","(B) OWEN VANDAL - [500]","(G) NATALIA KUNZE - [490]","(B) QUINN SPOHN - [481]"]
[2,"Minnesota Valley Composite",1882,null,"(G) CARISSA BOLSTER - [481]","(B) ZACH FAHEY - [481]","(B) ODEN OLSON - [472]","(B) SAWYER SCHETTL - [448]"]
[3,"North Dakota Composite",1837,null,"(G) JADAH KELLY - [481]","(B) SETH HEIN - [472]","(B) BRODY PARMER - [464]","(B) LUKAS ROBINSON - [420]"]
[4,"St Cloud Area Composite",1816,null,"(G) ELLA DOLS - [530]","(B) HOLDEN ZAK - [500]","(B) ANDREW HACKENMUELLER - [396]","(B) JONAH RICARD - [390]"]
[5,"Elk River Composite",1766,null,"(B) GRADY MAGRUDER - [456]","(G) AUDREY KEMPEL - [454]","(B) COLTON BANKS - [436]","(B) BO JEFFERS - [420]"]
[6,"Bemidji Composite",1726,null,"(G) FAYE CALVERT - [456]","(B) LOUIS MORRISSEY - [430]","(G) JULIA CALVERT - [420]","(B) MIKKOL YOST - [420]"]
[7,"Northwest Composite",1523,null,"(B) ETHANM LUNDBERG - [565]","(B) JACOB T OLSON - [531]","(B) GABE LINDSTROM - [427]","()  - [0]"]
[8,"Roseville Area Composite",1471,null,"(G) SANDY FISH - [467]","(B) SIMON ENGLUND - [356]","(B) WILLEM NIBBELINK - [344]","(B) CHARLEY CROWSON - [304]"]
[9,"Eden Prairie High School",1426,null,"(B) OWEN BRATTEBO - [521]","(B) LUKE WARZECHA - [464]","(B) CHARLIE STEFFEN - [441]","()  - [0]"]
[10,"North Dakota Kindred Composite",1359,null,"(B) ISAAC SCHWARZ - [490]","(B) ELIJAH SCHWARZ - [467]","(B) NOAH SAUVAGEAU - [402]","()  - [0]"]
[11,"Tioga Trailblazers",1323,null,"(B) ELI CHERNE - [448]","(B) BREVIK BROWN - [441]","(B) BEN SCHROEDER - [434]","()  - [0]"]
[12,"Spectrum High School",1193,null,"(B) ANDREW BURQUEST - [425]","(B) GARRETT PETERSON - [402]","(B) MATTHEW BURQUEST - [366]","()  - [0]"]
[13,"Kerkhoven Composite",1086,null,"(B) JUSTIN ROSENBOOM - [370]","(B) BENJAMIN STRICKLAND - [360]","(B) CARL BENSON - [356]","()  - [0]"]
[14,"Totino Grace High School",885,null,"(B) JACK LIISTE - [495]","(B) BRODY BERGLIN - [390]","()  - [0]","()  - [0]"]
[15,"Rogers High School",870,null,"(B) DOMENIC HEGMAN - [490]","(B) MATTHEW O'BRIEN - [380]","()  - [0]","()  - [0]"]
[16,"West Range Composite",434,null,"(B) HOWIE LIND - [434]","()  - [0]","()  - [0]","()  - [0]"]
[17,"Irondale High School",357,null,"(B) JAMES CHIRI - [357]","()  - [0]","()  - [0]","()  - [0]"]
[18]

{"sheet":"Middle School D1","index":3,"n_rows":30,"n_cols":15,"rows_kept":30,"cut":false,"hidden":false,"merged":[]}
["#","TEAM","Score",null,null,"New Total Score","P1","P2","P3","P4",null,"Get Numeric","DC"]
[1,"Brainerd High School",{"$f":"TeamScore(B2,\"M\", 4, 'MN_5 DM'!$F$3:$F$4000,'MN_5 DM'!$G$3:$G$4000,'MN_5 DM'!$C$3:$C$4000)","v":1954},null,null,{"$f":"TeamScoreWithPlayers($B2,\"M\", 4, 'MN_5 DM'!$F$3:$F$4000, 'MN_5 DM'!$E$3:$E$4000,'MN_5 DM'!$G$3:$G$4000,'MN_5 DM'!$C$3:$C$4000,\"TS\")","v":1954},{"$f":"TeamScoreWithPlayers($B2,\"M\", 4, 'MN_5 DM'!$F$3:$F$4000, 'MN_5 DM'!$E$3:$E$4000,'MN_5 DM'!$G$3:$G$4000,'MN_5 DM'!$C$3:$C$4000,\"P1\")","v":"(G) ABIGAIL THOMES - [500]"},{"$f":"TeamScoreWithPlayers($B2,\"M\", 4, 'MN_5 DM'!$F$3:$F$4000, 'MN_5 DM'!$E$3:$E$4000,'MN_5 DM'!$G$3:$G$4000,'MN_5 DM'!$C$3:$C$4000,\"P2\")","v":"(B) LANDON HAGEN - [500]"},{"$f":"TeamScoreWithPlayers($B2,\"M\", 4, 'MN_5 DM'!$F$3:$F$4000, 'MN_5 DM'!$E$3:$E$4000,'MN_5 DM'!$G$3:$G$4000,'MN_5 DM'!$C$3:$C$4000,\"P3\")","v":"(B) RYLAN O'HEARN - [490]"},{"$f":"TeamScoreWithPlayers($B2,\"M\", 4, 'MN_5 DM'!$F$3:$F$4000, 'MN_5 DM'!$E$3:$E$4000,'MN_5 DM'!$G$3:$G$4000,'MN_5 DM'!$C$3:$C$4000,\"P4\")","v":"(G) STELLA MUSEUS - [464]"},null,{"$f":"getnumeric(G2)+getnumeric(H2)+getnumeric(I2)+getnumeric(J2)","v":1954},1954,null,{"$f":"ABS(C2-F2)+ABS(F2-L2)+ABS(L2-M2)","v":0}]
[{"$f":"+A2+1","v":2},"Mounds View High School",{"$f":"TeamScore(B3,\"M\", 4, 'MN_5 DM'!$F$3:$F$4000,'MN_5 DM'!$G$3:$G$4000,'MN_5 DM'!$C$3:$C$4000)","v":1909},null,null,{"$f":"TeamScoreWithPlayers($B3,\"M\", 4, 'MN_5 DM'!$F$3:$F$4000, 'MN_5 DM'!$E$3:$E$4000,'MN_5 DM'!$G$3:$G$4000,'MN_5 DM'!$C$3:$C$4000,\"TS\")","v":1909},{"$f":"TeamScoreWithPlayers($B3,\"M\", 4, 'MN_5 DM'!$F$3:$F$4000, 'MN_5 DM'!$E$3:$E$4000,'MN_5 DM'!$G$3:$G$4000,'MN_5 DM'!$C$3:$C$4000,\"P1\")","v":"(B) THOMAS QUACKENBUSH - [500]"},{"$f":"TeamScoreWithPlayers($B3,\"M\", 4, 'MN_5 DM'!$F$3:$F$4000, 'MN_5 DM'!$E$3:$E$4000,'MN_5 DM'!$G$3:$G$4000,'MN_5 DM'!$C$3:$C$4000,\"P2\")","v":"(B) CAMERON HYSONG - [481]"},{"$f":"TeamScoreWithPlayers($B3,\"M\", 4, 'MN_5 DM'!$F$3:$F$4000, 'MN_5 DM'!$E$3:$E$4000,'MN_5 DM'!$G$3:$G$4000,'MN_5 DM'!$C$3:$C$4000,\"P3\")","v":"(G) JADON CARLSON - [464]"},{"$f":"TeamScoreWithPlayers($B3,\"M\", 4, 'MN_5 DM'!$F$3:$F$4000, 'MN_5 DM'!$E$3:$E$4000,'MN_5 DM'!$G$3:$G$4000,'MN_5 DM'!$C$3:$C$4000,\"P4\")","v":"(B) LAKEN BARTEL - [464]"},null,1909,1909,null,{"$f":"ABS(C3-F3)+ABS(F3-L3)+ABS(L3-M3)","v":0}]
[{"$f":"+A3+1","v":3},"Crosby-Ironton High School",{"$f":"TeamScore(B4,\"M\", 4, 'MN_5 DM'!$F$3:$F$4000,'MN_5 DM'!$G$3:$G$4000,'MN_5 DM'!$C$3:$C$4000)","v":1943},null,null,{"$f":"TeamScoreWithPlayers($B4,\"M\", 4, 'MN_5 DM'!$F$3:$F$4000, 'MN_5 DM'!$E$3:$E$4000,'MN_5 DM'!$G$3:$G$4000,'MN_5 DM'!$C$3:$C$4000,\"TS\")","v":1943},{"$f":"TeamScoreWithPlayers($B4,\"M\", 4, 'MN_5 DM'!$F$3:$F$4000, 'MN_5 DM'!$E$3:$E$4000,'MN_5 DM'!$G$3:$G$4000,'MN_5 DM'!$C$3:$C$4000,\"P1\")","v":"(B) OWEN RITTER - [500]"},{"$f":"TeamScoreWithPlayers($B4,\"M\", 4, 'MN_5 DM'!$F$3:$F$4000, 'MN_5 DM'!$E$3:$E$4000,'MN_5 DM'!$G$3:$G$4000,'MN_5 DM'!$C$3:$C$4000,\"P2\")","v":"(G) VANESSA RICKMEYER - [490]"},{"$f":"TeamScoreWithPlayers($B4,\"M\", 4, 'MN_5 DM'!$F$3:$F$4000, 'MN_5 DM'!$E$3:$E$4000,'MN_5 DM'!$G$3:$G$4000,'MN_5 DM'!$C$3:$C$4000,\"P3\")","v":"(G) AVERY LONERGAN - [481]"},{"$f":"TeamScoreWithPlayers($B4,\"M\", 4, 'MN_5 DM'!$F$3:$F$4000, 'MN_5 DM'!$E$3:$E$4000,'MN_5 DM'!$G$3:$G$4000,'MN_5 DM'!$C$3:$C$4000,\"P4\")","v":"(B) BECKETT CRAINE - [472]"},null,1943,1943,null,0]
[4,"Alexandria Area Youth Cycling",{"$f":"TeamScore(B5,\"M\", 4, 'MN_5 DM'!$F$3:$F$4000,'MN_5 DM'!$G$3:$G$4000,'MN_5 DM'!$C$3:$C$4000)","v":1899},null,null,{"$f":"TeamScoreWithPlayers($B5,\"M\", 4, 'MN_5 DM'!$F$3:$F$4000, 'MN_5 DM'!$E$3:$E$4000,'MN_5 DM'!$G$3:$G$4000,'MN_5 DM'!$C$3:$C$4000,\"TS\")","v":1899},{"$f":"TeamScoreWithPlayers($B5,\"M\", 4, 'MN_5 DM'!$F$3:$F$4000, 'MN_5 DM'!$E$3:$E$4000,'MN_5 DM'!$G$3:$G$4000,'MN_5 DM'!$C$3:$C$4000,\"P1\")","v":"(G) CLAIRE FOLKESTAD - [490]"},{"$f":"TeamScoreWithPlayers($B5,\"M\", 4, 'MN_5 DM'!$F$3:$F$4000, 'MN_5 DM'!$E$3:$E$4000,'MN_5 DM'!$G$3:$G$4000,'MN_5 DM'!$C$3:$C$4000,\"P2\")","v":"(G) RYLIN CONVERSE - [481]"},{"$f":"TeamScoreWithPlayers($B5,\"M\", 4, 'MN_5 DM'!$F$3:$F$4000, 'MN_5 DM'!$E$3:$E$4000,'MN_5 DM'!$G$3:$G$4000,'MN_5 DM'!$C$3:$C$4000,\"P3\")","v":"(G) ADDISON SUCHY - [472]"},{"$f":"TeamScoreWithPlayers($B5,\"M\", 4, 'MN_5 DM'!$F$3:$F$4000, 'MN_5 DM'!$E$3:$E$4000,'MN_5 DM'!$G$3:$G$4000,'MN_5 DM'!$C$3:$C$4000,\"P4\")","v":"(B) DILLON LARSON - [456]"},null,1899,1899,null,0]
[5,"New Prague Middle and High School",{"$f":"TeamScore(B6,\"M\", 4, 'MN_5 DM'!$F$3:$F$4000,'MN_5 DM'!$G$3:$G$4000,'MN_5 DM'!$C$3:$C$4000)","v":1927},null,null,{"$f":"TeamScoreWithPlayers($B6,\"M\", 4, 'MN_5 DM'!$F$3:$F$4000, 'MN_5 DM'!$E$3:$E$4000,'MN_5 DM'!$G$3:$G$4000,'MN_5 DM'!$C$3:$C$4000,\"TS\")","v":1927},{"$f":"TeamScoreWithPlayers($B6,\"M\", 4, 'MN_5 DM'!$F$3:$F$4000, 'MN_5 DM'!$E$3:$E$4000,'MN_5 DM'!$G$3:$G$4000,'MN_5 DM'!$C$3:$C$4000,\"P1\")","v":"(G) ALEXIS RIDGEWAY - [500]"},{"$f":"TeamScoreWithPlayers($B6,\"M\", 4, 'MN_5 DM'!$F$3:$F$4000, 'MN_5 DM'!$E$3:$E$4000,'MN_5 DM'!$G$3:$G$4000,'MN_5 DM'!$C$3:$C$4000,\"P2\")","v":"(B) HAYDEN BRAITH - [490]"},{"$f":"TeamScoreWithPlayers($B6,\"M\", 4, 'MN_5 DM'!$F$3:$F$4000, 'MN_5 DM'!$E$3:$E$4000,'MN_5 DM'!$G$3:$G$4000,'MN_5 DM'!$C$3:$C$4000,\"P3\")","v":"(B) LINCOLN STUBER - [481]"},{"$f":"TeamScoreWithPlayers($B6,\"M\", 4, 'MN_5 DM'!$F$3:$F$4000, 'MN_5 DM'!$E$3:$E$4000,'MN_5 DM'!$G$3:$G$4000,'MN_5 DM'!$C$3:$C$4000,\"P4\")","v":"(B) CASEY KELLY - [456]"},null,1927,1927,null,0]
[6,"Chanhassen High School",{"$f":"TeamScore(B7,\"M\", 4, 'MN_5 DM'!$F$3:$F$4000,'MN_5 DM'!$G$3:$G$4000,'MN_5 DM'!$C$3:$C$4000)","v":1828},null,null,{"$f":"TeamScoreWithPlayers($B7,\"M\", 4, 'MN_5 DM'!$F$3:$F$4000, 'MN_5 DM'!$E$3:$E$4000,'MN_5 DM'!$G$3:$G$4000,'MN_5 DM'!$C$3:$C$4000,\"TS\")","v":1828},{"$f":"TeamScoreWithPlayers($B7,\"M\", 4, 'MN_5 DM'!$F$3:$F$4000, 'MN_5 DM'!$E$3:$E$4000,'MN_5 DM'!$G$3:$G$4000,'MN_5 DM'!$C$3:$C$4000,\"P1\")","v":"(B) BRADYN RUPPERT - [481]"},{"$f":"TeamScoreWithPlayers($B7,\"M\", 4, 'MN_5 DM'!$F$3:$F$4000, 'MN_5 DM'!$E$3:$E$4000,'MN_5 DM'!$G$3:$G$4000,'MN_5 DM'!$C$3:$C$4000,\"P2\")","v":"(G) ELLE MYRAN - [472]"},{"$f":"TeamScoreWithPlayers($B7,\"M\", 4, 'MN_5 DM'!$F$3:$F$4000, 'MN_5 DM'!$E$3:$E$4000,'MN_5 DM'!$G$3:$G$4000,'MN_5 DM'!$C$3:$C$4000,\"P3\")","v":"(G) CAMILLE NESBURG - [441]"},{"$f":"TeamScoreWithPlayers($B7,\"M\", 4, 'MN_5 DM'!$F$3:$F$4000, 'MN_5 DM'!$E$3:$E$4000,'MN_5 DM'!$G$3:$G$4000,'MN_5 DM'!$C$3:$C$4000,\"P4\")","v":"(B) MASON DEALWIS - [434]"},null,1828,1828,null,0]
[7,"White Bear Lake High School",{"$f":"TeamScore(B8,\"M\", 4, 'MN_5 DM'!$F$3:$F$4000,'MN_5 DM'!$G$3:$G$4000,'MN_5 DM'!$C$3:$C$4000)","v":1049},null,null,{"$f":"TeamScoreWithPlayers($B8,\"M\", 4, 'MN_5 DM'!$F$3:$F$4000, 'MN_5 DM'!$E$3:$E$4000,'MN_5 DM'!$G$3:$G$4000,'MN_5 DM'!$C$3:$C$4000,\"TS\")","v":1049},{"$f":"TeamScoreWithPlayers($B8,\"M\", 4, 'MN_5 DM'!$F$3:$F$4000, 'MN_5 DM'!$E$3:$E$4000,'MN_5 DM'!$G$3:$G$4000,'MN_5 DM'!$C$3:$C$4000,\"P1\")","v":"(B) RYAN GLICK - [365]"},{"$f":"TeamScoreWithPlayers($B8,\"M\", 4, 'MN_5 DM'!$F$3:$F$4000, 'MN_5 DM'!$E$3:$E$4000,'MN_5 DM'!$G$3:$G$4000,'MN_5 DM'!$C$3:$C$4000,\"P2\")","v":"(B) IAN TELSROW - [344]"},{"$f":"TeamScoreWithPlayers($B8,\"M\", 4, 'MN_5 DM'!$F$3:$F$4000, 'MN_5 DM'!$E$3:$E$4000,'MN_5 DM'!$G$3:$G$4000,'MN_5 DM'!$C$3:$C$4000,\"P3\")","v":"(B) ALEX THIELEN - [340]"},{"$f":"TeamScoreWithPlayers($B8,\"M\", 4, 'MN_5 DM'!$F$3:$F$4000, 'MN_5 DM'!$E$3:$E$4000,'MN_5 DM'!$G$3:$G$4000,'MN_5 DM'!$C$3:$C$4000,\"P4\")","v":"()  - [0]"},null,1049,1049,null,0]
[8,"Chaska High School",{"$f":"TeamScore(B9,\"M\", 4, 'MN_5 DM'!$F$3:$F$4000,'MN_5 DM'!$G$3:$G$4000,'MN_5 DM'!$C$3:$C$4000)","v":1685},null,null,{"$f":"TeamScoreWithPlayers($B9,\"M\", 4, 'MN_5 DM'!$F$3:$F$4000, 'MN_5 DM'!$E$3:$E$4000,'MN_5 DM'!$G$3:$G$4000,'MN_5 DM'!$C$3:$C$4000,\"TS\")","v":1685},{"$f":"TeamScoreWithPlayers($B9,\"M\", 4, 'MN_5 DM'!$F$3:$F$4000, 'MN_5 DM'!$E$3:$E$4000,'MN_5 DM'!$G$3:$G$4000,'MN_5 DM'!$C$3:$C$4000,\"P1\")","v":"(B) AUGUST MAYER - [464]"},{"$f":"TeamScoreWithPlayers($B9,\"M\", 4, 'MN_5 DM'!$F$3:$F$4000, 'MN_5 DM'!$E$3:$E$4000,'MN_5 DM'!$G$3:$G$4000,'MN_5 DM'!$C$3:$C$4000,\"P2\")","v":"(G) MONIQUE KONOTOPKA - [434]"},{"$f":"TeamScoreWithPlayers($B9,\"M\", 4, 'MN_5 DM'!$F$3:$F$4000, 'MN_5 DM'!$E$3:$E$4000,'MN_5 DM'!$G$3:$G$4000,'MN_5 DM'!$C$3:$C$4000,\"P3\")","v":"(B) NOLAN STONE - [402]"},{"$f":"TeamScoreWithPlayers($B9,\"M\", 4, 'MN_5 DM'!$F$3:$F$4000, 'MN_5 DM'!$E$3:$E$4000,'MN_5 DM'!$G$3:$G$4000,'MN_5 DM'!$C$3:$C$4000,\"P4\")","v":"(B) NOLAN SIEDENBURG - [385]"},null,{"$f":"getnumeric(G9)+getnumeric(H9)+getnumeric(I9)+getnumeric(J9)","v":1685},1685,null,0]
[9,"Rock Ridge Composite",{"$f":"TeamScore(B10,\"M\", 4, 'MN_5 DM'!$F$3:$F$4000,'MN_5 DM'!$G$3:$G$4000,'MN_5 DM'!$C$3:$C$4000)","v":1884},null,null,{"$f":"TeamScoreWithPlayers($B10,\"M\", 4, 'MN_5 DM'!$F$3:$F$4000, 'MN_5 DM'!$E$3:$E$4000,'MN_5 DM'!$G$3:$G$4000,'MN_5 DM'!$C$3:$C$4000,\"TS\")","v":1884},{"$f":"TeamScoreWithPlayers($B10,\"M\", 4, 'MN_5 DM'!$F$3:$F$4000, 'MN_5 DM'!$E$3:$E$4000,'MN_5 DM'!$G$3:$G$4000,'MN_5 DM'!$C$3:$C$4000,\"P1\")","v":"(B) GUS LAYMAN - [490]"},{"$f":"TeamScoreWithPlayers($B10,\"M\", 4, 'MN_5 DM'!$F$3:$F$4000, 'MN_5 DM'!$E$3:$E$4000,'MN_5 DM'!$G$3:$G$4000,'MN_5 DM'!$C$3:$C$4000,\"P2\")","v":"(G) DALLAS LAYMAN - [481]"},{"$f":"TeamScoreWithPlayers($B10,\"M\", 4, 'MN_5 DM'!$F$3:$F$4000, 'MN_5 DM'!$E$3:$E$4000,'MN_5 DM'!$G$3:$G$4000,'MN_5 DM'!$C$3:$C$4000,\"P3\")","v":"(G) SELAH BEUKEMA - [472]"},{"$f":"TeamScoreWithPlayers($B10,\"M\", 4, 'MN_5 DM'!$F$3:$F$4000, 'MN_5 DM'!$E$3:$E$4000,'MN_5 DM'!$G$3:$G$4000,'MN_5 DM'!$C$3:$C$4000,\"P4\")","v":"(G) LILLIAN KAINZ - [441]"},null,1884,1884,null,0]
[10]
[11]
[12]
[13]
[14]
[15]
[16]
[17]
[]
[null,"Results sorted High to Low"]
["Place","TEAM","Score",null,null,"New Total Score","P1","P2","P3","P4"]
[1,"Brainerd High School",1954,null,null,1954,"(G) ABIGAIL THOMES - [500]","(B) LANDON HAGEN - [500]","(B) RYLAN O'HEARN - [490]","(G) STELLA MUSEUS - [464]",null,{"$f":"getnumeric(G22)+getnumeric(H22)+getnumeric(I22)+getnumeric(J22)","v":1954},{"$f":"L22-C22","v":0}]
[2,"Crosby-Ironton High School",1943,null,null,1943,"(B) OWEN RITTER - [500]","(G) VANESSA RICKMEYER - [490]","(G) AVERY LONERGAN - [481]","(B) BECKETT CRAINE - [472]",null,1943,{"$f":"L23-C23","v":0}]
[3,"New Prague Middle and High School",1927,null,null,1927,"(G) ALEXIS RIDGEWAY - [500]","(B) HAYDEN BRAITH - [490]","(B) LINCOLN STUBER - [481]","(B) CASEY KELLY - [456]",null,1927,0]
[4,"Mounds View High School",1909,null,null,1909,"(B) THOMAS QUACKENBUSH - [500]","(B) CAMERON HYSONG - [481]","(G) JADON CARLSON - [464]","(B) LAKEN BARTEL - [464]",null,1909,0]
[5,"Alexandria Area Youth Cycling",1899,null,null,1899,"(G) CLAIRE FOLKESTAD - [490]","(G) RYLIN CONVERSE - [481]","(G) ADDISON SUCHY - [472]","(B) DILLON LARSON - [456]",null,1899,0]
[6,"Rock Ridge Composite",1884,null,null,1884,"(B) GUS LAYMAN - [490]","(G) DALLAS LAYMAN - [481]","(G) SELAH BEUKEMA - [472]","(G) LILLIAN KAINZ - [441]",null,1884,0]
[7,"Chanhassen High School",1828,null,null,1828,"(B) BRADYN RUPPERT - [481]","(G) ELLE MYRAN - [472]","(G) CAMILLE NESBURG - [441]","(B) MASON DEALWIS - [434]",null,1828,0]
[8,"Chaska High School",1685,null,null,1685,"(B) AUGUST MAYER - [464]","(G) MONIQUE KONOTOPKA - [434]","(B) NOLAN STONE - [402]","(B) NOLAN SIEDENBURG - [385]",null,1685,0]
[9,"White Bear Lake High School",1049,null,null,1049,"(B) RYAN GLICK - [365]","(B) IAN TELSROW - [344]","(B) ALEX THIELEN - [340]","()  - [0]",null,1049,0]

{"sheet":"Middle School D2","index":4,"n_rows":55,"n_cols":15,"rows_kept":55,"cut":false,"hidden":false,"merged":[]}
["#","TEAM","Score",null,null,"New Total Score","P1","P2","P3","P4",null,"Get Numeric","DC"]
[1,"Tioga Trailblazers",{"$f":"TeamScore(B2,\"M\", 4, 'MN_5 DM'!$F$3:$F$4000,'MN_5 DM'!$G$3:$G$4000,'MN_5 DM'!$C$3:$C$4000)","v":1902},null,null,{"$f":"TeamScoreWithPlayers($B2,\"M\", 4, 'MN_5 DM'!$F$3:$F$4000, 'MN_5 DM'!$E$3:$E$4000,'MN_5 DM'!$G$3:$G$4000,'MN_5 DM'!$C$3:$C$4000,\"TS\")","v":1902},{"$f":"TeamScoreWithPlayers($B2,\"M\", 4, 'MN_5 DM'!$F$3:$F$4000, 'MN_5 DM'!$E$3:$E$4000,'MN_5 DM'!$G$3:$G$4000,'MN_5 DM'!$C$3:$C$4000,\"P1\")","v":"(B) CASH CONNELLY - [500]"},{"$f":"TeamScoreWithPlayers($B2,\"M\", 4, 'MN_5 DM'!$F$3:$F$4000, 'MN_5 DM'!$E$3:$E$4000,'MN_5 DM'!$G$3:$G$4000,'MN_5 DM'!$C$3:$C$4000,\"P2\")","v":"(B) LEVI GEISLER - [490]"},{"$f":"TeamScoreWithPlayers($B2,\"M\", 4, 'MN_5 DM'!$F$3:$F$4000, 'MN_5 DM'!$E$3:$E$4000,'MN_5 DM'!$G$3:$G$4000,'MN_5 DM'!$C$3:$C$4000,\"P3\")","v":"(G) CORA METELAK - [456]"},{"$f":"TeamScoreWithPlayers($B2,\"M\", 4, 'MN_5 DM'!$F$3:$F$4000, 'MN_5 DM'!$E$3:$E$4000,'MN_5 DM'!$G$3:$G$4000,'MN_5 DM'!$C$3:$C$4000,\"P4\")","v":"(B) BEN JOHNSON - [456]"},null,{"$f":"getnumeric(G2)+getnumeric(H2)+getnumeric(I2)+getnumeric(J2)","v":1902},1902,null,{"$f":"ABS(C2-F2)+ABS(F2-L2)+ABS(L2-M2)","v":0}]
[{"$f":"+A2+1","v":2},"St Cloud Area Composite",{"$f":"TeamScore(B3,\"M\", 4, 'MN_5 DM'!$F$3:$F$4000,'MN_5 DM'!$G$3:$G$4000,'MN_5 DM'!$C$3:$C$4000)","v":1980},null,null,{"$f":"TeamScoreWithPlayers($B3,\"M\", 4, 'MN_5 DM'!$F$3:$F$4000, 'MN_5 DM'!$E$3:$E$4000,'MN_5 DM'!$G$3:$G$4000,'MN_5 DM'!$C$3:$C$4000,\"TS\")","v":1980},{"$f":"TeamScoreWithPlayers($B3,\"M\", 4, 'MN_5 DM'!$F$3:$F$4000, 'MN_5 DM'!$E$3:$E$4000,'MN_5 DM'!$G$3:$G$4000,'MN_5 DM'!$C$3:$C$4000,\"P1\")","v":"(G) PHOEBE HACKENSACK - [500]"},{"$f":"TeamScoreWithPlayers($B3,\"M\", 4, 'MN_5 DM'!$F$3:$F$4000, 'MN_5 DM'!$E$3:$E$4000,'MN_5 DM'!$G$3:$G$4000,'MN_5 DM'!$C$3:$C$4000,\"P2\")","v":"(B) JACK LARSEN - [500]"},{"$f":"TeamScoreWithPlayers($B3,\"M\", 4, 'MN_5 DM'!$F$3:$F$4000, 'MN_5 DM'!$E$3:$E$4000,'MN_5 DM'!$G$3:$G$4000,'MN_5 DM'!$C$3:$C$4000,\"P3\")","v":"(G) LILY WILCOX - [490]"},{"$f":"TeamScoreWithPlayers($B3,\"M\", 4, 'MN_5 DM'!$F$3:$F$4000, 'MN_5 DM'!$E$3:$E$4000,'MN_5 DM'!$G$3:$G$4000,'MN_5 DM'!$C$3:$C$4000,\"P4\")","v":"(B) MAX LARSEN - [490]"},null,1980,1980,null,{"$f":"ABS(C3-F3)+ABS(F3-L3)+ABS(L3-M3)","v":0}]
[{"$f":"+A3+1","v":3},"Minnesota Valley Composite",{"$f":"TeamScore(B4,\"M\", 4, 'MN_5 DM'!$F$3:$F$4000,'MN_5 DM'!$G$3:$G$4000,'MN_5 DM'!$C$3:$C$4000)","v":1815},null,null,{"$f":"TeamScoreWithPlayers($B4,\"M\", 4, 'MN_5 DM'!$F$3:$F$4000, 'MN_5 DM'!$E$3:$E$4000,'MN_5 DM'!$G$3:$G$4000,'MN_5 DM'!$C$3:$C$4000,\"TS\")","v":1815},{"$f":"TeamScoreWithPlayers($B4,\"M\", 4, 'MN_5 DM'!$F$3:$F$4000, 'MN_5 DM'!$E$3:$E$4000,'MN_5 DM'!$G$3:$G$4000,'MN_5 DM'!$C$3:$C$4000,\"P1\")","v":"(B) CARTER BOLSTER - [481]"},{"$f":"TeamScoreWithPlayers($B4,\"M\", 4, 'MN_5 DM'!$F$3:$F$4000, 'MN_5 DM'!$E$3:$E$4000,'MN_5 DM'!$G$3:$G$4000,'MN_5 DM'!$C$3:$C$4000,\"P2\")","v":"(B) XAVIER OLSON - [464]"},{"$f":"TeamScoreWithPlayers($B4,\"M\", 4, 'MN_5 DM'!$F$3:$F$4000, 'MN_5 DM'!$E$3:$E$4000,'MN_5 DM'!$G$3:$G$4000,'MN_5 DM'!$C$3:$C$4000,\"P3\")","v":"(B) GARRETT LUSIGNAN - [456]"},{"$f":"TeamScoreWithPlayers($B4,\"M\", 4, 'MN_5 DM'!$F$3:$F$4000, 'MN_5 DM'!$E$3:$E$4000,'MN_5 DM'!$G$3:$G$4000,'MN_5 DM'!$C$3:$C$4000,\"P4\")","v":"(G) INGRID OLSON - [414]"},null,1815,1815,null,0]
[4,"Totino Grace High School",{"$f":"TeamScore(B5,\"M\", 4, 'MN_5 DM'!$F$3:$F$4000,'MN_5 DM'!$G$3:$G$4000,'MN_5 DM'!$C$3:$C$4000)","v":899},null,null,{"$f":"TeamScoreWithPlayers($B5,\"M\", 4, 'MN_5 DM'!$F$3:$F$4000, 'MN_5 DM'!$E$3:$E$4000,'MN_5 DM'!$G$3:$G$4000,'MN_5 DM'!$C$3:$C$4000,\"TS\")","v":899},{"$f":"TeamScoreWithPlayers($B5,\"M\", 4, 'MN_5 DM'!$F$3:$F$4000, 'MN_5 DM'!$E$3:$E$4000,'MN_5 DM'!$G$3:$G$4000,'MN_5 DM'!$C$3:$C$4000,\"P1\")","v":"(B) ALEXANDER MCNAMARA - [472]"},{"$f":"TeamScoreWithPlayers($B5,\"M\", 4, 'MN_5 DM'!$F$3:$F$4000, 'MN_5 DM'!$E$3:$E$4000,'MN_5 DM'!$G$3:$G$4000,'MN_5 DM'!$C$3:$C$4000,\"P2\")","v":"(G) ADELE DENTON - [427]"},{"$f":"TeamScoreWithPlayers($B5,\"M\", 4, 'MN_5 DM'!$F$3:$F$4000, 'MN_5 DM'!$E$3:$E$4000,'MN_5 DM'!$G$3:$G$4000,'MN_5 DM'!$C$3:$C$4000,\"P3\")","v":"()  - [0]"},{"$f":"TeamScoreWithPlayers($B5,\"M\", 4, 'MN_5 DM'!$F$3:$F$4000, 'MN_5 DM'!$E$3:$E$4000,'MN_5 DM'!$G$3:$G$4000,'MN_5 DM'!$C$3:$C$4000,\"P4\")","v":"()  - [0]"},null,899,899,null,0]
[5,"Elk River Composite",{"$f":"TeamScore(B6,\"M\", 4, 'MN_5 DM'!$F$3:$F$4000,'MN_5 DM'!$G$3:$G$4000,'MN_5 DM'!$C$3:$C$4000)","v":1883},null,null,{"$f":"TeamScoreWithPlayers($B6,\"M\", 4, 'MN_5 DM'!$F$3:$F$4000, 'MN_5 DM'!$E$3:$E$4000,'MN_5 DM'!$G$3:$G$4000,'MN_5 DM'!$C$3:$C$4000,\"TS\")","v":1883},{"$f":"TeamScoreWithPlayers($B6,\"M\", 4, 'MN_5 DM'!$F$3:$F$4000, 'MN_5 DM'!$E$3:$E$4000,'MN_5 DM'!$G$3:$G$4000,'MN_5 DM'!$C$3:$C$4000,\"P1\")","v":"(B) EDWARD FULL - [490]"},{"$f":"TeamScoreWithPlayers($B6,\"M\", 4, 'MN_5 DM'!$F$3:$F$4000, 'MN_5 DM'!$E$3:$E$4000,'MN_5 DM'!$G$3:$G$4000,'MN_5 DM'!$C$3:$C$4000,\"P2\")","v":"(B) TYLER HANSON - [481]"},{"$f":"TeamScoreWithPlayers($B6,\"M\", 4, 'MN_5 DM'!$F$3:$F$4000, 'MN_5 DM'!$E$3:$E$4000,'MN_5 DM'!$G$3:$G$4000,'MN_5 DM'!$C$3:$C$4000,\"P3\")","v":"(B) BRAYDEN BORER - [464]"},{"$f":"TeamScoreWithPlayers($B6,\"M\", 4, 'MN_5 DM'!$F$3:$F$4000, 'MN_5 DM'!$E$3:$E$4000,'MN_5 DM'!$G$3:$G$4000,'MN_5 DM'!$C$3:$C$4000,\"P4\")","v":"(G) GEMMA BANKS - [448]"},null,1883,1883,null,0]
[6,"Northwest Composite",{"$f":"TeamScore(B7,\"M\", 4, 'MN_5 DM'!$F$3:$F$4000,'MN_5 DM'!$G$3:$G$4000,'MN_5 DM'!$C$3:$C$4000)","v":1873},null,null,{"$f":"TeamScoreWithPlayers($B7,\"M\", 4, 'MN_5 DM'!$F$3:$F$4000, 'MN_5 DM'!$E$3:$E$4000,'MN_5 DM'!$G$3:$G$4000,'MN_5 DM'!$C$3:$C$4000,\"TS\")","v":1873},{"$f":"TeamScoreWithPlayers($B7,\"M\", 4, 'MN_5 DM'!$F$3:$F$4000, 'MN_5 DM'!$E$3:$E$4000,'MN_5 DM'!$G$3:$G$4000,'MN_5 DM'!$C$3:$C$4000,\"P1\")","v":"(B) HANK SCHLAUDERAFF - [481]"},{"$f":"TeamScoreWithPlayers($B7,\"M\", 4, 'MN_5 DM'!$F$3:$F$4000, 'MN_5 DM'!$E$3:$E$4000,'MN_5 DM'!$G$3:$G$4000,'MN_5 DM'!$C$3:$C$4000,\"P2\")","v":"(B) CALM ENZ - [472]"},{"$f":"TeamScoreWithPlayers($B7,\"M\", 4, 'MN_5 DM'!$F$3:$F$4000, 'MN_5 DM'!$E$3:$E$4000,'MN_5 DM'!$G$3:$G$4000,'MN_5 DM'!$C$3:$C$4000,\"P3\")","v":"(B) IAN ARTLEY - [464]"},{"$f":"TeamScoreWithPlayers($B7,\"M\", 4, 'MN_5 DM'!$F$3:$F$4000, 'MN_5 DM'!$E$3:$E$4000,'MN_5 DM'!$G$3:$G$4000,'MN_5 DM'!$C$3:$C$4000,\"P4\")","v":"(G) ANNA MOORS - [456]"},null,1873,1873,null,0]
[7,"Roseville Area Composite",{"$f":"TeamScore(B8,\"M\", 4, 'MN_5 DM'!$F$3:$F$4000,'MN_5 DM'!$G$3:$G$4000,'MN_5 DM'!$C$3:$C$4000)","v":1704},null,null,{"$f":"TeamScoreWithPlayers($B8,\"M\", 4, 'MN_5 DM'!$F$3:$F$4000, 'MN_5 DM'!$E$3:$E$4000,'MN_5 DM'!$G$3:$G$4000,'MN_5 DM'!$C$3:$C$4000,\"TS\")","v":1704},{"$f":"TeamScoreWithPlayers($B8,\"M\", 4, 'MN_5 DM'!$F$3:$F$4000, 'MN_5 DM'!$E$3:$E$4000,'MN_5 DM'!$G$3:$G$4000,'MN_5 DM'!$C$3:$C$4000,\"P1\")","v":"(B) BENNETT SCHMALTZ - [448]"},{"$f":"TeamScoreWithPlayers($B8,\"M\", 4, 'MN_5 DM'!$F$3:$F$4000, 'MN_5 DM'!$E$3:$E$4000,'MN_5 DM'!$G$3:$G$4000,'MN_5 DM'!$C$3:$C$4000,\"P2\")","v":"(B) HENRY LOE - [434]"},{"$f":"TeamScoreWithPlayers($B8,\"M\", 4, 'MN_5 DM'!$F$3:$F$4000, 'MN_5 DM'!$E$3:$E$4000,'MN_5 DM'!$G$3:$G$4000,'MN_5 DM'!$C$3:$C$4000,\"P3\")","v":"(G) ALLISON CLAYDON - [420]"},{"$f":"TeamScoreWithPlayers($B8,\"M\", 4, 'MN_5 DM'!$F$3:$F$4000, 'MN_5 DM'!$E$3:$E$4000,'MN_5 DM'!$G$3:$G$4000,'MN_5 DM'!$C$3:$C$4000,\"P4\")","v":"(B) GAVIN GOLDENMAN - [402]"},null,1704,1704,null,0]
[8,"Kerkhoven Composite",{"$f":"TeamScore(B9,\"M\", 4, 'MN_5 DM'!$F$3:$F$4000,'MN_5 DM'!$G$3:$G$4000,'MN_5 DM'!$C$3:$C$4000)","v":1137},null,null,{"$f":"TeamScoreWithPlayers($B9,\"M\", 4, 'MN_5 DM'!$F$3:$F$4000, 'MN_5 DM'!$E$3:$E$4000,'MN_5 DM'!$G$3:$G$4000,'MN_5 DM'!$C$3:$C$4000,\"TS\")","v":1137},{"$f":"TeamScoreWithPlayers($B9,\"M\", 4, 'MN_5 DM'!$F$3:$F$4000, 'MN_5 DM'!$E$3:$E$4000,'MN_5 DM'!$G$3:$G$4000,'MN_5 DM'!$C$3:$C$4000,\"P1\")","v":"(G) HAILEY SOINE - [402]"},{"$f":"TeamScoreWithPlayers($B9,\"M\", 4, 'MN_5 DM'!$F$3:$F$4000, 'MN_5 DM'!$E$3:$E$4000,'MN_5 DM'!$G$3:$G$4000,'MN_5 DM'!$C$3:$C$4000,\"P2\")","v":"(B) JONNY BENSON - [370]"},{"$f":"TeamScoreWithPlayers($B9,\"M\", 4, 'MN_5 DM'!$F$3:$F$4000, 'MN_5 DM'!$E$3:$E$4000,'MN_5 DM'!$G$3:$G$4000,'MN_5 DM'!$C$3:$C$4000,\"P3\")","v":"(B) MICAH STRICKLAND - [365]"},{"$f":"TeamScoreWithPlayers($B9,\"M\", 4, 'MN_5 DM'!$F$3:$F$4000, 'MN_5 DM'!$E$3:$E$4000,'MN_5 DM'!$G$3:$G$4000,'MN_5 DM'!$C$3:$C$4000,\"P4\")","v":"()  - [0]"},null,1137,1137,null,0]
[9,"North Dakota Composite",{"$f":"TeamScore(B10,\"M\", 4, 'MN_5 DM'!$F$3:$F$4000,'MN_5 DM'!$G$3:$G$4000,'MN_5 DM'!$C$3:$C$4000)","v":1179},null,null,{"$f":"TeamScoreWithPlayers($B10,\"M\", 4, 'MN_5 DM'!$F$3:$F$4000, 'MN_5 DM'!$E$3:$E$4000,'MN_5 DM'!$G$3:$G$4000,'MN_5 DM'!$C$3:$C$4000,\"TS\")","v":1179},{"$f":"TeamScoreWithPlayers($B10,\"M\", 4, 'MN_5 DM'!$F$3:$F$4000, 'MN_5 DM'!$E$3:$E$4000,'MN_5 DM'!$G$3:$G$4000,'MN_5 DM'!$C$3:$C$4000,\"P1\")","v":"(B) DAVID ROBINSON - [427]"},{"$f":"TeamScoreWithPlayers($B10,\"M\", 4, 'MN_5 DM'!$F$3:$F$4000, 'MN_5 DM'!$E$3:$E$4000,'MN_5 DM'!$G$3:$G$4000,'MN_5 DM'!$C$3:$C$4000,\"P2\")","v":"(G) NICOLETTE PARMER - [396]"},{"$f":"TeamScoreWithPlayers($B10,\"M\", 4, 'MN_5 DM'!$F$3:$F$4000, 'MN_5 DM'!$E$3:$E$4000,'MN_5 DM'!$G$3:$G$4000,'MN_5 DM'!$C$3:$C$4000,\"P3\")","v":"(B) BRADY WALSKI - [356]"},{"$f":"TeamScoreWithPlayers($B10,\"M\", 4, 'MN_5 DM'!$F$3:$F$4000, 'MN_5 DM'!$E$3:$E$4000,'MN_5 DM'!$G$3:$G$4000,'MN_5 DM'!$C$3:$C$4000,\"P4\")","v":"()  - [0]"},null,1179,1179,null,0]
[10,"Rogers High School",{"$f":"TeamScore(B11,\"M\", 4, 'MN_5 DM'!$F$3:$F$4000,'MN_5 DM'!$G$3:$G$4000,'MN_5 DM'!$C$3:$C$4000)","v":500},null,null,{"$f":"TeamScoreWithPlayers($B11,\"M\", 4, 'MN_5 DM'!$F$3:$F$4000, 'MN_5 DM'!$E$3:$E$4000,'MN_5 DM'!$G$3:$G$4000,'MN_5 DM'!$C$3:$C$4000,\"TS\")","v":500},{"$f":"TeamScoreWithPlayers($B11,\"M\", 4, 'MN_5 DM'!$F$3:$F$4000, 'MN_5 DM'!$E$3:$E$4000,'MN_5 DM'!$G$3:$G$4000,'MN_5 DM'!$C$3:$C$4000,\"P1\")","v":"(B) MAX KLABUNDE - [500]"},{"$f":"TeamScoreWithPlayers($B11,\"M\", 4, 'MN_5 DM'!$F$3:$F$4000, 'MN_5 DM'!$E$3:$E$4000,'MN_5 DM'!$G$3:$G$4000,'MN_5 DM'!$C$3:$C$4000,\"P2\")","v":"()  - [0]"},{"$f":"TeamScoreWithPlayers($B11,\"M\", 4, 'MN_5 DM'!$F$3:$F$4000, 'MN_5 DM'!$E$3:$E$4000,'MN_5 DM'!$G$3:$G$4000,'MN_5 DM'!$C$3:$C$4000,\"P3\")","v":"()  - [0]"},{"$f":"TeamScoreWithPlayers($B11,\"M\", 4, 'MN_5 DM'!$F$3:$F$4000, 'MN_5 DM'!$E$3:$E$4000,'MN_5 DM'!$G$3:$G$4000,'MN_5 DM'!$C$3:$C$4000,\"P4\")","v":"()  - [0]"},null,500,500,null,0]
[11,"Eden Prairie High School",{"$f":"TeamScore(B12,\"M\", 4, 'MN_5 DM'!$F$3:$F$4000,'MN_5 DM'!$G$3:$G$4000,'MN_5 DM'!$C$3:$C$4000)","v":1369},null,null,{"$f":"TeamScoreWithPlayers($B12,\"M\", 4, 'MN_5 DM'!$F$3:$F$4000, 'MN_5 DM'!$E$3:$E$4000,'MN_5 DM'!$G$3:$G$4000,'MN_5 DM'!$C$3:$C$4000,\"TS\")","v":1369},{"$f":"TeamScoreWithPlayers($B12,\"M\", 4, 'MN_5 DM'!$F$3:$F$4000, 'MN_5 DM'!$E$3:$E$4000,'MN_5 DM'!$G$3:$G$4000,'MN_5 DM'!$C$3:$C$4000,\"P1\")","v":"(B) MASON REINER - [472]"},{"$f":"TeamScoreWithPlayers($B12,\"M\", 4, 'MN_5 DM'!$F$3:$F$4000, 'MN_5 DM'!$E$3:$E$4000,'MN_5 DM'!$G$3:$G$4000,'MN_5 DM'!$C$3:$C$4000,\"P2\")","v":"(B) AIDAN OLSTAD - [456]"},{"$f":"TeamScoreWithPlayers($B12,\"M\", 4, 'MN_5 DM'!$F$3:$F$4000, 'MN_5 DM'!$E$3:$E$4000,'MN_5 DM'!$G$3:$G$4000,'MN_5 DM'!$C$3:$C$4000,\"P3\")","v":"(B) LIAM LISTON - [441]"},{"$f":"TeamScoreWithPlayers($B12,\"M\", 4, 'MN_5 DM'!$F$3:$F$4000, 'MN_5 DM'!$E$3:$E$4000,'MN_5 DM'!$G$3:$G$4000,'MN_5 DM'!$C$3:$C$4000,\"P4\")","v":"()  - [0]"},null,1369,1369,null,0]
[12,"West Range Composite",{"$f":"TeamScore(B13,\"M\", 4, 'MN_5 DM'!$F$3:$F$4000,'MN_5 DM'!$G$3:$G$4000,'MN_5 DM'!$C$3:$C$4000)","v":804},null,null,{"$f":"TeamScoreWithPlayers($B13,\"M\", 4, 'MN_5 DM'!$F$3:$F$4000, 'MN_5 DM'!$E$3:$E$4000,'MN_5 DM'!$G$3:$G$4000,'MN_5 DM'!$C$3:$C$4000,\"TS\")","v":804},{"$f":"TeamScoreWithPlayers($B13,\"M\", 4, 'MN_5 DM'!$F$3:$F$4000, 'MN_5 DM'!$E$3:$E$4000,'MN_5 DM'!$G$3:$G$4000,'MN_5 DM'!$C$3:$C$4000,\"P1\")","v":"(B) EMMETT LIND - [414]"},{"$f":"TeamScoreWithPlayers($B13,\"M\", 4, 'MN_5 DM'!$F$3:$F$4000, 'MN_5 DM'!$E$3:$E$4000,'MN_5 DM'!$G$3:$G$4000,'MN_5 DM'!$C$3:$C$4000,\"P2\")","v":"(B) TUCKER CROWE - [390]"},{"$f":"TeamScoreWithPlayers($B13,\"M\", 4, 'MN_5 DM'!$F$3:$F$4000, 'MN_5 DM'!$E$3:$E$4000,'MN_5 DM'!$G$3:$G$4000,'MN_5 DM'!$C$3:$C$4000,\"P3\")","v":"()  - [0]"},{"$f":"TeamScoreWithPlayers($B13,\"M\", 4, 'MN_5 DM'!$F$3:$F$4000, 'MN_5 DM'!$E$3:$E$4000,'MN_5 DM'!$G$3:$G$4000,'MN_5 DM'!$C$3:$C$4000,\"P4\")","v":"()  - [0]"},null,804,804,null,0]
[13,"North Dakota Kindred Composite",{"$f":"TeamScore(B14,\"M\", 4, 'MN_5 DM'!$F$3:$F$4000,'MN_5 DM'!$G$3:$G$4000,'MN_5 DM'!$C$3:$C$4000)","v":360},null,null,{"$f":"TeamScoreWithPlayers($B14,\"M\", 4, 'MN_5 DM'!$F$3:$F$4000, 'MN_5 DM'!$E$3:$E$4000,'MN_5 DM'!$G$3:$G$4000,'MN_5 DM'!$C$3:$C$4000,\"TS\")","v":360},{"$f":"TeamScoreWithPlayers($B14,\"M\", 4, 'MN_5 DM'!$F$3:$F$4000, 'MN_5 DM'!$E$3:$E$4000,'MN_5 DM'!$G$3:$G$4000,'MN_5 DM'!$C$3:$C$4000,\"P1\")","v":"(B) THORVALD PATENAUDE - [360]"},{"$f":"TeamScoreWithPlayers($B14,\"M\", 4, 'MN_5 DM'!$F$3:$F$4000, 'MN_5 DM'!$E$3:$E$4000,'MN_5 DM'!$G$3:$G$4000,'MN_5 DM'!$C$3:$C$4000,\"P2\")","v":"()  - [0]"},{"$f":"TeamScoreWithPlayers($B14,\"M\", 4, 'MN_5 DM'!$F$3:$F$4000, 'MN_5 DM'!$E$3:$E$4000,'MN_5 DM'!$G$3:$G$4000,'MN_5 DM'!$C$3:$C$4000,\"P3\")","v":"()  - [0]"},{"$f":"TeamScoreWithPlayers($B14,\"M\", 4, 'MN_5 DM'!$F$3:$F$4000, 'MN_5 DM'!$E$3:$E$4000,'MN_5 DM'!$G$3:$G$4000,'MN_5 DM'!$C$3:$C$4000,\"P4\")","v":"()  - [0]"},null,360,360,null,0]
[14]
[15]
[16]
[17]
[18]
[19]
[20]
[]
[null,"Results sorted High to Low"]
["Place","TEAM","Score",null,null,"New Total Score","P1","P2","P3","P4"]
[1,"St Cloud Area Composite",1980,null,null,1980,"(G) PHOEBE HACKENSACK - [500]","(B) JACK LARSEN - [500]","(G) LILY WILCOX - [490]","(B) MAX LARSEN - [490]",null,{"$f":"getnumeric(G25)+getnumeric(H25)+getnumeric(I25)+getnumeric(J25)","v":1980}]
[2,"Tioga Trailblazers",1902,null,null,1902,"(B) CASH CONNELLY - [500]","(B) LEVI GEISLER - [490]","(G) CORA METELAK - [456]","(B) BEN JOHNSON - [456]",null,1902]
[3,"Elk River Composite",1883,null,null,1883,"(B) EDWARD FULL - [490]","(B) TYLER HANSON - [481]","(B) BRAYDEN BORER - [464]","(G) GEMMA BANKS - [448]",null,1883]
[4,"Northwest Composite",1873,null,null,1873,"(B) HANK SCHLAUDERAFF - [481]","(B) CALM ENZ - [472]","(B) IAN ARTLEY - [464]","(G) ANNA MOORS - [456]",null,1873]
[5,"Minnesota Valley Composite",1815,null,null,1815,"(B) CARTER BOLSTER - [481]","(B) XAVIER OLSON - [464]","(B) GARRETT LUSIGNAN - [456]","(G) INGRID OLSON - [414]",null,1815]
[6,"Roseville Area Composite",1704,null,null,1704,"(B) BENNETT SCHMALTZ - [448]","(B) HENRY LOE - [434]","(G) ALLISON CLAYDON - [420]","(B) GAVIN GOLDENMAN - [402]",null,1704]
[7,"Eden Prairie High School",1369,null,null,1369,"(B) MASON REINER - [472]","(B) AIDAN OLSTAD - [456]","(B) LIAM LISTON - [441]","()  - [0]",null,1369]
[8,"North Dakota Composite",1179,null,null,1179,"(B) DAVID ROBINSON - [427]","(G) NICOLETTE PARMER - [396]","(B) BRADY WALSKI - [356]","()  - [0]",null,1179]
[9,"Kerkhoven Composite",1137,null,null,1137,"(G) HAILEY SOINE - [402]","(B) JONNY BENSON - [370]","(B) MICAH STRICKLAND - [365]","()  - [0]",null,1137]
[10,"Totino Grace High School",899,null,null,899,"(B) ALEXANDER MCNAMARA - [472]","(G) ADELE DENTON - [427]","()  - [0]","()  - [0]",null,899]
[11,"West Range Composite",804,null,null,804,"(B) EMMETT LIND - [414]","(B) TUCKER CROWE - [390]","()  - [0]","()  - [0]",null,804]
[12,"Rogers High School",500,null,null,500,"(B) MAX KLABUNDE - [500]","()  - [0]","()  - [0]","()  - [0]",null,500]
[13,"North Dakota Kindred Composite",360,null,null,360,"(B) THORVALD PATENAUDE - [360]","()  - [0]","()  - [0]","()  - [0]",null,360]
[14]
[15]
[16]
[]
[null,"St Cloud Area Composite",1980,null,null,1980,"(G) PHOEBE HACKENSACK - [500]","(B) JACK LARSEN - [500]","(G) LILY WILCOX - [490]","(B) MAX LARSEN - [490]",null,{"$f":"getnumeric(G42)+getnumeric(H42)+getnumeric(I42)+getnumeric(J42)","v":1980}]
[null,"Tioga Trailblazers",1902,null,null,1902,"(B) CASH CONNELLY - [500]","(B) LEVI GEISLER - [490]","(G) CORA METELAK - [456]","(B) BEN JOHNSON - [456]",null,1902]
[null,"Rock Ridge Composite",1884,null,null,1884,"(B) GUS LAYMAN - [490]","(G) DALLAS LAYMAN - [481]","(G) SELAH BEUKEMA - [472]","(G) LILLIAN KAINZ - [441]",null,1884]
[null,"Elk River Composite",1883,null,null,1883,"(B) EDWARD FULL - [490]","(B) TYLER HANSON - [481]","(B) BRAYDEN BORER - [464]","(G) GEMMA BANKS - [448]",null,1883]
[null,"Northwest Composite",1873,null,null,1873,"(B) HANK SCHLAUDERAFF - [481]","(B) CALM ENZ - [472]","(B) IAN ARTLEY - [464]","(G) ANNA MOORS - [456]",null,1873]
[null,"Minnesota Valley Composite",1815,null,null,1815,"(B) CARTER BOLSTER - [481]","(B) XAVIER OLSON - [464]","(B) GARRETT LUSIGNAN - [456]","(G) INGRID OLSON - [414]",null,1815]
[null,"Roseville Area Composite",1704,null,null,1704,"(B) BENNETT SCHMALTZ - [448]","(B) HENRY LOE - [434]","(G) ALLISON CLAYDON - [420]","(B) GAVIN GOLDENMAN - [402]",null,1704]
[null,"Eden Prairie High School",1369,null,null,1369,"(B) MASON REINER - [472]","(B) AIDAN OLSTAD - [456]","(B) LIAM LISTON - [441]","()  - [0]",null,1369]
[null,"North Dakota Composite",1179,null,null,1179,"(B) DAVID ROBINSON - [427]","(G) NICOLETTE PARMER - [396]","(B) BRADY WALSKI - [356]","()  - [0]",null,1179]
[null,"Kerkhoven Composite",1137,null,null,1137,"(G) HAILEY SOINE - [402]","(B) JONNY BENSON - [370]","(B) MICAH STRICKLAND - [365]","()  - [0]",null,1137]
[null,"Totino Grace High School",899,null,null,899,"(B) ALEXANDER MCNAMARA - [472]","(G) ADELE DENTON - [427]","()  - [0]","()  - [0]",null,899]
[null,"West Range Composite",804,null,null,804,"(B) EMMETT LIND - [414]","(B) TUCKER CROWE - [390]","()  - [0]","()  - [0]",null,804]
[null,"Rogers High School",500,null,null,500,"(B) MAX KLABUNDE - [500]","()  - [0]","()  - [0]","()  - [0]",null,500]
[null,"North Dakota Kindred Composite",360,null,null,360,"(B) THORVALD PATENAUDE - [360]","()  - [0]","()  - [0]","()  - [0]",null,360]

{"sheet":"High School D1","index":5,"n_rows":34,"n_cols":19,"rows_kept":34,"cut":false,"hidden":false,"merged":[]}
["#","TEAM","Score",null,null,"New Total Score","P1","P2","P3","P4","P5","P6","P7","P8",null,"Get Numeric","DC"]
[1,"Brainerd High School",{"$f":"TeamScore(B2,\"H\", 8, 'MN_5 DM'!$F$3:$F$4000,'MN_5 DM'!$G$3:$G$4000,'MN_5 DM'!$C$3:$C$4000)","v":3860},null,null,{"$f":"TeamScoreWithPlayers($B2,\"H\", 8, 'MN_5 DM'!$F$3:$F$4000, 'MN_5 DM'!$E$3:$E$4000,'MN_5 DM'!$G$3:$G$4000,'MN_5 DM'!$C$3:$C$4000,\"TS\")","v":3860},{"$f":"TeamScoreWithPlayers($B2,\"H\", 8, 'MN_5 DM'!$F$3:$F$4000, 'MN_5 DM'!$E$3:$E$4000,'MN_5 DM'!$G$3:$G$4000,'MN_5 DM'!$C$3:$C$4000,\"P1\")","v":"(B) HAYDEN HAGEN - [556]"},{"$f":"TeamScoreWithPlayers($B2,\"H\", 8, 'MN_5 DM'!$F$3:$F$4000, 'MN_5 DM'!$E$3:$E$4000,'MN_5 DM'!$G$3:$G$4000,'MN_5 DM'!$C$3:$C$4000,\"P2\")","v":"(G) ADDIE RYAN - [547]"},{"$f":"TeamScoreWithPlayers($B2,\"H\", 8, 'MN_5 DM'!$F$3:$F$4000, 'MN_5 DM'!$E$3:$E$4000,'MN_5 DM'!$G$3:$G$4000,'MN_5 DM'!$C$3:$C$4000,\"P3\")","v":"(B) PARKER LINN - [489]"},{"$f":"TeamScoreWithPlayers($B2,\"H\", 8, 'MN_5 DM'!$F$3:$F$4000, 'MN_5 DM'!$E$3:$E$4000,'MN_5 DM'!$G$3:$G$4000,'MN_5 DM'!$C$3:$C$4000,\"P4\")","v":"(G) STELLA HAGEN - [474]"},{"$f":"TeamScoreWithPlayers($B2,\"H\", 8, 'MN_5 DM'!$F$3:$F$4000, 'MN_5 DM'!$E$3:$E$4000,'MN_5 DM'!$G$3:$G$4000,'MN_5 DM'!$C$3:$C$4000,\"P5\")","v":"(B) BISHOP NOETZEL - [456]"},{"$f":"TeamScoreWithPlayers($B2,\"H\", 8, 'MN_5 DM'!$F$3:$F$4000, 'MN_5 DM'!$E$3:$E$4000,'MN_5 DM'!$G$3:$G$4000,'MN_5 DM'!$C$3:$C$4000,\"P6\")","v":"(G) CORA MARTENSEN - [448]"},{"$f":"TeamScoreWithPlayers($B2,\"H\", 8, 'MN_5 DM'!$F$3:$F$4000, 'MN_5 DM'!$E$3:$E$4000,'MN_5 DM'!$G$3:$G$4000,'MN_5 DM'!$C$3:$C$4000,\"P7\")","v":"(B) ARRON LOCKWOOD - [448]"},{"$f":"TeamScoreWithPlayers($B2,\"H\", 8, 'MN_5 DM'!$F$3:$F$4000, 'MN_5 DM'!$E$3:$E$4000,'MN_5 DM'!$G$3:$G$4000,'MN_5 DM'!$C$3:$C$4000,\"P8\")","v":"(G) SELAH MARTENSEN - [442]"},null,{"$f":"getnumeric(G2)+getnumeric(H2)+getnumeric(I2)+getnumeric(J2)+getnumeric(K2)+getnumeric(L2)+getnumeric(M2)+getnumeric(N2)","v":3860},3860,null,{"$f":"ABS(C2-F2)+ABS(F2-P2)+ABS(P2-Q2)","v":0}]
[{"$f":"+A2+1","v":2},"Mounds View High School",{"$f":"TeamScore(B3,\"H\", 8, 'MN_5 DM'!$F$3:$F$4000,'MN_5 DM'!$G$3:$G$4000,'MN_5 DM'!$C$3:$C$4000)","v":3575},null,null,{"$f":"TeamScoreWithPlayers($B3,\"H\", 8, 'MN_5 DM'!$F$3:$F$4000, 'MN_5 DM'!$E$3:$E$4000,'MN_5 DM'!$G$3:$G$4000,'MN_5 DM'!$C$3:$C$4000,\"TS\")","v":3575},{"$f":"TeamScoreWithPlayers($B3,\"H\", 8, 'MN_5 DM'!$F$3:$F$4000, 'MN_5 DM'!$E$3:$E$4000,'MN_5 DM'!$G$3:$G$4000,'MN_5 DM'!$C$3:$C$4000,\"P1\")","v":"(G) ESME NEEDHAM - [481]"},{"$f":"TeamScoreWithPlayers($B3,\"H\", 8, 'MN_5 DM'!$F$3:$F$4000, 'MN_5 DM'!$E$3:$E$4000,'MN_5 DM'!$G$3:$G$4000,'MN_5 DM'!$C$3:$C$4000,\"P2\")","v":"(B) ANDREW ROLOFF - [481]"},{"$f":"TeamScoreWithPlayers($B3,\"H\", 8, 'MN_5 DM'!$F$3:$F$4000, 'MN_5 DM'!$E$3:$E$4000,'MN_5 DM'!$G$3:$G$4000,'MN_5 DM'!$C$3:$C$4000,\"P3\")","v":"(G) MADELINE DORNFELD - [464]"},{"$f":"TeamScoreWithPlayers($B3,\"H\", 8, 'MN_5 DM'!$F$3:$F$4000, 'MN_5 DM'!$E$3:$E$4000,'MN_5 DM'!$G$3:$G$4000,'MN_5 DM'!$C$3:$C$4000,\"P4\")","v":"(B) CORBAN CARLSON - [456]"},{"$f":"TeamScoreWithPlayers($B3,\"H\", 8, 'MN_5 DM'!$F$3:$F$4000, 'MN_5 DM'!$E$3:$E$4000,'MN_5 DM'!$G$3:$G$4000,'MN_5 DM'!$C$3:$C$4000,\"P5\")","v":"(B) ANTONIN KOSTAL - [454]"},{"$f":"TeamScoreWithPlayers($B3,\"H\", 8, 'MN_5 DM'!$F$3:$F$4000, 'MN_5 DM'!$E$3:$E$4000,'MN_5 DM'!$G$3:$G$4000,'MN_5 DM'!$C$3:$C$4000,\"P6\")","v":"(G) KATERINA KOSTAL - [441]"},{"$f":"TeamScoreWithPlayers($B3,\"H\", 8, 'MN_5 DM'!$F$3:$F$4000, 'MN_5 DM'!$E$3:$E$4000,'MN_5 DM'!$G$3:$G$4000,'MN_5 DM'!$C$3:$C$4000,\"P7\")","v":"(G) PAULINA MCCULLOUGH - [408]"},{"$f":"TeamScoreWithPlayers($B3,\"H\", 8, 'MN_5 DM'!$F$3:$F$4000, 'MN_5 DM'!$E$3:$E$4000,'MN_5 DM'!$G$3:$G$4000,'MN_5 DM'!$C$3:$C$4000,\"P8\")","v":"(B) GAVIN STRONG - [390]"},null,3575,3575,null,{"$f":"ABS(C3-F3)+ABS(F3-P3)+ABS(P3-Q3)","v":0}]
[{"$f":"+A3+1","v":3},"Crosby-Ironton High School",{"$f":"TeamScore(B4,\"H\", 8, 'MN_5 DM'!$F$3:$F$4000,'MN_5 DM'!$G$3:$G$4000,'MN_5 DM'!$C$3:$C$4000)","v":3428},null,null,{"$f":"TeamScoreWithPlayers($B4,\"H\", 8, 'MN_5 DM'!$F$3:$F$4000, 'MN_5 DM'!$E$3:$E$4000,'MN_5 DM'!$G$3:$G$4000,'MN_5 DM'!$C$3:$C$4000,\"TS\")","v":3428},{"$f":"TeamScoreWithPlayers($B4,\"H\", 8, 'MN_5 DM'!$F$3:$F$4000, 'MN_5 DM'!$E$3:$E$4000,'MN_5 DM'!$G$3:$G$4000,'MN_5 DM'!$C$3:$C$4000,\"P1\")","v":"(B) BRADLEY HACHEY - [516]"},{"$f":"TeamScoreWithPlayers($B4,\"H\", 8, 'MN_5 DM'!$F$3:$F$4000, 'MN_5 DM'!$E$3:$E$4000,'MN_5 DM'!$G$3:$G$4000,'MN_5 DM'!$C$3:$C$4000,\"P2\")","v":"(G) AVA JOHNSON - [500]"},{"$f":"TeamScoreWithPlayers($B4,\"H\", 8, 'MN_5 DM'!$F$3:$F$4000, 'MN_5 DM'!$E$3:$E$4000,'MN_5 DM'!$G$3:$G$4000,'MN_5 DM'!$C$3:$C$4000,\"P3\")","v":"(B) FINN NELSON - [490]"},{"$f":"TeamScoreWithPlayers($B4,\"H\", 8, 'MN_5 DM'!$F$3:$F$4000, 'MN_5 DM'!$E$3:$E$4000,'MN_5 DM'!$G$3:$G$4000,'MN_5 DM'!$C$3:$C$4000,\"P4\")","v":"(B) OLIVER TOFTNESS - [488]"},{"$f":"TeamScoreWithPlayers($B4,\"H\", 8, 'MN_5 DM'!$F$3:$F$4000, 'MN_5 DM'!$E$3:$E$4000,'MN_5 DM'!$G$3:$G$4000,'MN_5 DM'!$C$3:$C$4000,\"P5\")","v":"(B) OSKAR NELSON - [481]"},{"$f":"TeamScoreWithPlayers($B4,\"H\", 8, 'MN_5 DM'!$F$3:$F$4000, 'MN_5 DM'!$E$3:$E$4000,'MN_5 DM'!$G$3:$G$4000,'MN_5 DM'!$C$3:$C$4000,\"P6\")","v":"(B) SAMUEL COUGHLIN - [481]"},{"$f":"TeamScoreWithPlayers($B4,\"H\", 8, 'MN_5 DM'!$F$3:$F$4000, 'MN_5 DM'!$E$3:$E$4000,'MN_5 DM'!$G$3:$G$4000,'MN_5 DM'!$C$3:$C$4000,\"P7\")","v":"(B) COOPER CRAINE - [472]"},{"$f":"TeamScoreWithPlayers($B4,\"H\", 8, 'MN_5 DM'!$F$3:$F$4000, 'MN_5 DM'!$E$3:$E$4000,'MN_5 DM'!$G$3:$G$4000,'MN_5 DM'!$C$3:$C$4000,\"P8\")","v":"()  - [0]"},null,3428,3428,null,0]
[4,"Alexandria Area Youth Cycling",{"$f":"TeamScore(B5,\"H\", 8, 'MN_5 DM'!$F$3:$F$4000,'MN_5 DM'!$G$3:$G$4000,'MN_5 DM'!$C$3:$C$4000)","v":3798},null,null,{"$f":"TeamScoreWithPlayers($B5,\"H\", 8, 'MN_5 DM'!$F$3:$F$4000, 'MN_5 DM'!$E$3:$E$4000,'MN_5 DM'!$G$3:$G$4000,'MN_5 DM'!$C$3:$C$4000,\"TS\")","v":3798},{"$f":"TeamScoreWithPlayers($B5,\"H\", 8, 'MN_5 DM'!$F$3:$F$4000, 'MN_5 DM'!$E$3:$E$4000,'MN_5 DM'!$G$3:$G$4000,'MN_5 DM'!$C$3:$C$4000,\"P1\")","v":"(B) LUKE WALSH - [540]"},{"$f":"TeamScoreWithPlayers($B5,\"H\", 8, 'MN_5 DM'!$F$3:$F$4000, 'MN_5 DM'!$E$3:$E$4000,'MN_5 DM'!$G$3:$G$4000,'MN_5 DM'!$C$3:$C$4000,\"P2\")","v":"(B) PARKER CONVERSE - [500]"},{"$f":"TeamScoreWithPlayers($B5,\"H\", 8, 'MN_5 DM'!$F$3:$F$4000, 'MN_5 DM'!$E$3:$E$4000,'MN_5 DM'!$G$3:$G$4000,'MN_5 DM'!$C$3:$C$4000,\"P3\")","v":"(G) TIAHNA GOEKE - [496]"},{"$f":"TeamScoreWithPlayers($B5,\"H\", 8, 'MN_5 DM'!$F$3:$F$4000, 'MN_5 DM'!$E$3:$E$4000,'MN_5 DM'!$G$3:$G$4000,'MN_5 DM'!$C$3:$C$4000,\"P4\")","v":"(B) COLTON CONVERSE - [474]"},{"$f":"TeamScoreWithPlayers($B5,\"H\", 8, 'MN_5 DM'!$F$3:$F$4000, 'MN_5 DM'!$E$3:$E$4000,'MN_5 DM'!$G$3:$G$4000,'MN_5 DM'!$C$3:$C$4000,\"P5\")","v":"(G) LACEY SIIRA - [464]"},{"$f":"TeamScoreWithPlayers($B5,\"H\", 8, 'MN_5 DM'!$F$3:$F$4000, 'MN_5 DM'!$E$3:$E$4000,'MN_5 DM'!$G$3:$G$4000,'MN_5 DM'!$C$3:$C$4000,\"P6\")","v":"(B) TYLER FATH - [448]"},{"$f":"TeamScoreWithPlayers($B5,\"H\", 8, 'MN_5 DM'!$F$3:$F$4000, 'MN_5 DM'!$E$3:$E$4000,'MN_5 DM'!$G$3:$G$4000,'MN_5 DM'!$C$3:$C$4000,\"P7\")","v":"(B) LANDON RUNGE - [442]"},{"$f":"TeamScoreWithPlayers($B5,\"H\", 8, 'MN_5 DM'!$F$3:$F$4000, 'MN_5 DM'!$E$3:$E$4000,'MN_5 DM'!$G$3:$G$4000,'MN_5 DM'!$C$3:$C$4000,\"P8\")","v":"(G) ATTI HOVEN - [434]"},null,3798,3798,null,0]
[5,"New Prague Middle and High School",{"$f":"TeamScore(B6,\"H\", 8, 'MN_5 DM'!$F$3:$F$4000,'MN_5 DM'!$G$3:$G$4000,'MN_5 DM'!$C$3:$C$4000)","v":3962},null,null,{"$f":"TeamScoreWithPlayers($B6,\"H\", 8, 'MN_5 DM'!$F$3:$F$4000, 'MN_5 DM'!$E$3:$E$4000,'MN_5 DM'!$G$3:$G$4000,'MN_5 DM'!$C$3:$C$4000,\"TS\")","v":3962},{"$f":"TeamScoreWithPlayers($B6,\"H\", 8, 'MN_5 DM'!$F$3:$F$4000, 'MN_5 DM'!$E$3:$E$4000,'MN_5 DM'!$G$3:$G$4000,'MN_5 DM'!$C$3:$C$4000,\"P1\")","v":"(B) AIDAN ROSEMEIER - [575]"},{"$f":"TeamScoreWithPlayers($B6,\"H\", 8, 'MN_5 DM'!$F$3:$F$4000, 'MN_5 DM'!$E$3:$E$4000,'MN_5 DM'!$G$3:$G$4000,'MN_5 DM'!$C$3:$C$4000,\"P2\")","v":"(B) RILEY HUSEBY - [539]"},{"$f":"TeamScoreWithPlayers($B6,\"H\", 8, 'MN_5 DM'!$F$3:$F$4000, 'MN_5 DM'!$E$3:$E$4000,'MN_5 DM'!$G$3:$G$4000,'MN_5 DM'!$C$3:$C$4000,\"P3\")","v":"(G) SELAH SCHERMAN - [531]"},{"$f":"TeamScoreWithPlayers($B6,\"H\", 8, 'MN_5 DM'!$F$3:$F$4000, 'MN_5 DM'!$E$3:$E$4000,'MN_5 DM'!$G$3:$G$4000,'MN_5 DM'!$C$3:$C$4000,\"P4\")","v":"(B) DANIEL RIDGEWAY JR. - [512]"},{"$f":"TeamScoreWithPlayers($B6,\"H\", 8, 'MN_5 DM'!$F$3:$F$4000, 'MN_5 DM'!$E$3:$E$4000,'MN_5 DM'!$G$3:$G$4000,'MN_5 DM'!$C$3:$C$4000,\"P5\")","v":"(G) SOPHIA METZDORFF - [460]"},{"$f":"TeamScoreWithPlayers($B6,\"H\", 8, 'MN_5 DM'!$F$3:$F$4000, 'MN_5 DM'!$E$3:$E$4000,'MN_5 DM'!$G$3:$G$4000,'MN_5 DM'!$C$3:$C$4000,\"P6\")","v":"(G) ADDISON RIDGEWAY - [456]"},{"$f":"TeamScoreWithPlayers($B6,\"H\", 8, 'MN_5 DM'!$F$3:$F$4000, 'MN_5 DM'!$E$3:$E$4000,'MN_5 DM'!$G$3:$G$4000,'MN_5 DM'!$C$3:$C$4000,\"P7\")","v":"(B) GARRETT TOBIAS - [448]"},{"$f":"TeamScoreWithPlayers($B6,\"H\", 8, 'MN_5 DM'!$F$3:$F$4000, 'MN_5 DM'!$E$3:$E$4000,'MN_5 DM'!$G$3:$G$4000,'MN_5 DM'!$C$3:$C$4000,\"P8\")","v":"(B) JEREMIAH STUBER - [441]"},null,3962,3962,null,0]
[6,"Chanhassen High School",{"$f":"TeamScore(B7,\"H\", 8, 'MN_5 DM'!$F$3:$F$4000,'MN_5 DM'!$G$3:$G$4000,'MN_5 DM'!$C$3:$C$4000)","v":3667},null,null,{"$f":"TeamScoreWithPlayers($B7,\"H\", 8, 'MN_5 DM'!$F$3:$F$4000, 'MN_5 DM'!$E$3:$E$4000,'MN_5 DM'!$G$3:$G$4000,'MN_5 DM'!$C$3:$C$4000,\"TS\")","v":3667},{"$f":"TeamScoreWithPlayers($B7,\"H\", 8, 'MN_5 DM'!$F$3:$F$4000, 'MN_5 DM'!$E$3:$E$4000,'MN_5 DM'!$G$3:$G$4000,'MN_5 DM'!$C$3:$C$4000,\"P1\")","v":"(G) DANICA BARRETT - [521]"},{"$f":"TeamScoreWithPlayers($B7,\"H\", 8, 'MN_5 DM'!$F$3:$F$4000, 'MN_5 DM'!$E$3:$E$4000,'MN_5 DM'!$G$3:$G$4000,'MN_5 DM'!$C$3:$C$4000,\"P2\")","v":"(B) LOU SCHOLLE - [509]"},{"$f":"TeamScoreWithPlayers($B7,\"H\", 8, 'MN_5 DM'!$F$3:$F$4000, 'MN_5 DM'!$E$3:$E$4000,'MN_5 DM'!$G$3:$G$4000,'MN_5 DM'!$C$3:$C$4000,\"P3\")","v":"(B) SETH KENNEDY - [502]"},{"$f":"TeamScoreWithPlayers($B7,\"H\", 8, 'MN_5 DM'!$F$3:$F$4000, 'MN_5 DM'!$E$3:$E$4000,'MN_5 DM'!$G$3:$G$4000,'MN_5 DM'!$C$3:$C$4000,\"P4\")","v":"(G) ZOE ANDERSON - [490]"},{"$f":"TeamScoreWithPlayers($B7,\"H\", 8, 'MN_5 DM'!$F$3:$F$4000, 'MN_5 DM'!$E$3:$E$4000,'MN_5 DM'!$G$3:$G$4000,'MN_5 DM'!$C$3:$C$4000,\"P5\")","v":"(B) CHARLIE WENNERSTROM - [472]"},{"$f":"TeamScoreWithPlayers($B7,\"H\", 8, 'MN_5 DM'!$F$3:$F$4000, 'MN_5 DM'!$E$3:$E$4000,'MN_5 DM'!$G$3:$G$4000,'MN_5 DM'!$C$3:$C$4000,\"P6\")","v":"(B) JOHNATHAN MONARSKI - [415]"},{"$f":"TeamScoreWithPlayers($B7,\"H\", 8, 'MN_5 DM'!$F$3:$F$4000, 'MN_5 DM'!$E$3:$E$4000,'MN_5 DM'!$G$3:$G$4000,'MN_5 DM'!$C$3:$C$4000,\"P7\")","v":"(B) CHARLES EVANGELISTA - [402]"},{"$f":"TeamScoreWithPlayers($B7,\"H\", 8, 'MN_5 DM'!$F$3:$F$4000, 'MN_5 DM'!$E$3:$E$4000,'MN_5 DM'!$G$3:$G$4000,'MN_5 DM'!$C$3:$C$4000,\"P8\")","v":"(B) AYDEN FERREL - [356]"},null,3667,3667,null,0]
[7,"White Bear Lake High School",{"$f":"TeamScore(B8,\"H\", 8, 'MN_5 DM'!$F$3:$F$4000,'MN_5 DM'!$G$3:$G$4000,'MN_5 DM'!$C$3:$C$4000)","v":3426},null,null,{"$f":"TeamScoreWithPlayers($B8,\"H\", 8, 'MN_5 DM'!$F$3:$F$4000, 'MN_5 DM'!$E$3:$E$4000,'MN_5 DM'!$G$3:$G$4000,'MN_5 DM'!$C$3:$C$4000,\"TS\")","v":3426},{"$f":"TeamScoreWithPlayers($B8,\"H\", 8, 'MN_5 DM'!$F$3:$F$4000, 'MN_5 DM'!$E$3:$E$4000,'MN_5 DM'!$G$3:$G$4000,'MN_5 DM'!$C$3:$C$4000,\"P1\")","v":"(G) GRETCHEN BLANKENSHIP - [472]"},{"$f":"TeamScoreWithPlayers($B8,\"H\", 8, 'MN_5 DM'!$F$3:$F$4000, 'MN_5 DM'!$E$3:$E$4000,'MN_5 DM'!$G$3:$G$4000,'MN_5 DM'!$C$3:$C$4000,\"P2\")","v":"(B) ANGUS LEVINS - [464]"},{"$f":"TeamScoreWithPlayers($B8,\"H\", 8, 'MN_5 DM'!$F$3:$F$4000, 'MN_5 DM'!$E$3:$E$4000,'MN_5 DM'!$G$3:$G$4000,'MN_5 DM'!$C$3:$C$4000,\"P3\")","v":"(B) ISAAC LINDHOLM - [464]"},{"$f":"TeamScoreWithPlayers($B8,\"H\", 8, 'MN_5 DM'!$F$3:$F$4000, 'MN_5 DM'!$E$3:$E$4000,'MN_5 DM'!$G$3:$G$4000,'MN_5 DM'!$C$3:$C$4000,\"P4\")","v":"(B) JAMES WALLEK - [434]"},{"$f":"TeamScoreWithPlayers($B8,\"H\", 8, 'MN_5 DM'!$F$3:$F$4000, 'MN_5 DM'!$E$3:$E$4000,'MN_5 DM'!$G$3:$G$4000,'MN_5 DM'!$C$3:$C$4000,\"P5\")","v":"(G) GRACE CONROY - [420]"},{"$f":"TeamScoreWithPlayers($B8,\"H\", 8, 'MN_5 DM'!$F$3:$F$4000, 'MN_5 DM'!$E$3:$E$4000,'MN_5 DM'!$G$3:$G$4000,'MN_5 DM'!$C$3:$C$4000,\"P6\")","v":"(G) KENNEDY LANGE - [402]"},{"$f":"TeamScoreWithPlayers($B8,\"H\", 8, 'MN_5 DM'!$F$3:$F$4000, 'MN_5 DM'!$E$3:$E$4000,'MN_5 DM'!$G$3:$G$4000,'MN_5 DM'!$C$3:$C$4000,\"P7\")","v":"(G) HAYLEY HECKAMAN - [390]"},{"$f":"TeamScoreWithPlayers($B8,\"H\", 8, 'MN_5 DM'!$F$3:$F$4000, 'MN_5 DM'!$E$3:$E$4000,'MN_5 DM'!$G$3:$G$4000,'MN_5 DM'!$C$3:$C$4000,\"P8\")","v":"(B) WALKER DIETZ - [380]"},null,3426,3426,null,0]
[8,"Duluth East High School",{"$f":"TeamScore(B9,\"H\", 8, 'MN_5 DM'!$F$3:$F$4000,'MN_5 DM'!$G$3:$G$4000,'MN_5 DM'!$C$3:$C$4000)","v":4305},null,null,{"$f":"TeamScoreWithPlayers($B9,\"H\", 8, 'MN_5 DM'!$F$3:$F$4000, 'MN_5 DM'!$E$3:$E$4000,'MN_5 DM'!$G$3:$G$4000,'MN_5 DM'!$C$3:$C$4000,\"TS\")","v":4305},{"$f":"TeamScoreWithPlayers($B9,\"H\", 8, 'MN_5 DM'!$F$3:$F$4000, 'MN_5 DM'!$E$3:$E$4000,'MN_5 DM'!$G$3:$G$4000,'MN_5 DM'!$C$3:$C$4000,\"P1\")","v":"(G) CHLOE LEEGE - [575]"},{"$f":"TeamScoreWithPlayers($B9,\"H\", 8, 'MN_5 DM'!$F$3:$F$4000, 'MN_5 DM'!$E$3:$E$4000,'MN_5 DM'!$G$3:$G$4000,'MN_5 DM'!$C$3:$C$4000,\"P2\")","v":"(G) THEA KRAMER - [565]"},{"$f":"TeamScoreWithPlayers($B9,\"H\", 8, 'MN_5 DM'!$F$3:$F$4000, 'MN_5 DM'!$E$3:$E$4000,'MN_5 DM'!$G$3:$G$4000,'MN_5 DM'!$C$3:$C$4000,\"P3\")","v":"(B) CARL MORSE - [547]"},{"$f":"TeamScoreWithPlayers($B9,\"H\", 8, 'MN_5 DM'!$F$3:$F$4000, 'MN_5 DM'!$E$3:$E$4000,'MN_5 DM'!$G$3:$G$4000,'MN_5 DM'!$C$3:$C$4000,\"P4\")","v":"(G) PHOEBE LEEGE - [540]"},{"$f":"TeamScoreWithPlayers($B9,\"H\", 8, 'MN_5 DM'!$F$3:$F$4000, 'MN_5 DM'!$E$3:$E$4000,'MN_5 DM'!$G$3:$G$4000,'MN_5 DM'!$C$3:$C$4000,\"P5\")","v":"(G) LEAH COLEMAN - [539]"},{"$f":"TeamScoreWithPlayers($B9,\"H\", 8, 'MN_5 DM'!$F$3:$F$4000, 'MN_5 DM'!$E$3:$E$4000,'MN_5 DM'!$G$3:$G$4000,'MN_5 DM'!$C$3:$C$4000,\"P6\")","v":"(B) SAM BAILEY - [523]"},{"$f":"TeamScoreWithPlayers($B9,\"H\", 8, 'MN_5 DM'!$F$3:$F$4000, 'MN_5 DM'!$E$3:$E$4000,'MN_5 DM'!$G$3:$G$4000,'MN_5 DM'!$C$3:$C$4000,\"P7\")","v":"(G) CHARLI WORCESTER - [512]"},{"$f":"TeamScoreWithPlayers($B9,\"H\", 8, 'MN_5 DM'!$F$3:$F$4000, 'MN_5 DM'!$E$3:$E$4000,'MN_5 DM'!$G$3:$G$4000,'MN_5 DM'!$C$3:$C$4000,\"P8\")","v":"(G) COURTNEY HISLOP - [504]"},null,4305,4305,null,0]
[9,"Chaska High School",{"$f":"TeamScore(B10,\"H\", 8, 'MN_5 DM'!$F$3:$F$4000,'MN_5 DM'!$G$3:$G$4000,'MN_5 DM'!$C$3:$C$4000)","v":2986},null,null,{"$f":"TeamScoreWithPlayers($B10,\"H\", 8, 'MN_5 DM'!$F$3:$F$4000, 'MN_5 DM'!$E$3:$E$4000,'MN_5 DM'!$G$3:$G$4000,'MN_5 DM'!$C$3:$C$4000,\"TS\")","v":2986},{"$f":"TeamScoreWithPlayers($B10,\"H\", 8, 'MN_5 DM'!$F$3:$F$4000, 'MN_5 DM'!$E$3:$E$4000,'MN_5 DM'!$G$3:$G$4000,'MN_5 DM'!$C$3:$C$4000,\"P1\")","v":"(G) GRACE ATTERSON - [556]"},{"$f":"TeamScoreWithPlayers($B10,\"H\", 8, 'MN_5 DM'!$F$3:$F$4000, 'MN_5 DM'!$E$3:$E$4000,'MN_5 DM'!$G$3:$G$4000,'MN_5 DM'!$C$3:$C$4000,\"P2\")","v":"(B) GRANT ATTERSON - [500]"},{"$f":"TeamScoreWithPlayers($B10,\"H\", 8, 'MN_5 DM'!$F$3:$F$4000, 'MN_5 DM'!$E$3:$E$4000,'MN_5 DM'!$G$3:$G$4000,'MN_5 DM'!$C$3:$C$4000,\"P3\")","v":"(B) XAVIER DEMARRE - [414]"},{"$f":"TeamScoreWithPlayers($B10,\"H\", 8, 'MN_5 DM'!$F$3:$F$4000, 'MN_5 DM'!$E$3:$E$4000,'MN_5 DM'!$G$3:$G$4000,'MN_5 DM'!$C$3:$C$4000,\"P4\")","v":"(B) DYLAN HENDERSON - [392]"},{"$f":"TeamScoreWithPlayers($B10,\"H\", 8, 'MN_5 DM'!$F$3:$F$4000, 'MN_5 DM'!$E$3:$E$4000,'MN_5 DM'!$G$3:$G$4000,'MN_5 DM'!$C$3:$C$4000,\"P5\")","v":"(B) NATHAN OMAN - [384]"},{"$f":"TeamScoreWithPlayers($B10,\"H\", 8, 'MN_5 DM'!$F$3:$F$4000, 'MN_5 DM'!$E$3:$E$4000,'MN_5 DM'!$G$3:$G$4000,'MN_5 DM'!$C$3:$C$4000,\"P6\")","v":"(B) GRANT KERFOOT - [380]"},{"$f":"TeamScoreWithPlayers($B10,\"H\", 8, 'MN_5 DM'!$F$3:$F$4000, 'MN_5 DM'!$E$3:$E$4000,'MN_5 DM'!$G$3:$G$4000,'MN_5 DM'!$C$3:$C$4000,\"P7\")","v":"(B) EVAN REINSCH - [360]"},{"$f":"TeamScoreWithPlayers($B10,\"H\", 8, 'MN_5 DM'!$F$3:$F$4000, 'MN_5 DM'!$E$3:$E$4000,'MN_5 DM'!$G$3:$G$4000,'MN_5 DM'!$C$3:$C$4000,\"P8\")","v":"()  - [0]"},null,2986,2986,null,0]
[10,"Rock Ridge Composite",{"$f":"TeamScore(B11,\"H\", 8, 'MN_5 DM'!$F$3:$F$4000,'MN_5 DM'!$G$3:$G$4000,'MN_5 DM'!$C$3:$C$4000)","v":3394},null,null,{"$f":"TeamScoreWithPlayers($B11,\"H\", 8, 'MN_5 DM'!$F$3:$F$4000, 'MN_5 DM'!$E$3:$E$4000,'MN_5 DM'!$G$3:$G$4000,'MN_5 DM'!$C$3:$C$4000,\"TS\")","v":3394},{"$f":"TeamScoreWithPlayers($B11,\"H\", 8, 'MN_5 DM'!$F$3:$F$4000, 'MN_5 DM'!$E$3:$E$4000,'MN_5 DM'!$G$3:$G$4000,'MN_5 DM'!$C$3:$C$4000,\"P1\")","v":"(B) SAMUEL BEUKEMA - [490]"},{"$f":"TeamScoreWithPlayers($B11,\"H\", 8, 'MN_5 DM'!$F$3:$F$4000, 'MN_5 DM'!$E$3:$E$4000,'MN_5 DM'!$G$3:$G$4000,'MN_5 DM'!$C$3:$C$4000,\"P2\")","v":"(G) SOPHIE ROARK - [472]"},{"$f":"TeamScoreWithPlayers($B11,\"H\", 8, 'MN_5 DM'!$F$3:$F$4000, 'MN_5 DM'!$E$3:$E$4000,'MN_5 DM'!$G$3:$G$4000,'MN_5 DM'!$C$3:$C$4000,\"P3\")","v":"(G) WRENNA GALLOWAY - [448]"},{"$f":"TeamScoreWithPlayers($B11,\"H\", 8, 'MN_5 DM'!$F$3:$F$4000, 'MN_5 DM'!$E$3:$E$4000,'MN_5 DM'!$G$3:$G$4000,'MN_5 DM'!$C$3:$C$4000,\"P4\")","v":"(G) SYLVIE GALLOWAY - [441]"},{"$f":"TeamScoreWithPlayers($B11,\"H\", 8, 'MN_5 DM'!$F$3:$F$4000, 'MN_5 DM'!$E$3:$E$4000,'MN_5 DM'!$G$3:$G$4000,'MN_5 DM'!$C$3:$C$4000,\"P5\")","v":"(B) SILAS TODAY - [408]"},{"$f":"TeamScoreWithPlayers($B11,\"H\", 8, 'MN_5 DM'!$F$3:$F$4000, 'MN_5 DM'!$E$3:$E$4000,'MN_5 DM'!$G$3:$G$4000,'MN_5 DM'!$C$3:$C$4000,\"P6\")","v":"(G) NORAH KAINZ - [385]"},{"$f":"TeamScoreWithPlayers($B11,\"H\", 8, 'MN_5 DM'!$F$3:$F$4000, 'MN_5 DM'!$E$3:$E$4000,'MN_5 DM'!$G$3:$G$4000,'MN_5 DM'!$C$3:$C$4000,\"P7\")","v":"(B) SIMON BEUKEMA - [385]"},{"$f":"TeamScoreWithPlayers($B11,\"H\", 8, 'MN_5 DM'!$F$3:$F$4000, 'MN_5 DM'!$E$3:$E$4000,'MN_5 DM'!$G$3:$G$4000,'MN_5 DM'!$C$3:$C$4000,\"P8\")","v":"(B) DUTCH HEDBLOM - [365]"},null,3394,3394,null,0]
[11]
[12]
[13]
[14]
[15]
[16]
[17]
[18]
[19]
[20]
[]
[null,"Results sorted High to Low"]
["Place","TEAM","Score",null,null,"New Total Score","P1","P2","P3","P4","P5","P6","P7","P8"]
[1,"Duluth East High School",{"$f":"TeamScore(B25,\"H\", 8, 'MN_5 DM'!$F$3:$F$4000,'MN_5 DM'!$G$3:$G$4000,'MN_5 DM'!$C$3:$C$4000)","v":4305},null,null,{"$f":"TeamScoreWithPlayers($B25,\"H\", 8, 'MN_5 DM'!$F$3:$F$4000, 'MN_5 DM'!$E$3:$E$4000,'MN_5 DM'!$G$3:$G$4000,'MN_5 DM'!$C$3:$C$4000,\"TS\")","v":4305},{"$f":"TeamScoreWithPlayers($B25,\"H\", 8, 'MN_5 DM'!$F$3:$F$4000, 'MN_5 DM'!$E$3:$E$4000,'MN_5 DM'!$G$3:$G$4000,'MN_5 DM'!$C$3:$C$4000,\"P1\")","v":"(G) CHLOE LEEGE - [575]"},{"$f":"TeamScoreWithPlayers($B25,\"H\", 8, 'MN_5 DM'!$F$3:$F$4000, 'MN_5 DM'!$E$3:$E$4000,'MN_5 DM'!$G$3:$G$4000,'MN_5 DM'!$C$3:$C$4000,\"P2\")","v":"(G) THEA KRAMER - [565]"},{"$f":"TeamScoreWithPlayers($B25,\"H\", 8, 'MN_5 DM'!$F$3:$F$4000, 'MN_5 DM'!$E$3:$E$4000,'MN_5 DM'!$G$3:$G$4000,'MN_5 DM'!$C$3:$C$4000,\"P3\")","v":"(B) CARL MORSE - [547]"},{"$f":"TeamScoreWithPlayers($B25,\"H\", 8, 'MN_5 DM'!$F$3:$F$4000, 'MN_5 DM'!$E$3:$E$4000,'MN_5 DM'!$G$3:$G$4000,'MN_5 DM'!$C$3:$C$4000,\"P4\")","v":"(G) PHOEBE LEEGE - [540]"},{"$f":"TeamScoreWithPlayers($B25,\"H\", 8, 'MN_5 DM'!$F$3:$F$4000, 'MN_5 DM'!$E$3:$E$4000,'MN_5 DM'!$G$3:$G$4000,'MN_5 DM'!$C$3:$C$4000,\"P5\")","v":"(G) LEAH COLEMAN - [539]"},{"$f":"TeamScoreWithPlayers($B25,\"H\", 8, 'MN_5 DM'!$F$3:$F$4000, 'MN_5 DM'!$E$3:$E$4000,'MN_5 DM'!$G$3:$G$4000,'MN_5 DM'!$C$3:$C$4000,\"P6\")","v":"(B) SAM BAILEY - [523]"},{"$f":"TeamScoreWithPlayers($B25,\"H\", 8, 'MN_5 DM'!$F$3:$F$4000, 'MN_5 DM'!$E$3:$E$4000,'MN_5 DM'!$G$3:$G$4000,'MN_5 DM'!$C$3:$C$4000,\"P7\")","v":"(G) CHARLI WORCESTER - [512]"},{"$f":"TeamScoreWithPlayers($B25,\"H\", 8, 'MN_5 DM'!$F$3:$F$4000, 'MN_5 DM'!$E$3:$E$4000,'MN_5 DM'!$G$3:$G$4000,'MN_5 DM'!$C$3:$C$4000,\"P8\")","v":"(G) COURTNEY HISLOP - [504]"}]
[2,"New Prague Middle and High School",{"$f":"TeamScore(B26,\"H\", 8, 'MN_5 DM'!$F$3:$F$4000,'MN_5 DM'!$G$3:$G$4000,'MN_5 DM'!$C$3:$C$4000)","v":3962},null,null,{"$f":"TeamScoreWithPlayers($B26,\"H\", 8, 'MN_5 DM'!$F$3:$F$4000, 'MN_5 DM'!$E$3:$E$4000,'MN_5 DM'!$G$3:$G$4000,'MN_5 DM'!$C$3:$C$4000,\"TS\")","v":3962},{"$f":"TeamScoreWithPlayers($B26,\"H\", 8, 'MN_5 DM'!$F$3:$F$4000, 'MN_5 DM'!$E$3:$E$4000,'MN_5 DM'!$G$3:$G$4000,'MN_5 DM'!$C$3:$C$4000,\"P1\")","v":"(B) AIDAN ROSEMEIER - [575]"},{"$f":"TeamScoreWithPlayers($B26,\"H\", 8, 'MN_5 DM'!$F$3:$F$4000, 'MN_5 DM'!$E$3:$E$4000,'MN_5 DM'!$G$3:$G$4000,'MN_5 DM'!$C$3:$C$4000,\"P2\")","v":"(B) RILEY HUSEBY - [539]"},{"$f":"TeamScoreWithPlayers($B26,\"H\", 8, 'MN_5 DM'!$F$3:$F$4000, 'MN_5 DM'!$E$3:$E$4000,'MN_5 DM'!$G$3:$G$4000,'MN_5 DM'!$C$3:$C$4000,\"P3\")","v":"(G) SELAH SCHERMAN - [531]"},{"$f":"TeamScoreWithPlayers($B26,\"H\", 8, 'MN_5 DM'!$F$3:$F$4000, 'MN_5 DM'!$E$3:$E$4000,'MN_5 DM'!$G$3:$G$4000,'MN_5 DM'!$C$3:$C$4000,\"P4\")","v":"(B) DANIEL RIDGEWAY JR. - [512]"},{"$f":"TeamScoreWithPlayers($B26,\"H\", 8, 'MN_5 DM'!$F$3:$F$4000, 'MN_5 DM'!$E$3:$E$4000,'MN_5 DM'!$G$3:$G$4000,'MN_5 DM'!$C$3:$C$4000,\"P5\")","v":"(G) SOPHIA METZDORFF - [460]"},{"$f":"TeamScoreWithPlayers($B26,\"H\", 8, 'MN_5 DM'!$F$3:$F$4000, 'MN_5 DM'!$E$3:$E$4000,'MN_5 DM'!$G$3:$G$4000,'MN_5 DM'!$C$3:$C$4000,\"P6\")","v":"(G) ADDISON RIDGEWAY - [456]"},{"$f":"TeamScoreWithPlayers($B26,\"H\", 8, 'MN_5 DM'!$F$3:$F$4000, 'MN_5 DM'!$E$3:$E$4000,'MN_5 DM'!$G$3:$G$4000,'MN_5 DM'!$C$3:$C$4000,\"P7\")","v":"(B) GARRETT TOBIAS - [448]"},{"$f":"TeamScoreWithPlayers($B26,\"H\", 8, 'MN_5 DM'!$F$3:$F$4000, 'MN_5 DM'!$E$3:$E$4000,'MN_5 DM'!$G$3:$G$4000,'MN_5 DM'!$C$3:$C$4000,\"P8\")","v":"(B) JEREMIAH STUBER - [441]"}]
[3,"Brainerd High School",{"$f":"TeamScore(B27,\"H\", 8, 'MN_5 DM'!$F$3:$F$4000,'MN_5 DM'!$G$3:$G$4000,'MN_5 DM'!$C$3:$C$4000)","v":3860},null,null,{"$f":"TeamScoreWithPlayers($B27,\"H\", 8, 'MN_5 DM'!$F$3:$F$4000, 'MN_5 DM'!$E$3:$E$4000,'MN_5 DM'!$G$3:$G$4000,'MN_5 DM'!$C$3:$C$4000,\"TS\")","v":3860},{"$f":"TeamScoreWithPlayers($B27,\"H\", 8, 'MN_5 DM'!$F$3:$F$4000, 'MN_5 DM'!$E$3:$E$4000,'MN_5 DM'!$G$3:$G$4000,'MN_5 DM'!$C$3:$C$4000,\"P1\")","v":"(B) HAYDEN HAGEN - [556]"},{"$f":"TeamScoreWithPlayers($B27,\"H\", 8, 'MN_5 DM'!$F$3:$F$4000, 'MN_5 DM'!$E$3:$E$4000,'MN_5 DM'!$G$3:$G$4000,'MN_5 DM'!$C$3:$C$4000,\"P2\")","v":"(G) ADDIE RYAN - [547]"},{"$f":"TeamScoreWithPlayers($B27,\"H\", 8, 'MN_5 DM'!$F$3:$F$4000, 'MN_5 DM'!$E$3:$E$4000,'MN_5 DM'!$G$3:$G$4000,'MN_5 DM'!$C$3:$C$4000,\"P3\")","v":"(B) PARKER LINN - [489]"},{"$f":"TeamScoreWithPlayers($B27,\"H\", 8, 'MN_5 DM'!$F$3:$F$4000, 'MN_5 DM'!$E$3:$E$4000,'MN_5 DM'!$G$3:$G$4000,'MN_5 DM'!$C$3:$C$4000,\"P4\")","v":"(G) STELLA HAGEN - [474]"},{"$f":"TeamScoreWithPlayers($B27,\"H\", 8, 'MN_5 DM'!$F$3:$F$4000, 'MN_5 DM'!$E$3:$E$4000,'MN_5 DM'!$G$3:$G$4000,'MN_5 DM'!$C$3:$C$4000,\"P5\")","v":"(B) BISHOP NOETZEL - [456]"},{"$f":"TeamScoreWithPlayers($B27,\"H\", 8, 'MN_5 DM'!$F$3:$F$4000, 'MN_5 DM'!$E$3:$E$4000,'MN_5 DM'!$G$3:$G$4000,'MN_5 DM'!$C$3:$C$4000,\"P6\")","v":"(G) CORA MARTENSEN - [448]"},{"$f":"TeamScoreWithPlayers($B27,\"H\", 8, 'MN_5 DM'!$F$3:$F$4000, 'MN_5 DM'!$E$3:$E$4000,'MN_5 DM'!$G$3:$G$4000,'MN_5 DM'!$C$3:$C$4000,\"P7\")","v":"(B) ARRON LOCKWOOD - [448]"},{"$f":"TeamScoreWithPlayers($B27,\"H\", 8, 'MN_5 DM'!$F$3:$F$4000, 'MN_5 DM'!$E$3:$E$4000,'MN_5 DM'!$G$3:$G$4000,'MN_5 DM'!$C$3:$C$4000,\"P8\")","v":"(G) SELAH MARTENSEN - [442]"}]
[4,"Alexandria Area Youth Cycling",{"$f":"TeamScore(B28,\"H\", 8, 'MN_5 DM'!$F$3:$F$4000,'MN_5 DM'!$G$3:$G$4000,'MN_5 DM'!$C$3:$C$4000)","v":3798},null,null,{"$f":"TeamScoreWithPlayers($B28,\"H\", 8, 'MN_5 DM'!$F$3:$F$4000, 'MN_5 DM'!$E$3:$E$4000,'MN_5 DM'!$G$3:$G$4000,'MN_5 DM'!$C$3:$C$4000,\"TS\")","v":3798},{"$f":"TeamScoreWithPlayers($B28,\"H\", 8, 'MN_5 DM'!$F$3:$F$4000, 'MN_5 DM'!$E$3:$E$4000,'MN_5 DM'!$G$3:$G$4000,'MN_5 DM'!$C$3:$C$4000,\"P1\")","v":"(B) LUKE WALSH - [540]"},{"$f":"TeamScoreWithPlayers($B28,\"H\", 8, 'MN_5 DM'!$F$3:$F$4000, 'MN_5 DM'!$E$3:$E$4000,'MN_5 DM'!$G$3:$G$4000,'MN_5 DM'!$C$3:$C$4000,\"P2\")","v":"(B) PARKER CONVERSE - [500]"},{"$f":"TeamScoreWithPlayers($B28,\"H\", 8, 'MN_5 DM'!$F$3:$F$4000, 'MN_5 DM'!$E$3:$E$4000,'MN_5 DM'!$G$3:$G$4000,'MN_5 DM'!$C$3:$C$4000,\"P3\")","v":"(G) TIAHNA GOEKE - [496]"},{"$f":"TeamScoreWithPlayers($B28,\"H\", 8, 'MN_5 DM'!$F$3:$F$4000, 'MN_5 DM'!$E$3:$E$4000,'MN_5 DM'!$G$3:$G$4000,'MN_5 DM'!$C$3:$C$4000,\"P4\")","v":"(B) COLTON CONVERSE - [474]"},{"$f":"TeamScoreWithPlayers($B28,\"H\", 8, 'MN_5 DM'!$F$3:$F$4000, 'MN_5 DM'!$E$3:$E$4000,'MN_5 DM'!$G$3:$G$4000,'MN_5 DM'!$C$3:$C$4000,\"P5\")","v":"(G) LACEY SIIRA - [464]"},{"$f":"TeamScoreWithPlayers($B28,\"H\", 8, 'MN_5 DM'!$F$3:$F$4000, 'MN_5 DM'!$E$3:$E$4000,'MN_5 DM'!$G$3:$G$4000,'MN_5 DM'!$C$3:$C$4000,\"P6\")","v":"(B) TYLER FATH - [448]"},{"$f":"TeamScoreWithPlayers($B28,\"H\", 8, 'MN_5 DM'!$F$3:$F$4000, 'MN_5 DM'!$E$3:$E$4000,'MN_5 DM'!$G$3:$G$4000,'MN_5 DM'!$C$3:$C$4000,\"P7\")","v":"(B) LANDON RUNGE - [442]"},{"$f":"TeamScoreWithPlayers($B28,\"H\", 8, 'MN_5 DM'!$F$3:$F$4000, 'MN_5 DM'!$E$3:$E$4000,'MN_5 DM'!$G$3:$G$4000,'MN_5 DM'!$C$3:$C$4000,\"P8\")","v":"(G) ATTI HOVEN - [434]"}]
[5,"Chanhassen High School",{"$f":"TeamScore(B29,\"H\", 8, 'MN_5 DM'!$F$3:$F$4000,'MN_5 DM'!$G$3:$G$4000,'MN_5 DM'!$C$3:$C$4000)","v":3667},null,null,{"$f":"TeamScoreWithPlayers($B29,\"H\", 8, 'MN_5 DM'!$F$3:$F$4000, 'MN_5 DM'!$E$3:$E$4000,'MN_5 DM'!$G$3:$G$4000,'MN_5 DM'!$C$3:$C$4000,\"TS\")","v":3667},{"$f":"TeamScoreWithPlayers($B29,\"H\", 8, 'MN_5 DM'!$F$3:$F$4000, 'MN_5 DM'!$E$3:$E$4000,'MN_5 DM'!$G$3:$G$4000,'MN_5 DM'!$C$3:$C$4000,\"P1\")","v":"(G) DANICA BARRETT - [521]"},{"$f":"TeamScoreWithPlayers($B29,\"H\", 8, 'MN_5 DM'!$F$3:$F$4000, 'MN_5 DM'!$E$3:$E$4000,'MN_5 DM'!$G$3:$G$4000,'MN_5 DM'!$C$3:$C$4000,\"P2\")","v":"(B) LOU SCHOLLE - [509]"},{"$f":"TeamScoreWithPlayers($B29,\"H\", 8, 'MN_5 DM'!$F$3:$F$4000, 'MN_5 DM'!$E$3:$E$4000,'MN_5 DM'!$G$3:$G$4000,'MN_5 DM'!$C$3:$C$4000,\"P3\")","v":"(B) SETH KENNEDY - [502]"},{"$f":"TeamScoreWithPlayers($B29,\"H\", 8, 'MN_5 DM'!$F$3:$F$4000, 'MN_5 DM'!$E$3:$E$4000,'MN_5 DM'!$G$3:$G$4000,'MN_5 DM'!$C$3:$C$4000,\"P4\")","v":"(G) ZOE ANDERSON - [490]"},{"$f":"TeamScoreWithPlayers($B29,\"H\", 8, 'MN_5 DM'!$F$3:$F$4000, 'MN_5 DM'!$E$3:$E$4000,'MN_5 DM'!$G$3:$G$4000,'MN_5 DM'!$C$3:$C$4000,\"P5\")","v":"(B) CHARLIE WENNERSTROM - [472]"},{"$f":"TeamScoreWithPlayers($B29,\"H\", 8, 'MN_5 DM'!$F$3:$F$4000, 'MN_5 DM'!$E$3:$E$4000,'MN_5 DM'!$G$3:$G$4000,'MN_5 DM'!$C$3:$C$4000,\"P6\")","v":"(B) JOHNATHAN MONARSKI - [415]"},{"$f":"TeamScoreWithPlayers($B29,\"H\", 8, 'MN_5 DM'!$F$3:$F$4000, 'MN_5 DM'!$E$3:$E$4000,'MN_5 DM'!$G$3:$G$4000,'MN_5 DM'!$C$3:$C$4000,\"P7\")","v":"(B) CHARLES EVANGELISTA - [402]"},{"$f":"TeamScoreWithPlayers($B29,\"H\", 8, 'MN_5 DM'!$F$3:$F$4000, 'MN_5 DM'!$E$3:$E$4000,'MN_5 DM'!$G$3:$G$4000,'MN_5 DM'!$C$3:$C$4000,\"P8\")","v":"(B) AYDEN FERREL - [356]"}]
[6,"Mounds View High School",{"$f":"TeamScore(B30,\"H\", 8, 'MN_5 DM'!$F$3:$F$4000,'MN_5 DM'!$G$3:$G$4000,'MN_5 DM'!$C$3:$C$4000)","v":3575},null,null,{"$f":"TeamScoreWithPlayers($B30,\"H\", 8, 'MN_5 DM'!$F$3:$F$4000, 'MN_5 DM'!$E$3:$E$4000,'MN_5 DM'!$G$3:$G$4000,'MN_5 DM'!$C$3:$C$4000,\"TS\")","v":3575},{"$f":"TeamScoreWithPlayers($B30,\"H\", 8, 'MN_5 DM'!$F$3:$F$4000, 'MN_5 DM'!$E$3:$E$4000,'MN_5 DM'!$G$3:$G$4000,'MN_5 DM'!$C$3:$C$4000,\"P1\")","v":"(G) ESME NEEDHAM - [481]"},{"$f":"TeamScoreWithPlayers($B30,\"H\", 8, 'MN_5 DM'!$F$3:$F$4000, 'MN_5 DM'!$E$3:$E$4000,'MN_5 DM'!$G$3:$G$4000,'MN_5 DM'!$C$3:$C$4000,\"P2\")","v":"(B) ANDREW ROLOFF - [481]"},{"$f":"TeamScoreWithPlayers($B30,\"H\", 8, 'MN_5 DM'!$F$3:$F$4000, 'MN_5 DM'!$E$3:$E$4000,'MN_5 DM'!$G$3:$G$4000,'MN_5 DM'!$C$3:$C$4000,\"P3\")","v":"(G) MADELINE DORNFELD - [464]"},{"$f":"TeamScoreWithPlayers($B30,\"H\", 8, 'MN_5 DM'!$F$3:$F$4000, 'MN_5 DM'!$E$3:$E$4000,'MN_5 DM'!$G$3:$G$4000,'MN_5 DM'!$C$3:$C$4000,\"P4\")","v":"(B) CORBAN CARLSON - [456]"},{"$f":"TeamScoreWithPlayers($B30,\"H\", 8, 'MN_5 DM'!$F$3:$F$4000, 'MN_5 DM'!$E$3:$E$4000,'MN_5 DM'!$G$3:$G$4000,'MN_5 DM'!$C$3:$C$4000,\"P5\")","v":"(B) ANTONIN KOSTAL - [454]"},{"$f":"TeamScoreWithPlayers($B30,\"H\", 8, 'MN_5 DM'!$F$3:$F$4000, 'MN_5 DM'!$E$3:$E$4000,'MN_5 DM'!$G$3:$G$4000,'MN_5 DM'!$C$3:$C$4000,\"P6\")","v":"(G) KATERINA KOSTAL - [441]"},{"$f":"TeamScoreWithPlayers($B30,\"H\", 8, 'MN_5 DM'!$F$3:$F$4000, 'MN_5 DM'!$E$3:$E$4000,'MN_5 DM'!$G$3:$G$4000,'MN_5 DM'!$C$3:$C$4000,\"P7\")","v":"(G) PAULINA MCCULLOUGH - [408]"},{"$f":"TeamScoreWithPlayers($B30,\"H\", 8, 'MN_5 DM'!$F$3:$F$4000, 'MN_5 DM'!$E$3:$E$4000,'MN_5 DM'!$G$3:$G$4000,'MN_5 DM'!$C$3:$C$4000,\"P8\")","v":"(B) GAVIN STRONG - [390]"}]
[7,"Crosby-Ironton High School",{"$f":"TeamScore(B31,\"H\", 8, 'MN_5 DM'!$F$3:$F$4000,'MN_5 DM'!$G$3:$G$4000,'MN_5 DM'!$C$3:$C$4000)","v":3428},null,null,{"$f":"TeamScoreWithPlayers($B31,\"H\", 8, 'MN_5 DM'!$F$3:$F$4000, 'MN_5 DM'!$E$3:$E$4000,'MN_5 DM'!$G$3:$G$4000,'MN_5 DM'!$C$3:$C$4000,\"TS\")","v":3428},{"$f":"TeamScoreWithPlayers($B31,\"H\", 8, 'MN_5 DM'!$F$3:$F$4000, 'MN_5 DM'!$E$3:$E$4000,'MN_5 DM'!$G$3:$G$4000,'MN_5 DM'!$C$3:$C$4000,\"P1\")","v":"(B) BRADLEY HACHEY - [516]"},{"$f":"TeamScoreWithPlayers($B31,\"H\", 8, 'MN_5 DM'!$F$3:$F$4000, 'MN_5 DM'!$E$3:$E$4000,'MN_5 DM'!$G$3:$G$4000,'MN_5 DM'!$C$3:$C$4000,\"P2\")","v":"(G) AVA JOHNSON - [500]"},{"$f":"TeamScoreWithPlayers($B31,\"H\", 8, 'MN_5 DM'!$F$3:$F$4000, 'MN_5 DM'!$E$3:$E$4000,'MN_5 DM'!$G$3:$G$4000,'MN_5 DM'!$C$3:$C$4000,\"P3\")","v":"(B) FINN NELSON - [490]"},{"$f":"TeamScoreWithPlayers($B31,\"H\", 8, 'MN_5 DM'!$F$3:$F$4000, 'MN_5 DM'!$E$3:$E$4000,'MN_5 DM'!$G$3:$G$4000,'MN_5 DM'!$C$3:$C$4000,\"P4\")","v":"(B) OLIVER TOFTNESS - [488]"},{"$f":"TeamScoreWithPlayers($B31,\"H\", 8, 'MN_5 DM'!$F$3:$F$4000, 'MN_5 DM'!$E$3:$E$4000,'MN_5 DM'!$G$3:$G$4000,'MN_5 DM'!$C$3:$C$4000,\"P5\")","v":"(B) OSKAR NELSON - [481]"},{"$f":"TeamScoreWithPlayers($B31,\"H\", 8, 'MN_5 DM'!$F$3:$F$4000, 'MN_5 DM'!$E$3:$E$4000,'MN_5 DM'!$G$3:$G$4000,'MN_5 DM'!$C$3:$C$4000,\"P6\")","v":"(B) SAMUEL COUGHLIN - [481]"},{"$f":"TeamScoreWithPlayers($B31,\"H\", 8, 'MN_5 DM'!$F$3:$F$4000, 'MN_5 DM'!$E$3:$E$4000,'MN_5 DM'!$G$3:$G$4000,'MN_5 DM'!$C$3:$C$4000,\"P7\")","v":"(B) COOPER CRAINE - [472]"},{"$f":"TeamScoreWithPlayers($B31,\"H\", 8, 'MN_5 DM'!$F$3:$F$4000, 'MN_5 DM'!$E$3:$E$4000,'MN_5 DM'!$G$3:$G$4000,'MN_5 DM'!$C$3:$C$4000,\"P8\")","v":"()  - [0]"}]
[8,"White Bear Lake High School",{"$f":"TeamScore(B32,\"H\", 8, 'MN_5 DM'!$F$3:$F$4000,'MN_5 DM'!$G$3:$G$4000,'MN_5 DM'!$C$3:$C$4000)","v":3426},null,null,{"$f":"TeamScoreWithPlayers($B32,\"H\", 8, 'MN_5 DM'!$F$3:$F$4000, 'MN_5 DM'!$E$3:$E$4000,'MN_5 DM'!$G$3:$G$4000,'MN_5 DM'!$C$3:$C$4000,\"TS\")","v":3426},{"$f":"TeamScoreWithPlayers($B32,\"H\", 8, 'MN_5 DM'!$F$3:$F$4000, 'MN_5 DM'!$E$3:$E$4000,'MN_5 DM'!$G$3:$G$4000,'MN_5 DM'!$C$3:$C$4000,\"P1\")","v":"(G) GRETCHEN BLANKENSHIP - [472]"},{"$f":"TeamScoreWithPlayers($B32,\"H\", 8, 'MN_5 DM'!$F$3:$F$4000, 'MN_5 DM'!$E$3:$E$4000,'MN_5 DM'!$G$3:$G$4000,'MN_5 DM'!$C$3:$C$4000,\"P2\")","v":"(B) ANGUS LEVINS - [464]"},{"$f":"TeamScoreWithPlayers($B32,\"H\", 8, 'MN_5 DM'!$F$3:$F$4000, 'MN_5 DM'!$E$3:$E$4000,'MN_5 DM'!$G$3:$G$4000,'MN_5 DM'!$C$3:$C$4000,\"P3\")","v":"(B) ISAAC LINDHOLM - [464]"},{"$f":"TeamScoreWithPlayers($B32,\"H\", 8, 'MN_5 DM'!$F$3:$F$4000, 'MN_5 DM'!$E$3:$E$4000,'MN_5 DM'!$G$3:$G$4000,'MN_5 DM'!$C$3:$C$4000,\"P4\")","v":"(B) JAMES WALLEK - [434]"},{"$f":"TeamScoreWithPlayers($B32,\"H\", 8, 'MN_5 DM'!$F$3:$F$4000, 'MN_5 DM'!$E$3:$E$4000,'MN_5 DM'!$G$3:$G$4000,'MN_5 DM'!$C$3:$C$4000,\"P5\")","v":"(G) GRACE CONROY - [420]"},{"$f":"TeamScoreWithPlayers($B32,\"H\", 8, 'MN_5 DM'!$F$3:$F$4000, 'MN_5 DM'!$E$3:$E$4000,'MN_5 DM'!$G$3:$G$4000,'MN_5 DM'!$C$3:$C$4000,\"P6\")","v":"(G) KENNEDY LANGE - [402]"},{"$f":"TeamScoreWithPlayers($B32,\"H\", 8, 'MN_5 DM'!$F$3:$F$4000, 'MN_5 DM'!$E$3:$E$4000,'MN_5 DM'!$G$3:$G$4000,'MN_5 DM'!$C$3:$C$4000,\"P7\")","v":"(G) HAYLEY HECKAMAN - [390]"},{"$f":"TeamScoreWithPlayers($B32,\"H\", 8, 'MN_5 DM'!$F$3:$F$4000, 'MN_5 DM'!$E$3:$E$4000,'MN_5 DM'!$G$3:$G$4000,'MN_5 DM'!$C$3:$C$4000,\"P8\")","v":"(B) WALKER DIETZ - [380]"}]
[9,"Rock Ridge Composite",{"$f":"TeamScore(B33,\"H\", 8, 'MN_5 DM'!$F$3:$F$4000,'MN_5 DM'!$G$3:$G$4000,'MN_5 DM'!$C$3:$C$4000)","v":3394},null,null,{"$f":"TeamScoreWithPlayers($B33,\"H\", 8, 'MN_5 DM'!$F$3:$F$4000, 'MN_5 DM'!$E$3:$E$4000,'MN_5 DM'!$G$3:$G$4000,'MN_5 DM'!$C$3:$C$4000,\"TS\")","v":3394},{"$f":"TeamScoreWithPlayers($B33,\"H\", 8, 'MN_5 DM'!$F$3:$F$4000, 'MN_5 DM'!$E$3:$E$4000,'MN_5 DM'!$G$3:$G$4000,'MN_5 DM'!$C$3:$C$4000,\"P1\")","v":"(B) SAMUEL BEUKEMA - [490]"},{"$f":"TeamScoreWithPlayers($B33,\"H\", 8, 'MN_5 DM'!$F$3:$F$4000, 'MN_5 DM'!$E$3:$E$4000,'MN_5 DM'!$G$3:$G$4000,'MN_5 DM'!$C$3:$C$4000,\"P2\")","v":"(G) SOPHIE ROARK - [472]"},{"$f":"TeamScoreWithPlayers($B33,\"H\", 8, 'MN_5 DM'!$F$3:$F$4000, 'MN_5 DM'!$E$3:$E$4000,'MN_5 DM'!$G$3:$G$4000,'MN_5 DM'!$C$3:$C$4000,\"P3\")","v":"(G) WRENNA GALLOWAY - [448]"},{"$f":"TeamScoreWithPlayers($B33,\"H\", 8, 'MN_5 DM'!$F$3:$F$4000, 'MN_5 DM'!$E$3:$E$4000,'MN_5 DM'!$G$3:$G$4000,'MN_5 DM'!$C$3:$C$4000,\"P4\")","v":"(G) SYLVIE GALLOWAY - [441]"},{"$f":"TeamScoreWithPlayers($B33,\"H\", 8, 'MN_5 DM'!$F$3:$F$4000, 'MN_5 DM'!$E$3:$E$4000,'MN_5 DM'!$G$3:$G$4000,'MN_5 DM'!$C$3:$C$4000,\"P5\")","v":"(B) SILAS TODAY - [408]"},{"$f":"TeamScoreWithPlayers($B33,\"H\", 8, 'MN_5 DM'!$F$3:$F$4000, 'MN_5 DM'!$E$3:$E$4000,'MN_5 DM'!$G$3:$G$4000,'MN_5 DM'!$C$3:$C$4000,\"P6\")","v":"(G) NORAH KAINZ - [385]"},{"$f":"TeamScoreWithPlayers($B33,\"H\", 8, 'MN_5 DM'!$F$3:$F$4000, 'MN_5 DM'!$E$3:$E$4000,'MN_5 DM'!$G$3:$G$4000,'MN_5 DM'!$C$3:$C$4000,\"P7\")","v":"(B) SIMON BEUKEMA - [385]"},{"$f":"TeamScoreWithPlayers($B33,\"H\", 8, 'MN_5 DM'!$F$3:$F$4000, 'MN_5 DM'!$E$3:$E$4000,'MN_5 DM'!$G$3:$G$4000,'MN_5 DM'!$C$3:$C$4000,\"P8\")","v":"(B) DUTCH HEDBLOM - [365]"}]
[10,"Chaska High School",{"$f":"TeamScore(B34,\"H\", 8, 'MN_5 DM'!$F$3:$F$4000,'MN_5 DM'!$G$3:$G$4000,'MN_5 DM'!$C$3:$C$4000)","v":2986},null,null,{"$f":"TeamScoreWithPlayers($B34,\"H\", 8, 'MN_5 DM'!$F$3:$F$4000, 'MN_5 DM'!$E$3:$E$4000,'MN_5 DM'!$G$3:$G$4000,'MN_5 DM'!$C$3:$C$4000,\"TS\")","v":2986},{"$f":"TeamScoreWithPlayers($B34,\"H\", 8, 'MN_5 DM'!$F$3:$F$4000, 'MN_5 DM'!$E$3:$E$4000,'MN_5 DM'!$G$3:$G$4000,'MN_5 DM'!$C$3:$C$4000,\"P1\")","v":"(G) GRACE ATTERSON - [556]"},{"$f":"TeamScoreWithPlayers($B34,\"H\", 8, 'MN_5 DM'!$F$3:$F$4000, 'MN_5 DM'!$E$3:$E$4000,'MN_5 DM'!$G$3:$G$4000,'MN_5 DM'!$C$3:$C$4000,\"P2\")","v":"(B) GRANT ATTERSON - [500]"},{"$f":"TeamScoreWithPlayers($B34,\"H\", 8, 'MN_5 DM'!$F$3:$F$4000, 'MN_5 DM'!$E$3:$E$4000,'MN_5 DM'!$G$3:$G$4000,'MN_5 DM'!$C$3:$C$4000,\"P3\")","v":"(B) XAVIER DEMARRE - [414]"},{"$f":"TeamScoreWithPlayers($B34,\"H\", 8, 'MN_5 DM'!$F$3:$F$4000, 'MN_5 DM'!$E$3:$E$4000,'MN_5 DM'!$G$3:$G$4000,'MN_5 DM'!$C$3:$C$4000,\"P4\")","v":"(B) DYLAN HENDERSON - [392]"},{"$f":"TeamScoreWithPlayers($B34,\"H\", 8, 'MN_5 DM'!$F$3:$F$4000, 'MN_5 DM'!$E$3:$E$4000,'MN_5 DM'!$G$3:$G$4000,'MN_5 DM'!$C$3:$C$4000,\"P5\")","v":"(B) NATHAN OMAN - [384]"},{"$f":"TeamScoreWithPlayers($B34,\"H\", 8, 'MN_5 DM'!$F$3:$F$4000, 'MN_5 DM'!$E$3:$E$4000,'MN_5 DM'!$G$3:$G$4000,'MN_5 DM'!$C$3:$C$4000,\"P6\")","v":"(B) GRANT KERFOOT - [380]"},{"$f":"TeamScoreWithPlayers($B34,\"H\", 8, 'MN_5 DM'!$F$3:$F$4000, 'MN_5 DM'!$E$3:$E$4000,'MN_5 DM'!$G$3:$G$4000,'MN_5 DM'!$C$3:$C$4000,\"P7\")","v":"(B) EVAN REINSCH - [360]"},{"$f":"TeamScoreWithPlayers($B34,\"H\", 8, 'MN_5 DM'!$F$3:$F$4000, 'MN_5 DM'!$E$3:$E$4000,'MN_5 DM'!$G$3:$G$4000,'MN_5 DM'!$C$3:$C$4000,\"P8\")","v":"()  - [0]"}]

{"sheet":"High School D2","index":6,"n_rows":42,"n_cols":15,"rows_kept":42,"cut":false,"hidden":false,"merged":[]}
["#","TEAM","Score",null,null,"New Total Score","P1","P2","P3","P4",null,"Get Numeric","DC"]
[1,"Tioga Trailblazers",{"$f":"TeamScore(B2,\"H\", 4, 'MN_5 DM'!$F$3:$F$4000,'MN_5 DM'!$G$3:$G$4000,'MN_5 DM'!$C$3:$C$4000)","v":1323},null,null,{"$f":"TeamScoreWithPlayers($B2,\"H\", 4, 'MN_5 DM'!$F$3:$F$4000, 'MN_5 DM'!$E$3:$E$4000,'MN_5 DM'!$G$3:$G$4000,'MN_5 DM'!$C$3:$C$4000,\"TS\")","v":1323},{"$f":"TeamScoreWithPlayers($B2,\"H\", 4, 'MN_5 DM'!$F$3:$F$4000, 'MN_5 DM'!$E$3:$E$4000,'MN_5 DM'!$G$3:$G$4000,'MN_5 DM'!$C$3:$C$4000,\"P1\")","v":"(B) ELI CHERNE - [448]"},{"$f":"TeamScoreWithPlayers($B2,\"H\", 4, 'MN_5 DM'!$F$3:$F$4000, 'MN_5 DM'!$E$3:$E$4000,'MN_5 DM'!$G$3:$G$4000,'MN_5 DM'!$C$3:$C$4000,\"P2\")","v":"(B) BREVIK BROWN - [441]"},{"$f":"TeamScoreWithPlayers($B2,\"H\", 4, 'MN_5 DM'!$F$3:$F$4000, 'MN_5 DM'!$E$3:$E$4000,'MN_5 DM'!$G$3:$G$4000,'MN_5 DM'!$C$3:$C$4000,\"P3\")","v":"(B) BEN SCHROEDER - [434]"},{"$f":"TeamScoreWithPlayers($B2,\"H\", 4, 'MN_5 DM'!$F$3:$F$4000, 'MN_5 DM'!$E$3:$E$4000,'MN_5 DM'!$G$3:$G$4000,'MN_5 DM'!$C$3:$C$4000,\"P4\")","v":"()  - [0]"},null,{"$f":"getnumeric(G2)+getnumeric(H2)+getnumeric(I2)+getnumeric(J2)","v":1323},1323,null,{"$f":"ABS(C2-F2)+ABS(F2-L2)+ABS(L2-M2)","v":0}]
[{"$f":"+A2+1","v":2},"St Cloud Area Composite",{"$f":"TeamScore(B3,\"H\", 4, 'MN_5 DM'!$F$3:$F$4000,'MN_5 DM'!$G$3:$G$4000,'MN_5 DM'!$C$3:$C$4000)","v":1816},null,null,{"$f":"TeamScoreWithPlayers($B3,\"H\", 4, 'MN_5 DM'!$F$3:$F$4000, 'MN_5 DM'!$E$3:$E$4000,'MN_5 DM'!$G$3:$G$4000,'MN_5 DM'!$C$3:$C$4000,\"TS\")","v":1816},{"$f":"TeamScoreWithPlayers($B3,\"H\", 4, 'MN_5 DM'!$F$3:$F$4000, 'MN_5 DM'!$E$3:$E$4000,'MN_5 DM'!$G$3:$G$4000,'MN_5 DM'!$C$3:$C$4000,\"P1\")","v":"(G) ELLA DOLS - [530]"},{"$f":"TeamScoreWithPlayers($B3,\"H\", 4, 'MN_5 DM'!$F$3:$F$4000, 'MN_5 DM'!$E$3:$E$4000,'MN_5 DM'!$G$3:$G$4000,'MN_5 DM'!$C$3:$C$4000,\"P2\")","v":"(B) HOLDEN ZAK - [500]"},{"$f":"TeamScoreWithPlayers($B3,\"H\", 4, 'MN_5 DM'!$F$3:$F$4000, 'MN_5 DM'!$E$3:$E$4000,'MN_5 DM'!$G$3:$G$4000,'MN_5 DM'!$C$3:$C$4000,\"P3\")","v":"(B) ANDREW HACKENMUELLER - [396]"},{"$f":"TeamScoreWithPlayers($B3,\"H\", 4, 'MN_5 DM'!$F$3:$F$4000, 'MN_5 DM'!$E$3:$E$4000,'MN_5 DM'!$G$3:$G$4000,'MN_5 DM'!$C$3:$C$4000,\"P4\")","v":"(B) JONAH RICARD - [390]"},null,1816,1816,null,{"$f":"ABS(C3-F3)+ABS(F3-L3)+ABS(L3-M3)","v":0}]
[{"$f":"+A3+1","v":3},"Minnesota Valley Composite",{"$f":"TeamScore(B4,\"H\", 4, 'MN_5 DM'!$F$3:$F$4000,'MN_5 DM'!$G$3:$G$4000,'MN_5 DM'!$C$3:$C$4000)","v":1882},null,null,{"$f":"TeamScoreWithPlayers($B4,\"H\", 4, 'MN_5 DM'!$F$3:$F$4000, 'MN_5 DM'!$E$3:$E$4000,'MN_5 DM'!$G$3:$G$4000,'MN_5 DM'!$C$3:$C$4000,\"TS\")","v":1882},{"$f":"TeamScoreWithPlayers($B4,\"H\", 4, 'MN_5 DM'!$F$3:$F$4000, 'MN_5 DM'!$E$3:$E$4000,'MN_5 DM'!$G$3:$G$4000,'MN_5 DM'!$C$3:$C$4000,\"P1\")","v":"(G) CARISSA BOLSTER - [481]"},{"$f":"TeamScoreWithPlayers($B4,\"H\", 4, 'MN_5 DM'!$F$3:$F$4000, 'MN_5 DM'!$E$3:$E$4000,'MN_5 DM'!$G$3:$G$4000,'MN_5 DM'!$C$3:$C$4000,\"P2\")","v":"(B) ZACH FAHEY - [481]"},{"$f":"TeamScoreWithPlayers($B4,\"H\", 4, 'MN_5 DM'!$F$3:$F$4000, 'MN_5 DM'!$E$3:$E$4000,'MN_5 DM'!$G$3:$G$4000,'MN_5 DM'!$C$3:$C$4000,\"P3\")","v":"(B) ODEN OLSON - [472]"},{"$f":"TeamScoreWithPlayers($B4,\"H\", 4, 'MN_5 DM'!$F$3:$F$4000, 'MN_5 DM'!$E$3:$E$4000,'MN_5 DM'!$G$3:$G$4000,'MN_5 DM'!$C$3:$C$4000,\"P4\")","v":"(B) SAWYER SCHETTL - [448]"},null,1882,1882,null,0]
[4,"Totino Grace High School",{"$f":"TeamScore(B5,\"H\", 4, 'MN_5 DM'!$F$3:$F$4000,'MN_5 DM'!$G$3:$G$4000,'MN_5 DM'!$C$3:$C$4000)","v":885},null,null,{"$f":"TeamScoreWithPlayers($B5,\"H\", 4, 'MN_5 DM'!$F$3:$F$4000, 'MN_5 DM'!$E$3:$E$4000,'MN_5 DM'!$G$3:$G$4000,'MN_5 DM'!$C$3:$C$4000,\"TS\")","v":885},{"$f":"TeamScoreWithPlayers($B5,\"H\", 4, 'MN_5 DM'!$F$3:$F$4000, 'MN_5 DM'!$E$3:$E$4000,'MN_5 DM'!$G$3:$G$4000,'MN_5 DM'!$C$3:$C$4000,\"P1\")","v":"(B) JACK LIISTE - [495]"},{"$f":"TeamScoreWithPlayers($B5,\"H\", 4, 'MN_5 DM'!$F$3:$F$4000, 'MN_5 DM'!$E$3:$E$4000,'MN_5 DM'!$G$3:$G$4000,'MN_5 DM'!$C$3:$C$4000,\"P2\")","v":"(B) BRODY BERGLIN - [390]"},{"$f":"TeamScoreWithPlayers($B5,\"H\", 4, 'MN_5 DM'!$F$3:$F$4000, 'MN_5 DM'!$E$3:$E$4000,'MN_5 DM'!$G$3:$G$4000,'MN_5 DM'!$C$3:$C$4000,\"P3\")","v":"()  - [0]"},{"$f":"TeamScoreWithPlayers($B5,\"H\", 4, 'MN_5 DM'!$F$3:$F$4000, 'MN_5 DM'!$E$3:$E$4000,'MN_5 DM'!$G$3:$G$4000,'MN_5 DM'!$C$3:$C$4000,\"P4\")","v":"()  - [0]"},null,885,885,null,0]
[5,"Elk River Composite",{"$f":"TeamScore(B6,\"H\", 4, 'MN_5 DM'!$F$3:$F$4000,'MN_5 DM'!$G$3:$G$4000,'MN_5 DM'!$C$3:$C$4000)","v":1766},null,null,{"$f":"TeamScoreWithPlayers($B6,\"H\", 4, 'MN_5 DM'!$F$3:$F$4000, 'MN_5 DM'!$E$3:$E$4000,'MN_5 DM'!$G$3:$G$4000,'MN_5 DM'!$C$3:$C$4000,\"TS\")","v":1766},{"$f":"TeamScoreWithPlayers($B6,\"H\", 4, 'MN_5 DM'!$F$3:$F$4000, 'MN_5 DM'!$E$3:$E$4000,'MN_5 DM'!$G$3:$G$4000,'MN_5 DM'!$C$3:$C$4000,\"P1\")","v":"(B) GRADY MAGRUDER - [456]"},{"$f":"TeamScoreWithPlayers($B6,\"H\", 4, 'MN_5 DM'!$F$3:$F$4000, 'MN_5 DM'!$E$3:$E$4000,'MN_5 DM'!$G$3:$G$4000,'MN_5 DM'!$C$3:$C$4000,\"P2\")","v":"(G) AUDREY KEMPEL - [454]"},{"$f":"TeamScoreWithPlayers($B6,\"H\", 4, 'MN_5 DM'!$F$3:$F$4000, 'MN_5 DM'!$E$3:$E$4000,'MN_5 DM'!$G$3:$G$4000,'MN_5 DM'!$C$3:$C$4000,\"P3\")","v":"(B) COLTON BANKS - [436]"},{"$f":"TeamScoreWithPlayers($B6,\"H\", 4, 'MN_5 DM'!$F$3:$F$4000, 'MN_5 DM'!$E$3:$E$4000,'MN_5 DM'!$G$3:$G$4000,'MN_5 DM'!$C$3:$C$4000,\"P4\")","v":"(B) BO JEFFERS - [420]"},null,1766,1766,null,0]
[6,"Northwest Composite",{"$f":"TeamScore(B7,\"H\", 4, 'MN_5 DM'!$F$3:$F$4000,'MN_5 DM'!$G$3:$G$4000,'MN_5 DM'!$C$3:$C$4000)","v":1523},null,null,{"$f":"TeamScoreWithPlayers($B7,\"H\", 4, 'MN_5 DM'!$F$3:$F$4000, 'MN_5 DM'!$E$3:$E$4000,'MN_5 DM'!$G$3:$G$4000,'MN_5 DM'!$C$3:$C$4000,\"TS\")","v":1523},{"$f":"TeamScoreWithPlayers($B7,\"H\", 4, 'MN_5 DM'!$F$3:$F$4000, 'MN_5 DM'!$E$3:$E$4000,'MN_5 DM'!$G$3:$G$4000,'MN_5 DM'!$C$3:$C$4000,\"P1\")","v":"(B) ETHANM LUNDBERG - [565]"},{"$f":"TeamScoreWithPlayers($B7,\"H\", 4, 'MN_5 DM'!$F$3:$F$4000, 'MN_5 DM'!$E$3:$E$4000,'MN_5 DM'!$G$3:$G$4000,'MN_5 DM'!$C$3:$C$4000,\"P2\")","v":"(B) JACOB T OLSON - [531]"},{"$f":"TeamScoreWithPlayers($B7,\"H\", 4, 'MN_5 DM'!$F$3:$F$4000, 'MN_5 DM'!$E$3:$E$4000,'MN_5 DM'!$G$3:$G$4000,'MN_5 DM'!$C$3:$C$4000,\"P3\")","v":"(B) GABE LINDSTROM - [427]"},{"$f":"TeamScoreWithPlayers($B7,\"H\", 4, 'MN_5 DM'!$F$3:$F$4000, 'MN_5 DM'!$E$3:$E$4000,'MN_5 DM'!$G$3:$G$4000,'MN_5 DM'!$C$3:$C$4000,\"P4\")","v":"()  - [0]"},null,1523,1523,null,0]
[7,"Roseville Area Composite",{"$f":"TeamScore(B8,\"H\", 4, 'MN_5 DM'!$F$3:$F$4000,'MN_5 DM'!$G$3:$G$4000,'MN_5 DM'!$C$3:$C$4000)","v":1471},null,null,{"$f":"TeamScoreWithPlayers($B8,\"H\", 4, 'MN_5 DM'!$F$3:$F$4000, 'MN_5 DM'!$E$3:$E$4000,'MN_5 DM'!$G$3:$G$4000,'MN_5 DM'!$C$3:$C$4000,\"TS\")","v":1471},{"$f":"TeamScoreWithPlayers($B8,\"H\", 4, 'MN_5 DM'!$F$3:$F$4000, 'MN_5 DM'!$E$3:$E$4000,'MN_5 DM'!$G$3:$G$4000,'MN_5 DM'!$C$3:$C$4000,\"P1\")","v":"(G) SANDY FISH - [467]"},{"$f":"TeamScoreWithPlayers($B8,\"H\", 4, 'MN_5 DM'!$F$3:$F$4000, 'MN_5 DM'!$E$3:$E$4000,'MN_5 DM'!$G$3:$G$4000,'MN_5 DM'!$C$3:$C$4000,\"P2\")","v":"(B) SIMON ENGLUND - [356]"},{"$f":"TeamScoreWithPlayers($B8,\"H\", 4, 'MN_5 DM'!$F$3:$F$4000, 'MN_5 DM'!$E$3:$E$4000,'MN_5 DM'!$G$3:$G$4000,'MN_5 DM'!$C$3:$C$4000,\"P3\")","v":"(B) WILLEM NIBBELINK - [344]"},{"$f":"TeamScoreWithPlayers($B8,\"H\", 4, 'MN_5 DM'!$F$3:$F$4000, 'MN_5 DM'!$E$3:$E$4000,'MN_5 DM'!$G$3:$G$4000,'MN_5 DM'!$C$3:$C$4000,\"P4\")","v":"(B) CHARLEY CROWSON - [304]"},null,1471,1471,null,0]
[8,"Kerkhoven Composite",{"$f":"TeamScore(B9,\"H\", 4, 'MN_5 DM'!$F$3:$F$4000,'MN_5 DM'!$G$3:$G$4000,'MN_5 DM'!$C$3:$C$4000)","v":1086},null,null,{"$f":"TeamScoreWithPlayers($B9,\"H\", 4, 'MN_5 DM'!$F$3:$F$4000, 'MN_5 DM'!$E$3:$E$4000,'MN_5 DM'!$G$3:$G$4000,'MN_5 DM'!$C$3:$C$4000,\"TS\")","v":1086},{"$f":"TeamScoreWithPlayers($B9,\"H\", 4, 'MN_5 DM'!$F$3:$F$4000, 'MN_5 DM'!$E$3:$E$4000,'MN_5 DM'!$G$3:$G$4000,'MN_5 DM'!$C$3:$C$4000,\"P1\")","v":"(B) JUSTIN ROSENBOOM - [370]"},{"$f":"TeamScoreWithPlayers($B9,\"H\", 4, 'MN_5 DM'!$F$3:$F$4000, 'MN_5 DM'!$E$3:$E$4000,'MN_5 DM'!$G$3:$G$4000,'MN_5 DM'!$C$3:$C$4000,\"P2\")","v":"(B) BENJAMIN STRICKLAND - [360]"},{"$f":"TeamScoreWithPlayers($B9,\"H\", 4, 'MN_5 DM'!$F$3:$F$4000, 'MN_5 DM'!$E$3:$E$4000,'MN_5 DM'!$G$3:$G$4000,'MN_5 DM'!$C$3:$C$4000,\"P3\")","v":"(B) CARL BENSON - [356]"},{"$f":"TeamScoreWithPlayers($B9,\"H\", 4, 'MN_5 DM'!$F$3:$F$4000, 'MN_5 DM'!$E$3:$E$4000,'MN_5 DM'!$G$3:$G$4000,'MN_5 DM'!$C$3:$C$4000,\"P4\")","v":"()  - [0]"},null,1086,1086,null,0]
[9,"North Dakota Composite",{"$f":"TeamScore(B10,\"H\", 4, 'MN_5 DM'!$F$3:$F$4000,'MN_5 DM'!$G$3:$G$4000,'MN_5 DM'!$C$3:$C$4000)","v":1837},null,null,{"$f":"TeamScoreWithPlayers($B10,\"H\", 4, 'MN_5 DM'!$F$3:$F$4000, 'MN_5 DM'!$E$3:$E$4000,'MN_5 DM'!$G$3:$G$4000,'MN_5 DM'!$C$3:$C$4000,\"TS\")","v":1837},{"$f":"TeamScoreWithPlayers($B10,\"H\", 4, 'MN_5 DM'!$F$3:$F$4000, 'MN_5 DM'!$E$3:$E$4000,'MN_5 DM'!$G$3:$G$4000,'MN_5 DM'!$C$3:$C$4000,\"P1\")","v":"(G) JADAH KELLY - [481]"},{"$f":"TeamScoreWithPlayers($B10,\"H\", 4, 'MN_5 DM'!$F$3:$F$4000, 'MN_5 DM'!$E$3:$E$4000,'MN_5 DM'!$G$3:$G$4000,'MN_5 DM'!$C$3:$C$4000,\"P2\")","v":"(B) SETH HEIN - [472]"},{"$f":"TeamScoreWithPlayers($B10,\"H\", 4, 'MN_5 DM'!$F$3:$F$4000, 'MN_5 DM'!$E$3:$E$4000,'MN_5 DM'!$G$3:$G$4000,'MN_5 DM'!$C$3:$C$4000,\"P3\")","v":"(B) BRODY PARMER - [464]"},{"$f":"TeamScoreWithPlayers($B10,\"H\", 4, 'MN_5 DM'!$F$3:$F$4000, 'MN_5 DM'!$E$3:$E$4000,'MN_5 DM'!$G$3:$G$4000,'MN_5 DM'!$C$3:$C$4000,\"P4\")","v":"(B) LUKAS ROBINSON - [420]"},null,1837,1837,null,0]
[10,"Rogers High School",{"$f":"TeamScore(B11,\"H\", 4, 'MN_5 DM'!$F$3:$F$4000,'MN_5 DM'!$G$3:$G$4000,'MN_5 DM'!$C$3:$C$4000)","v":870},null,null,{"$f":"TeamScoreWithPlayers($B11,\"H\", 4, 'MN_5 DM'!$F$3:$F$4000, 'MN_5 DM'!$E$3:$E$4000,'MN_5 DM'!$G$3:$G$4000,'MN_5 DM'!$C$3:$C$4000,\"TS\")","v":870},{"$f":"TeamScoreWithPlayers($B11,\"H\", 4, 'MN_5 DM'!$F$3:$F$4000, 'MN_5 DM'!$E$3:$E$4000,'MN_5 DM'!$G$3:$G$4000,'MN_5 DM'!$C$3:$C$4000,\"P1\")","v":"(B) DOMENIC HEGMAN - [490]"},{"$f":"TeamScoreWithPlayers($B11,\"H\", 4, 'MN_5 DM'!$F$3:$F$4000, 'MN_5 DM'!$E$3:$E$4000,'MN_5 DM'!$G$3:$G$4000,'MN_5 DM'!$C$3:$C$4000,\"P2\")","v":"(B) MATTHEW O'BRIEN - [380]"},{"$f":"TeamScoreWithPlayers($B11,\"H\", 4, 'MN_5 DM'!$F$3:$F$4000, 'MN_5 DM'!$E$3:$E$4000,'MN_5 DM'!$G$3:$G$4000,'MN_5 DM'!$C$3:$C$4000,\"P3\")","v":"()  - [0]"},{"$f":"TeamScoreWithPlayers($B11,\"H\", 4, 'MN_5 DM'!$F$3:$F$4000, 'MN_5 DM'!$E$3:$E$4000,'MN_5 DM'!$G$3:$G$4000,'MN_5 DM'!$C$3:$C$4000,\"P4\")","v":"()  - [0]"},null,870,870,null,0]
[11,"Eden Prairie High School",{"$f":"TeamScore(B12,\"H\", 4, 'MN_5 DM'!$F$3:$F$4000,'MN_5 DM'!$G$3:$G$4000,'MN_5 DM'!$C$3:$C$4000)","v":1426},null,null,{"$f":"TeamScoreWithPlayers($B12,\"H\", 4, 'MN_5 DM'!$F$3:$F$4000, 'MN_5 DM'!$E$3:$E$4000,'MN_5 DM'!$G$3:$G$4000,'MN_5 DM'!$C$3:$C$4000,\"TS\")","v":1426},{"$f":"TeamScoreWithPlayers($B12,\"H\", 4, 'MN_5 DM'!$F$3:$F$4000, 'MN_5 DM'!$E$3:$E$4000,'MN_5 DM'!$G$3:$G$4000,'MN_5 DM'!$C$3:$C$4000,\"P1\")","v":"(B) OWEN BRATTEBO - [521]"},{"$f":"TeamScoreWithPlayers($B12,\"H\", 4, 'MN_5 DM'!$F$3:$F$4000, 'MN_5 DM'!$E$3:$E$4000,'MN_5 DM'!$G$3:$G$4000,'MN_5 DM'!$C$3:$C$4000,\"P2\")","v":"(B) LUKE WARZECHA - [464]"},{"$f":"TeamScoreWithPlayers($B12,\"H\", 4, 'MN_5 DM'!$F$3:$F$4000, 'MN_5 DM'!$E$3:$E$4000,'MN_5 DM'!$G$3:$G$4000,'MN_5 DM'!$C$3:$C$4000,\"P3\")","v":"(B) CHARLIE STEFFEN - [441]"},{"$f":"TeamScoreWithPlayers($B12,\"H\", 4, 'MN_5 DM'!$F$3:$F$4000, 'MN_5 DM'!$E$3:$E$4000,'MN_5 DM'!$G$3:$G$4000,'MN_5 DM'!$C$3:$C$4000,\"P4\")","v":"()  - [0]"},null,1426,1426,null,0]
[12,"West Range Composite",{"$f":"TeamScore(B13,\"H\", 4, 'MN_5 DM'!$F$3:$F$4000,'MN_5 DM'!$G$3:$G$4000,'MN_5 DM'!$C$3:$C$4000)","v":434},null,null,{"$f":"TeamScoreWithPlayers($B13,\"H\", 4, 'MN_5 DM'!$F$3:$F$4000, 'MN_5 DM'!$E$3:$E$4000,'MN_5 DM'!$G$3:$G$4000,'MN_5 DM'!$C$3:$C$4000,\"TS\")","v":434},{"$f":"TeamScoreWithPlayers($B13,\"H\", 4, 'MN_5 DM'!$F$3:$F$4000, 'MN_5 DM'!$E$3:$E$4000,'MN_5 DM'!$G$3:$G$4000,'MN_5 DM'!$C$3:$C$4000,\"P1\")","v":"(B) HOWIE LIND - [434]"},{"$f":"TeamScoreWithPlayers($B13,\"H\", 4, 'MN_5 DM'!$F$3:$F$4000, 'MN_5 DM'!$E$3:$E$4000,'MN_5 DM'!$G$3:$G$4000,'MN_5 DM'!$C$3:$C$4000,\"P2\")","v":"()  - [0]"},{"$f":"TeamScoreWithPlayers($B13,\"H\", 4, 'MN_5 DM'!$F$3:$F$4000, 'MN_5 DM'!$E$3:$E$4000,'MN_5 DM'!$G$3:$G$4000,'MN_5 DM'!$C$3:$C$4000,\"P3\")","v":"()  - [0]"},{"$f":"TeamScoreWithPlayers($B13,\"H\", 4, 'MN_5 DM'!$F$3:$F$4000, 'MN_5 DM'!$E$3:$E$4000,'MN_5 DM'!$G$3:$G$4000,'MN_5 DM'!$C$3:$C$4000,\"P4\")","v":"()  - [0]"},null,434,434,null,0]
[13,"North Dakota Kindred Composite",{"$f":"TeamScore(B14,\"H\", 4, 'MN_5 DM'!$F$3:$F$4000,'MN_5 DM'!$G$3:$G$4000,'MN_5 DM'!$C$3:$C$4000)","v":1359},null,null,{"$f":"TeamScoreWithPlayers($B14,\"H\", 4, 'MN_5 DM'!$F$3:$F$4000, 'MN_5 DM'!$E$3:$E$4000,'MN_5 DM'!$G$3:$G$4000,'MN_5 DM'!$C$3:$C$4000,\"TS\")","v":1359},{"$f":"TeamScoreWithPlayers($B14,\"H\", 4, 'MN_5 DM'!$F$3:$F$4000, 'MN_5 DM'!$E$3:$E$4000,'MN_5 DM'!$G$3:$G$4000,'MN_5 DM'!$C$3:$C$4000,\"P1\")","v":"(B) ISAAC SCHWARZ - [490]"},{"$f":"TeamScoreWithPlayers($B14,\"H\", 4, 'MN_5 DM'!$F$3:$F$4000, 'MN_5 DM'!$E$3:$E$4000,'MN_5 DM'!$G$3:$G$4000,'MN_5 DM'!$C$3:$C$4000,\"P2\")","v":"(B) ELIJAH SCHWARZ - [467]"},{"$f":"TeamScoreWithPlayers($B14,\"H\", 4, 'MN_5 DM'!$F$3:$F$4000, 'MN_5 DM'!$E$3:$E$4000,'MN_5 DM'!$G$3:$G$4000,'MN_5 DM'!$C$3:$C$4000,\"P3\")","v":"(B) NOAH SAUVAGEAU - [402]"},{"$f":"TeamScoreWithPlayers($B14,\"H\", 4, 'MN_5 DM'!$F$3:$F$4000, 'MN_5 DM'!$E$3:$E$4000,'MN_5 DM'!$G$3:$G$4000,'MN_5 DM'!$C$3:$C$4000,\"P4\")","v":"()  - [0]"},null,1359,1359,null,0]
[14,"Duluth Composite",{"$f":"TeamScore(B15,\"H\", 4, 'MN_5 DM'!$F$3:$F$4000,'MN_5 DM'!$G$3:$G$4000,'MN_5 DM'!$C$3:$C$4000)","v":2001},null,null,{"$f":"TeamScoreWithPlayers($B15,\"H\", 4, 'MN_5 DM'!$F$3:$F$4000, 'MN_5 DM'!$E$3:$E$4000,'MN_5 DM'!$G$3:$G$4000,'MN_5 DM'!$C$3:$C$4000,\"TS\")","v":2001},{"$f":"TeamScoreWithPlayers($B15,\"H\", 4, 'MN_5 DM'!$F$3:$F$4000, 'MN_5 DM'!$E$3:$E$4000,'MN_5 DM'!$G$3:$G$4000,'MN_5 DM'!$C$3:$C$4000,\"P1\")","v":"(B) BODEE MCFADDEN - [530]"},{"$f":"TeamScoreWithPlayers($B15,\"H\", 4, 'MN_5 DM'!$F$3:$F$4000, 'MN_5 DM'!$E$3:$E$4000,'MN_5 DM'!$G$3:$G$4000,'MN_5 DM'!$C$3:$C$4000,\"P2\")","v":"(B) OWEN VANDAL - [500]"},{"$f":"TeamScoreWithPlayers($B15,\"H\", 4, 'MN_5 DM'!$F$3:$F$4000, 'MN_5 DM'!$E$3:$E$4000,'MN_5 DM'!$G$3:$G$4000,'MN_5 DM'!$C$3:$C$4000,\"P3\")","v":"(G) NATALIA KUNZE - [490]"},{"$f":"TeamScoreWithPlayers($B15,\"H\", 4, 'MN_5 DM'!$F$3:$F$4000, 'MN_5 DM'!$E$3:$E$4000,'MN_5 DM'!$G$3:$G$4000,'MN_5 DM'!$C$3:$C$4000,\"P4\")","v":"(B) QUINN SPOHN - [481]"},null,2001,2001,null,0]
[15,"Bemidji Composite",{"$f":"TeamScore(B16,\"H\", 4, 'MN_5 DM'!$F$3:$F$4000,'MN_5 DM'!$G$3:$G$4000,'MN_5 DM'!$C$3:$C$4000)","v":1726},null,null,{"$f":"TeamScoreWithPlayers($B16,\"H\", 4, 'MN_5 DM'!$F$3:$F$4000, 'MN_5 DM'!$E$3:$E$4000,'MN_5 DM'!$G$3:$G$4000,'MN_5 DM'!$C$3:$C$4000,\"TS\")","v":1726},{"$f":"TeamScoreWithPlayers($B16,\"H\", 4, 'MN_5 DM'!$F$3:$F$4000, 'MN_5 DM'!$E$3:$E$4000,'MN_5 DM'!$G$3:$G$4000,'MN_5 DM'!$C$3:$C$4000,\"P1\")","v":"(G) FAYE CALVERT - [456]"},{"$f":"TeamScoreWithPlayers($B16,\"H\", 4, 'MN_5 DM'!$F$3:$F$4000, 'MN_5 DM'!$E$3:$E$4000,'MN_5 DM'!$G$3:$G$4000,'MN_5 DM'!$C$3:$C$4000,\"P2\")","v":"(B) LOUIS MORRISSEY - [430]"},{"$f":"TeamScoreWithPlayers($B16,\"H\", 4, 'MN_5 DM'!$F$3:$F$4000, 'MN_5 DM'!$E$3:$E$4000,'MN_5 DM'!$G$3:$G$4000,'MN_5 DM'!$C$3:$C$4000,\"P3\")","v":"(G) JULIA CALVERT - [420]"},{"$f":"TeamScoreWithPlayers($B16,\"H\", 4, 'MN_5 DM'!$F$3:$F$4000, 'MN_5 DM'!$E$3:$E$4000,'MN_5 DM'!$G$3:$G$4000,'MN_5 DM'!$C$3:$C$4000,\"P4\")","v":"(B) MIKKOL YOST - [420]"},null,1726,1726,null,0]
[16,"Spectrum High School",{"$f":"TeamScore(B17,\"H\", 4, 'MN_5 DM'!$F$3:$F$4000,'MN_5 DM'!$G$3:$G$4000,'MN_5 DM'!$C$3:$C$4000)","v":1193},null,null,{"$f":"TeamScoreWithPlayers($B17,\"H\", 4, 'MN_5 DM'!$F$3:$F$4000, 'MN_5 DM'!$E$3:$E$4000,'MN_5 DM'!$G$3:$G$4000,'MN_5 DM'!$C$3:$C$4000,\"TS\")","v":1193},{"$f":"TeamScoreWithPlayers($B17,\"H\", 4, 'MN_5 DM'!$F$3:$F$4000, 'MN_5 DM'!$E$3:$E$4000,'MN_5 DM'!$G$3:$G$4000,'MN_5 DM'!$C$3:$C$4000,\"P1\")","v":"(B) ANDREW BURQUEST - [425]"},{"$f":"TeamScoreWithPlayers($B17,\"H\", 4, 'MN_5 DM'!$F$3:$F$4000, 'MN_5 DM'!$E$3:$E$4000,'MN_5 DM'!$G$3:$G$4000,'MN_5 DM'!$C$3:$C$4000,\"P2\")","v":"(B) GARRETT PETERSON - [402]"},{"$f":"TeamScoreWithPlayers($B17,\"H\", 4, 'MN_5 DM'!$F$3:$F$4000, 'MN_5 DM'!$E$3:$E$4000,'MN_5 DM'!$G$3:$G$4000,'MN_5 DM'!$C$3:$C$4000,\"P3\")","v":"(B) MATTHEW BURQUEST - [366]"},{"$f":"TeamScoreWithPlayers($B17,\"H\", 4, 'MN_5 DM'!$F$3:$F$4000, 'MN_5 DM'!$E$3:$E$4000,'MN_5 DM'!$G$3:$G$4000,'MN_5 DM'!$C$3:$C$4000,\"P4\")","v":"()  - [0]"},null,1193,1193,null,0]
[17,"Irondale High School",{"$f":"TeamScore(B18,\"H\", 4, 'MN_5 DM'!$F$3:$F$4000,'MN_5 DM'!$G$3:$G$4000,'MN_5 DM'!$C$3:$C$4000)","v":357},null,null,{"$f":"TeamScoreWithPlayers($B18,\"H\", 4, 'MN_5 DM'!$F$3:$F$4000, 'MN_5 DM'!$E$3:$E$4000,'MN_5 DM'!$G$3:$G$4000,'MN_5 DM'!$C$3:$C$4000,\"TS\")","v":357},{"$f":"TeamScoreWithPlayers($B18,\"H\", 4, 'MN_5 DM'!$F$3:$F$4000, 'MN_5 DM'!$E$3:$E$4000,'MN_5 DM'!$G$3:$G$4000,'MN_5 DM'!$C$3:$C$4000,\"P1\")","v":"(B) JAMES CHIRI - [357]"},{"$f":"TeamScoreWithPlayers($B18,\"H\", 4, 'MN_5 DM'!$F$3:$F$4000, 'MN_5 DM'!$E$3:$E$4000,'MN_5 DM'!$G$3:$G$4000,'MN_5 DM'!$C$3:$C$4000,\"P2\")","v":"()  - [0]"},{"$f":"TeamScoreWithPlayers($B18,\"H\", 4, 'MN_5 DM'!$F$3:$F$4000, 'MN_5 DM'!$E$3:$E$4000,'MN_5 DM'!$G$3:$G$4000,'MN_5 DM'!$C$3:$C$4000,\"P3\")","v":"()  - [0]"},{"$f":"TeamScoreWithPlayers($B18,\"H\", 4, 'MN_5 DM'!$F$3:$F$4000, 'MN_5 DM'!$E$3:$E$4000,'MN_5 DM'!$G$3:$G$4000,'MN_5 DM'!$C$3:$C$4000,\"P4\")","v":"()  - [0]"},null,357,357,null,0]
[18]
[]
[]
[]
[null,"Results sorted High to Low"]
["Place","TEAM","Score",null,null,"New Total Score","P1","P2","P3","P4"]
[1,"Duluth Composite",2001,null,null,2001,"(B) BODEE MCFADDEN - [530]","(B) OWEN VANDAL - [500]","(G) NATALIA KUNZE - [490]","(B) QUINN SPOHN - [481]",null,{"$f":"getnumeric(G25)+getnumeric(H25)+getnumeric(I25)+getnumeric(J25)","v":2001},{"$f":"L25-C25","v":0}]
[2,"Minnesota Valley Composite",1882,null,null,1882,"(G) CARISSA BOLSTER - [481]","(B) ZACH FAHEY - [481]","(B) ODEN OLSON - [472]","(B) SAWYER SCHETTL - [448]",null,1882,{"$f":"L26-C26","v":0}]
[3,"North Dakota Composite",1837,null,null,1837,"(G) JADAH KELLY - [481]","(B) SETH HEIN - [472]","(B) BRODY PARMER - [464]","(B) LUKAS ROBINSON - [420]",null,1837,0]
[4,"St Cloud Area Composite",1816,null,null,1816,"(G) ELLA DOLS - [530]","(B) HOLDEN ZAK - [500]","(B) ANDREW HACKENMUELLER - [396]","(B) JONAH RICARD - [390]",null,1816,0]
[5,"Elk River Composite",1766,null,null,1766,"(B) GRADY MAGRUDER - [456]","(G) AUDREY KEMPEL - [454]","(B) COLTON BANKS - [436]","(B) BO JEFFERS - [420]",null,1766,0]
[6,"Bemidji Composite",1726,null,null,1726,"(G) FAYE CALVERT - [456]","(B) LOUIS MORRISSEY - [430]","(G) JULIA CALVERT - [420]","(B) MIKKOL YOST - [420]",null,1726,0]
[7,"Northwest Composite",1523,null,null,1523,"(B) ETHANM LUNDBERG - [565]","(B) JACOB T OLSON - [531]","(B) GABE LINDSTROM - [427]","()  - [0]",null,1523,0]
[8,"Roseville Area Composite",1471,null,null,1471,"(G) SANDY FISH - [467]","(B) SIMON ENGLUND - [356]","(B) WILLEM NIBBELINK - [344]","(B) CHARLEY CROWSON - [304]",null,1471,0]
[9,"Eden Prairie High School",1426,null,null,1426,"(B) OWEN BRATTEBO - [521]","(B) LUKE WARZECHA - [464]","(B) CHARLIE STEFFEN - [441]","()  - [0]",null,1426,0]
[10,"North Dakota Kindred Composite",1359,null,null,1359,"(B) ISAAC SCHWARZ - [490]","(B) ELIJAH SCHWARZ - [467]","(B) NOAH SAUVAGEAU - [402]","()  - [0]",null,1359,0]
[11,"Tioga Trailblazers",1323,null,null,1323,"(B) ELI CHERNE - [448]","(B) BREVIK BROWN - [441]","(B) BEN SCHROEDER - [434]","()  - [0]",null,1323,0]
[12,"Spectrum High School",1193,null,null,1193,"(B) ANDREW BURQUEST - [425]","(B) GARRETT PETERSON - [402]","(B) MATTHEW BURQUEST - [366]","()  - [0]",null,1193,0]
[13,"Kerkhoven Composite",1086,null,null,1086,"(B) JUSTIN ROSENBOOM - [370]","(B) BENJAMIN STRICKLAND - [360]","(B) CARL BENSON - [356]","()  - [0]",null,1086,0]
[14,"Totino Grace High School",885,null,null,885,"(B) JACK LIISTE - [495]","(B) BRODY BERGLIN - [390]","()  - [0]","()  - [0]",null,885,0]
[15,"Rogers High School",870,null,null,870,"(B) DOMENIC HEGMAN - [490]","(B) MATTHEW O'BRIEN - [380]","()  - [0]","()  - [0]",null,870,0]
[16,"West Range Composite",434,null,null,434,"(B) HOWIE LIND - [434]","()  - [0]","()  - [0]","()  - [0]",null,434,0]
[17,"Irondale High School",357,null,null,357,"(B) JAMES CHIRI - [357]","()  - [0]","()  - [0]","()  - [0]",null,357,0]
[18]

{"sheet":"ScoresBySorting","index":7,"n_rows":4,"n_cols":11,"rows_kept":4,"cut":false,"hidden":false,"merged":[]}
["Sheet Name",null,null,null,null,null,"Count","Division","High or Middle","Score"]
["MN_5 DM",null,null,null,null,"Irondale High School",403,{"$f":"D4","v":2},"High School",357]
["IYRaceID","Place","Points","Division","Name","Team Name","Category","Comment","IYRaceID","Plate","Laps"]
[100389942,34,357,2,"JAMES CHIRI","Irondale High School","JV3 Boys",null,100389942,1097,3]

{"sheet":"Sheet2","index":8,"n_rows":86,"n_cols":2,"rows_kept":86,"cut":false,"hidden":false,"merged":[]}
["Team Name","Div"]
["Alexandria Area Youth Cycling",1]
["Apple Valley HS",2]
["Armstrong Cycle Club",1]
["Austin High School",2]
["BBB Cycling Composite Team",2]
["Bemidji Composite",2]
["Bloomington Composite",2]
["Bloomington Jefferson",1]
["Brainerd High School",1]
["Burnsville High School",2]
["Cannon Valley Composite",2]
["Champlin Park High School",1]
["Chanhassen High School",1]
["Chaska High School",1]
["Chisago Lakes Composite",2]
["Cloquet-Esko-Carlton",2]
["Crosby-Ironton High School",1]
["Duluth Composite",2]
["Duluth East High School",1]
["Eagan High School",2]
["East Ridge High School",2]
["Eastview High School",2]
["Eden Prairie High School",2]
["Edina Cycling Team",1]
["Elk River Composite",2]
["Hastings Area Composite",2]
["Highland Park - St. Paul",2]
["Hopkins High School",1]
["Hudson High School",1]
["Hutchinson High School",2]
["Irondale High School",2]
["Kerkhoven Composite",2]
["Lakeville North High School",2]
["Lakeville South High School",2]
["Mahtomedi High School",2]
["Mankato Composite",2]
["Mankato West High School",2]
["Maple Grove High School",2]
["Minneapolis Henry High School",2]
["Minneapolis Northside Composite",2]
["Minnesota Valley Composite",2]
["Minnetonka High School",1]
["Mound Westonka Composite",2]
["Mounds View High School",1]
["MPLS South High",2]
["MPLS Southside Composite",2]
["New Prague Middle and High School",1]
["North Dakota Composite",2]
["North Dakota Kindred Composite",2]
["Northwest Composite",2]
["Open World Learning Community",2]
["Orono High School",1]
["Osseo Composite",2]
["Osseo ",2]
["Park High School",2]
["Prior Lake High School",1]
["River Falls High School",2]
["Rochester Area Comp",2]
["Rochester Century HS",1]
["Rochester Mayo ",2]
["Rock Ridge Composite",2]
["Rockford Composite",2]
["Rogers High School",2]
["Roosevelt High School",2]
["Rosemount HS",2]
["Roseville Area Composite",2]
["Saint Paul Composite",2]
["Shakopee High School",1]
["Southwest Minneapolis",1]
["Spectrum High School",2]
["St Cloud Area Composite",2]
["St Croix Composite",2]
["St Louis Park High School",2]
["St. Michael / Albertville Composite",2]
["St. Paul Central",2]
["Stillwater Mountain Bike",1]
["Team BOREALIS Composite",2]
["Tioga Trailblazers",2]
["Totino Grace High School",2]
["Washburn  High School",1]
["Wayzata Mountain Bike Team",1]
["West Range Composite",2]
["White Bear Lake High School",1]
["Winona",1]
["Woodbury High School Comp",2]