{"text_format":"1","workbook":"xlsx","n_sheets":10,"sheets":["MN_7_REDHEAD","Sheet3","Team Scores Formatted","Middle School D1","Middle School D2","High School D1","High School D2","ScoresBySorting","Divisions","Sheet2"],"not_rendered":{"charts":0,"images":0,"macros":1,"external_links":0,"defined_names":7,"comments":0,"pivot_tables":0},"unopened":[],"bounds":{"document_bytes":16777216,"sheet_cells":100000,"rows_first":2000,"rows_last":500,"rows_between":2000,"halvings":0,"cell_chars":16384,"cell_head_chars":4096},"cells_cut":0,"cells_raw":0,"read":"whole","date_system":"1900"}

{"sheet":"MN_7_REDHEAD","index":0,"n_rows":1391,"n_cols":19,"rows_kept":1391,"cut":false,"hidden":false,"merged":[]}
[null,"Overall Lap by Division Race Report as of 10/18/2022 3:23:32 PM"]
[]
["Rider #","Place","Total Points","Team Division","Name","Team Name","Cateogry","Comment","Rider #","Plate","Laps","Adjust","Total","Lap 1","Lap 2","Lap 3","Lap 4","Points","All Team Extra Points"]
[100388196,1,{"$f":"+S4+R4","v":550},{"$f":"VLOOKUP(F4,Sheet3!$D$3:$E$91,2,FALSE)","v":1},"DANIEL DEWEY","Cloquet-Esko-Carlton","6th Grade Boys D1",null,100388196,8029,1," 00:00:00.000"," 00:18:36.129"," 00:18:36.129",null,null,null,500,50]
[100405726,2,539,{"$f":"VLOOKUP(F5,Sheet3!$D$3:$E$91,2,FALSE)","v":1},"GUS LAYMAN","Rock Ridge Composite","6th Grade Boys D1",null,100405726,8115,1," 00:00:00.000"," 00:20:30.911"," 00:20:30.911",null,null,null,490,49]
[100405356,3,529,{"$f":"VLOOKUP(F6,Sheet3!$D$3:$E$91,2,FALSE)","v":1},"JACKSON RUNCK","Minnetonka High School","6th Grade Boys D1",null,100405356,8076,1," 00:00:00.000"," 00:20:58.718"," 00:20:58.718",null,null,null,481,48]
[100406264,4,519,{"$f":"VLOOKUP(F7,Sheet3!$D$3:$E$91,2,FALSE)","v":1},"TEDDY SANDERSON","Stillwater Mountain Bike","6th Grade Boys D1",null,100406264,8152,1," 00:00:00.000"," 00:21:04.028"," 00:21:04.028",null,null,null,472,47]
[100418932,5,510,{"$f":"VLOOKUP(F8,Sheet3!$D$3:$E$91,2,FALSE)","v":1},"CARTER OSVOLD","Cloquet-Esko-Carlton","6th Grade Boys D1",null,100418932,8033,1," 00:00:00.000"," 00:21:08.048"," 00:21:08.048",null,null,null,464,46]
[100409698,6,501,{"$f":"VLOOKUP(F9,Sheet3!$D$3:$E$91,2,FALSE)","v":1},"LUCAS TRUCKENMILLER","East Ridge High School","6th Grade Boys D1",null,100409698,8097,1," 00:00:00.000"," 00:21:21.528"," 00:21:21.528",null,null,null,456,45]
[100411092,7,492,{"$f":"VLOOKUP(F10,Sheet3!$D$3:$E$91,2,FALSE)","v":1},"OWEN LAWSON","East Ridge High School","6th Grade Boys D1",null,100411092,8040,1," 00:00:00.000"," 00:21:21.620"," 00:21:21.620",null,null,null,448,44]
[100408914,8,484,{"$f":"VLOOKUP(F11,Sheet3!$D$3:$E$91,2,FALSE)","v":1},"HUDSON LUEDERS","East Ridge High School","6th Grade Boys D1",null,100408914,8041,1," 00:00:00.000"," 00:21:26.045"," 00:21:26.045",null,null,null,441,43]
[100427835,9,476,{"$f":"VLOOKUP(F12,Sheet3!$D$3:$E$91,2,FALSE)","v":1},"CHARLIE HUGHES","Cloquet-Esko-Carlton","6th Grade Boys D1",null,100427835,8032,1," 00:00:00.000"," 00:21:43.061"," 00:21:43.061",null,null,null,434,42]
[100430928,10,468,{"$f":"VLOOKUP(F13,Sheet3!$D$3:$E$91,2,FALSE)","v":1},"LANDON HAGEN","Brainerd High School","6th Grade Boys D1",null,100430928,8016,1," 00:00:00.000"," 00:21:45.520"," 00:21:45.520",null,null,null,427,41]
[100390211,11,460,{"$f":"VLOOKUP(F14,Sheet3!$D$3:$E$91,2,FALSE)","v":1},"AKSEL DREVLOW","East Ridge High School","6th Grade Boys D1",null,100390211,8038,1," 00:00:00.000"," 00:22:10.400"," 00:22:10.400",null,null,null,420,40]
[100416467,12,453,{"$f":"VLOOKUP(F15,Sheet3!$D$3:$E$91,2,FALSE)","v":1},"HENRY WEIS","Stillwater Mountain Bike","6th Grade Boys D1",null,100416467,8155,1," 00:00:00.000"," 00:22:12.754"," 00:22:12.754",null,null,null,414,39]
[100390041,13,446,{"$f":"VLOOKUP(F16,Sheet3!$D$3:$E$91,2,FALSE)","v":1},"BECKETT CRAINE","Crosby-Ironton High School","6th Grade Boys D1",null,100390041,8035,1," 00:00:00.000"," 00:22:25.017"," 00:22:25.017",null,null,null,408,38]
[100420516,14,439,{"$f":"VLOOKUP(F17,Sheet3!$D$3:$E$91,2,FALSE)","v":1},"DJ SEVERSON","Edina Cycling","6th Grade Boys D1",null,100420516,8047,1," 00:00:00.000"," 00:22:44.987"," 00:22:44.987",null,null,null,402,37]
[100432243,15,432,{"$f":"VLOOKUP(F18,Sheet3!$D$3:$E$91,2,FALSE)","v":1},"AUGUST MAYER","Chaska High School","6th Grade Boys D1",null,100432243,8023,1," 00:00:00.000"," 00:23:27.784"," 00:23:27.784",null,null,null,396,36]
[100409471,16,425,{"$f":"VLOOKUP(F19,Sheet3!$D$3:$E$91,2,FALSE)","v":1},"LEVI WILLIAMS","Burnsville High School","6th Grade Boys D1",null,100409471,8020,1," 00:00:00.000"," 00:23:48.267"," 00:23:48.267",null,null,null,390,35]
[100429514,17,419,{"$f":"VLOOKUP(F20,Sheet3!$D$3:$E$91,2,FALSE)","v":1},"JONATHAN BERTELSON","Wayzata Mountain Bike","6th Grade Boys D1",null,100429514,8170,1," 00:00:00.000"," 00:23:51.727"," 00:23:51.727",null,null,null,385,34]
[100420382,18,413,{"$f":"VLOOKUP(F21,Sheet3!$D$3:$E$91,2,FALSE)","v":1},"MYLES INGVALSON","Lakeville North High School","6th Grade Boys D1",null,100420382,8062,1," 00:00:00.000"," 00:24:08.105"," 00:24:08.105",null,null,null,380,33]
[100407440,19,407,{"$f":"VLOOKUP(F22,Sheet3!$D$3:$E$91,2,FALSE)","v":1},"FINN SOFTICH","Rock Ridge Composite","6th Grade Boys D1",null,100407440,8120,1," 00:00:00.000"," 00:24:18.176"," 00:24:18.176",null,null,null,375,32]
[100427273,20,401,{"$f":"VLOOKUP(F23,Sheet3!$D$3:$E$91,2,FALSE)","v":1},"GRAHAM BERNU","Champlin Park High School","6th Grade Boys D1",null,100427273,8021,1," 00:00:00.000"," 00:24:31.295"," 00:24:31.295",null,null,null,370,31]
[100406494,21,395,{"$f":"VLOOKUP(F24,Sheet3!$D$3:$E$91,2,FALSE)","v":1},"BENNETT SCHMIDT","Minnetonka High School","6th Grade Boys D1",null,100406494,8077,1," 00:00:00.000"," 00:24:31.301"," 00:24:31.301",null,null,null,365,30]
[100428895,22,389,{"$f":"VLOOKUP(F25,Sheet3!$D$3:$E$91,2,FALSE)","v":1},"TYLER HASSIS","Armstrong Cycle","6th Grade Boys D1",null,100428895,8005,1," 00:00:00.000"," 00:24:33.017"," 00:24:33.017",null,null,null,360,29]
[100418066,23,384,{"$f":"VLOOKUP(F26,Sheet3!$D$3:$E$91,2,FALSE)","v":1},"THEODORE JUFFER","Minneapolis Southwest","6th Grade Boys D1",null,100418066,8090,1," 00:00:00.000"," 00:24:36.498"," 00:24:36.498",null,null,null,356,28]
[100419609,24,379,{"$f":"VLOOKUP(F27,Sheet3!$D$3:$E$91,2,FALSE)","v":1},"ARNAV SINGH","Minneapolis Southwest","6th Grade Boys D1",null,100419609,8091,1," 00:00:00.000"," 00:24:39.018"," 00:24:39.018",null,null,null,352,27]
[100421262,25,374,{"$f":"VLOOKUP(F28,Sheet3!$D$3:$E$91,2,FALSE)","v":1},"MAKAI LUND","Shakopee High School","6th Grade Boys D1",null,100421262,8130,1," 00:00:00.000"," 00:24:43.377"," 00:24:43.377",null,null,null,348,26]
[100405255,26,369,{"$f":"VLOOKUP(F29,Sheet3!$D$3:$E$91,2,FALSE)","v":1},"FINN KOHLMYER","Minnetonka High School","6th Grade Boys D1",null,100405255,8074,1," 00:00:00.000"," 00:24:45.948"," 00:24:45.948",null,null,null,344,25]
[100429282,27,364,{"$f":"VLOOKUP(F30,Sheet3!$D$3:$E$91,2,FALSE)","v":1},"ETHAN REID","Brainerd High School","6th Grade Boys D1",null,100429282,8017,1," 00:00:00.000"," 00:24:55.949"," 00:24:55.949",null,null,null,340,24]
[100420497,28,359,{"$f":"VLOOKUP(F31,Sheet3!$D$3:$E$91,2,FALSE)","v":1},"NOAH DAHN","New Prague Middle and High School","6th Grade Boys D1",null,100420497,8093,1," 00:00:00.000"," 00:24:59.387"," 00:24:59.387",null,null,null,336,23]
[100433849,29,354,{"$f":"VLOOKUP(F32,Sheet3!$D$3:$E$91,2,FALSE)","v":1},"NOLAN STRUVE","Wayzata Mountain Bike","6th Grade Boys D1",null,100433849,8183,1," 00:00:00.000"," 00:25:03.793"," 00:25:03.793",null,null,null,332,22]
[100421645,30,350,{"$f":"VLOOKUP(F33,Sheet3!$D$3:$E$91,2,FALSE)","v":1},"CHARLIE HITCHIN","Minneapolis Southwest","6th Grade Boys D1",null,100421645,8089,1," 00:00:00.000"," 00:25:06.632"," 00:25:06.632",null,null,null,329,21]
[100427391,31,346,{"$f":"VLOOKUP(F34,Sheet3!$D$3:$E$91,2,FALSE)","v":1},"CHARLIE ELLICKSON","Wayzata Mountain Bike","6th Grade Boys D1",null,100427391,8171,1," 00:00:00.000"," 00:25:33.520"," 00:25:33.520",null,null,null,326,20]
[100429681,32,342,{"$f":"VLOOKUP(F35,Sheet3!$D$3:$E$91,2,FALSE)","v":1},"RAPHAEL ACHARYA","Wayzata Mountain Bike","6th Grade Boys D1",null,100429681,8167,1," 00:00:00.000"," 00:26:20.646"," 00:26:20.646",null,null,null,323,19]
[100421956,33,338,{"$f":"VLOOKUP(F36,Sheet3!$D$3:$E$91,2,FALSE)","v":1},"OLIVER SCHOENECK","Washburn High School","6th Grade Boys D1",null,100421956,8165,1," 00:00:00.000"," 00:26:30.066"," 00:26:30.066",null,null,null,320,18]
[100418378,34,334,{"$f":"VLOOKUP(F37,Sheet3!$D$3:$E$91,2,FALSE)","v":1},"NOLAN HEMMINGER","Stillwater Mountain Bike","6th Grade Boys D1",null,100418378,8150,1," 00:00:00.000"," 00:26:43.577"," 00:26:43.577",null,null,null,317,17]
[100407448,35,330,{"$f":"VLOOKUP(F38,Sheet3!$D$3:$E$91,2,FALSE)","v":1},"JACOB SCHNORR","Shakopee High School","6th Grade Boys D1",null,100407448,8132,1," 00:00:00.000"," 00:27:44.503"," 00:27:44.503",null,null,null,314,16]
[100407570,36,326,{"$f":"VLOOKUP(F39,Sheet3!$D$3:$E$91,2,FALSE)","v":1},"KIERAN ROARK","Rock Ridge Composite","6th Grade Boys D1",null,100407570,8118,1," 00:00:00.000"," 00:28:10.499"," 00:28:10.499",null,null,null,311,15]
[100391716,37,322,{"$f":"VLOOKUP(F40,Sheet3!$D$3:$E$91,2,FALSE)","v":1},"EZRA METSA","Rock Ridge Composite","6th Grade Boys D1",null,100391716,8116,1," 00:00:00.000"," 00:28:22.364"," 00:28:22.364",null,null,null,308,14]
[100427535,38,319,{"$f":"VLOOKUP(F41,Sheet3!$D$3:$E$91,2,FALSE)","v":1},"BROCK BARLAGE","New Prague Middle and High School","6th Grade Boys D1",null,100427535,8092,1," 00:00:00.000"," 00:28:24.021"," 00:28:24.021",null,null,null,306,13]
[100420233,39,316,{"$f":"VLOOKUP(F42,Sheet3!$D$3:$E$91,2,FALSE)","v":1},"PATRICK GRAMM","Rock Ridge Composite","6th Grade Boys D1",null,100420233,8113,1," 00:00:00.000"," 00:28:51.138"," 00:28:51.138",null,null,null,304,12]
[100426756,40,313,{"$f":"VLOOKUP(F43,Sheet3!$D$3:$E$91,2,FALSE)","v":1},"LUCAS JOHNSON","Wayzata Mountain Bike","6th Grade Boys D1",null,100426756,8173,1," 00:00:00.000"," 00:28:58.248"," 00:28:58.248",null,null,null,302,11]
[100405277,41,310,{"$f":"VLOOKUP(F44,Sheet3!$D$3:$E$91,2,FALSE)","v":1},"CONNOR STRICKLAND","Minnetonka High School","6th Grade Boys D1",null,100405277,8080,1," 00:00:00.000"," 00:29:04.143"," 00:29:04.143",null,null,null,300,10]
[100419508,42,307,{"$f":"VLOOKUP(F45,Sheet3!$D$3:$E$91,2,FALSE)","v":1},"HUDSON HOLSTE","Lakeville North High School","6th Grade Boys D1",null,100419508,8061,1," 00:00:00.000"," 00:29:13.697"," 00:29:13.697",null,null,null,298,9]
[100422015,44,301,{"$f":"VLOOKUP(F46,Sheet3!$D$3:$E$91,2,FALSE)","v":1},"CADEL GRAHAM","Minneapolis Southwest","6th Grade Boys D1",null,100422015,8087,1," 00:00:00.000"," 00:29:20.204"," 00:29:20.204",null,null,null,294,7]
[100430439,45,298,{"$f":"VLOOKUP(F47,Sheet3!$D$3:$E$91,2,FALSE)","v":1},"CHRISTIAN BEECHER","Wayzata Mountain Bike","6th Grade Boys D1",null,100430439,8169,1," 00:00:00.000"," 00:30:02.143"," 00:30:02.143",null,null,null,292,6]
[100416195,46,295,{"$f":"VLOOKUP(F48,Sheet3!$D$3:$E$91,2,FALSE)","v":1},"ALEX KLUKKEN","Minnetonka High School","6th Grade Boys D1",null,100416195,8073,1," 00:00:00.000"," 00:30:12.401"," 00:30:12.401",null,null,null,290,5]
[100426015,47,293,{"$f":"VLOOKUP(F49,Sheet3!$D$3:$E$91,2,FALSE)","v":1},"NOAH RIVERS","Burnsville High School","6th Grade Boys D1",null,100426015,8019,1," 00:00:00.000"," 00:33:40.401"," 00:33:40.401",null,null,null,289,4]
[100406084,48,0,{"$f":"VLOOKUP(F50,Sheet3!$D$3:$E$91,2,FALSE)","v":1},"CAMERON HYSONG","Mounds View High School","6th Grade Boys D1","DNF Medical",100406084,8083,0," 00:00:00.000",null,null,null,null,null,0,0]
[100430527,49,0,{"$f":"VLOOKUP(F51,Sheet3!$D$3:$E$91,2,FALSE)","v":1},"OLIVER ASRANI","Wayzata Mountain Bike","6th Grade Boys D1","DNF",100430527,8168,0," 00:00:00.000",null,null,null,null,null,0,0]
[100427085,43,304,{"$f":"VLOOKUP(F52,Sheet3!$D$3:$E$91,2,FALSE)","v":1},"JAMES STEPHAN","Stillwater Mountain Bike","6th Grade Boys D1",null,100427085,8154,1," 00:00:00.000"," 00:29:17.600"," 00:29:17.600",null,null,null,296,8]
[100429379,1,550,{"$f":"VLOOKUP(F53,Sheet3!$D$3:$E$91,2,FALSE)","v":2},"MAX LARSEN","St Cloud Area Composite","6th Grade Boys D2",null,100429379,8134,1," 00:00:00.000"," 00:20:47.943"," 00:20:47.943",null,null,null,500,50]
[100414551,2,539,{"$f":"VLOOKUP(F54,Sheet3!$D$3:$E$91,2,FALSE)","v":2},"JACK MCKEAND","Orono High School","6th Grade Boys D2",null,100414551,8095,1," 00:00:00.000"," 00:21:50.849"," 00:21:50.849",null,null,null,490,49]
[100422586,3,529,{"$f":"VLOOKUP(F55,Sheet3!$D$3:$E$91,2,FALSE)","v":2},"GARRETT NELSON","Osseo Composite","6th Grade Boys D2",null,100422586,8096,1," 00:00:00.000"," 00:22:04.569"," 00:22:04.569",null,null,null,481,48]
[100425959,4,519,{"$f":"VLOOKUP(F56,Sheet3!$D$3:$E$91,2,FALSE)","v":2},"BENNY RUZEK","St Louis Park High School","6th Grade Boys D2",null,100425959,8141,1," 00:00:00.000"," 00:22:28.491"," 00:22:28.491",null,null,null,472,47]
[100432445,5,510,{"$f":"VLOOKUP(F57,Sheet3!$D$3:$E$91,2,FALSE)","v":2},"HENRY MURPHY","St Paul Central","6th Grade Boys D2",null,100432445,8147,1," 00:00:00.000"," 00:22:49.341"," 00:22:49.341",null,null,null,464,46]
[100407380,6,501,{"$f":"VLOOKUP(F58,Sheet3!$D$3:$E$91,2,FALSE)","v":2},"HENRY STEPHENSON","Hudson High School","6th Grade Boys D2",null,100407380,8057,1," 00:00:00.000"," 00:23:03.721"," 00:23:03.721",null,null,null,456,45]
[100389720,7,492,{"$f":"VLOOKUP(F59,Sheet3!$D$3:$E$91,2,FALSE)","v":2},"CARTER BOLSTER","Minnesota Valley Composite","6th Grade Boys D2",null,100389720,8069,1," 00:00:00.000"," 00:23:35.495"," 00:23:35.495",null,null,null,448,44]
[100426687,8,484,{"$f":"VLOOKUP(F60,Sheet3!$D$3:$E$91,2,FALSE)","v":2},"SHANER FITZPATRICK","St Louis Park High School","6th Grade Boys D2",null,100426687,8137,1," 00:00:00.000"," 00:24:37.569"," 00:24:37.569",null,null,null,441,43]
[100421670,9,476,{"$f":"VLOOKUP(F61,Sheet3!$D$3:$E$91,2,FALSE)","v":2},"LANDON MAUL","Breck/Blake","6th Grade Boys D2",null,100421670,8009,1," 00:00:00.000"," 00:24:41.977"," 00:24:41.977",null,null,null,434,42]
[100391752,10,468,{"$f":"VLOOKUP(F62,Sheet3!$D$3:$E$91,2,FALSE)","v":2},"FRANKLIN MILLER","Highland Park St Paul","6th Grade Boys D2",null,100391752,8054,1," 00:00:00.000"," 00:25:12.395"," 00:25:12.395",null,null,null,427,41]
[100426351,11,460,{"$f":"VLOOKUP(F63,Sheet3!$D$3:$E$91,2,FALSE)","v":2},"ERIK OEN","St Michael / Albertville Composite","6th Grade Boys D2",null,100426351,8143,1," 00:00:00.000"," 00:25:34.346"," 00:25:34.346",null,null,null,420,40]
[100430812,12,453,{"$f":"VLOOKUP(F64,Sheet3!$D$3:$E$91,2,FALSE)","v":2},"GRADY ANDERSON","Borealis Composite","6th Grade Boys D2",null,100430812,8015,1," 00:00:00.000"," 00:25:42.543"," 00:25:42.543",null,null,null,414,39]
[100417652,13,446,{"$f":"VLOOKUP(F65,Sheet3!$D$3:$E$91,2,FALSE)","v":2},"MYLES KELLY","St Louis Park High School","6th Grade Boys D2",null,100417652,8140,1," 00:00:00.000"," 00:26:13.300"," 00:26:13.300",null,null,null,408,38]
[100410387,14,439,{"$f":"VLOOKUP(F66,Sheet3!$D$3:$E$91,2,FALSE)","v":2},"ALEXANDER MCNAMARA","Totino Grace High School","6th Grade Boys D2",null,100410387,8157,1," 00:00:00.000"," 00:26:17.762"," 00:26:17.762",null,null,null,402,37]
[100428523,15,432,{"$f":"VLOOKUP(F67,Sheet3!$D$3:$E$91,2,FALSE)","v":2},"EDWARD “EJ” NIELSEN","Chisago Lakes Composite","6th Grade Boys D2",null,100428523,8027,1," 00:00:00.000"," 00:26:19.599"," 00:26:19.599",null,null,null,396,36]
[100408482,16,{"$f":"+S68+R68","v":425},{"$f":"VLOOKUP(F68,Sheet3!$D$3:$E$91,2,FALSE)","v":2},"NICO MENDEZ","Roosevelt High School","6th Grade Boys D2",null,100408482,8124,1," 00:00:00.000"," 00:27:24.190"," 00:27:24.190",null,null,null,390,35]
[100406155,17,419,{"$f":"VLOOKUP(F69,Sheet3!$D$3:$E$91,2,FALSE)","v":2},"PAUL GRZESIK","Mahtomedi High School","6th Grade Boys D2",null,100406155,8066,1," 00:00:00.000"," 00:27:47.393"," 00:27:47.393",null,null,null,385,34]
[100408099,18,413,{"$f":"VLOOKUP(F70,Sheet3!$D$3:$E$91,2,FALSE)","v":2},"XAVIER OLSON","Minnesota Valley Composite","6th Grade Boys D2",null,100408099,8071,1," 00:00:00.000"," 00:28:01.580"," 00:28:01.580",null,null,null,380,33]
[100428265,19,407,{"$f":"VLOOKUP(F71,Sheet3!$D$3:$E$91,2,FALSE)","v":2},"WILLIAM PALUMBO","Rogers High School","6th Grade Boys D2",null,100428265,8123,1," 00:00:00.000"," 00:28:07.569"," 00:28:07.569",null,null,null,375,32]
[100427381,20,401,{"$f":"VLOOKUP(F72,Sheet3!$D$3:$E$91,2,FALSE)","v":2},"BAEK MARTIN-KOHLS","St. Paul Composite - North","6th Grade Boys D2",null,100427381,8149,1," 00:00:00.000"," 00:30:51.693"," 00:30:51.693",null,null,null,370,31]
[100432397,21,0,{"$f":"VLOOKUP(F73,Sheet3!$D$3:$E$91,2,FALSE)","v":2},"CASH CONNELLY","Tioga Trailblazers","6th Grade Boys D2","DNF Medical",100432397,8156,0," 00:00:00.000",null,null,null,null,null,0,0]
[100430601,1,550,{"$f":"VLOOKUP(F74,Sheet3!$D$3:$E$91,2,FALSE)","v":2},"PHOEBE HACKENSACK","St Cloud Area Composite","6th Grade Girls",null,100430601,9067,1," 00:00:00.000"," 00:21:06.803"," 00:21:06.803",null,null,null,500,50]
[100405792,2,539,{"$f":"VLOOKUP(F75,Sheet3!$D$3:$E$91,2,FALSE)","v":2},"ELEANOR MEYER","St. Paul Composite - South","6th Grade Girls",null,100405792,9070,1," 00:00:00.000"," 00:22:15.427"," 00:22:15.427",null,null,null,490,49]
[100405867,3,529,{"$f":"VLOOKUP(F76,Sheet3!$D$3:$E$91,2,FALSE)","v":1},"ELLIOT LUNDE","Burnsville High School","6th Grade Girls",null,100405867,9016,1," 00:00:00.000"," 00:22:16.764"," 00:22:16.764",null,null,null,481,48]
[100406516,4,519,{"$f":"VLOOKUP(F77,Sheet3!$D$3:$E$91,2,FALSE)","v":1},"CIERAH MCKIBBON","Cloquet-Esko-Carlton","6th Grade Girls",null,100406516,9023,1," 00:00:00.000"," 00:22:24.450"," 00:22:24.450",null,null,null,472,47]
[100427867,5,510,{"$f":"VLOOKUP(F78,Sheet3!$D$3:$E$91,2,FALSE)","v":2},"HANNAH MOORE","Maple Grove High School","6th Grade Girls",null,100427867,9040,1," 00:00:00.000"," 00:22:47.442"," 00:22:47.442",null,null,null,464,46]
[100408926,6,501,{"$f":"VLOOKUP(F79,Sheet3!$D$3:$E$91,2,FALSE)","v":1},"NARA BLACK","Minneapolis Southwest","6th Grade Girls",null,100408926,9044,1," 00:00:00.000"," 00:23:10.051"," 00:23:10.051",null,null,null,456,45]
[100406949,7,492,{"$f":"VLOOKUP(F80,Sheet3!$D$3:$E$91,2,FALSE)","v":1},"SELAH BEUKEMA","Rock Ridge Composite","6th Grade Girls",null,100406949,9056,1," 00:00:00.000"," 00:23:18.102"," 00:23:18.102",null,null,null,448,44]
[100408191,8,484,{"$f":"VLOOKUP(F81,Sheet3!$D$3:$E$91,2,FALSE)","v":1},"GRACE MAKOSKY","Minneapolis Southwest","6th Grade Girls",null,100408191,9045,1," 00:00:00.000"," 00:23:52.065"," 00:23:52.065",null,null,null,441,43]
[100431804,9,476,{"$f":"VLOOKUP(F82,Sheet3!$D$3:$E$91,2,FALSE)","v":1},"STELLA MUSEUS","Brainerd High School","6th Grade Girls",null,100431804,9015,1," 00:00:00.000"," 00:24:11.818"," 00:24:11.818",null,null,null,434,42]
[100428934,10,468,{"$f":"VLOOKUP(F83,Sheet3!$D$3:$E$91,2,FALSE)","v":2},"GEMMA BANKS","Elk River Composite","6th Grade Girls",null,100428934,9028,1," 00:00:00.000"," 00:24:35.498"," 00:24:35.498",null,null,null,427,41]
[100408226,11,460,{"$f":"VLOOKUP(F84,Sheet3!$D$3:$E$91,2,FALSE)","v":1},"RYLIN CONVERSE","Alexandria Area Youth Cycling","6th Grade Girls",null,100408226,9001,1," 00:00:00.000"," 00:24:54.204"," 00:24:54.204",null,null,null,420,40]
[100421499,12,453,{"$f":"VLOOKUP(F85,Sheet3!$D$3:$E$91,2,FALSE)","v":1},"PEYTON STAMSCHROR","Prior Lake High School","6th Grade Girls",null,100421499,9053,1," 00:00:00.000"," 00:24:57.577"," 00:24:57.577",null,null,null,414,39]
[100408211,13,446,{"$f":"VLOOKUP(F86,Sheet3!$D$3:$E$91,2,FALSE)","v":1},"LILY MAKOSKY","Minneapolis Southwest","6th Grade Girls",null,100408211,9046,1," 00:00:00.000"," 00:25:30.602"," 00:25:30.602",null,null,null,408,38]
[100406281,14,439,{"$f":"VLOOKUP(F87,Sheet3!$D$3:$E$91,2,FALSE)","v":2},"CLARA OACHS","Woodbury Composite","6th Grade Girls",null,100406281,9078,1," 00:00:00.000"," 00:26:10.030"," 00:26:10.030",null,null,null,402,37]
[100411928,15,432,{"$f":"VLOOKUP(F88,Sheet3!$D$3:$E$91,2,FALSE)","v":1},"EVELYN HOPPE","Edina Cycling","6th Grade Girls",null,100411928,9026,1," 00:00:00.000"," 00:26:23.163"," 00:26:23.163",null,null,null,396,36]
[100418807,16,425,{"$f":"VLOOKUP(F89,Sheet3!$D$3:$E$91,2,FALSE)","v":1},"LUCIA ARNESON","Washburn High School","6th Grade Girls",null,100418807,9075,1," 00:00:00.000"," 00:26:31.456"," 00:26:31.456",null,null,null,390,35]
[100412430,17,419,{"$f":"VLOOKUP(F90,Sheet3!$D$3:$E$91,2,FALSE)","v":1},"MEGAN FRITZEN","Prior Lake High School","6th Grade Girls",null,100412430,9049,1," 00:00:00.000"," 00:26:42.893"," 00:26:42.893",null,null,null,385,34]
[100406069,18,413,{"$f":"VLOOKUP(F91,Sheet3!$D$3:$E$91,2,FALSE)","v":1},"NORA PULFORD","Cloquet-Esko-Carlton","6th Grade Girls",null,100406069,9024,1," 00:00:00.000"," 00:26:45.615"," 00:26:45.615",null,null,null,380,33]
[100405948,19,407,{"$f":"VLOOKUP(F92,Sheet3!$D$3:$E$91,2,FALSE)","v":2},"GRACEANN OLSON","Hastings Area Composite","6th Grade Girls",null,100405948,9032,1," 00:00:00.000"," 00:26:59.184"," 00:26:59.184",null,null,null,375,32]
[100422393,20,401,{"$f":"VLOOKUP(F93,Sheet3!$D$3:$E$91,2,FALSE)","v":1},"ADELINE METZGER","Burnsville High School","6th Grade Girls",null,100422393,9017,1," 00:00:00.000"," 00:27:12.422"," 00:27:12.422",null,null,null,370,31]
[100422621,21,395,{"$f":"VLOOKUP(F94,Sheet3!$D$3:$E$91,2,FALSE)","v":2},"ADDISON KANNAS","Borealis Composite","6th Grade Girls",null,100422621,9013,1," 00:00:00.000"," 00:27:37.857"," 00:27:37.857",null,null,null,365,30]
[100420622,22,389,{"$f":"VLOOKUP(F95,Sheet3!$D$3:$E$91,2,FALSE)","v":2},"GRACE BERSETH","Roosevelt High School","6th Grade Girls",null,100420622,9060,1," 00:00:00.000"," 00:28:21.773"," 00:28:21.773",null,null,null,360,29]
[100409750,23,384,{"$f":"VLOOKUP(F96,Sheet3!$D$3:$E$91,2,FALSE)","v":2},"AMELIA HALVORSON","River Falls High School","6th Grade Girls",null,100409750,9054,1," 00:00:00.000"," 00:29:02.880"," 00:29:02.880",null,null,null,356,28]
[100422932,24,379,{"$f":"VLOOKUP(F97,Sheet3!$D$3:$E$91,2,FALSE)","v":2},"NATALIE MCCORMACK","Elk River Composite","6th Grade Girls",null,100422932,9029,1," 00:00:00.000"," 00:29:21.255"," 00:29:21.255",null,null,null,352,27]
[100400794,25,374,{"$f":"VLOOKUP(F98,Sheet3!$D$3:$E$91,2,FALSE)","v":2},"CORA METELAK","Tioga Trailblazers","6th Grade Girls",null,100400794,9074,1," 00:00:00.000"," 00:30:31.106"," 00:30:31.106",null,null,null,348,26]
[100423613,26,369,{"$f":"VLOOKUP(F99,Sheet3!$D$3:$E$91,2,FALSE)","v":1},"AVA JOHNSON","Stillwater Mountain Bike","6th Grade Girls",null,100423613,9071,1," 00:00:00.000"," 00:33:31.209"," 00:33:31.209",null,null,null,344,25]
[100427613,27,364,{"$f":"VLOOKUP(F100,Sheet3!$D$3:$E$91,2,FALSE)","v":1},"QUINN MILLER","Minnetonka High School","6th Grade Girls",null,100427613,9042,1," 00:00:00.000"," 00:34:30.078"," 00:34:30.078",null,null,null,340,24]
[100431651,28,359,{"$f":"VLOOKUP(F101,Sheet3!$D$3:$E$91,2,FALSE)","v":1},"SAGE LARSON","Crosby-Ironton High School","6th Grade Girls",null,100431651,9025,1," 00:00:00.000"," 00:35:07.354"," 00:35:07.354",null,null,null,336,23]
[100392947,29,354,{"$f":"VLOOKUP(F102,Sheet3!$D$3:$E$91,2,FALSE)","v":1},"LANEY TYMINSKI","Rock Ridge Composite","6th Grade Girls",null,100392947,9059,1," 00:00:00.000"," 00:36:02.233"," 00:36:02.233",null,null,null,332,22]
[100405954,30,350,{"$f":"VLOOKUP(F103,Sheet3!$D$3:$E$91,2,FALSE)","v":2},"PAIGE SUNDBERG","Hudson High School","6th Grade Girls",null,100405954,9037,1," 00:00:00.000"," 00:36:42.366"," 00:36:42.366",null,null,null,329,21]
[100405929,31,346,{"$f":"VLOOKUP(F104,Sheet3!$D$3:$E$91,2,FALSE)","v":2},"REESE JEREMIASON","Orono High School","6th Grade Girls",null,100405929,9048,1," 00:00:00.000"," 00:40:32.662"," 00:40:32.662",null,null,null,326,20]
[100410724,32,0,{"$f":"VLOOKUP(F105,Sheet3!$D$3:$E$91,2,FALSE)","v":2},"ESMAE HARVEY","River Falls High School","6th Grade Girls","DNF",100410724,9055,0," 00:00:00.000",null,null,null,null,null,0,0]
[100431613,33,0,{"$f":"VLOOKUP(F106,Sheet3!$D$3:$E$91,2,FALSE)","v":1},"CLEMENTINE HANDLER","Hopkins High School","6th Grade Girls","DNF",100431613,9034,0," 00:00:00.000",null,null,null,null,null,0,0]
[100405762,34,0,{"$f":"VLOOKUP(F107,Sheet3!$D$3:$E$91,2,FALSE)","v":1},"HAZEL MARCH","Stillwater Mountain Bike","6th Grade Girls","DNF",100405762,9072,0," 00:00:00.000",null,null,null,null,null,0,0]
[100392330,1,550,{"$f":"VLOOKUP(F108,Sheet3!$D$3:$E$91,2,FALSE)","v":1},"OWEN RITTER","Crosby-Ironton High School","7th Grade Boys D1",null,100392330,6564,1," 00:00:00.000"," 00:17:32.031"," 00:17:32.031",null,null,null,500,50]
[100392456,2,539,{"$f":"VLOOKUP(F109,Sheet3!$D$3:$E$91,2,FALSE)","v":1},"BENNO SASANFAR","Minnetonka High School","7th Grade Boys D1",null,100392456,6626,1," 00:00:00.000"," 00:18:08.500"," 00:18:08.500",null,null,null,490,49]
[100429671,3,529,{"$f":"VLOOKUP(F110,Sheet3!$D$3:$E$91,2,FALSE)","v":1},"RYLAN O'HEARN","Brainerd High School","7th Grade Boys D1",null,100429671,6531,1," 00:00:00.000"," 00:18:16.146"," 00:18:16.146",null,null,null,481,48]
[100390997,4,519,{"$f":"VLOOKUP(F111,Sheet3!$D$3:$E$91,2,FALSE)","v":1},"EZRA JACOBSON","Crosby-Ironton High School","7th Grade Boys D1",null,100390997,6563,1," 00:00:00.000"," 00:18:36.125"," 00:18:36.125",null,null,null,472,47]
[100392597,5,510,{"$f":"VLOOKUP(F112,Sheet3!$D$3:$E$91,2,FALSE)","v":1},"NICK SHIELD","East Ridge High School","7th Grade Boys D1",null,100392597,6572,1," 00:00:00.000"," 00:18:37.645"," 00:18:37.645",null,null,null,464,46]
[100391198,6,501,{"$f":"VLOOKUP(F113,Sheet3!$D$3:$E$91,2,FALSE)","v":1},"ROENEN KING-ELLISON","Wayzata Mountain Bike","7th Grade Boys D1",null,100391198,6779,1," 00:00:00.000"," 00:18:43.955"," 00:18:43.955",null,null,null,456,45]
[100392227,7,492,{"$f":"VLOOKUP(F114,Sheet3!$D$3:$E$91,2,FALSE)","v":1},"RIGEL PRIOR","Wayzata Mountain Bike","7th Grade Boys D1",null,100392227,6784,1," 00:00:00.000"," 00:18:50.856"," 00:18:50.856",null,null,null,448,44]
[100390206,8,484,{"$f":"VLOOKUP(F115,Sheet3!$D$3:$E$91,2,FALSE)","v":1},"STEFFAN DREKONJA","Washburn High School","7th Grade Boys D1",null,100390206,6766,1," 00:00:00.000"," 00:18:55.897"," 00:18:55.897",null,null,null,441,43]
[100392775,9,476,{"$f":"VLOOKUP(F116,Sheet3!$D$3:$E$91,2,FALSE)","v":1},"LINCOLN STUBER","New Prague Middle and High School","7th Grade Boys D1",null,100392775,6656,1," 00:00:00.000"," 00:19:08.792"," 00:19:08.792",null,null,null,434,42]
[100391153,10,468,{"$f":"VLOOKUP(F117,Sheet3!$D$3:$E$91,2,FALSE)","v":1},"CASEY KELLY","New Prague Middle and High School","7th Grade Boys D1",null,100391153,6653,1," 00:00:00.000"," 00:19:24.968"," 00:19:24.968",null,null,null,427,41]
[100392417,11,460,{"$f":"VLOOKUP(F118,Sheet3!$D$3:$E$91,2,FALSE)","v":1},"PATRICK RYAN","Brainerd High School","7th Grade Boys D1",null,100392417,6533,1," 00:00:00.000"," 00:19:25.381"," 00:19:25.381",null,null,null,420,40]
[100391462,12,453,{"$f":"VLOOKUP(F119,Sheet3!$D$3:$E$91,2,FALSE)","v":1},"ETHAN LI","Wayzata Mountain Bike","7th Grade Boys D1",null,100391462,6780,1," 00:00:00.000"," 00:19:26.325"," 00:19:26.325",null,null,null,414,39]
[100432632,13,446,{"$f":"VLOOKUP(F120,Sheet3!$D$3:$E$91,2,FALSE)","v":1},"AIDEN PRETTYMAN","Brainerd High School","7th Grade Boys D1",null,100432632,6532,1," 00:00:00.000"," 00:19:27.524"," 00:19:27.524",null,null,null,408,38]
[100392267,14,439,{"$f":"VLOOKUP(F121,Sheet3!$D$3:$E$91,2,FALSE)","v":1},"BEN RASMUSSEN","New Prague Middle and High School","7th Grade Boys D1",null,100392267,6655,1," 00:00:00.000"," 00:19:30.587"," 00:19:30.587",null,null,null,402,37]
[100391877,15,432,{"$f":"VLOOKUP(F122,Sheet3!$D$3:$E$91,2,FALSE)","v":1},"ALEXANDER NELSON","Cloquet-Esko-Carlton","7th Grade Boys D1",null,100391877,6555,1," 00:00:00.000"," 00:19:50.924"," 00:19:50.924",null,null,null,396,36]
[100393144,16,425,{"$f":"VLOOKUP(F123,Sheet3!$D$3:$E$91,2,FALSE)","v":1},"GRAHAM WILDER","Cloquet-Esko-Carlton","7th Grade Boys D1",null,100393144,6560,1," 00:00:00.000"," 00:20:04.649"," 00:20:04.649",null,null,null,390,35]
[100405947,17,419,{"$f":"VLOOKUP(F124,Sheet3!$D$3:$E$91,2,FALSE)","v":1},"NOLAN HENDRICKSON","Cloquet-Esko-Carlton","7th Grade Boys D1",null,100405947,6553,1," 00:00:00.000"," 00:20:12.072"," 00:20:12.072",null,null,null,385,34]
[100413120,18,413,{"$f":"VLOOKUP(F125,Sheet3!$D$3:$E$91,2,FALSE)","v":1},"MASON DEALWIS","Chanhassen High School","7th Grade Boys D1",null,100413120,6539,1," 00:00:00.000"," 00:20:14.655"," 00:20:14.655",null,null,null,380,33]
[100390223,19,407,{"$f":"VLOOKUP(F126,Sheet3!$D$3:$E$91,2,FALSE)","v":1},"TRUMAN DUEHR","Shakopee High School","7th Grade Boys D1",null,100390223,6723,1," 00:00:00.000"," 00:20:25.464"," 00:20:25.464",null,null,null,375,32]
[100390860,20,401,{"$f":"VLOOKUP(F127,Sheet3!$D$3:$E$91,2,FALSE)","v":1},"LEIGHTON HINES","Chaska High School","7th Grade Boys D1",null,100390860,6546,1," 00:00:00.000"," 00:20:29.547"," 00:20:29.547",null,null,null,370,31]
[100410505,21,395,{"$f":"VLOOKUP(F128,Sheet3!$D$3:$E$91,2,FALSE)","v":1},"ELLIOT ZIGICH","Cloquet-Esko-Carlton","7th Grade Boys D1",null,100410505,6561,1," 00:00:00.000"," 00:20:31.650"," 00:20:31.650",null,null,null,365,30]
[100420454,22,389,{"$f":"VLOOKUP(F129,Sheet3!$D$3:$E$91,2,FALSE)","v":1},"GRIFFIN WOESTE","Hopkins High School","7th Grade Boys D1",null,100420454,6600,1," 00:00:00.000"," 00:20:49.383"," 00:20:49.383",null,null,null,360,29]
[100391518,23,384,{"$f":"VLOOKUP(F130,Sheet3!$D$3:$E$91,2,FALSE)","v":1},"BENJAMIN LUESSI","Minnetonka High School","7th Grade Boys D1",null,100391518,6622,1," 00:00:00.000"," 00:20:52.881"," 00:20:52.881",null,null,null,356,28]
[100390768,24,379,{"$f":"VLOOKUP(F131,Sheet3!$D$3:$E$91,2,FALSE)","v":1},"ELIJAH HAYES","Brainerd High School","7th Grade Boys D1",null,100390768,6530,1," 00:00:00.000"," 00:20:53.708"," 00:20:53.708",null,null,null,352,27]
[100390620,25,{"$f":"+S132+R132","v":374},{"$f":"VLOOKUP(F132,Sheet3!$D$3:$E$91,2,FALSE)","v":1},"CHARLIE GRUHN","Hopkins High School","7th Grade Boys D1",null,100390620,6597,1," 00:00:00.000"," 00:20:58.273"," 00:20:58.273",null,null,null,348,26]
[100391038,26,369,{"$f":"VLOOKUP(F133,Sheet3!$D$3:$E$91,2,FALSE)","v":1},"ANDREW JOHNSON","Shakopee High School","7th Grade Boys D1",null,100391038,6728,1," 00:00:00.000"," 00:21:01.162"," 00:21:01.162",null,null,null,344,25]
[100392257,27,364,{"$f":"VLOOKUP(F134,Sheet3!$D$3:$E$91,2,FALSE)","v":1},"LEVI RAISANEN","Cloquet-Esko-Carlton","7th Grade Boys D1",null,100392257,6557,1," 00:00:00.000"," 00:21:03.125"," 00:21:03.125",null,null,null,340,24]
[100429319,28,359,{"$f":"VLOOKUP(F135,Sheet3!$D$3:$E$91,2,FALSE)","v":1},"HUNTER HOLLINBECK","Armstrong Cycle","7th Grade Boys D1",null,100429319,6512,1," 00:00:00.000"," 00:21:04.595"," 00:21:04.595",null,null,null,336,23]
[100390010,29,354,{"$f":"VLOOKUP(F136,Sheet3!$D$3:$E$91,2,FALSE)","v":1},"BROOKS CONRAD","Chanhassen High School","7th Grade Boys D1",null,100390010,6538,1," 00:00:00.000"," 00:21:06.655"," 00:21:06.655",null,null,null,332,22]
[100429897,30,350,{"$f":"VLOOKUP(F137,Sheet3!$D$3:$E$91,2,FALSE)","v":1},"KAI NELSON","Champlin Park High School","7th Grade Boys D1",null,100429897,6537,1," 00:00:00.000"," 00:21:11.658"," 00:21:11.658",null,null,null,329,21]
[100391871,31,346,{"$f":"VLOOKUP(F138,Sheet3!$D$3:$E$91,2,FALSE)","v":1},"MILO NEEDHAM","Mounds View High School","7th Grade Boys D1",null,100391871,6637,1," 00:00:00.000"," 00:21:27.242"," 00:21:27.242",null,null,null,326,20]
[100390927,32,342,{"$f":"VLOOKUP(F139,Sheet3!$D$3:$E$91,2,FALSE)","v":1},"DANIEL HORTER","Prior Lake High School","7th Grade Boys D1",null,100390927,6673,1," 00:00:00.000"," 00:21:34.150"," 00:21:34.150",null,null,null,323,19]
[100390638,33,338,{"$f":"VLOOKUP(F140,Sheet3!$D$3:$E$91,2,FALSE)","v":1},"CHARLIE GUSTAFSON","Wayzata Mountain Bike","7th Grade Boys D1",null,100390638,6778,1," 00:00:00.000"," 00:21:42.873"," 00:21:42.873",null,null,null,320,18]
[100392872,34,334,{"$f":"VLOOKUP(F141,Sheet3!$D$3:$E$91,2,FALSE)","v":1},"ISAIHA TILBURY","Burnsville High School","7th Grade Boys D1",null,100392872,6534,1," 00:00:00.000"," 00:21:43.512"," 00:21:43.512",null,null,null,317,17]
[100391056,35,330,{"$f":"VLOOKUP(F142,Sheet3!$D$3:$E$91,2,FALSE)","v":1},"DOMINICK JOHNSON","Bloomington Jefferson","7th Grade Boys D1",null,100391056,6523,1," 00:00:00.000"," 00:21:48.317"," 00:21:48.317",null,null,null,314,16]
[100409209,36,326,{"$f":"VLOOKUP(F143,Sheet3!$D$3:$E$91,2,FALSE)","v":1},"COLBY ERICKSON","Shakopee High School","7th Grade Boys D1","Relegate 1/Deviation",100409209,6724,1," 00:00:00.000"," 00:21:48.320"," 00:21:48.320",null,null,null,311,15]
[100421102,37,322,{"$f":"VLOOKUP(F144,Sheet3!$D$3:$E$91,2,FALSE)","v":1},"MILES HILKER","Minnetonka High School","7th Grade Boys D1",null,100421102,6621,1," 00:00:00.000"," 00:21:49.156"," 00:21:49.156",null,null,null,308,14]
[100392336,38,319,{"$f":"VLOOKUP(F145,Sheet3!$D$3:$E$91,2,FALSE)","v":1},"AEDAN ROACH","Stillwater Mountain Bike","7th Grade Boys D1",null,100392336,6756,1," 00:00:00.000"," 00:21:49.555"," 00:21:49.555",null,null,null,306,13]
[100404805,39,316,{"$f":"VLOOKUP(F146,Sheet3!$D$3:$E$91,2,FALSE)","v":1},"IAN GIFFORD","Minnetonka High School","7th Grade Boys D1",null,100404805,6619,1," 00:00:00.000"," 00:21:50.569"," 00:21:50.569",null,null,null,304,12]
[100390030,40,313,{"$f":"VLOOKUP(F147,Sheet3!$D$3:$E$91,2,FALSE)","v":1},"SAM CORBETT","Wayzata Mountain Bike","7th Grade Boys D1",null,100390030,6777,1," 00:00:00.000"," 00:21:52.344"," 00:21:52.344",null,null,null,302,11]
[100432168,41,310,{"$f":"VLOOKUP(F148,Sheet3!$D$3:$E$91,2,FALSE)","v":1},"LEVI TURNER","Crosby-Ironton High School","7th Grade Boys D1",null,100432168,6565,1," 00:00:00.000"," 00:22:14.764"," 00:22:14.764",null,null,null,300,10]
[100390666,42,307,{"$f":"VLOOKUP(F149,Sheet3!$D$3:$E$91,2,FALSE)","v":1},"MACKEAN HAINES","Brainerd High School","7th Grade Boys D1",null,100390666,6529,1," 00:00:00.000"," 00:22:22.638"," 00:22:22.638",null,null,null,298,9]
[100392981,43,304,{"$f":"VLOOKUP(F150,Sheet3!$D$3:$E$91,2,FALSE)","v":1},"SAM VAN HORN","Hopkins High School","7th Grade Boys D1",null,100392981,6599,1," 00:00:00.000"," 00:22:29.925"," 00:22:29.925",null,null,null,296,8]
[100421584,44,301,{"$f":"VLOOKUP(F151,Sheet3!$D$3:$E$91,2,FALSE)","v":1},"JASPER NELSEN","Minneapolis Southwest","7th Grade Boys D1",null,100421584,6645,1," 00:00:00.000"," 00:22:36.335"," 00:22:36.335",null,null,null,294,7]
[100409323,45,298,{"$f":"VLOOKUP(F152,Sheet3!$D$3:$E$91,2,FALSE)","v":1},"ISAAC TRACHTENBERG","Minneapolis Southwest","7th Grade Boys D1",null,100409323,6650,1," 00:00:00.000"," 00:22:37.503"," 00:22:37.503",null,null,null,292,6]
[100393072,46,295,{"$f":"VLOOKUP(F153,Sheet3!$D$3:$E$91,2,FALSE)","v":1},"EDDIE WEBSTER","Chaska High School","7th Grade Boys D1",null,100393072,6548,1," 00:00:00.000"," 00:22:38.173"," 00:22:38.173",null,null,null,290,5]
[100391499,47,293,{"$f":"VLOOKUP(F154,Sheet3!$D$3:$E$91,2,FALSE)","v":1},"CONNOR LONG","Prior Lake High School","7th Grade Boys D1",null,100391499,6674,1," 00:00:00.000"," 00:22:47.281"," 00:22:47.281",null,null,null,289,4]
[100429402,48,291,{"$f":"VLOOKUP(F155,Sheet3!$D$3:$E$91,2,FALSE)","v":1},"PARKER CHEN","Wayzata Mountain Bike","7th Grade Boys D1",null,100429402,6776,1," 00:00:00.000"," 00:22:53.510"," 00:22:53.510",null,null,null,288,3]
[100390049,49,289,{"$f":"VLOOKUP(F156,Sheet3!$D$3:$E$91,2,FALSE)","v":1},"CALEB CROWSER","Alexandria Area Youth Cycling","7th Grade Boys D1",null,100390049,6504,1," 00:00:00.000"," 00:23:36.776"," 00:23:36.776",null,null,null,287,2]
[100412148,50,287,{"$f":"VLOOKUP(F157,Sheet3!$D$3:$E$91,2,FALSE)","v":1},"BLAKE ORRBEN","Shakopee High School","7th Grade Boys D1",null,100412148,6732,1," 00:00:00.000"," 00:23:39.194"," 00:23:39.194",null,null,null,286,1]
[100406311,51,286,{"$f":"VLOOKUP(F158,Sheet3!$D$3:$E$91,2,FALSE)","v":1},"JOSHUA HENDERSON","Mounds View High School","7th Grade Boys D1",null,100406311,6809,1," 00:00:00.000"," 00:23:47.301"," 00:23:47.301",null,null,null,285,1]
[100389829,52,285,{"$f":"VLOOKUP(F159,Sheet3!$D$3:$E$91,2,FALSE)","v":1},"GRIFFEN BUGHER","Alexandria Area Youth Cycling","7th Grade Boys D1",null,100389829,6503,1," 00:00:00.000"," 00:23:48.565"," 00:23:48.565",null,null,null,284,1]
[100389394,53,284,{"$f":"VLOOKUP(F160,Sheet3!$D$3:$E$91,2,FALSE)","v":1},"GRIFFIN AHLBAUM","Champlin Park High School","7th Grade Boys D1",null,100389394,6536,1," 00:00:00.000"," 00:23:58.467"," 00:23:58.467",null,null,null,283,1]
[100432376,54,283,{"$f":"VLOOKUP(F161,Sheet3!$D$3:$E$91,2,FALSE)","v":1},"KONRAD WIDENBRANT","Stillwater Mountain Bike","7th Grade Boys D1",null,100432376,6757,1," 00:00:00.000"," 00:24:00.170"," 00:24:00.170",null,null,null,282,1]
[100389379,55,282,{"$f":"VLOOKUP(F162,Sheet3!$D$3:$E$91,2,FALSE)","v":1},"JAMES AAKER","Wayzata Mountain Bike","7th Grade Boys D1",null,100389379,6774,1," 00:00:00.000"," 00:24:08.223"," 00:24:08.223",null,null,null,281,1]
[100391535,56,281,{"$f":"VLOOKUP(F163,Sheet3!$D$3:$E$91,2,FALSE)","v":1},"NOLAN MACMILLAN","Wayzata Mountain Bike","7th Grade Boys D1",null,100391535,6782,1," 00:00:00.000"," 00:24:21.065"," 00:24:21.065",null,null,null,280,1]
[100426269,57,280,{"$f":"VLOOKUP(F164,Sheet3!$D$3:$E$91,2,FALSE)","v":1},"JOSH MOHR","Wayzata Mountain Bike","7th Grade Boys D1",null,100426269,6783,1," 00:00:00.000"," 00:24:24.128"," 00:24:24.128",null,null,null,279,1]
[100429334,58,279,{"$f":"VLOOKUP(F165,Sheet3!$D$3:$E$91,2,FALSE)","v":1},"PATRICK JOHNSON","Hopkins High School","7th Grade Boys D1",null,100429334,6598,1," 00:00:00.000"," 00:24:26.223"," 00:24:26.223",null,null,null,278,1]
[100392773,59,278,{"$f":"VLOOKUP(F166,Sheet3!$D$3:$E$91,2,FALSE)","v":1},"AVERY STRUCKMANN","Rochester Century High School","7th Grade Boys D1",null,100392773,6692,1," 00:00:00.000"," 00:24:39.524"," 00:24:39.524",null,null,null,277,1]
[100392549,60,277,{"$f":"VLOOKUP(F167,Sheet3!$D$3:$E$91,2,FALSE)","v":1},"OTTO SCHUSTER","Minneapolis Southwest","7th Grade Boys D1",null,100392549,6648,1," 00:00:00.000"," 00:24:58.788"," 00:24:58.788",null,null,null,276,1]
[100391141,61,276,{"$f":"VLOOKUP(F168,Sheet3!$D$3:$E$91,2,FALSE)","v":1},"LANCE KAREL","Mounds View High School","7th Grade Boys D1",null,100391141,6635,1," 00:00:00.000"," 00:25:06.951"," 00:25:06.951",null,null,null,275,1]
[100424393,62,275,{"$f":"VLOOKUP(F169,Sheet3!$D$3:$E$91,2,FALSE)","v":1},"OWEN HIGGINS","Minnetonka High School","7th Grade Boys D1",null,100424393,6620,1," 00:00:00.000"," 00:25:12.778"," 00:25:12.778",null,null,null,274,1]
[100390494,63,274,{"$f":"VLOOKUP(F170,Sheet3!$D$3:$E$91,2,FALSE)","v":1},"LOGAN GAMACHE","Cloquet-Esko-Carlton","7th Grade Boys D1",null,100390494,6551,1," 00:00:00.000"," 00:25:19.534"," 00:25:19.534",null,null,null,273,1]
[100406760,64,273,{"$f":"VLOOKUP(F171,Sheet3!$D$3:$E$91,2,FALSE)","v":1},"CARLO CALBONE","Bloomington Jefferson","7th Grade Boys D1",null,100406760,6521,1," 00:00:00.000"," 00:25:41.813"," 00:25:41.813",null,null,null,272,1]
[100426483,65,272,{"$f":"VLOOKUP(F172,Sheet3!$D$3:$E$91,2,FALSE)","v":1},"WESTON GRABER","New Prague Middle and High School","7th Grade Boys D1",null,100426483,6652,1," 00:00:00.000"," 00:25:57.735"," 00:25:57.735",null,null,null,271,1]
[100418426,66,271,{"$f":"VLOOKUP(F173,Sheet3!$D$3:$E$91,2,FALSE)","v":1},"RYAN GLICK","White Bear Lake High School","7th Grade Boys D1",null,100418426,6787,1," 00:00:00.000"," 00:26:21.750"," 00:26:21.750",null,null,null,270,1]
[100419059,67,270,{"$f":"VLOOKUP(F174,Sheet3!$D$3:$E$91,2,FALSE)","v":1},"SETH VLIEGER","White Bear Lake High School","7th Grade Boys D1",null,100419059,6789,1," 00:00:00.000"," 00:26:21.771"," 00:26:21.771",null,null,null,269,1]
[100391335,68,269,{"$f":"VLOOKUP(F175,Sheet3!$D$3:$E$91,2,FALSE)","v":1},"BRAYDEN LAMB","Stillwater Mountain Bike","7th Grade Boys D1",null,100391335,6754,1," 00:00:00.000"," 00:27:22.445"," 00:27:22.445",null,null,null,268,1]
[100389433,69,268,{"$f":"VLOOKUP(F176,Sheet3!$D$3:$E$91,2,FALSE)","v":1},"PIKE AMUNDSON","Alexandria Area Youth Cycling","7th Grade Boys D1",null,100389433,6501,1," 00:00:00.000"," 00:27:52.249"," 00:27:52.249",null,null,null,267,1]
[100421685,70,267,{"$f":"VLOOKUP(F177,Sheet3!$D$3:$E$91,2,FALSE)","v":1},"COLLIN CRAWFORD","Washburn High School","7th Grade Boys D1",null,100421685,6765,1," 00:00:00.000"," 00:28:17.803"," 00:28:17.803",null,null,null,266,1]
[100413369,71,266,{"$f":"VLOOKUP(F178,Sheet3!$D$3:$E$91,2,FALSE)","v":1},"FRANK SNIDER","Minnetonka High School","7th Grade Boys D1",null,100413369,6627,1," 00:00:00.000"," 00:28:46.482"," 00:28:46.482",null,null,null,265,1]
[100430594,72,265,{"$f":"VLOOKUP(F179,Sheet3!$D$3:$E$91,2,FALSE)","v":1},"BARRETT DOWNER","Alexandria Area Youth Cycling","7th Grade Boys D1",null,100430594,6506,1," 00:00:00.000"," 00:29:09.543"," 00:29:09.543",null,null,null,264,1]
[100407725,73,264,{"$f":"VLOOKUP(F180,Sheet3!$D$3:$E$91,2,FALSE)","v":1},"LIAM PATREK","Mounds View High School","7th Grade Boys D1",null,100407725,6638,1," 00:00:00.000"," 00:29:51.629"," 00:29:51.629",null,null,null,263,1]
[100416102,74,263,{"$f":"VLOOKUP(F181,Sheet3!$D$3:$E$91,2,FALSE)","v":1},"WILLIAM JOHNSON","Cloquet-Esko-Carlton","7th Grade Boys D1",null,100416102,6554,1," 00:00:00.000"," 00:29:55.433"," 00:29:55.433",null,null,null,262,1]
[100391415,75,262,{"$f":"VLOOKUP(F182,Sheet3!$D$3:$E$91,2,FALSE)","v":1},"JACKSON LEGER","Winona","7th Grade Boys D1",null,100391415,6790,1," 00:00:00.000"," 00:30:14.280"," 00:30:14.280",null,null,null,261,1]
[100408841,76,261,{"$f":"VLOOKUP(F183,Sheet3!$D$3:$E$91,2,FALSE)","v":1},"LEVI FROYUM","Shakopee High School","7th Grade Boys D1",null,100408841,6725,1," 00:00:00.000"," 00:30:21.111"," 00:30:21.111",null,null,null,260,1]
[100417298,77,260,{"$f":"VLOOKUP(F184,Sheet3!$D$3:$E$91,2,FALSE)","v":1},"GUNNAR RADCLIFFE","Stillwater Mountain Bike","7th Grade Boys D1",null,100417298,6755,1," 00:00:00.000"," 00:30:22.554"," 00:30:22.554",null,null,null,259,1]
[100392727,78,259,{"$f":"VLOOKUP(F185,Sheet3!$D$3:$E$91,2,FALSE)","v":1},"JAXTON STARK","Shakopee High School","7th Grade Boys D1",null,100392727,6736,1," 00:00:00.000"," 00:30:32.521"," 00:30:32.521",null,null,null,258,1]
[100391504,79,258,{"$f":"VLOOKUP(F186,Sheet3!$D$3:$E$91,2,FALSE)","v":1},"JACOB LOOMAN","Winona","7th Grade Boys D1",null,100391504,6791,1," 00:00:00.000"," 00:31:07.302"," 00:31:07.302",null,null,null,257,1]
[100413335,80,257,{"$f":"VLOOKUP(F187,Sheet3!$D$3:$E$91,2,FALSE)","v":1},"LOGAN WALDO","Cloquet-Esko-Carlton","7th Grade Boys D1",null,100413335,6559,1," 00:00:00.000"," 00:31:59.911"," 00:31:59.911",null,null,null,256,1]
[100393057,81,256,{"$f":"VLOOKUP(F188,Sheet3!$D$3:$E$91,2,FALSE)","v":1},"JACOB WARD","Washburn High School","7th Grade Boys D1",null,100393057,6773,1," 00:00:00.000"," 00:32:33.595"," 00:32:33.595",null,null,null,255,1]
[100390950,82,255,{"$f":"VLOOKUP(F189,Sheet3!$D$3:$E$91,2,FALSE)","v":1},"ROCK HUMMEL","Shakopee High School","7th Grade Boys D1",null,100390950,6727,1," 00:00:00.000"," 00:37:05.406"," 00:37:05.406",null,null,null,254,1]
[100428699,1,550,{"$f":"VLOOKUP(F190,Sheet3!$D$3:$E$91,2,FALSE)","v":2},"REID HAMLIN","Chisago Lakes Composite","7th Grade Boys D2",null,100428699,6549,1," 00:00:00.000"," 00:19:05.239"," 00:19:05.239",null,null,null,500,50]
[100434885,2,539,{"$f":"VLOOKUP(F191,Sheet3!$D$3:$E$91,2,FALSE)","v":2},"CHARLIE WILLIAMSON","St. Paul Composite - North","7th Grade Boys D2",null,100434885,6805,1," 00:00:00.000"," 00:19:16.273"," 00:19:16.273",null,null,null,490,49]
[100389410,3,529,{"$f":"VLOOKUP(F192,Sheet3!$D$3:$E$91,2,FALSE)","v":2},"SAM ALLAN","Rosemount High School","7th Grade Boys D2",null,100389410,6716,1," 00:00:00.000"," 00:19:20.227"," 00:19:20.227",null,null,null,481,48]
[100391366,4,519,{"$f":"VLOOKUP(F193,Sheet3!$D$3:$E$91,2,FALSE)","v":2},"JACK LARSEN","St Cloud Area Composite","7th Grade Boys D2",null,100391366,6739,1," 00:00:00.000"," 00:19:21.544"," 00:19:21.544",null,null,null,472,47]
[100389947,5,510,{"$f":"VLOOKUP(F194,Sheet3!$D$3:$E$91,2,FALSE)","v":2},"ALEX CHOUANARD","St Michael / Albertville Composite","7th Grade Boys D2",null,100389947,6743,1," 00:00:00.000"," 00:19:24.483"," 00:19:24.483",null,null,null,464,46]
[100410036,6,501,{"$f":"VLOOKUP(F195,Sheet3!$D$3:$E$91,2,FALSE)","v":2},"ELI MEISER","Roosevelt High School","7th Grade Boys D2",null,100410036,6714,1," 00:00:00.000"," 00:19:39.172"," 00:19:39.172",null,null,null,456,45]
[100392926,7,{"$f":"+S196+R196","v":492},{"$f":"VLOOKUP(F196,Sheet3!$D$3:$E$91,2,FALSE)","v":2},"KHANH TRUONG","St Paul Central","7th Grade Boys D2",null,100392926,6750,1," 00:00:00.000"," 00:19:58.409"," 00:19:58.409",null,null,null,448,44]
[100390397,8,484,{"$f":"VLOOKUP(F197,Sheet3!$D$3:$E$91,2,FALSE)","v":2},"ISAAC FOLEY","Eden Prairie High School","7th Grade Boys D2",null,100390397,6576,1," 00:00:00.000"," 00:20:03.617"," 00:20:03.617",null,null,null,441,43]
[100391421,9,476,{"$f":"VLOOKUP(F198,Sheet3!$D$3:$E$91,2,FALSE)","v":2},"ISAAC LEISETH","Northwest Composite","7th Grade Boys D2",null,100391421,6660,1," 00:00:00.000"," 00:20:06.410"," 00:20:06.410",null,null,null,434,42]
[100392277,10,468,{"$f":"VLOOKUP(F199,Sheet3!$D$3:$E$91,2,FALSE)","v":2},"FRANKLIN RECH","Hutchinson High School","7th Grade Boys D2",null,100392277,6607,1," 00:00:00.000"," 00:20:14.866"," 00:20:14.866",null,null,null,427,41]
[100391529,11,460,{"$f":"VLOOKUP(F200,Sheet3!$D$3:$E$91,2,FALSE)","v":2},"CALEB LYON","Eagan High School","7th Grade Boys D2",null,100391529,6570,1," 00:00:00.000"," 00:20:16.746"," 00:20:16.746",null,null,null,420,40]
[100391759,12,453,{"$f":"VLOOKUP(F201,Sheet3!$D$3:$E$91,2,FALSE)","v":2},"JACK MILTON","St Louis Park High School","7th Grade Boys D2",null,100391759,6741,1," 00:00:00.000"," 00:20:17.878"," 00:20:17.878",null,null,null,414,39]
[100391442,13,446,{"$f":"VLOOKUP(F202,Sheet3!$D$3:$E$91,2,FALSE)","v":2},"EVERETT LEVANDER","Woodbury Composite","7th Grade Boys D2",null,100391442,6796,1," 00:00:00.000"," 00:20:33.675"," 00:20:33.675",null,null,null,408,38]
[100419911,14,439,{"$f":"VLOOKUP(F203,Sheet3!$D$3:$E$91,2,FALSE)","v":2},"BEN TESCH","Roosevelt High School","7th Grade Boys D2",null,100419911,6715,1," 00:00:00.000"," 00:20:34.358"," 00:20:34.358",null,null,null,402,37]
[100390709,15,432,{"$f":"VLOOKUP(F204,Sheet3!$D$3:$E$91,2,FALSE)","v":2},"TYLER HANSON","Elk River Composite","7th Grade Boys D2",null,100390709,6584,1," 00:00:00.000"," 00:20:37.758"," 00:20:37.758",null,null,null,396,36]
[100392146,16,425,{"$f":"VLOOKUP(F205,Sheet3!$D$3:$E$91,2,FALSE)","v":2},"ZINABU PETERSEN","St. Paul Composite - South","7th Grade Boys D2",null,100392146,6663,1," 00:00:00.000"," 00:20:39.159"," 00:20:39.159",null,null,null,390,35]
[100392817,17,419,{"$f":"VLOOKUP(F206,Sheet3!$D$3:$E$91,2,FALSE)","v":2},"JACKSON TANK","Rochester John Marshall","7th Grade Boys D2",null,100392817,6697,1," 00:00:00.000"," 00:20:39.409"," 00:20:39.409",null,null,null,385,34]
[100390480,18,413,{"$f":"VLOOKUP(F207,Sheet3!$D$3:$E$91,2,FALSE)","v":2},"OLIVER GAFFER","Hudson High School","7th Grade Boys D2",null,100390480,6601,1," 00:00:00.000"," 00:21:01.172"," 00:21:01.172",null,null,null,380,33]
[100390871,19,407,{"$f":"VLOOKUP(F208,Sheet3!$D$3:$E$91,2,FALSE)","v":2},"CALVIN HOENISCH","St. Paul Composite - South","7th Grade Boys D2",null,100390871,6662,1," 00:00:00.000"," 00:21:13.767"," 00:21:13.767",null,null,null,375,32]
[100390530,20,401,{"$f":"VLOOKUP(F209,Sheet3!$D$3:$E$91,2,FALSE)","v":2},"LEVI GEISLER","Tioga Trailblazers","7th Grade Boys D2",null,100390530,6759,1," 00:00:00.000"," 00:21:22.023"," 00:21:22.023",null,null,null,370,31]
[100408803,21,395,{"$f":"VLOOKUP(F210,Sheet3!$D$3:$E$91,2,FALSE)","v":2},"LIAM LINNETT","Austin High School","7th Grade Boys D2",null,100408803,6517,1," 00:00:00.000"," 00:21:25.365"," 00:21:25.365",null,null,null,365,30]
[100390167,22,389,{"$f":"VLOOKUP(F211,Sheet3!$D$3:$E$91,2,FALSE)","v":2},"FRITZ DIRKSEN","Rosemount High School","7th Grade Boys D2",null,100390167,6717,1," 00:00:00.000"," 00:21:43.872"," 00:21:43.872",null,null,null,360,29]
[100406805,23,384,{"$f":"VLOOKUP(F212,Sheet3!$D$3:$E$91,2,FALSE)","v":2},"NOAH SIGNALNESS","Hudson High School","7th Grade Boys D2",null,100406805,6606,1," 00:00:00.000"," 00:21:52.252"," 00:21:52.252",null,null,null,356,28]
[100417474,24,379,{"$f":"VLOOKUP(F213,Sheet3!$D$3:$E$91,2,FALSE)","v":2},"CLARK WERWIE","River Falls High School","7th Grade Boys D2",null,100417474,6683,1," 00:00:00.000"," 00:22:11.227"," 00:22:11.227",null,null,null,352,27]
[100427610,25,374,{"$f":"VLOOKUP(F214,Sheet3!$D$3:$E$91,2,FALSE)","v":2},"CHRISTIAN HARSDORF","River Falls High School","7th Grade Boys D2",null,100427610,6680,1," 00:00:00.000"," 00:22:11.951"," 00:22:11.951",null,null,null,348,26]
[100421438,26,369,{"$f":"VLOOKUP(F215,Sheet3!$D$3:$E$91,2,FALSE)","v":2},"BEN JOHNSON","Tioga Trailblazers","7th Grade Boys D2",null,100421438,6761,1," 00:00:00.000"," 00:22:14.326"," 00:22:14.326",null,null,null,344,25]
[100428031,27,364,{"$f":"VLOOKUP(F216,Sheet3!$D$3:$E$91,2,FALSE)","v":2},"IAN ARTLEY","Northwest Composite","7th Grade Boys D2",null,100428031,6658,1," 00:00:00.000"," 00:22:15.563"," 00:22:15.563",null,null,null,340,24]
[100413722,28,359,{"$f":"VLOOKUP(F217,Sheet3!$D$3:$E$91,2,FALSE)","v":2},"MIKHAIL LONG","Orono High School","7th Grade Boys D2",null,100413722,6667,1," 00:00:00.000"," 00:22:15.725"," 00:22:15.725",null,null,null,336,23]
[100389887,29,354,{"$f":"VLOOKUP(F218,Sheet3!$D$3:$E$91,2,FALSE)","v":2},"ETHAN CARLSON","Woodbury Composite","7th Grade Boys D2",null,100389887,6794,1," 00:00:00.000"," 00:22:17.386"," 00:22:17.386",null,null,null,332,22]
[100390296,30,350,{"$f":"VLOOKUP(F219,Sheet3!$D$3:$E$91,2,FALSE)","v":2},"CALM ENZ","Northwest Composite","7th Grade Boys D2",null,100390296,6659,1," 00:00:00.000"," 00:22:17.391"," 00:22:17.391",null,null,null,329,21]
[100391627,31,346,{"$f":"VLOOKUP(F220,Sheet3!$D$3:$E$91,2,FALSE)","v":2},"BRADY MATTSON","Tioga Trailblazers","7th Grade Boys D2",null,100391627,6762,1," 00:00:00.000"," 00:22:18.082"," 00:22:18.082",null,null,null,326,20]
[100392503,32,342,{"$f":"VLOOKUP(F221,Sheet3!$D$3:$E$91,2,FALSE)","v":2},"BENNETT SCHMALTZ","Roseville Area Composite","7th Grade Boys D2",null,100392503,6721,1," 00:00:00.000"," 00:22:30.642"," 00:22:30.642",null,null,null,323,19]
[100430480,33,338,{"$f":"VLOOKUP(F222,Sheet3!$D$3:$E$91,2,FALSE)","v":2},"MAC WALLI","West Range Composite","7th Grade Boys D2",null,100430480,6786,1," 00:00:00.000"," 00:22:36.003"," 00:22:36.003",null,null,null,320,18]
[100434953,34,334,{"$f":"VLOOKUP(F223,Sheet3!$D$3:$E$91,2,FALSE)","v":2},"DREW PRIBYL","Cannon Valley Composite","7th Grade Boys D2",null,100434953,6806,1," 00:00:00.000"," 00:22:42.273"," 00:22:42.273",null,null,null,317,17]
[100407758,35,330,{"$f":"VLOOKUP(F224,Sheet3!$D$3:$E$91,2,FALSE)","v":2},"LUKE EAGLE","Rochester Area Composite","7th Grade Boys D2",null,100407758,6693,1," 00:00:00.000"," 00:22:44.297"," 00:22:44.297",null,null,null,314,16]
[100414914,36,326,{"$f":"VLOOKUP(F225,Sheet3!$D$3:$E$91,2,FALSE)","v":2},"ROBBIE CHILSON","Mound Westonka Composite","7th Grade Boys D2",null,100414914,6630,1," 00:00:00.000"," 00:22:45.268"," 00:22:45.268",null,null,null,311,15]
[100389890,37,322,{"$f":"VLOOKUP(F226,Sheet3!$D$3:$E$91,2,FALSE)","v":2},"JOSIAH CARLSON","Rockford Composite","7th Grade Boys D2",null,100389890,6704,1," 00:00:00.000"," 00:22:45.461"," 00:22:45.461",null,null,null,308,14]
[100390766,38,319,{"$f":"VLOOKUP(F227,Sheet3!$D$3:$E$91,2,FALSE)","v":2},"TYLER HAYDEN","St Paul Central","7th Grade Boys D2",null,100390766,6748,1," 00:00:00.000"," 00:22:58.964"," 00:22:58.964",null,null,null,306,13]
[100426882,39,316,{"$f":"VLOOKUP(F228,Sheet3!$D$3:$E$91,2,FALSE)","v":2},"ESPEN MOLLET","St Louis Park High School","7th Grade Boys D2",null,100426882,6742,1," 00:00:00.000"," 00:22:59.144"," 00:22:59.144",null,null,null,304,12]
[100424568,40,313,{"$f":"VLOOKUP(F229,Sheet3!$D$3:$E$91,2,FALSE)","v":2},"HENRY LOE","Roseville Area Composite","7th Grade Boys D2",null,100424568,6720,1," 00:00:00.000"," 00:23:07.472"," 00:23:07.472",null,null,null,302,11]
[100424221,41,310,{"$f":"VLOOKUP(F230,Sheet3!$D$3:$E$91,2,FALSE)","v":2},"CARMICHAEL LELAND","Orono High School","7th Grade Boys D2",null,100424221,6666,1," 00:00:00.000"," 00:23:23.494"," 00:23:23.494",null,null,null,300,10]
[100393016,42,307,{"$f":"VLOOKUP(F231,Sheet3!$D$3:$E$91,2,FALSE)","v":2},"GAVIN WAGNER","River Falls High School","7th Grade Boys D2",null,100393016,6682,1," 00:00:00.000"," 00:23:26.340"," 00:23:26.340",null,null,null,298,9]
[100389731,43,304,{"$f":"VLOOKUP(F232,Sheet3!$D$3:$E$91,2,FALSE)","v":2},"COLIN BORGEN","Highland Park St Paul","7th Grade Boys D2",null,100389731,6587,1," 00:00:00.000"," 00:23:27.920"," 00:23:27.920",null,null,null,296,8]
[100406822,44,301,{"$f":"VLOOKUP(F233,Sheet3!$D$3:$E$91,2,FALSE)","v":2},"JONAH ESPEY","West Fork","7th Grade Boys D2",null,100406822,6785,1," 00:00:00.000"," 00:23:40.501"," 00:23:40.501",null,null,null,294,7]
[100392294,45,298,{"$f":"VLOOKUP(F234,Sheet3!$D$3:$E$91,2,FALSE)","v":2},"EVAN REINECK","Hudson High School","7th Grade Boys D2",null,100392294,6605,1," 00:00:00.000"," 00:23:45.856"," 00:23:45.856",null,null,null,292,6]
[100435099,46,295,{"$f":"VLOOKUP(F235,Sheet3!$D$3:$E$91,2,FALSE)","v":2},"GAVIN MORRELL","Cannon Valley Composite","7th Grade Boys D2",null,100435099,6804,1," 00:00:00.000"," 00:23:50.369"," 00:23:50.369",null,null,null,290,5]
[100433388,47,293,{"$f":"VLOOKUP(F236,Sheet3!$D$3:$E$91,2,FALSE)","v":2},"RYLAN MACADAMS","Bloomington Composite","7th Grade Boys D2",null,100433388,6802,1," 00:00:00.000"," 00:24:00.889"," 00:24:00.889",null,null,null,289,4]
[100408113,48,291,{"$f":"VLOOKUP(F237,Sheet3!$D$3:$E$91,2,FALSE)","v":2},"ALEX HANSON","Hermantown-Proctor","7th Grade Boys D2",null,100408113,6586,1," 00:00:00.000"," 00:24:09.372"," 00:24:09.372",null,null,null,288,3]
[100389916,49,289,{"$f":"VLOOKUP(F238,Sheet3!$D$3:$E$91,2,FALSE)","v":2},"NICK CASTAGNERI","Elk River Composite","7th Grade Boys D2",null,100389916,6583,1," 00:00:00.000"," 00:24:14.657"," 00:24:14.657",null,null,null,287,2]
[100392521,50,287,{"$f":"VLOOKUP(F239,Sheet3!$D$3:$E$91,2,FALSE)","v":2},"EVERETT SCHOTTMULLER","Rockford Composite","7th Grade Boys D2",null,100392521,6708,1," 00:00:00.000"," 00:24:31.358"," 00:24:31.358",null,null,null,286,1]
[100391769,51,286,{"$f":"VLOOKUP(F240,Sheet3!$D$3:$E$91,2,FALSE)","v":2},"NICHOLAS MIZIORKO","Eagan High School","7th Grade Boys D2",null,100391769,6571,1," 00:00:00.000"," 00:24:42.161"," 00:24:42.161",null,null,null,285,1]
[100389305,52,285,{"$f":"VLOOKUP(F241,Sheet3!$D$3:$E$91,2,FALSE)","v":2},"LIAM WEBER","Elk River Composite","7th Grade Boys D2",null,100389305,6585,1," 00:00:00.000"," 00:24:44.943"," 00:24:44.943",null,null,null,284,1]
[100424498,53,284,{"$f":"VLOOKUP(F242,Sheet3!$D$3:$E$91,2,FALSE)","v":2},"ALEXANDER KNORP","Orono High School","7th Grade Boys D2",null,100424498,6665,1," 00:00:00.000"," 00:24:49.332"," 00:24:49.332",null,null,null,283,1]
[100390370,54,283,{"$f":"VLOOKUP(F243,Sheet3!$D$3:$E$91,2,FALSE)","v":2},"WALTER FEYDER","St Paul Central","7th Grade Boys D2",null,100390370,6747,1," 00:00:00.000"," 00:24:57.777"," 00:24:57.777",null,null,null,282,1]
[100389902,55,282,{"$f":"VLOOKUP(F244,Sheet3!$D$3:$E$91,2,FALSE)","v":2},"IAN CAROLAN","Austin High School","7th Grade Boys D2",null,100389902,6513,1," 00:00:00.000"," 00:25:28.687"," 00:25:28.687",null,null,null,281,1]
[100388092,56,281,{"$f":"VLOOKUP(F245,Sheet3!$D$3:$E$91,2,FALSE)","v":2},"WILLIAM BURNS","Orono High School","7th Grade Boys D2",null,100388092,6664,1," 00:00:00.000"," 00:25:29.434"," 00:25:29.434",null,null,null,280,1]
[100422847,57,280,{"$f":"VLOOKUP(F246,Sheet3!$D$3:$E$91,2,FALSE)","v":2},"JOE ALLIS","St Paul Central","7th Grade Boys D2",null,100422847,6746,1," 00:00:00.000"," 00:25:40.519"," 00:25:40.519",null,null,null,279,1]
[100389740,58,279,{"$f":"VLOOKUP(F247,Sheet3!$D$3:$E$91,2,FALSE)","v":2},"VICTOR BOULTON","Roseville Area Composite","7th Grade Boys D2",null,100389740,6718,1," 00:00:00.000"," 00:25:48.555"," 00:25:48.555",null,null,null,278,1]
[100431327,59,278,{"$f":"VLOOKUP(F248,Sheet3!$D$3:$E$91,2,FALSE)","v":2},"ELIJAH WARD","Rockford Composite","7th Grade Boys D2",null,100431327,6710,1," 00:00:00.000"," 00:26:37.799"," 00:26:37.799",null,null,null,277,1]
[100415432,60,277,{"$f":"VLOOKUP(F249,Sheet3!$D$3:$E$91,2,FALSE)","v":2},"HENRY WERWIE","River Falls High School","7th Grade Boys D2",null,100415432,6685,1," 00:00:00.000"," 00:27:57.419"," 00:27:57.419",null,null,null,276,1]
[100429015,61,276,{"$f":"VLOOKUP(F250,Sheet3!$D$3:$E$91,2,FALSE)","v":2},"NOAH HILLEBERT","Mound Westonka Composite","7th Grade Boys D2",null,100429015,6631,1," 00:00:00.000"," 00:30:39.380"," 00:30:39.380",null,null,null,275,1]
[100427321,62,275,{"$f":"VLOOKUP(F251,Sheet3!$D$3:$E$91,2,FALSE)","v":2},"OLIVER PILSNER","Osseo","7th Grade Boys D2",null,100427321,6669,1," 00:00:00.000"," 00:31:03.535"," 00:31:03.535",null,null,null,274,1]
[100417478,63,274,{"$f":"VLOOKUP(F252,Sheet3!$D$3:$E$91,2,FALSE)","v":2},"GEORGE WERWIE","River Falls High School","7th Grade Boys D2",null,100417478,6684,1," 00:00:00.000"," 00:31:51.795"," 00:31:51.795",null,null,null,273,1]
[100430744,64,273,{"$f":"VLOOKUP(F253,Sheet3!$D$3:$E$91,2,FALSE)","v":2},"ENZO PERZICHILLI","St. Paul Composite - North","7th Grade Boys D2","Outside Assist",100430744,6752,1," 00:05:00.000"," 00:38:36.083"," 00:33:36.083",null,null,null,272,1]
[100423642,65,272,{"$f":"VLOOKUP(F254,Sheet3!$D$3:$E$91,2,FALSE)","v":2},"JULIAN ENGEHOLM","Roosevelt High School","7th Grade Boys D2",null,100423642,6711,1," 00:00:00.000"," 00:40:57.732"," 00:40:57.732",null,null,null,271,1]
[100420802,1,550,{"$f":"VLOOKUP(F255,Sheet3!$D$3:$E$91,2,FALSE)","v":1},"ALEXIS RIDGEWAY","New Prague Middle and High School","7th Grade Girls",null,100420802,7552,1," 00:00:00.000"," 00:20:02.134"," 00:20:02.134",null,null,null,500,50]
[100409037,2,539,{"$f":"VLOOKUP(F256,Sheet3!$D$3:$E$91,2,FALSE)","v":2},"MARGO BREMER","Eastview High School","7th Grade Girls",null,100409037,7523,1," 00:00:00.000"," 00:20:16.278"," 00:20:16.278",null,null,null,490,49]
[100389782,3,529,{"$f":"VLOOKUP(F257,Sheet3!$D$3:$E$91,2,FALSE)","v":1},"ABIGAIL BRITZ","Wayzata Mountain Bike","7th Grade Girls",null,100389782,7584,1," 00:00:00.000"," 00:21:57.332"," 00:21:57.332",null,null,null,481,48]
[100392315,4,519,{"$f":"VLOOKUP(F258,Sheet3!$D$3:$E$91,2,FALSE)","v":1},"VANESSA RICKMEYER","Crosby-Ironton High School","7th Grade Girls",null,100392315,7516,1," 00:00:00.000"," 00:22:11.349"," 00:22:11.349",null,null,null,472,47]
[100392019,5,510,{"$f":"VLOOKUP(F259,Sheet3!$D$3:$E$91,2,FALSE)","v":1},"MILA OLSON","Prior Lake High School","7th Grade Girls",null,100392019,7559,1," 00:00:00.000"," 00:22:17.163"," 00:22:17.163",null,null,null,464,46]
[100392777,6,{"$f":"+S260+R260","v":501},{"$f":"VLOOKUP(F260,Sheet3!$D$3:$E$91,2,FALSE)","v":1},"ADDISON SUCHY","Alexandria Area Youth Cycling","7th Grade Girls",null,100392777,7501,1," 00:00:00.000"," 00:22:17.247"," 00:22:17.247",null,null,null,456,45]
[100389830,7,492,{"$f":"VLOOKUP(F261,Sheet3!$D$3:$E$91,2,FALSE)","v":1},"SYDNEY BULLARD","Edina Cycling","7th Grade Girls",null,100389830,7524,1," 00:00:00.000"," 00:22:21.303"," 00:22:21.303",null,null,null,448,44]
[100391958,8,484,{"$f":"VLOOKUP(F262,Sheet3!$D$3:$E$91,2,FALSE)","v":1},"GRETA NYGREN","Hopkins High School","7th Grade Girls",null,100391958,7530,1," 00:00:00.000"," 00:22:26.396"," 00:22:26.396",null,null,null,441,43]
[100391764,9,476,{"$f":"VLOOKUP(F263,Sheet3!$D$3:$E$91,2,FALSE)","v":1},"MARG MINICH","Stillwater Mountain Bike","7th Grade Girls",null,100391764,7577,1," 00:00:00.000"," 00:22:27.614"," 00:22:27.614",null,null,null,434,42]
[100391922,10,468,{"$f":"VLOOKUP(F264,Sheet3!$D$3:$E$91,2,FALSE)","v":2},"PIPER NICKLESKI","River Falls High School","7th Grade Girls",null,100391922,7560,1," 00:00:00.000"," 00:22:29.991"," 00:22:29.991",null,null,null,427,41]
[100390609,11,460,{"$f":"VLOOKUP(F265,Sheet3!$D$3:$E$91,2,FALSE)","v":1},"SOPHIE GRICIUS","Winona","7th Grade Girls",null,100390609,7587,1," 00:00:00.000"," 00:22:36.016"," 00:22:36.016",null,null,null,420,40]
[100391498,12,453,{"$f":"VLOOKUP(F266,Sheet3!$D$3:$E$91,2,FALSE)","v":1},"AVERY LONERGAN","Crosby-Ironton High School","7th Grade Girls",null,100391498,7515,1," 00:00:00.000"," 00:22:54.280"," 00:22:54.280",null,null,null,414,39]
[100418804,13,446,{"$f":"VLOOKUP(F267,Sheet3!$D$3:$E$91,2,FALSE)","v":1},"SOFIA HORSTMANN","Lakeville North High School","7th Grade Girls",null,100418804,7536,1," 00:00:00.000"," 00:22:55.717"," 00:22:55.717",null,null,null,408,38]
[100409174,14,439,{"$f":"VLOOKUP(F268,Sheet3!$D$3:$E$91,2,FALSE)","v":1},"JADON CARLSON","Mounds View High School","7th Grade Girls",null,100409174,7545,1," 00:00:00.000"," 00:23:22.245"," 00:23:22.245",null,null,null,402,37]
[100392834,15,432,{"$f":"VLOOKUP(F269,Sheet3!$D$3:$E$91,2,FALSE)","v":1},"MAEVE THATCHER","Washburn High School","7th Grade Girls",null,100392834,7582,1," 00:00:00.000"," 00:23:24.726"," 00:23:24.726",null,null,null,396,36]
[100427676,16,425,{"$f":"VLOOKUP(F270,Sheet3!$D$3:$E$91,2,FALSE)","v":2},"HALEY HONMYHR","Maple Grove High School","7th Grade Girls",null,100427676,7538,1," 00:00:00.000"," 00:23:36.245"," 00:23:36.245",null,null,null,390,35]
[100430559,17,419,{"$f":"VLOOKUP(F271,Sheet3!$D$3:$E$91,2,FALSE)","v":1},"NORAH ROTH","Crosby-Ironton High School","7th Grade Girls",null,100430559,7517,1," 00:00:00.000"," 00:23:47.693"," 00:23:47.693",null,null,null,385,34]
[100408713,18,413,{"$f":"VLOOKUP(F272,Sheet3!$D$3:$E$91,2,FALSE)","v":1},"QUINN VAN HEYST","East Ridge High School","7th Grade Girls",null,100408713,7522,1," 00:00:00.000"," 00:23:52.659"," 00:23:52.659",null,null,null,380,33]
[100392890,19,407,{"$f":"VLOOKUP(F273,Sheet3!$D$3:$E$91,2,FALSE)","v":1},"GEORGI TOFTNESS","Crosby-Ironton High School","7th Grade Girls",null,100392890,7518,1," 00:00:00.000"," 00:23:54.942"," 00:23:54.942",null,null,null,375,32]
[100408103,20,401,{"$f":"VLOOKUP(F274,Sheet3!$D$3:$E$91,2,FALSE)","v":2},"INGRID OLSON","Minnesota Valley Composite","7th Grade Girls",null,100408103,7539,1," 00:00:00.000"," 00:24:25.176"," 00:24:25.176",null,null,null,370,31]
[100391250,21,395,{"$f":"VLOOKUP(F275,Sheet3!$D$3:$E$91,2,FALSE)","v":1},"MONIQUE KONOTOPKA","Chaska High School","7th Grade Girls",null,100391250,7512,1," 00:00:00.000"," 00:24:33.147"," 00:24:33.147",null,null,null,365,30]
[100417451,22,389,{"$f":"VLOOKUP(F276,Sheet3!$D$3:$E$91,2,FALSE)","v":1},"MAYA SCHRAMM","Minneapolis Southwest","7th Grade Girls",null,100417451,7550,1," 00:00:00.000"," 00:24:37.219"," 00:24:37.219",null,null,null,360,29]
[100421844,23,384,{"$f":"VLOOKUP(F277,Sheet3!$D$3:$E$91,2,FALSE)","v":1},"SIDSE SPROUT","Champlin Park High School","7th Grade Girls",null,100421844,7510,1," 00:00:00.000"," 00:24:45.445"," 00:24:45.445",null,null,null,356,28]
[100418268,24,379,{"$f":"VLOOKUP(F278,Sheet3!$D$3:$E$91,2,FALSE)","v":2},"PENELOPE PERNITZ","Roosevelt High School","7th Grade Girls",null,100418268,7566,1," 00:00:00.000"," 00:24:53.598"," 00:24:53.598",null,null,null,352,27]
[100390129,25,374,{"$f":"VLOOKUP(F279,Sheet3!$D$3:$E$91,2,FALSE)","v":2},"ADELE DENTON","Totino Grace High School","7th Grade Girls",null,100390129,7580,1," 00:00:00.000"," 00:25:01.464"," 00:25:01.464",null,null,null,348,26]
[100409012,26,369,{"$f":"VLOOKUP(F280,Sheet3!$D$3:$E$91,2,FALSE)","v":1},"ELLE LYNCH","Minneapolis Southwest","7th Grade Girls",null,100409012,7548,1," 00:00:00.000"," 00:25:03.374"," 00:25:03.374",null,null,null,344,25]
[100416731,27,364,{"$f":"VLOOKUP(F281,Sheet3!$D$3:$E$91,2,FALSE)","v":2},"IRENE PASTOR","Rochester Area Composite","7th Grade Girls",null,100416731,7563,1," 00:00:00.000"," 00:25:11.961"," 00:25:11.961",null,null,null,340,24]
[100390104,28,359,{"$f":"VLOOKUP(F282,Sheet3!$D$3:$E$91,2,FALSE)","v":2},"CLARA DAVIS","Northwest Composite","7th Grade Girls",null,100390104,7553,1," 00:00:00.000"," 00:25:13.351"," 00:25:13.351",null,null,null,336,23]
[100393061,29,354,{"$f":"VLOOKUP(F283,Sheet3!$D$3:$E$91,2,FALSE)","v":1},"BAYLY WASMER","Washburn High School","7th Grade Girls",null,100393061,7583,1," 00:00:00.000"," 00:25:15.483"," 00:25:15.483",null,null,null,332,22]
[100392393,30,350,{"$f":"VLOOKUP(F284,Sheet3!$D$3:$E$91,2,FALSE)","v":1},"MORGAN ROTHER","Champlin Park High School","7th Grade Girls",null,100392393,7509,1," 00:00:00.000"," 00:25:18.587"," 00:25:18.587",null,null,null,329,21]
[100390824,31,346,{"$f":"VLOOKUP(F285,Sheet3!$D$3:$E$91,2,FALSE)","v":1},"LIVY HENTGES","New Prague Middle and High School","7th Grade Girls",null,100390824,7551,1," 00:00:00.000"," 00:25:20.258"," 00:25:20.258",null,null,null,326,20]
[100390402,32,342,{"$f":"VLOOKUP(F286,Sheet3!$D$3:$E$91,2,FALSE)","v":1},"EVA FOLGER","Prior Lake High School","7th Grade Girls",null,100390402,7558,1," 00:00:00.000"," 00:26:02.830"," 00:26:02.830",null,null,null,323,19]
[100425799,33,338,{"$f":"VLOOKUP(F287,Sheet3!$D$3:$E$91,2,FALSE)","v":1},"ELIZABETH MENDEZ","Burnsville High School","7th Grade Girls",null,100425799,7508,1," 00:00:00.000"," 00:26:30.004"," 00:26:30.004",null,null,null,320,18]
[100390969,34,334,{"$f":"VLOOKUP(F288,Sheet3!$D$3:$E$91,2,FALSE)","v":2},"ELLENY HUTTON","Hudson High School","7th Grade Girls",null,100390969,7534,1," 00:00:00.000"," 00:26:36.071"," 00:26:36.071",null,null,null,317,17]
[100418895,35,330,{"$f":"VLOOKUP(F289,Sheet3!$D$3:$E$91,2,FALSE)","v":2},"ISABELLA BERGMAN","Minneapolis Southside Composite","7th Grade Girls",null,100418895,7546,1," 00:00:00.000"," 00:26:47.404"," 00:26:47.404",null,null,null,314,16]
[100389971,36,326,{"$f":"VLOOKUP(F290,Sheet3!$D$3:$E$91,2,FALSE)","v":2},"ALLISON CLAYDON","Roseville Area Composite","7th Grade Girls",null,100389971,7567,1," 00:00:00.000"," 00:28:11.822"," 00:28:11.822",null,null,null,311,15]
[100405328,37,322,{"$f":"VLOOKUP(F291,Sheet3!$D$3:$E$91,2,FALSE)","v":1},"LYDIA VARGO","Minnetonka High School","7th Grade Girls",null,100405328,7542,1," 00:00:00.000"," 00:28:50.000"," 00:28:50.000",null,null,null,308,14]
[100414842,38,319,{"$f":"VLOOKUP(F292,Sheet3!$D$3:$E$91,2,FALSE)","v":2},"MAKENZIE REESE","Mound Westonka Composite","7th Grade Girls",null,100414842,7543,1," 00:00:00.000"," 00:28:54.489"," 00:28:54.489",null,null,null,306,13]
[100393145,39,316,{"$f":"VLOOKUP(F293,Sheet3!$D$3:$E$91,2,FALSE)","v":1},"ADELINE WILICHOWSKI","Stillwater Mountain Bike","7th Grade Girls",null,100393145,7579,1," 00:00:00.000"," 00:29:19.603"," 00:29:19.603",null,null,null,304,12]
[100431226,40,313,{"$f":"VLOOKUP(F294,Sheet3!$D$3:$E$91,2,FALSE)","v":2},"SOPHIA BEAUDIN","Osseo","7th Grade Girls",null,100431226,7557,1," 00:00:00.000"," 00:29:44.724"," 00:29:44.724",null,null,null,302,11]
[100426662,41,310,{"$f":"VLOOKUP(F295,Sheet3!$D$3:$E$91,2,FALSE)","v":2},"FERN SHAFFNER","Roseville Area Composite","7th Grade Girls",null,100426662,7568,1," 00:00:00.000"," 00:29:54.448"," 00:29:54.448",null,null,null,300,10]
[100392669,42,307,{"$f":"VLOOKUP(F296,Sheet3!$D$3:$E$91,2,FALSE)","v":2},"HAILEY SOINE","Kerkhoven Composite","7th Grade Girls",null,100392669,7535,1," 00:00:00.000"," 00:31:18.647"," 00:31:18.647",null,null,null,298,9]
[100393022,43,304,{"$f":"VLOOKUP(F297,Sheet3!$D$3:$E$91,2,FALSE)","v":2},"ADDISON WAKELING","St Croix Composite","7th Grade Girls",null,100393022,7574,1," 00:00:00.000"," 00:35:55.000"," 00:35:55.000",null,null,null,296,8]
[100391219,44,301,{"$f":"VLOOKUP(F298,Sheet3!$D$3:$E$91,2,FALSE)","v":1},"SYLVIA KLEIN","Shakopee High School","7th Grade Girls",null,100391219,7571,1," 00:00:00.000"," 00:40:39.791"," 00:40:39.791",null,null,null,294,7]
[100422641,45,0,{"$f":"VLOOKUP(F299,Sheet3!$D$3:$E$91,2,FALSE)","v":1},"LYDIA MICHALS","Hopkins High School","7th Grade Girls","DNF",100422641,7529,0," 00:00:00.000",null,null,null,null,null,0,0]
[100391132,46,0,{"$f":"VLOOKUP(F300,Sheet3!$D$3:$E$91,2,FALSE)","v":2},"TESSA KALM","Mankato West High School","7th Grade Girls","DNF",100391132,7537,0," 00:00:00.000",null,null,null,null,null,0,0]
[100390117,1,550,{"$f":"VLOOKUP(F301,Sheet3!$D$3:$E$91,2,FALSE)","v":1},"ANDERS DECKER","Armstrong Cycle","8th Grade Boys D1",null,100390117,5009,1," 00:00:00.000"," 00:17:42.884"," 00:17:42.884",null,null,null,500,50]
[100392967,2,539,{"$f":"VLOOKUP(F302,Sheet3!$D$3:$E$91,2,FALSE)","v":1},"EMMETT VALLEY","Stillwater Mountain Bike","8th Grade Boys D1",null,100392967,5318,1," 00:00:00.000"," 00:17:44.794"," 00:17:44.794",null,null,null,490,49]
[100406258,3,529,{"$f":"VLOOKUP(F303,Sheet3!$D$3:$E$91,2,FALSE)","v":1},"CHARLIE SANDERSON","Stillwater Mountain Bike","8th Grade Boys D1",null,100406258,5312,1," 00:00:00.000"," 00:18:04.783"," 00:18:04.783",null,null,null,481,48]
[100389750,4,519,{"$f":"VLOOKUP(F304,Sheet3!$D$3:$E$91,2,FALSE)","v":1},"HAYDEN BRAITH","New Prague Middle and High School","8th Grade Boys D1",null,100389750,5180,1," 00:00:00.000"," 00:18:08.374"," 00:18:08.374",null,null,null,472,47]
[100391134,5,510,{"$f":"VLOOKUP(F305,Sheet3!$D$3:$E$91,2,FALSE)","v":1},"JACK KALMON","Stillwater Mountain Bike","8th Grade Boys D1",null,100391134,5310,1," 00:00:00.000"," 00:18:17.407"," 00:18:17.407",null,null,null,464,46]
[100392241,6,501,{"$f":"VLOOKUP(F306,Sheet3!$D$3:$E$91,2,FALSE)","v":1},"THOMAS QUACKENBUSH","Mounds View High School","8th Grade Boys D1",null,100392241,5163,1," 00:00:00.000"," 00:18:36.260"," 00:18:36.260",null,null,null,456,45]
[100391323,7,492,{"$f":"VLOOKUP(F307,Sheet3!$D$3:$E$91,2,FALSE)","v":1},"ETHAN KVITEK","Cloquet-Esko-Carlton","8th Grade Boys D1",null,100391323,5056,1," 00:00:00.000"," 00:18:36.486"," 00:18:36.486",null,null,null,448,44]
[100393224,8,484,{"$f":"VLOOKUP(F308,Sheet3!$D$3:$E$91,2,FALSE)","v":1},"AIDEN ZABEL","Shakopee High School","8th Grade Boys D1",null,100393224,5272,1," 00:00:00.000"," 00:18:36.817"," 00:18:36.817",null,null,null,441,43]
[100407702,9,476,{"$f":"VLOOKUP(F309,Sheet3!$D$3:$E$91,2,FALSE)","v":1},"LAKEN BARTEL","Mounds View High School","8th Grade Boys D1",null,100407702,5159,1," 00:00:00.000"," 00:18:47.751"," 00:18:47.751",null,null,null,434,42]
[100390153,10,468,{"$f":"VLOOKUP(F310,Sheet3!$D$3:$E$91,2,FALSE)","v":1},"HENRY DIAZ","Armstrong Cycle","8th Grade Boys D1",null,100390153,5010,1," 00:00:00.000"," 00:18:56.407"," 00:18:56.407",null,null,null,427,41]
[100390667,11,460,{"$f":"VLOOKUP(F311,Sheet3!$D$3:$E$91,2,FALSE)","v":1},"IAN HALBMAIER","New Prague Middle and High School","8th Grade Boys D1",null,100390667,5184,1," 00:00:00.000"," 00:19:00.567"," 00:19:00.567",null,null,null,420,40]
[100431235,12,453,{"$f":"VLOOKUP(F312,Sheet3!$D$3:$E$91,2,FALSE)","v":1},"NOAH LAFRANCE","Wayzata Mountain Bike","8th Grade Boys D1",null,100431235,5343,1," 00:00:00.000"," 00:19:02.401"," 00:19:02.401",null,null,null,414,39]
[100390065,13,446,{"$f":"VLOOKUP(F313,Sheet3!$D$3:$E$91,2,FALSE)","v":1},"ELI CZAJKOWSKI","Prior Lake High School","8th Grade Boys D1",null,100390065,5207,1," 00:00:00.000"," 00:19:04.232"," 00:19:04.232",null,null,null,408,38]
[100393063,14,439,{"$f":"VLOOKUP(F314,Sheet3!$D$3:$E$91,2,FALSE)","v":1},"OWEN WATTERSON","Burnsville High School","8th Grade Boys D1",null,100393063,5036,1," 00:00:00.000"," 00:19:11.286"," 00:19:11.286",null,null,null,402,37]
[100392411,15,432,{"$f":"VLOOKUP(F315,Sheet3!$D$3:$E$91,2,FALSE)","v":1},"BRADYN RUPPERT","Chanhassen High School","8th Grade Boys D1",null,100392411,5046,1," 00:00:00.000"," 00:19:14.493"," 00:19:14.493",null,null,null,396,36]
[100392996,16,425,{"$f":"VLOOKUP(F316,Sheet3!$D$3:$E$91,2,FALSE)","v":1},"ANDY VIZECKY","Mounds View High School","8th Grade Boys D1",null,100392996,5167,1," 00:00:00.000"," 00:19:17.018"," 00:19:17.018",null,null,null,390,35]
[100392163,17,419,{"$f":"VLOOKUP(F317,Sheet3!$D$3:$E$91,2,FALSE)","v":1},"WYATT PETRACK","Rock Ridge Composite","8th Grade Boys D1",null,100392163,5244,1," 00:00:00.000"," 00:19:17.191"," 00:19:17.191",null,null,null,385,34]
[100392518,18,413,{"$f":"VLOOKUP(F318,Sheet3!$D$3:$E$91,2,FALSE)","v":1},"MOSES SCHOLLETT","Stillwater Mountain Bike","8th Grade Boys D1",null,100392518,5314,1," 00:00:00.000"," 00:19:18.939"," 00:19:18.939",null,null,null,380,33]
[100389929,19,407,{"$f":"VLOOKUP(F319,Sheet3!$D$3:$E$91,2,FALSE)","v":1},"DONAVEN CHASE","Stillwater Mountain Bike","8th Grade Boys D1",null,100389929,5305,1," 00:00:00.000"," 00:19:24.907"," 00:19:24.907",null,null,null,375,32]
[100389517,20,401,{"$f":"VLOOKUP(F320,Sheet3!$D$3:$E$91,2,FALSE)","v":1},"WYATT BACKOWSKI","Crosby-Ironton High School","8th Grade Boys D1",null,100389517,5059,1," 00:00:00.000"," 00:19:48.515"," 00:19:48.515",null,null,null,370,31]
[100390647,21,395,{"$f":"VLOOKUP(F321,Sheet3!$D$3:$E$91,2,FALSE)","v":1},"NOLAN HAAR","Hopkins High School","8th Grade Boys D1",null,100390647,5116,1," 00:00:00.000"," 00:20:03.883"," 00:20:03.883",null,null,null,365,30]
[100420495,22,389,{"$f":"VLOOKUP(F322,Sheet3!$D$3:$E$91,2,FALSE)","v":1},"HENRY DAHN","New Prague Middle and High School","8th Grade Boys D1",null,100420495,5182,1," 00:00:00.000"," 00:20:09.924"," 00:20:09.924",null,null,null,360,29]
[100391391,23,384,{"$f":"VLOOKUP(F323,Sheet3!$D$3:$E$91,2,FALSE)","v":1},"AUGUST LAUER","Stillwater Mountain Bike","8th Grade Boys D1",null,100391391,5307,1," 00:00:00.000"," 00:20:13.555"," 00:20:13.555",null,null,null,356,28]
[100387930,24,{"$f":"+S324+R324","v":379},{"$f":"VLOOKUP(F324,Sheet3!$D$3:$E$91,2,FALSE)","v":1},"BEN ANDERSON","Minnetonka High School","8th Grade Boys D1",null,100387930,5149,1," 00:00:00.000"," 00:20:13.602"," 00:20:13.602",null,null,null,352,27]
[100390261,25,374,{"$f":"VLOOKUP(F325,Sheet3!$D$3:$E$91,2,FALSE)","v":1},"ROWAN EKHOLM","Rochester Century High School","8th Grade Boys D1",null,100390261,5231,1," 00:00:00.000"," 00:20:18.626"," 00:20:18.626",null,null,null,348,26]
[100392925,26,369,{"$f":"VLOOKUP(F326,Sheet3!$D$3:$E$91,2,FALSE)","v":1},"COHEN TRUMBULL","Prior Lake High School","8th Grade Boys D1",null,100392925,5218,1," 00:00:00.000"," 00:20:21.018"," 00:20:21.018",null,null,null,344,25]
[100390284,27,364,{"$f":"VLOOKUP(F327,Sheet3!$D$3:$E$91,2,FALSE)","v":1},"BECKETT ENGEL","Rock Ridge Composite","8th Grade Boys D1",null,100390284,5241,1," 00:00:00.000"," 00:20:28.420"," 00:20:28.420",null,null,null,340,24]
[100391174,28,359,{"$f":"VLOOKUP(F328,Sheet3!$D$3:$E$91,2,FALSE)","v":1},"SYD KENNEDY","Chanhassen High School","8th Grade Boys D1",null,100391174,5044,1," 00:00:00.000"," 00:20:29.367"," 00:20:29.367",null,null,null,336,23]
[100390921,29,354,{"$f":"VLOOKUP(F329,Sheet3!$D$3:$E$91,2,FALSE)","v":1},"IAN HORECK","Winona","8th Grade Boys D1",null,100390921,5358,1," 00:00:00.000"," 00:20:30.420"," 00:20:30.420",null,null,null,332,22]
[100390176,30,350,{"$f":"VLOOKUP(F330,Sheet3!$D$3:$E$91,2,FALSE)","v":1},"OLIVER DOE","Stillwater Mountain Bike","8th Grade Boys D1",null,100390176,5306,1," 00:00:00.000"," 00:20:30.660"," 00:20:30.660",null,null,null,329,21]
[100410231,31,346,{"$f":"VLOOKUP(F331,Sheet3!$D$3:$E$91,2,FALSE)","v":1},"GILBERT MOGUSH","Washburn High School","8th Grade Boys D1",null,100410231,5336,1," 00:00:00.000"," 00:20:34.784"," 00:20:34.784",null,null,null,326,20]
[100406233,32,342,{"$f":"VLOOKUP(F332,Sheet3!$D$3:$E$91,2,FALSE)","v":1},"BENJAMIN FOSTER","Cloquet-Esko-Carlton","8th Grade Boys D1",null,100406233,5055,1," 00:00:00.000"," 00:20:36.785"," 00:20:36.785",null,null,null,323,19]
[100392520,33,338,{"$f":"VLOOKUP(F333,Sheet3!$D$3:$E$91,2,FALSE)","v":1},"BEN SCHOLTEN","Alexandria Area Youth Cycling","8th Grade Boys D1",null,100392520,5005,1," 00:00:00.000"," 00:20:36.937"," 00:20:36.937",null,null,null,320,18]
[100389760,34,334,{"$f":"VLOOKUP(F334,Sheet3!$D$3:$E$91,2,FALSE)","v":1},"CALEB BRASH","Stillwater Mountain Bike","8th Grade Boys D1",null,100389760,5303,1," 00:00:00.000"," 00:20:37.483"," 00:20:37.483",null,null,null,317,17]
[100392750,35,330,{"$f":"VLOOKUP(F335,Sheet3!$D$3:$E$91,2,FALSE)","v":1},"NOLAN STONE","Chaska High School","8th Grade Boys D1",null,100392750,5052,1," 00:00:00.000"," 00:20:44.175"," 00:20:44.175",null,null,null,314,16]
[100422802,36,326,{"$f":"VLOOKUP(F336,Sheet3!$D$3:$E$91,2,FALSE)","v":1},"CHASE WALGRAVE","Prior Lake High School","8th Grade Boys D1",null,100422802,5219,1," 00:00:00.000"," 00:20:44.888"," 00:20:44.888",null,null,null,311,15]
[100411201,37,322,{"$f":"VLOOKUP(F337,Sheet3!$D$3:$E$91,2,FALSE)","v":1},"TYLER ROSEMEIER","New Prague Middle and High School","8th Grade Boys D1",null,100411201,5187,1," 00:00:00.000"," 00:20:47.130"," 00:20:47.130",null,null,null,308,14]
[100424730,38,319,{"$f":"VLOOKUP(F338,Sheet3!$D$3:$E$91,2,FALSE)","v":1},"BARON TIKALSKY","New Prague Middle and High School","8th Grade Boys D1",null,100424730,5188,1," 00:00:00.000"," 00:20:48.713"," 00:20:48.713",null,null,null,306,13]
[100391857,39,316,{"$f":"VLOOKUP(F339,Sheet3!$D$3:$E$91,2,FALSE)","v":1},"KAEGAN MUSEUS","Brainerd High School","8th Grade Boys D1",null,100391857,5033,1," 00:00:00.000"," 00:20:57.234"," 00:20:57.234",null,null,null,304,12]
[100391912,40,313,{"$f":"VLOOKUP(F340,Sheet3!$D$3:$E$91,2,FALSE)","v":1},"ELIJAH NICHOLAS","Burnsville High School","8th Grade Boys D1",null,100391912,5035,1," 00:00:00.000"," 00:20:58.189"," 00:20:58.189",null,null,null,302,11]
[100391916,41,310,{"$f":"VLOOKUP(F341,Sheet3!$D$3:$E$91,2,FALSE)","v":1},"WILL NICHOLS","Alexandria Area Youth Cycling","8th Grade Boys D1",null,100391916,5003,1," 00:00:00.000"," 00:20:59.017"," 00:20:59.017",null,null,null,300,10]
[100389876,42,307,{"$f":"VLOOKUP(F342,Sheet3!$D$3:$E$91,2,FALSE)","v":1},"SOLOMON CAMPBELL","Stillwater Mountain Bike","8th Grade Boys D1",null,100389876,5304,1," 00:00:00.000"," 00:20:59.081"," 00:20:59.081",null,null,null,298,9]
[100391162,43,304,{"$f":"VLOOKUP(F343,Sheet3!$D$3:$E$91,2,FALSE)","v":1},"CONNOR KELSEY","Prior Lake High School","8th Grade Boys D1",null,100391162,5212,1," 00:00:00.000"," 00:21:02.109"," 00:21:02.109",null,null,null,296,8]
[100426037,44,301,{"$f":"VLOOKUP(F344,Sheet3!$D$3:$E$91,2,FALSE)","v":1},"JACK SMITHBERG","Stillwater Mountain Bike","8th Grade Boys D1",null,100426037,5316,1," 00:00:00.000"," 00:21:05.066"," 00:21:05.066",null,null,null,294,7]
[100390381,45,298,{"$f":"VLOOKUP(F345,Sheet3!$D$3:$E$91,2,FALSE)","v":1},"ALEX FISHER","Prior Lake High School","8th Grade Boys D1",null,100390381,5208,1," 00:00:00.000"," 00:21:12.421"," 00:21:12.421",null,null,null,292,6]
[100404616,46,295,{"$f":"VLOOKUP(F346,Sheet3!$D$3:$E$91,2,FALSE)","v":1},"NOLAN SIEDENBURG","Chaska High School","8th Grade Boys D1",null,100404616,5051,1," 00:00:00.000"," 00:21:13.438"," 00:21:13.438",null,null,null,290,5]
[100407949,47,293,{"$f":"VLOOKUP(F347,Sheet3!$D$3:$E$91,2,FALSE)","v":1},"JONAS PETERSON","Cloquet-Esko-Carlton","8th Grade Boys D1",null,100407949,5058,1," 00:00:00.000"," 00:21:27.937"," 00:21:27.937",null,null,null,289,4]
[100422846,48,291,{"$f":"VLOOKUP(F348,Sheet3!$D$3:$E$91,2,FALSE)","v":1},"LUKE FORSTER","Prior Lake High School","8th Grade Boys D1",null,100422846,5209,1," 00:00:00.000"," 00:21:31.443"," 00:21:31.443",null,null,null,288,3]
[100392155,49,289,{"$f":"VLOOKUP(F349,Sheet3!$D$3:$E$91,2,FALSE)","v":1},"GAVIN PETERSON","Alexandria Area Youth Cycling","8th Grade Boys D1",null,100392155,5004,1," 00:00:00.000"," 00:21:36.129"," 00:21:36.129",null,null,null,287,2]
[100390581,50,287,{"$f":"VLOOKUP(F350,Sheet3!$D$3:$E$91,2,FALSE)","v":1},"ALEX GRABRIAN","Crosby-Ironton High School","8th Grade Boys D1",null,100390581,5060,1," 00:00:00.000"," 00:21:36.233"," 00:21:36.233",null,null,null,286,1]
[100418023,51,286,{"$f":"VLOOKUP(F351,Sheet3!$D$3:$E$91,2,FALSE)","v":1},"OSCAR ZABEL","Stillwater Mountain Bike","8th Grade Boys D1",null,100418023,5320,1," 00:00:00.000"," 00:21:37.455"," 00:21:37.455",null,null,null,285,1]
[100389926,52,285,{"$f":"VLOOKUP(F352,Sheet3!$D$3:$E$91,2,FALSE)","v":1},"GREYSEN CHARNSTROM","New Prague Middle and High School","8th Grade Boys D1",null,100389926,5181,1," 00:00:00.000"," 00:21:38.918"," 00:21:38.918",null,null,null,284,1]
[100389501,53,284,{"$f":"VLOOKUP(F353,Sheet3!$D$3:$E$91,2,FALSE)","v":1},"CORBEN ASUMA","Rock Ridge Composite","8th Grade Boys D1",null,100389501,5240,1," 00:00:00.000"," 00:21:39.184"," 00:21:39.184",null,null,null,283,1]
[100389416,54,283,{"$f":"VLOOKUP(F354,Sheet3!$D$3:$E$91,2,FALSE)","v":1},"BEN ALLINGTON","Winona","8th Grade Boys D1",null,100389416,5355,1," 00:00:00.000"," 00:22:00.567"," 00:22:00.567",null,null,null,282,1]
[100390613,55,282,{"$f":"VLOOKUP(F355,Sheet3!$D$3:$E$91,2,FALSE)","v":1},"ISAAC GRIEVE","Alexandria Area Youth Cycling","8th Grade Boys D1",null,100390613,5002,1," 00:00:00.000"," 00:22:09.513"," 00:22:09.513",null,null,null,281,1]
[100390192,56,281,{"$f":"VLOOKUP(F356,Sheet3!$D$3:$E$91,2,FALSE)","v":1},"FINN DOLMAR","Bloomington Jefferson","8th Grade Boys D1",null,100390192,5028,1," 00:00:00.000"," 00:22:11.094"," 00:22:11.094",null,null,null,280,1]
[100423483,57,280,{"$f":"VLOOKUP(F357,Sheet3!$D$3:$E$91,2,FALSE)","v":1},"CARSON BONTA","Stillwater Mountain Bike","8th Grade Boys D1",null,100423483,5301,1," 00:00:00.000"," 00:22:11.583"," 00:22:11.583",null,null,null,279,1]
[100391267,58,279,{"$f":"VLOOKUP(F358,Sheet3!$D$3:$E$91,2,FALSE)","v":1},"BRAYDEN KREJCE","Lakeville North High School","8th Grade Boys D1",null,100391267,5137,1," 00:00:00.000"," 00:22:13.820"," 00:22:13.820",null,null,null,278,1]
[100391149,59,278,{"$f":"VLOOKUP(F359,Sheet3!$D$3:$E$91,2,FALSE)","v":1},"LANDON KEK","Shakopee High School","8th Grade Boys D1",null,100391149,5262,1," 00:00:00.000"," 00:22:15.020"," 00:22:15.020",null,null,null,277,1]
[100423499,60,277,{"$f":"VLOOKUP(F360,Sheet3!$D$3:$E$91,2,FALSE)","v":1},"TYLER DAVIDSON","Edina Cycling","8th Grade Boys D1",null,100423499,5078,1," 00:00:00.000"," 00:22:17.768"," 00:22:17.768",null,null,null,276,1]
[100418808,61,276,{"$f":"VLOOKUP(F361,Sheet3!$D$3:$E$91,2,FALSE)","v":1},"SAMUEL ARNESON","Washburn High School","8th Grade Boys D1",null,100418808,5332,1," 00:00:00.000"," 00:22:37.277"," 00:22:37.277",null,null,null,275,1]
[100408835,62,275,{"$f":"VLOOKUP(F362,Sheet3!$D$3:$E$91,2,FALSE)","v":1},"BENJAMIN TABIOS","Shakopee High School","8th Grade Boys D1",null,100408835,5269,1," 00:00:00.000"," 00:22:45.602"," 00:22:45.602",null,null,null,274,1]
[100391228,63,274,{"$f":"VLOOKUP(F363,Sheet3!$D$3:$E$91,2,FALSE)","v":1},"ODIN KLUN","Washburn High School","8th Grade Boys D1",null,100391228,5335,1," 00:00:00.000"," 00:22:54.333"," 00:22:54.333",null,null,null,273,1]
[100426137,64,273,{"$f":"VLOOKUP(F364,Sheet3!$D$3:$E$91,2,FALSE)","v":1},"RYLAN ARNOLD","Champlin Park High School","8th Grade Boys D1",null,100426137,5040,1," 00:00:00.000"," 00:22:59.212"," 00:22:59.212",null,null,null,272,1]
[100418065,65,272,{"$f":"VLOOKUP(F365,Sheet3!$D$3:$E$91,2,FALSE)","v":1},"OLIN KNUTSON","White Bear Lake High School","8th Grade Boys D1",null,100418065,5350,1," 00:00:00.000"," 00:23:01.266"," 00:23:01.266",null,null,null,271,1]
[100391354,66,271,{"$f":"VLOOKUP(F366,Sheet3!$D$3:$E$91,2,FALSE)","v":1},"CHRISTOPHER LANG","East Ridge High School","8th Grade Boys D1",null,100391354,5068,1," 00:00:00.000"," 00:23:02.949"," 00:23:02.949",null,null,null,270,1]
[100417581,67,270,{"$f":"VLOOKUP(F367,Sheet3!$D$3:$E$91,2,FALSE)","v":1},"AXEL CHENIER","Minnetonka High School","8th Grade Boys D1",null,100417581,5150,1," 00:00:00.000"," 00:23:07.587"," 00:23:07.587",null,null,null,269,1]
[100390955,68,269,{"$f":"VLOOKUP(F368,Sheet3!$D$3:$E$91,2,FALSE)","v":1},"SULLIVAN HUNT","Minneapolis Southwest","8th Grade Boys D1",null,100390955,5175,1," 00:00:00.000"," 00:23:31.653"," 00:23:31.653",null,null,null,268,1]
[100407894,69,268,{"$f":"VLOOKUP(F369,Sheet3!$D$3:$E$91,2,FALSE)","v":1},"WALTER RATWIK","Mounds View High School","8th Grade Boys D1",null,100407894,5164,1," 00:00:00.000"," 00:23:35.273"," 00:23:35.273",null,null,null,267,1]
[100390232,70,267,{"$f":"VLOOKUP(F370,Sheet3!$D$3:$E$91,2,FALSE)","v":1},"GRIFFIN DUSSAULT","Armstrong Cycle","8th Grade Boys D1",null,100390232,5011,1," 00:00:00.000"," 00:23:57.237"," 00:23:57.237",null,null,null,266,1]
[100427609,71,266,{"$f":"VLOOKUP(F371,Sheet3!$D$3:$E$91,2,FALSE)","v":1},"BRECK SWANSON","Armstrong Cycle","8th Grade Boys D1",null,100427609,5013,1," 00:00:00.000"," 00:23:59.694"," 00:23:59.694",null,null,null,265,1]
[100390519,72,265,{"$f":"VLOOKUP(F372,Sheet3!$D$3:$E$91,2,FALSE)","v":1},"LOGAN GAVER","Lakeville North High School","8th Grade Boys D1",null,100390519,5135,1," 00:00:00.000"," 00:24:05.243"," 00:24:05.243",null,null,null,264,1]
[100391926,73,264,{"$f":"VLOOKUP(F373,Sheet3!$D$3:$E$91,2,FALSE)","v":1},"HENRY NIERMANN","Minneapolis Southwest","8th Grade Boys D1",null,100391926,5176,1," 00:00:00.000"," 00:24:10.303"," 00:24:10.303",null,null,null,263,1]
[100390314,74,263,{"$f":"VLOOKUP(F374,Sheet3!$D$3:$E$91,2,FALSE)","v":1},"OWEN ESLINGER","Shakopee High School","8th Grade Boys D1",null,100390314,5259,1," 00:00:00.000"," 00:24:29.617"," 00:24:29.617",null,null,null,262,1]
[100389694,75,262,{"$f":"VLOOKUP(F375,Sheet3!$D$3:$E$91,2,FALSE)","v":1},"ALEX BLEHERT","Hopkins High School","8th Grade Boys D1",null,100389694,5115,1," 00:00:00.000"," 00:24:34.108"," 00:24:34.108",null,null,null,261,1]
[100392572,76,261,{"$f":"VLOOKUP(F376,Sheet3!$D$3:$E$91,2,FALSE)","v":1},"ELI SEILER","Lakeville North High School","8th Grade Boys D1",null,100392572,5138,1," 00:00:00.000"," 00:24:37.088"," 00:24:37.088",null,null,null,260,1]
[100415791,77,260,{"$f":"VLOOKUP(F377,Sheet3!$D$3:$E$91,2,FALSE)","v":1},"WILLIAM BOYD","Stillwater Mountain Bike","8th Grade Boys D1",null,100415791,5302,1," 00:00:00.000"," 00:24:42.012"," 00:24:42.012",null,null,null,259,1]
[100389975,78,259,{"$f":"VLOOKUP(F378,Sheet3!$D$3:$E$91,2,FALSE)","v":1},"AUSTIN CLEGHORN","Prior Lake High School","8th Grade Boys D1",null,100389975,5206,1," 00:00:00.000"," 00:24:54.309"," 00:24:54.309",null,null,null,258,1]
[100412195,79,258,{"$f":"VLOOKUP(F379,Sheet3!$D$3:$E$91,2,FALSE)","v":1},"CODY HURWITZ","Edina Cycling","8th Grade Boys D1",null,100412195,5084,1," 00:00:00.000"," 00:25:19.679"," 00:25:19.679",null,null,null,257,1]
[100429683,80,257,{"$f":"VLOOKUP(F380,Sheet3!$D$3:$E$91,2,FALSE)","v":1},"SAWYER WILLS","Stillwater Mountain Bike","8th Grade Boys D1",null,100429683,5319,1," 00:00:00.000"," 00:25:24.291"," 00:25:24.291",null,null,null,256,1]
[100392825,81,256,{"$f":"VLOOKUP(F381,Sheet3!$D$3:$E$91,2,FALSE)","v":1},"IAN TELSROW","White Bear Lake High School","8th Grade Boys D1",null,100392825,5352,1," 00:00:00.000"," 00:25:35.411"," 00:25:35.411",null,null,null,255,1]
[100390916,82,255,{"$f":"VLOOKUP(F382,Sheet3!$D$3:$E$91,2,FALSE)","v":1},"DYLAN HOOD","White Bear Lake High School","8th Grade Boys D1",null,100390916,5349,1," 00:00:00.000"," 00:25:36.255"," 00:25:36.255",null,null,null,254,1]
[100427366,83,254,{"$f":"VLOOKUP(F383,Sheet3!$D$3:$E$91,2,FALSE)","v":1},"MAX PATTERSON","Champlin Park High School","8th Grade Boys D1",null,100427366,5043,1," 00:00:00.000"," 00:25:42.384"," 00:25:42.384",null,null,null,253,1]
[100389412,84,253,{"$f":"VLOOKUP(F384,Sheet3!$D$3:$E$91,2,FALSE)","v":1},"HAYDEN ALLEN","Lakeville North High School","8th Grade Boys D1",null,100389412,5133,1," 00:00:00.000"," 00:25:45.073"," 00:25:45.073",null,null,null,252,1]
[100390858,85,252,{"$f":"VLOOKUP(F385,Sheet3!$D$3:$E$91,2,FALSE)","v":1},"KAI HILL","Rochester Century High School","8th Grade Boys D1",null,100390858,5232,1," 00:00:00.000"," 00:26:00.354"," 00:26:00.354",null,null,null,251,1]
[100429427,86,251,{"$f":"VLOOKUP(F386,Sheet3!$D$3:$E$91,2,FALSE)","v":1},"ALEX THIELEN","White Bear Lake High School","8th Grade Boys D1",null,100429427,5353,1," 00:00:00.000"," 00:26:02.129"," 00:26:02.129",null,null,null,250,1]
[100391584,87,250,{"$f":"VLOOKUP(F387,Sheet3!$D$3:$E$91,2,FALSE)","v":1},"IAN MARIETTE","Armstrong Cycle","8th Grade Boys D1",null,100391584,5012,1," 00:00:00.000"," 00:26:04.255"," 00:26:04.255",null,null,null,249,1]
[100428605,88,{"$f":"+S388+R388","v":249},{"$f":"VLOOKUP(F388,Sheet3!$D$3:$E$91,2,FALSE)","v":1},"AVERY PLISCOTT","Brainerd High School","8th Grade Boys D1",null,100428605,5034,1," 00:00:00.000"," 00:26:15.899"," 00:26:15.899",null,null,null,248,1]
[100392116,89,248,{"$f":"VLOOKUP(F389,Sheet3!$D$3:$E$91,2,FALSE)","v":1},"ARI PELISSERO","Winona","8th Grade Boys D1",null,100392116,5361,1," 00:00:00.000"," 00:28:43.018"," 00:28:43.018",null,null,null,247,1]
[100410672,90,247,{"$f":"VLOOKUP(F390,Sheet3!$D$3:$E$91,2,FALSE)","v":1},"BRADY ANTONY","Shakopee High School","8th Grade Boys D1",null,100410672,5256,1," 00:00:00.000"," 00:29:33.664"," 00:29:33.664",null,null,null,246,1]
[100391787,91,246,{"$f":"VLOOKUP(F391,Sheet3!$D$3:$E$91,2,FALSE)","v":1},"FINN MOMSEN","Winona","8th Grade Boys D1",null,100391787,5360,1," 00:00:00.000"," 00:38:13.992"," 00:38:13.992",null,null,null,245,1]
[100390482,92,245,{"$f":"VLOOKUP(F392,Sheet3!$D$3:$E$91,2,FALSE)","v":1},"CAMDEN GAGE","Stillwater Mountain Bike","8th Grade Boys D1","Bike Swap",100390482,5311,1," 00:10:00.000"," 00:31:13.400"," 00:21:13.400",null,null,null,244,1]
[100390629,93,244,{"$f":"VLOOKUP(F393,Sheet3!$D$3:$E$91,2,FALSE)","v":1},"JACE GULBRANSON","Rock Ridge Composite","8th Grade Boys D1",null,100390629,5242,1," 00:00:00.000"," 00:41:53.263"," 00:41:53.263",null,null,null,243,1]
[100419611,94,0,{"$f":"VLOOKUP(F394,Sheet3!$D$3:$E$91,2,FALSE)","v":1},"DAN DENARDO","Shakopee High School","8th Grade Boys D1","DNF Medical",100419611,5258,0," 00:00:00.000",null,null,null,null,null,0,0]
[100390473,1,550,{"$f":"VLOOKUP(F395,Sheet3!$D$3:$E$91,2,FALSE)","v":2},"EDWARD FULL","Elk River Composite","8th Grade Boys D2",null,100390473,5095,1," 00:00:00.000"," 00:17:54.844"," 00:17:54.844",null,null,null,500,50]
[100391839,2,539,{"$f":"VLOOKUP(F396,Sheet3!$D$3:$E$91,2,FALSE)","v":2},"ERIC MOSS","St Croix Composite","8th Grade Boys D2",null,100391839,5277,1," 00:00:00.000"," 00:17:55.896"," 00:17:55.896",null,null,null,490,49]
[100391214,3,529,{"$f":"VLOOKUP(F397,Sheet3!$D$3:$E$91,2,FALSE)","v":2},"MAX KLABUNDE","Rogers High School","8th Grade Boys D2",null,100391214,5248,1," 00:00:00.000"," 00:18:09.145"," 00:18:09.145",null,null,null,481,48]
[100391152,4,519,{"$f":"VLOOKUP(F398,Sheet3!$D$3:$E$91,2,FALSE)","v":2},"RYAN KELLER","Hudson High School","8th Grade Boys D2",null,100391152,5121,1," 00:00:00.000"," 00:18:20.835"," 00:18:20.835",null,null,null,472,47]
[100392296,5,510,{"$f":"VLOOKUP(F399,Sheet3!$D$3:$E$91,2,FALSE)","v":2},"MASON REINER","Eden Prairie High School","8th Grade Boys D2",null,100392296,5075,1," 00:00:00.000"," 00:18:40.783"," 00:18:40.783",null,null,null,464,46]
[100391678,6,501,{"$f":"VLOOKUP(F400,Sheet3!$D$3:$E$91,2,FALSE)","v":2},"JAMES MCNAMARA","Hastings Area Composite","8th Grade Boys D2",null,100391678,5101,1," 00:00:00.000"," 00:18:43.561"," 00:18:43.561",null,null,null,456,45]
[100388618,7,492,{"$f":"VLOOKUP(F401,Sheet3!$D$3:$E$91,2,FALSE)","v":2},"AUSTIN KUEHL","St Louis Park High School","8th Grade Boys D2",null,100388618,5280,1," 00:00:00.000"," 00:18:57.144"," 00:18:57.144",null,null,null,448,44]
[100390325,8,484,{"$f":"VLOOKUP(F402,Sheet3!$D$3:$E$91,2,FALSE)","v":2},"COOPER ETNIER","St Michael / Albertville Composite","8th Grade Boys D2",null,100390325,5281,1," 00:00:00.000"," 00:19:02.437"," 00:19:02.437",null,null,null,441,43]
[100392498,10,468,{"$f":"VLOOKUP(F403,Sheet3!$D$3:$E$91,2,FALSE)","v":2},"HANK SCHLAUDERAFF","Northwest Composite","8th Grade Boys D2","Warning : Deviation",100392498,5194,1," 00:00:00.000"," 00:19:02.819"," 00:19:02.819",null,null,null,434,42]
[100424062,9,476,{"$f":"VLOOKUP(F404,Sheet3!$D$3:$E$91,2,FALSE)","v":2},"OWEN MOORMANN","St Michael / Albertville Composite","8th Grade Boys D2",null,100424062,5285,1," 00:00:00.000"," 00:19:02.819"," 00:19:02.819",null,null,null,427,41]
[100391128,11,460,{"$f":"VLOOKUP(F405,Sheet3!$D$3:$E$91,2,FALSE)","v":2},"QUINN JUSTEN","St Croix Composite","8th Grade Boys D2",null,100391128,5276,1," 00:00:00.000"," 00:19:13.588"," 00:19:13.588",null,null,null,420,40]
[100392876,12,453,{"$f":"VLOOKUP(F406,Sheet3!$D$3:$E$91,2,FALSE)","v":2},"MAVERICK TILLER","Park High School","8th Grade Boys D2",null,100392876,5205,1," 00:00:00.000"," 00:19:24.592"," 00:19:24.592",null,null,null,414,39]
[100407377,13,446,{"$f":"VLOOKUP(F407,Sheet3!$D$3:$E$91,2,FALSE)","v":2},"JOE STEPHENSON","Hudson High School","8th Grade Boys D2",null,100407377,5124,1," 00:00:00.000"," 00:19:44.607"," 00:19:44.607",null,null,null,408,38]
[100392240,14,439,{"$f":"VLOOKUP(F408,Sheet3!$D$3:$E$91,2,FALSE)","v":2},"SEBASTIAN PURYEAR-JORDAN","St. Paul Composite - North","8th Grade Boys D2","Relegate 1 Deviation",100392240,5297,1," 00:00:00.000"," 00:19:44.625"," 00:19:44.625",null,null,null,402,37]
[100415378,15,432,{"$f":"VLOOKUP(F409,Sheet3!$D$3:$E$91,2,FALSE)","v":2},"HARRISON MERTEN","Mound Westonka Composite","8th Grade Boys D2",null,100415378,5158,1," 00:00:00.000"," 00:19:49.786"," 00:19:49.786",null,null,null,396,36]
[100391222,16,425,{"$f":"VLOOKUP(F410,Sheet3!$D$3:$E$91,2,FALSE)","v":2},"DYLAN KLEVANN","St Michael / Albertville Composite","8th Grade Boys D2",null,100391222,5284,1," 00:00:00.000"," 00:19:57.350"," 00:19:57.350",null,null,null,390,35]
[100390474,17,419,{"$f":"VLOOKUP(F411,Sheet3!$D$3:$E$91,2,FALSE)","v":2},"BENJAMIN FUNKE","Cannon Valley Composite","8th Grade Boys D2",null,100390474,5038,1," 00:00:00.000"," 00:20:02.844"," 00:20:02.844",null,null,null,385,34]
[100392352,18,413,{"$f":"VLOOKUP(F412,Sheet3!$D$3:$E$91,2,FALSE)","v":2},"DAVID ROBINSON","North Dakota Composite","8th Grade Boys D2",null,100392352,5191,1," 00:00:00.000"," 00:20:07.107"," 00:20:07.107",null,null,null,380,33]
[100409126,19,407,{"$f":"VLOOKUP(F413,Sheet3!$D$3:$E$91,2,FALSE)","v":2},"CALVIN CARPENTER","Rosemount High School","8th Grade Boys D2",null,100409126,5251,1," 00:00:00.000"," 00:20:10.781"," 00:20:10.781",null,null,null,375,32]
[100392029,20,401,{"$f":"VLOOKUP(F414,Sheet3!$D$3:$E$91,2,FALSE)","v":2},"AIDAN OLSTAD","Eden Prairie High School","8th Grade Boys D2",null,100392029,5074,1," 00:00:00.000"," 00:20:13.984"," 00:20:13.984",null,null,null,370,31]
[100392021,21,395,{"$f":"VLOOKUP(F415,Sheet3!$D$3:$E$91,2,FALSE)","v":2},"PAYTON OLSON","Hastings Area Composite","8th Grade Boys D2",null,100392021,5102,1," 00:00:00.000"," 00:20:21.150"," 00:20:21.150",null,null,null,365,30]
[100427245,22,389,{"$f":"VLOOKUP(F416,Sheet3!$D$3:$E$91,2,FALSE)","v":2},"LIAM LISTON","Eden Prairie High School","8th Grade Boys D2",null,100427245,5073,1," 00:00:00.000"," 00:20:36.795"," 00:20:36.795",null,null,null,360,29]
[100392010,23,384,{"$f":"VLOOKUP(F417,Sheet3!$D$3:$E$91,2,FALSE)","v":2},"EVERETT OLSON","Osseo Composite","8th Grade Boys D2",null,100392010,5203,1," 00:00:00.000"," 00:20:39.223"," 00:20:39.223",null,null,null,356,28]
[100392821,24,379,{"$f":"VLOOKUP(F418,Sheet3!$D$3:$E$91,2,FALSE)","v":2},"WYATT TEDRICK","Borealis Composite","8th Grade Boys D2",null,100392821,5032,1," 00:00:00.000"," 00:20:48.153"," 00:20:48.153",null,null,null,352,27]
[100392141,25,374,{"$f":"VLOOKUP(F419,Sheet3!$D$3:$E$91,2,FALSE)","v":2},"HUNTER PETERS","Austin High School","8th Grade Boys D2",null,100392141,5015,1," 00:00:00.000"," 00:20:51.157"," 00:20:51.157",null,null,null,348,26]
[100430925,26,369,{"$f":"VLOOKUP(F420,Sheet3!$D$3:$E$91,2,FALSE)","v":2},"ERIC STANGEL","Tioga Trailblazers","8th Grade Boys D2",null,100430925,5327,1," 00:00:00.000"," 00:20:55.727"," 00:20:55.727",null,null,null,344,25]
[100390831,27,364,{"$f":"VLOOKUP(F421,Sheet3!$D$3:$E$91,2,FALSE)","v":2},"LEO HERNANDEZ","Cannon Valley Composite","8th Grade Boys D2",null,100390831,5039,1," 00:00:00.000"," 00:21:00.903"," 00:21:00.903",null,null,null,340,24]
[100392710,28,359,{"$f":"VLOOKUP(F422,Sheet3!$D$3:$E$91,2,FALSE)","v":2},"JACOB STAEHLING","St Cloud Area Composite","8th Grade Boys D2",null,100392710,5274,1," 00:00:00.000"," 00:21:05.441"," 00:21:05.441",null,null,null,336,23]
[100391882,29,354,{"$f":"VLOOKUP(F423,Sheet3!$D$3:$E$91,2,FALSE)","v":2},"ETHAN NELSON","Rochester Mayo","8th Grade Boys D2",null,100391882,5238,1," 00:00:00.000"," 00:21:06.665"," 00:21:06.665",null,null,null,332,22]
[100389464,30,350,{"$f":"VLOOKUP(F424,Sheet3!$D$3:$E$91,2,FALSE)","v":2},"BRAYDEN ANDREWS","Austin High School","8th Grade Boys D2",null,100389464,5014,1," 00:00:00.000"," 00:21:08.447"," 00:21:08.447",null,null,null,329,21]
[100419473,31,346,{"$f":"VLOOKUP(F425,Sheet3!$D$3:$E$91,2,FALSE)","v":2},"TUCKER CROWE","West Range Composite","8th Grade Boys D2",null,100419473,5346,1," 00:00:00.000"," 00:21:12.982"," 00:21:12.982",null,null,null,326,20]
[100388685,32,342,{"$f":"VLOOKUP(F426,Sheet3!$D$3:$E$91,2,FALSE)","v":2},"CHRISTIAN LOGA","River Falls High School","8th Grade Boys D2",null,100388685,5224,1," 00:00:00.000"," 00:21:18.080"," 00:21:18.080",null,null,null,323,19]
[100391956,33,338,{"$f":"VLOOKUP(F427,Sheet3!$D$3:$E$91,2,FALSE)","v":2},"GERIK NOWLIN","Benilde St Margaret","8th Grade Boys D2",null,100391956,5022,1," 00:00:00.000"," 00:21:27.932"," 00:21:27.932",null,null,null,320,18]
[100389842,34,334,{"$f":"VLOOKUP(F428,Sheet3!$D$3:$E$91,2,FALSE)","v":2},"TREVOR BURLEIGH","Elk River Composite","8th Grade Boys D2",null,100389842,5093,1," 00:00:00.000"," 00:21:28.803"," 00:21:28.803",null,null,null,317,17]
[100429358,35,330,{"$f":"VLOOKUP(F429,Sheet3!$D$3:$E$91,2,FALSE)","v":2},"JACKSON TRIPP","Elk River Composite","8th Grade Boys D2",null,100429358,5097,1," 00:00:00.000"," 00:21:29.640"," 00:21:29.640",null,null,null,314,16]
[100390926,36,326,{"$f":"VLOOKUP(F430,Sheet3!$D$3:$E$91,2,FALSE)","v":2},"MICAH HORSAGER","Mahtomedi High School","8th Grade Boys D2",null,100390926,5143,1," 00:00:00.000"," 00:21:33.093"," 00:21:33.093",null,null,null,311,15]
[100391468,37,322,{"$f":"VLOOKUP(F431,Sheet3!$D$3:$E$91,2,FALSE)","v":2},"EMMETT LIND","West Range Composite","8th Grade Boys D2",null,100391468,5347,1," 00:00:00.000"," 00:21:35.130"," 00:21:35.130",null,null,null,308,14]
[100393154,38,319,{"$f":"VLOOKUP(F432,Sheet3!$D$3:$E$91,2,FALSE)","v":2},"DEXTER WILLIAMS","Rochester Mayo","8th Grade Boys D2",null,100393154,5239,1," 00:00:00.000"," 00:21:35.261"," 00:21:35.261",null,null,null,306,13]
[100392511,39,316,{"$f":"VLOOKUP(F433,Sheet3!$D$3:$E$91,2,FALSE)","v":2},"IAN SCHNEIDER","St Cloud Area Composite","8th Grade Boys D2",null,100392511,5273,1," 00:00:00.000"," 00:21:35.427"," 00:21:35.427",null,null,null,304,12]
[100392039,40,313,{"$f":"VLOOKUP(F434,Sheet3!$D$3:$E$91,2,FALSE)","v":2},"FINN O'REILLY","Woodbury Composite","8th Grade Boys D2",null,100392039,5366,1," 00:00:00.000"," 00:21:44.776"," 00:21:44.776",null,null,null,302,11]
[100390557,41,310,{"$f":"VLOOKUP(F435,Sheet3!$D$3:$E$91,2,FALSE)","v":2},"ANDREW GOEHLER","Woodbury Composite","8th Grade Boys D2",null,100390557,5364,1," 00:00:00.000"," 00:21:54.010"," 00:21:54.010",null,null,null,300,10]
[100421884,42,307,{"$f":"VLOOKUP(F436,Sheet3!$D$3:$E$91,2,FALSE)","v":2},"BRODY REITER","River Falls High School","8th Grade Boys D2",null,100421884,5227,1," 00:00:00.000"," 00:21:54.700"," 00:21:54.700",null,null,null,298,9]
[100391883,43,304,{"$f":"VLOOKUP(F437,Sheet3!$D$3:$E$91,2,FALSE)","v":2},"EUGENE NELSON","Osseo Composite","8th Grade Boys D2",null,100391883,5202,1," 00:00:00.000"," 00:21:58.457"," 00:21:58.457",null,null,null,296,8]
[100392696,44,301,{"$f":"VLOOKUP(F438,Sheet3!$D$3:$E$91,2,FALSE)","v":2},"GEORGE SPONHOLZ","Borealis Composite","8th Grade Boys D2",null,100392696,5031,1," 00:00:00.000"," 00:21:59.000"," 00:21:59.000",null,null,null,294,7]
[100391875,45,298,{"$f":"VLOOKUP(F439,Sheet3!$D$3:$E$91,2,FALSE)","v":2},"AIDEN NELSON","Elk River Composite","8th Grade Boys D2",null,100391875,5096,1," 00:00:00.000"," 00:22:00.412"," 00:22:00.412",null,null,null,292,6]
[100427718,46,295,{"$f":"VLOOKUP(F440,Sheet3!$D$3:$E$91,2,FALSE)","v":2},"HAYDEN HOFF","Apple Valley High School","8th Grade Boys D2",null,100427718,5007,1," 00:00:00.000"," 00:22:01.688"," 00:22:01.688",null,null,null,290,5]
[100390861,47,293,{"$f":"VLOOKUP(F441,Sheet3!$D$3:$E$91,2,FALSE)","v":2},"NOAH HINES","Roosevelt High School","8th Grade Boys D2",null,100390861,5249,1," 00:00:00.000"," 00:22:07.318"," 00:22:07.318",null,null,null,289,4]
[100391176,48,291,{"$f":"VLOOKUP(F442,Sheet3!$D$3:$E$91,2,FALSE)","v":2},"WILLIAM KENOWSKI","Tioga Trailblazers","8th Grade Boys D2",null,100391176,5322,1," 00:00:00.000"," 00:22:12.431"," 00:22:12.431",null,null,null,288,3]
[100418329,49,289,{"$f":"VLOOKUP(F443,Sheet3!$D$3:$E$91,2,FALSE)","v":2},"GRASYN HASSALL","St Michael / Albertville Composite","8th Grade Boys D2",null,100418329,5283,1," 00:00:00.000"," 00:22:12.522"," 00:22:12.522",null,null,null,287,2]
[100427868,50,287,{"$f":"VLOOKUP(F444,Sheet3!$D$3:$E$91,2,FALSE)","v":2},"WILLIAM BUTTKE","Maple Grove High School","8th Grade Boys D2",null,100427868,5147,1," 00:00:00.000"," 00:22:19.841"," 00:22:19.841",null,null,null,286,1]
[100426314,51,286,{"$f":"VLOOKUP(F445,Sheet3!$D$3:$E$91,2,FALSE)","v":2},"BRODY WIELAND","Eden Prairie High School","8th Grade Boys D2",null,100426314,5076,1," 00:00:00.000"," 00:22:21.046"," 00:22:21.046",null,null,null,285,1]
[100390286,52,285,{"$f":"VLOOKUP(F446,Sheet3!$D$3:$E$91,2,FALSE)","v":2},"OLIVER ENGEL","Breck/Blake","8th Grade Boys D2",null,100390286,5017,1," 00:00:00.000"," 00:22:31.854"," 00:22:31.854",null,null,null,284,1]
[100429019,53,284,{"$f":"VLOOKUP(F447,Sheet3!$D$3:$E$91,2,FALSE)","v":2},"RYAN LYNCH","Benilde St Margaret","8th Grade Boys D2",null,100429019,5020,1," 00:00:00.000"," 00:22:49.526"," 00:22:49.526",null,null,null,283,1]
[100427219,54,283,{"$f":"VLOOKUP(F448,Sheet3!$D$3:$E$91,2,FALSE)","v":2},"MICAH STRICKLAND","Kerkhoven Composite","8th Grade Boys D2",null,100427219,5132,1," 00:00:00.000"," 00:22:52.321"," 00:22:52.321",null,null,null,282,1]
[100389702,55,282,{"$f":"VLOOKUP(F449,Sheet3!$D$3:$E$91,2,FALSE)","v":2},"JUDE BODEN","St Croix Composite","8th Grade Boys D2",null,100389702,5275,1," 00:00:00.000"," 00:22:57.349"," 00:22:57.349",null,null,null,281,1]
[100392165,56,281,{"$f":"VLOOKUP(F450,Sheet3!$D$3:$E$91,2,FALSE)","v":2},"OSCAR PETRIE","Roseville Area Composite","8th Grade Boys D2",null,100392165,5255,1," 00:00:00.000"," 00:23:00.350"," 00:23:00.350",null,null,null,280,1]
[100392379,57,280,{"$f":"VLOOKUP(F451,Sheet3!$D$3:$E$91,2,FALSE)","v":2},"FRANKIE ROQUE","Minneapolis Northside Composite","8th Grade Boys D2",null,100392379,5168,1," 00:00:00.000"," 00:23:00.922"," 00:23:00.922",null,null,null,279,1]
[100393175,58,{"$f":"+S452+R452","v":279},{"$f":"VLOOKUP(F452,Sheet3!$D$3:$E$91,2,FALSE)","v":2},"OWEN WINDORSKI","Tioga Trailblazers","8th Grade Boys D2",null,100393175,5329,1," 00:00:00.000"," 00:23:03.649"," 00:23:03.649",null,null,null,278,1]
[100426761,59,278,{"$f":"VLOOKUP(F453,Sheet3!$D$3:$E$91,2,FALSE)","v":2},"HARRISON ADAM","Rosemount High School","8th Grade Boys D2",null,100426761,5250,1," 00:00:00.000"," 00:23:08.098"," 00:23:08.098",null,null,null,277,1]
[100391098,60,277,{"$f":"VLOOKUP(F454,Sheet3!$D$3:$E$91,2,FALSE)","v":2},"BEN JONES","Bloomington Composite","8th Grade Boys D2",null,100391098,5026,1," 00:00:00.000"," 00:23:44.737"," 00:23:44.737",null,null,null,276,1]
[100392345,61,276,{"$f":"VLOOKUP(F455,Sheet3!$D$3:$E$91,2,FALSE)","v":2},"FINLEY ROBERTS","Tioga Trailblazers","8th Grade Boys D2",null,100392345,5325,1," 00:00:00.000"," 00:23:45.712"," 00:23:45.712",null,null,null,275,1]
[100389618,62,275,{"$f":"VLOOKUP(F456,Sheet3!$D$3:$E$91,2,FALSE)","v":2},"JONNY BENSON","Kerkhoven Composite","8th Grade Boys D2",null,100389618,5129,1," 00:00:00.000"," 00:23:46.843"," 00:23:46.843",null,null,null,274,1]
[100422478,63,274,{"$f":"VLOOKUP(F457,Sheet3!$D$3:$E$91,2,FALSE)","v":2},"MASON MOLDEN","Borealis Composite","8th Grade Boys D2",null,100422478,5030,1," 00:00:00.000"," 00:23:48.740"," 00:23:48.740",null,null,null,273,1]
[100389685,64,273,{"$f":"VLOOKUP(F458,Sheet3!$D$3:$E$91,2,FALSE)","v":2},"NOLAN BLAHA","Northwest Composite","8th Grade Boys D2",null,100389685,5193,1," 00:00:00.000"," 00:25:00.360"," 00:25:00.360",null,null,null,272,1]
[100434537,65,272,{"$f":"VLOOKUP(F459,Sheet3!$D$3:$E$91,2,FALSE)","v":2},"XANDER ROBECK","St Michael / Albertville Composite","8th Grade Boys D2",null,100434537,5371,1," 00:00:00.000"," 00:25:16.609"," 00:25:16.609",null,null,null,271,1]
[100392347,66,271,{"$f":"VLOOKUP(F460,Sheet3!$D$3:$E$91,2,FALSE)","v":2},"GRAHAM ROBERTS","Eagan High School","8th Grade Boys D2",null,100392347,5064,1," 00:00:00.000"," 00:25:27.382"," 00:25:27.382",null,null,null,270,1]
[100390887,67,270,{"$f":"VLOOKUP(F461,Sheet3!$D$3:$E$91,2,FALSE)","v":2},"HENRY HOLDSWORTH","Minneapolis South High","8th Grade Boys D2",null,100390887,5169,1," 00:00:00.000"," 00:25:33.097"," 00:25:33.097",null,null,null,269,1]
[100393238,68,269,{"$f":"VLOOKUP(F462,Sheet3!$D$3:$E$91,2,FALSE)","v":2},"TIMOTHY ZWIEFEL","Rosemount High School","8th Grade Boys D2",null,100393238,5072,1," 00:00:00.000"," 00:25:41.048"," 00:25:41.048",null,null,null,268,1]
[100391200,69,268,{"$f":"VLOOKUP(F463,Sheet3!$D$3:$E$91,2,FALSE)","v":2},"JACK KINNAN","Rockford Composite","8th Grade Boys D2",null,100391200,5246,1," 00:00:00.000"," 00:25:59.247"," 00:25:59.247",null,null,null,267,1]
[100423668,70,267,{"$f":"VLOOKUP(F464,Sheet3!$D$3:$E$91,2,FALSE)","v":2},"MATTEO VARGAS HIPPLE","St Paul Central","8th Grade Boys D2",null,100423668,5289,1," 00:00:00.000"," 00:26:03.521"," 00:26:03.521",null,null,null,266,1]
[100391651,71,266,{"$f":"VLOOKUP(F465,Sheet3!$D$3:$E$91,2,FALSE)","v":2},"IAN MCCONN","Roseville Area Composite","8th Grade Boys D2",null,100391651,5254,1," 00:00:00.000"," 00:26:06.130"," 00:26:06.130",null,null,null,265,1]
[100428332,72,265,{"$f":"VLOOKUP(F466,Sheet3!$D$3:$E$91,2,FALSE)","v":2},"LUCAS STAGEBERG","Rockford Composite","8th Grade Boys D2",null,100428332,5247,1," 00:00:00.000"," 00:26:12.534"," 00:26:12.534",null,null,null,264,1]
[100419018,73,264,{"$f":"VLOOKUP(F467,Sheet3!$D$3:$E$91,2,FALSE)","v":2},"JAXON STOECKMAN","St Michael / Albertville Composite","8th Grade Boys D2",null,100419018,5286,1," 00:00:00.000"," 00:26:25.718"," 00:26:25.718",null,null,null,263,1]
[100431203,74,263,{"$f":"VLOOKUP(F468,Sheet3!$D$3:$E$91,2,FALSE)","v":2},"CARTER HARRIS","Tioga Trailblazers","8th Grade Boys D2",null,100431203,5382,1," 00:00:00.000"," 00:26:35.070"," 00:26:35.070",null,null,null,262,1]
[100392731,75,262,{"$f":"VLOOKUP(F469,Sheet3!$D$3:$E$91,2,FALSE)","v":2},"SAM STAUNING","St. Paul Composite - North","8th Grade Boys D2",null,100392731,5299,1," 00:00:00.000"," 00:26:59.747"," 00:26:59.747",null,null,null,261,1]
[100390419,76,261,{"$f":"VLOOKUP(F470,Sheet3!$D$3:$E$91,2,FALSE)","v":2},"COLLIN FRANCEK","Rosemount High School","8th Grade Boys D2",null,100390419,5253,1," 00:00:00.000"," 00:27:42.582"," 00:27:42.582",null,null,null,260,1]
[100391952,77,260,{"$f":"VLOOKUP(F471,Sheet3!$D$3:$E$91,2,FALSE)","v":2},"CHARLIE NOWAK","Woodbury Composite","8th Grade Boys D2",null,100391952,5365,1," 00:00:00.000"," 00:27:49.714"," 00:27:49.714",null,null,null,259,1]
[100392583,78,259,{"$f":"VLOOKUP(F472,Sheet3!$D$3:$E$91,2,FALSE)","v":2},"AUGUSTUS SHARP","Rockford Composite","8th Grade Boys D2",null,100392583,5378,1," 00:00:00.000"," 00:28:14.888"," 00:28:14.888",null,null,null,258,1]
[100390914,79,258,{"$f":"VLOOKUP(F473,Sheet3!$D$3:$E$91,2,FALSE)","v":2},"HENRY HONMYHR","Mahtomedi High School","8th Grade Boys D2",null,100390914,5142,1," 00:00:00.000"," 00:29:23.501"," 00:29:23.501",null,null,null,257,1]
[100428027,80,257,{"$f":"VLOOKUP(F474,Sheet3!$D$3:$E$91,2,FALSE)","v":2},"DYLAN ENGSTROM","Maple Grove High School","8th Grade Boys D2",null,100428027,5148,1," 00:00:00.000"," 00:31:11.257"," 00:31:11.257",null,null,null,256,1]
[100432647,81,256,{"$f":"VLOOKUP(F475,Sheet3!$D$3:$E$91,2,FALSE)","v":2},"ODIN BERGS","Cannon Valley Composite","8th Grade Boys D2",null,100432647,5037,1," 00:00:00.000"," 00:31:20.606"," 00:31:20.606",null,null,null,255,1]
[100393030,82,255,{"$f":"VLOOKUP(F476,Sheet3!$D$3:$E$91,2,FALSE)","v":2},"KAI WALKER","St. Paul Composite - South","8th Grade Boys D2","Bike Swap",100393030,5197,1," 00:10:00.000"," 00:32:59.838"," 00:22:59.838",null,null,null,254,1]
[100391496,83,0,{"$f":"VLOOKUP(F477,Sheet3!$D$3:$E$91,2,FALSE)","v":2},"KODY LOKKEN","Tioga Trailblazers","8th Grade Boys D2","DNF",100391496,5323,0," 00:00:00.000",null,null,null,null,null,0,0]
[100417745,1,550,{"$f":"VLOOKUP(F478,Sheet3!$D$3:$E$91,2,FALSE)","v":1},"STELLA SWANSON","Minnetonka High School","8th Grade Girls",null,100417745,6041,1," 00:00:00.000"," 00:18:28.913"," 00:18:28.913",null,null,null,500,50]
[100391099,2,539,{"$f":"VLOOKUP(F479,Sheet3!$D$3:$E$91,2,FALSE)","v":2},"CORALIE JONES","Highland Park St Paul","8th Grade Girls",null,100391099,6028,1," 00:00:00.000"," 00:19:30.207"," 00:19:30.207",null,null,null,490,49]
[100407881,3,529,{"$f":"VLOOKUP(F480,Sheet3!$D$3:$E$91,2,FALSE)","v":1},"LANEY MILLER","Minnetonka High School","8th Grade Girls",null,100407881,6039,1," 00:00:00.000"," 00:19:51.173"," 00:19:51.173",null,null,null,481,48]
[100412424,4,519,{"$f":"VLOOKUP(F481,Sheet3!$D$3:$E$91,2,FALSE)","v":1},"ARABELLA FRITZEN","Prior Lake High School","8th Grade Girls",null,100412424,6051,1," 00:00:00.000"," 00:20:01.483"," 00:20:01.483",null,null,null,472,47]
[100392848,5,510,{"$f":"VLOOKUP(F482,Sheet3!$D$3:$E$91,2,FALSE)","v":1},"ABIGAIL THOMES","Brainerd High School","8th Grade Girls",null,100392848,6011,1," 00:00:00.000"," 00:20:14.486"," 00:20:14.486",null,null,null,464,46]
[100391401,6,501,{"$f":"VLOOKUP(F483,Sheet3!$D$3:$E$91,2,FALSE)","v":1},"DALLAS LAYMAN","Rock Ridge Composite","8th Grade Girls",null,100391401,6056,1," 00:00:00.000"," 00:20:18.403"," 00:20:18.403",null,null,null,456,45]
[100406513,7,492,{"$f":"VLOOKUP(F484,Sheet3!$D$3:$E$91,2,FALSE)","v":1},"AVA MCKIBBON","Cloquet-Esko-Carlton","8th Grade Girls",null,100406513,6020,1," 00:00:00.000"," 00:20:38.556"," 00:20:38.556",null,null,null,448,44]
[100393138,8,484,{"$f":"VLOOKUP(F485,Sheet3!$D$3:$E$91,2,FALSE)","v":2},"LILY WILCOX","St Cloud Area Composite","8th Grade Girls",null,100393138,6060,1," 00:00:00.000"," 00:21:15.305"," 00:21:15.305",null,null,null,441,43]
[100424968,9,476,{"$f":"VLOOKUP(F486,Sheet3!$D$3:$E$91,2,FALSE)","v":1},"MACKENZIE BURKE","Chanhassen High School","8th Grade Girls",null,100424968,6013,1," 00:00:00.000"," 00:21:32.250"," 00:21:32.250",null,null,null,434,42]
[100391954,10,468,{"$f":"VLOOKUP(F487,Sheet3!$D$3:$E$91,2,FALSE)","v":2},"KATE NOWAK","Hastings Area Composite","8th Grade Girls",null,100391954,6027,1," 00:00:00.000"," 00:21:32.908"," 00:21:32.908",null,null,null,427,41]
[100390801,11,460,{"$f":"VLOOKUP(F488,Sheet3!$D$3:$E$91,2,FALSE)","v":2},"LEXI HELGESON","Austin High School","8th Grade Girls",null,100390801,6002,1," 00:00:00.000"," 00:22:06.325"," 00:22:06.325",null,null,null,420,40]
[100391827,12,453,{"$f":"VLOOKUP(F489,Sheet3!$D$3:$E$91,2,FALSE)","v":2},"BAILEY MORRISON","Osseo Composite","8th Grade Girls",null,100391827,6048,1," 00:00:00.000"," 00:22:20.142"," 00:22:20.142",null,null,null,414,39]
[100391241,13,446,{"$f":"VLOOKUP(F490,Sheet3!$D$3:$E$91,2,FALSE)","v":2},"HAYDEN KOHN","Hudson High School","8th Grade Girls",null,100391241,6031,1," 00:00:00.000"," 00:22:30.714"," 00:22:30.714",null,null,null,408,38]
[100430600,14,439,{"$f":"VLOOKUP(F491,Sheet3!$D$3:$E$91,2,FALSE)","v":2},"NORA HACKENSACK","St Cloud Area Composite","8th Grade Girls",null,100430600,6059,1," 00:00:00.000"," 00:22:36.962"," 00:22:36.962",null,null,null,402,37]
[100391242,15,432,{"$f":"VLOOKUP(F492,Sheet3!$D$3:$E$91,2,FALSE)","v":2},"LILY KOHN","Hudson High School","8th Grade Girls",null,100391242,6032,1," 00:00:00.000"," 00:22:49.235"," 00:22:49.235",null,null,null,396,36]
[100392887,16,425,{"$f":"VLOOKUP(F493,Sheet3!$D$3:$E$91,2,FALSE)","v":1},"BEATRICE TOFTEY","Edina Cycling","8th Grade Girls",null,100392887,6025,1," 00:00:00.000"," 00:22:56.442"," 00:22:56.442",null,null,null,390,35]
[100391700,17,419,{"$f":"VLOOKUP(F494,Sheet3!$D$3:$E$91,2,FALSE)","v":1},"MILENA MEIER","Rochester Century High School","8th Grade Girls",null,100391700,6054,1," 00:00:00.000"," 00:23:09.195"," 00:23:09.195",null,null,null,385,34]
[100389519,18,413,{"$f":"VLOOKUP(F495,Sheet3!$D$3:$E$91,2,FALSE)","v":1},"LUCYE BACKSTROM","Cloquet-Esko-Carlton","8th Grade Girls",null,100389519,6017,1," 00:00:00.000"," 00:23:42.186"," 00:23:42.186",null,null,null,380,33]
[100391749,19,407,{"$f":"VLOOKUP(F496,Sheet3!$D$3:$E$91,2,FALSE)","v":1},"REBECCA MILLER","Wayzata Mountain Bike","8th Grade Girls",null,100391749,6066,1," 00:00:00.000"," 00:23:44.688"," 00:23:44.688",null,null,null,375,32]
[100389857,20,401,{"$f":"VLOOKUP(F497,Sheet3!$D$3:$E$91,2,FALSE)","v":2},"CYBLI BUSSE","Hutchinson High School","8th Grade Girls",null,100389857,6034,1," 00:00:00.000"," 00:23:59.055"," 00:23:59.055",null,null,null,370,31]
[100411923,21,395,{"$f":"VLOOKUP(F498,Sheet3!$D$3:$E$91,2,FALSE)","v":1},"VIVIAN HOPPE","Edina Cycling","8th Grade Girls",null,100411923,6024,1," 00:00:00.000"," 00:25:12.585"," 00:25:12.585",null,null,null,365,30]
[100411470,22,389,{"$f":"VLOOKUP(F499,Sheet3!$D$3:$E$91,2,FALSE)","v":1},"KIERA JAMIESON","Shakopee High School","8th Grade Girls",null,100411470,6073,1," 00:00:00.000"," 00:25:17.476"," 00:25:17.476",null,null,null,360,29]
[100407663,23,384,{"$f":"VLOOKUP(F500,Sheet3!$D$3:$E$91,2,FALSE)","v":2},"EVELYN BRUNS","St Croix Composite","8th Grade Girls",null,100407663,6061,1," 00:00:00.000"," 00:25:27.886"," 00:25:27.886",null,null,null,356,28]
[100392058,24,379,{"$f":"VLOOKUP(F501,Sheet3!$D$3:$E$91,2,FALSE)","v":1},"EMMA PADLEY","Burnsville High School","8th Grade Girls",null,100392058,6012,1," 00:00:00.000"," 00:25:48.061"," 00:25:48.061",null,null,null,352,27]
[100390839,25,374,{"$f":"VLOOKUP(F502,Sheet3!$D$3:$E$91,2,FALSE)","v":1},"GEORGEY HERZBERG","Wayzata Mountain Bike","8th Grade Girls",null,100390839,6065,1," 00:00:00.000"," 00:25:51.911"," 00:25:51.911",null,null,null,348,26]
[100390619,26,369,{"$f":"VLOOKUP(F503,Sheet3!$D$3:$E$91,2,FALSE)","v":2},"EVA GROTENHUIS","Lakeville South High School","8th Grade Girls",null,100390619,6035,1," 00:00:00.000"," 00:26:28.260"," 00:26:28.260",null,null,null,344,25]
[100391717,27,364,{"$f":"VLOOKUP(F504,Sheet3!$D$3:$E$91,2,FALSE)","v":1},"MIALYNN METSA","Rock Ridge Composite","8th Grade Girls",null,100391717,6057,1," 00:00:00.000"," 00:26:52.182"," 00:26:52.182",null,null,null,340,24]
[100433146,28,359,{"$f":"VLOOKUP(F505,Sheet3!$D$3:$E$91,2,FALSE)","v":2},"ANNA MOORS","Northwest Composite","8th Grade Girls",null,100433146,6044,1," 00:00:00.000"," 00:26:53.059"," 00:26:53.059",null,null,null,336,23]
[100405739,29,354,{"$f":"VLOOKUP(F506,Sheet3!$D$3:$E$91,2,FALSE)","v":1},"LILLY HANSEN","Winona","8th Grade Girls",null,100405739,6069,1," 00:00:00.000"," 00:26:53.996"," 00:26:53.996",null,null,null,332,22]
[100417750,30,350,{"$f":"VLOOKUP(F507,Sheet3!$D$3:$E$91,2,FALSE)","v":2},"EMILIA COLIANNI","Breck/Blake","8th Grade Girls",null,100417750,6004,1," 00:00:00.000"," 00:27:01.971"," 00:27:01.971",null,null,null,329,21]
[100432006,31,346,{"$f":"VLOOKUP(F508,Sheet3!$D$3:$E$91,2,FALSE)","v":2},"ELIZABETH HAUPT","West Range Composite","8th Grade Girls",null,100432006,6067,1," 00:00:00.000"," 00:27:21.825"," 00:27:21.825",null,null,null,326,20]
[100390658,32,342,{"$f":"VLOOKUP(F509,Sheet3!$D$3:$E$91,2,FALSE)","v":1},"SIGNE HAGELIN","Cloquet-Esko-Carlton","8th Grade Girls",null,100390658,6019,1," 00:00:00.000"," 00:29:25.809"," 00:29:25.809",null,null,null,323,19]
[100392800,33,338,{"$f":"VLOOKUP(F510,Sheet3!$D$3:$E$91,2,FALSE)","v":2},"JILLIE SWENSON","Orono High School","8th Grade Girls",null,100392800,6047,1," 00:00:00.000"," 00:30:29.590"," 00:30:29.590",null,null,null,320,18]
[100390978,34,334,{"$f":"VLOOKUP(F511,Sheet3!$D$3:$E$91,2,FALSE)","v":2},"REGAN ISAAC","Bloomington Composite","8th Grade Girls",null,100390978,6006,1," 00:00:00.000"," 00:31:15.067"," 00:31:15.067",null,null,null,317,17]
[100389851,35,330,{"$f":"VLOOKUP(F512,Sheet3!$D$3:$E$91,2,FALSE)","v":1},"PIPPA BURRES","Bloomington Jefferson","8th Grade Girls",null,100389851,6007,1," 00:00:00.000"," 00:31:17.617"," 00:31:17.617",null,null,null,314,16]
[100427192,36,326,{"$f":"VLOOKUP(F513,Sheet3!$D$3:$E$91,2,FALSE)","v":1},"LILLIAN KAINZ","Rock Ridge Composite","8th Grade Girls",null,100427192,6055,1," 00:00:00.000"," 00:35:07.673"," 00:35:07.673",null,null,null,311,15]
[100391983,1,550,{"$f":"VLOOKUP(F514,Sheet3!$D$3:$E$91,2,FALSE)","v":1},"ERIC OIEN","East Ridge High School","Freshman Boys D1",null,100391983,3591,2," 00:00:00.000"," 00:33:24.119"," 00:16:50.844"," 00:16:33.275",null,null,500,50]
[100389419,2,539,{"$f":"VLOOKUP(F515,Sheet3!$D$3:$E$91,2,FALSE)","v":1},"OWEN ALLRED","Winona","Freshman Boys D1",null,100389419,3903,2," 00:00:00.000"," 00:33:56.720"," 00:17:11.049"," 00:16:45.671",null,null,490,49]
[100432256,3,{"$f":"+S516+R516","v":529},{"$f":"VLOOKUP(F516,Sheet3!$D$3:$E$91,2,FALSE)","v":1},"RAVONTE KRIEGLER","Hopkins High School","Freshman Boys D1",null,100432256,3922,2," 00:00:00.000"," 00:34:23.307"," 00:17:27.975"," 00:16:55.332",null,null,481,48]
[100389504,4,519,{"$f":"VLOOKUP(F517,Sheet3!$D$3:$E$91,2,FALSE)","v":1},"GRANT ATTERSON","Chaska High School","Freshman Boys D1",null,100389504,3554,2," 00:00:00.000"," 00:34:51.426"," 00:17:43.864"," 00:17:07.562",null,null,472,47]
[100391088,5,510,{"$f":"VLOOKUP(F518,Sheet3!$D$3:$E$91,2,FALSE)","v":1},"SILAS JOHNSON","Hopkins High School","Freshman Boys D1",null,100391088,3648,2," 00:00:00.000"," 00:34:52.102"," 00:17:27.980"," 00:17:24.122",null,null,464,46]
[100429635,6,501,{"$f":"VLOOKUP(F519,Sheet3!$D$3:$E$91,2,FALSE)","v":1},"OSKAR NELSON","Crosby-Ironton High School","Freshman Boys D1",null,100429635,3572,2," 00:00:00.000"," 00:35:14.506"," 00:18:11.196"," 00:17:03.310",null,null,456,45]
[100389506,7,492,{"$f":"VLOOKUP(F520,Sheet3!$D$3:$E$91,2,FALSE)","v":1},"COOPER AUSTIN","Edina Cycling","Freshman Boys D1",null,100389506,3602,2," 00:00:00.000"," 00:35:16.556"," 00:17:50.519"," 00:17:26.037",null,null,448,44]
[100390064,8,484,{"$f":"VLOOKUP(F521,Sheet3!$D$3:$E$91,2,FALSE)","v":1},"CHARLIE CUTTS","Shakopee High School","Freshman Boys D1",null,100390064,3804,2," 00:00:00.000"," 00:35:23.044"," 00:17:50.236"," 00:17:32.808",null,null,441,43]
[100429637,9,476,{"$f":"VLOOKUP(F522,Sheet3!$D$3:$E$91,2,FALSE)","v":1},"FINN NELSON","Crosby-Ironton High School","Freshman Boys D1",null,100429637,3570,2," 00:00:00.000"," 00:35:28.044"," 00:18:11.662"," 00:17:16.382",null,null,434,42]
[100391070,10,468,{"$f":"VLOOKUP(F523,Sheet3!$D$3:$E$91,2,FALSE)","v":1},"ISAIAH JOHNSON","Shakopee High School","Freshman Boys D1",null,100391070,3807,2," 00:00:00.000"," 00:35:40.006"," 00:18:18.352"," 00:17:21.654",null,null,427,41]
[100391118,11,460,{"$f":"VLOOKUP(F524,Sheet3!$D$3:$E$91,2,FALSE)","v":1},"JACK JUFFER","Lakeville North High School","Freshman Boys D1",null,100391118,3657,2," 00:00:00.000"," 00:35:46.391"," 00:18:21.137"," 00:17:25.254",null,null,420,40]
[100390212,12,453,{"$f":"VLOOKUP(F525,Sheet3!$D$3:$E$91,2,FALSE)","v":1},"IBAN DREVLOW","East Ridge High School","Freshman Boys D1",null,100390212,3585,2," 00:00:00.000"," 00:36:34.736"," 00:18:22.471"," 00:18:12.265",null,null,414,39]
[100393075,13,446,{"$f":"VLOOKUP(F526,Sheet3!$D$3:$E$91,2,FALSE)","v":1},"BRENNAN WECKWERTH","Rochester Century High School","Freshman Boys D1",null,100393075,3768,2," 00:00:00.000"," 00:36:37.896"," 00:18:26.074"," 00:18:11.822",null,null,408,38]
[100409178,14,439,{"$f":"VLOOKUP(F527,Sheet3!$D$3:$E$91,2,FALSE)","v":1},"CORBAN CARLSON","Mounds View High School","Freshman Boys D1",null,100409178,3695,2," 00:00:00.000"," 00:36:40.549"," 00:18:21.593"," 00:18:18.956",null,null,402,37]
[100390042,15,432,{"$f":"VLOOKUP(F528,Sheet3!$D$3:$E$91,2,FALSE)","v":1},"COOPER CRAINE","Crosby-Ironton High School","Freshman Boys D1",null,100390042,3569,2," 00:00:00.000"," 00:36:43.301"," 00:19:07.848"," 00:17:35.453",null,null,396,36]
[100388926,16,425,{"$f":"VLOOKUP(F529,Sheet3!$D$3:$E$91,2,FALSE)","v":1},"MCKEAN PEDERSEN","Bloomington Jefferson","Freshman Boys D1",null,100388926,3526,2," 00:00:00.000"," 00:36:44.938"," 00:19:09.425"," 00:17:35.513",null,null,390,35]
[100389457,17,419,{"$f":"VLOOKUP(F530,Sheet3!$D$3:$E$91,2,FALSE)","v":1},"SAM ANDERSON","Wayzata Mountain Bike","Freshman Boys D1",null,100389457,3873,2," 00:00:00.000"," 00:36:46.397"," 00:18:46.185"," 00:18:00.212",null,null,385,34]
[100391594,18,413,{"$f":"VLOOKUP(F531,Sheet3!$D$3:$E$91,2,FALSE)","v":1},"OWEN MARQUARDT","Shakopee High School","Freshman Boys D1",null,100391594,3808,2," 00:00:00.000"," 00:36:48.534"," 00:18:51.161"," 00:17:57.373",null,null,380,33]
[100392612,19,407,{"$f":"VLOOKUP(F532,Sheet3!$D$3:$E$91,2,FALSE)","v":1},"GEORGE SILL","Edina Cycling","Freshman Boys D1",null,100392612,3613,2," 00:00:00.000"," 00:36:59.605"," 00:19:08.422"," 00:17:51.183",null,null,375,32]
[100389945,20,401,{"$f":"VLOOKUP(F533,Sheet3!$D$3:$E$91,2,FALSE)","v":1},"AYDEN CHOPSKIE","Cloquet-Esko-Carlton","Freshman Boys D1",null,100389945,3566,2," 00:00:00.000"," 00:37:12.874"," 00:18:57.165"," 00:18:15.709",null,null,370,31]
[100390182,21,395,{"$f":"VLOOKUP(F534,Sheet3!$D$3:$E$91,2,FALSE)","v":1},"HAAKEN DOHSE","Hopkins High School","Freshman Boys D1",null,100390182,3647,2," 00:00:00.000"," 00:37:13.669"," 00:18:57.933"," 00:18:15.736",null,null,365,30]
[100391240,22,389,{"$f":"VLOOKUP(F535,Sheet3!$D$3:$E$91,2,FALSE)","v":1},"WILLIAM KOGLER","Stillwater Mountain Bike","Freshman Boys D1",null,100391240,3837,2," 00:00:00.000"," 00:37:17.161"," 00:19:08.892"," 00:18:08.269",null,null,360,29]
[100393060,23,384,{"$f":"VLOOKUP(F536,Sheet3!$D$3:$E$91,2,FALSE)","v":1},"TALBOT WARD","Stillwater Mountain Bike","Freshman Boys D1",null,100393060,3848,2," 00:00:00.000"," 00:37:19.286"," 00:19:12.518"," 00:18:06.768",null,null,356,28]
[100392774,24,379,{"$f":"VLOOKUP(F537,Sheet3!$D$3:$E$91,2,FALSE)","v":1},"JEREMIAH STUBER","New Prague Middle and High School","Freshman Boys D1",null,100392774,3730,2," 00:00:00.000"," 00:37:23.747"," 00:19:13.759"," 00:18:09.988",null,null,352,27]
[100426799,25,374,{"$f":"VLOOKUP(F538,Sheet3!$D$3:$E$91,2,FALSE)","v":1},"GARRETT TOBIAS","New Prague Middle and High School","Freshman Boys D1",null,100426799,3731,2," 00:00:00.000"," 00:37:28.190"," 00:19:26.236"," 00:18:01.954",null,null,348,26]
[100390749,26,369,{"$f":"VLOOKUP(F539,Sheet3!$D$3:$E$91,2,FALSE)","v":1},"HENRY HATHAWAY","Washburn High School","Freshman Boys D1",null,100390749,3869,2," 00:00:00.000"," 00:37:28.245"," 00:19:08.313"," 00:18:19.932",null,null,344,25]
[100389778,27,364,{"$f":"VLOOKUP(F540,Sheet3!$D$3:$E$91,2,FALSE)","v":1},"WILL BREUING","Wayzata Mountain Bike","Freshman Boys D1",null,100389778,3875,2," 00:00:00.000"," 00:37:36.653"," 00:19:03.374"," 00:18:33.279",null,null,340,24]
[100411162,28,359,{"$f":"VLOOKUP(F541,Sheet3!$D$3:$E$91,2,FALSE)","v":1},"SULLIVAN ROONEY","Alexandria Area Youth Cycling","Freshman Boys D1",null,100411162,3506,2," 00:00:00.000"," 00:37:41.125"," 00:19:14.444"," 00:18:26.681",null,null,336,23]
[100392784,29,354,{"$f":"VLOOKUP(F542,Sheet3!$D$3:$E$91,2,FALSE)","v":1},"RYAN SULLIVAN","Edina Cycling","Freshman Boys D1",null,100392784,3617,2," 00:00:00.000"," 00:37:49.583"," 00:19:18.459"," 00:18:31.124",null,null,332,22]
[100392094,30,350,{"$f":"VLOOKUP(F543,Sheet3!$D$3:$E$91,2,FALSE)","v":1},"DANE PAUL","Champlin Park High School","Freshman Boys D1",null,100392094,3546,2," 00:00:00.000"," 00:37:51.699"," 00:19:26.804"," 00:18:24.895",null,null,329,21]
[100389443,31,346,{"$f":"VLOOKUP(F544,Sheet3!$D$3:$E$91,2,FALSE)","v":1},"CARSON ANDERSON","Champlin Park High School","Freshman Boys D1",null,100389443,3542,2," 00:00:00.000"," 00:37:56.914"," 00:19:33.134"," 00:18:23.780",null,null,326,20]
[100391313,32,342,{"$f":"VLOOKUP(F545,Sheet3!$D$3:$E$91,2,FALSE)","v":1},"JENS KULLMAN","East Ridge High School","Freshman Boys D1",null,100391313,3588,2," 00:00:00.000"," 00:38:00.940"," 00:19:20.419"," 00:18:40.521",null,null,323,19]
[100409359,33,338,{"$f":"VLOOKUP(F546,Sheet3!$D$3:$E$91,2,FALSE)","v":1},"MASON EBERLY","Minneapolis Southwest","Freshman Boys D1",null,100409359,3717,2," 00:00:00.000"," 00:38:04.921"," 00:19:24.916"," 00:18:40.005",null,null,320,18]
[100390989,34,334,{"$f":"VLOOKUP(F547,Sheet3!$D$3:$E$91,2,FALSE)","v":1},"KELLGREN JABS","New Prague Middle and High School","Freshman Boys D1",null,100390989,3727,2," 00:00:00.000"," 00:38:08.765"," 00:19:31.630"," 00:18:37.135",null,null,317,17]
[100388877,35,330,{"$f":"VLOOKUP(F548,Sheet3!$D$3:$E$91,2,FALSE)","v":1},"LUKE WACHOWIAK","Edina Cycling","Freshman Boys D1",null,100388877,3622,2," 00:00:00.000"," 00:38:11.214"," 00:19:24.357"," 00:18:46.857",null,null,314,16]
[100389551,36,326,{"$f":"VLOOKUP(F549,Sheet3!$D$3:$E$91,2,FALSE)","v":1},"NOLAN BARMANN","Edina Cycling","Freshman Boys D1",null,100389551,3603,2," 00:00:00.000"," 00:38:19.409"," 00:19:34.434"," 00:18:44.975",null,null,311,15]
[100427159,37,322,{"$f":"VLOOKUP(F550,Sheet3!$D$3:$E$91,2,FALSE)","v":1},"NILS PATNODE","Minnetonka High School","Freshman Boys D1",null,100427159,3687,2," 00:00:00.000"," 00:38:23.725"," 00:19:37.118"," 00:18:46.607",null,null,308,14]
[100390124,38,319,{"$f":"VLOOKUP(F551,Sheet3!$D$3:$E$91,2,FALSE)","v":1},"XAVIER DEMARRE","Chaska High School","Freshman Boys D1",null,100390124,3555,2," 00:00:00.000"," 00:38:24.846"," 00:19:14.377"," 00:19:10.469",null,null,306,13]
[100392921,39,316,{"$f":"VLOOKUP(F552,Sheet3!$D$3:$E$91,2,FALSE)","v":1},"AIDEN TRUE","Cloquet-Esko-Carlton","Freshman Boys D1",null,100392921,3568,2," 00:00:00.000"," 00:38:48.319"," 00:19:32.396"," 00:19:15.923",null,null,304,12]
[100391502,40,313,{"$f":"VLOOKUP(F553,Sheet3!$D$3:$E$91,2,FALSE)","v":1},"TANNER LONG","Prior Lake High School","Freshman Boys D1",null,100391502,3756,2," 00:00:00.000"," 00:38:48.346"," 00:19:11.575"," 00:19:36.771",null,null,302,11]
[100392884,41,310,{"$f":"VLOOKUP(F554,Sheet3!$D$3:$E$91,2,FALSE)","v":1},"SILAS TODAY","Rock Ridge Composite","Freshman Boys D1",null,100392884,3783,2," 00:00:00.000"," 00:38:48.714"," 00:19:24.415"," 00:19:24.299",null,null,300,10]
[100391281,42,307,{"$f":"VLOOKUP(F555,Sheet3!$D$3:$E$91,2,FALSE)","v":1},"CARSON KRONLUND","Cloquet-Esko-Carlton","Freshman Boys D1",null,100391281,3567,2," 00:00:00.000"," 00:38:49.568"," 00:19:31.395"," 00:19:18.173",null,null,298,9]
[100406138,43,304,{"$f":"VLOOKUP(F556,Sheet3!$D$3:$E$91,2,FALSE)","v":1},"EVAN FRIEND","Stillwater Mountain Bike","Freshman Boys D1",null,100406138,3833,2," 00:00:00.000"," 00:38:50.596"," 00:19:30.143"," 00:19:20.453",null,null,296,8]
[100391865,44,301,{"$f":"VLOOKUP(F557,Sheet3!$D$3:$E$91,2,FALSE)","v":1},"MADS MYHRE","Washburn High School","Freshman Boys D1",null,100391865,3870,2," 00:00:00.000"," 00:38:56.089"," 00:19:44.878"," 00:19:11.211",null,null,294,7]
[100391372,45,298,{"$f":"VLOOKUP(F558,Sheet3!$D$3:$E$91,2,FALSE)","v":1},"JOEY LARSON","New Prague Middle and High School","Freshman Boys D1",null,100391372,3728,2," 00:00:00.000"," 00:39:09.442"," 00:19:38.197"," 00:19:31.245",null,null,292,6]
[100389493,46,295,{"$f":"VLOOKUP(F559,Sheet3!$D$3:$E$91,2,FALSE)","v":1},"DOMINIK ASAKENAS","Prior Lake High School","Freshman Boys D1",null,100389493,3750,2," 00:00:00.000"," 00:39:26.748"," 00:19:51.746"," 00:19:35.002",null,null,290,5]
[100422858,47,293,{"$f":"VLOOKUP(F560,Sheet3!$D$3:$E$91,2,FALSE)","v":1},"TREVOR EMERY","Champlin Park High School","Freshman Boys D1",null,100422858,3544,2," 00:00:00.000"," 00:39:30.805"," 00:20:02.887"," 00:19:27.918",null,null,289,4]
[100391145,48,291,{"$f":"VLOOKUP(F561,Sheet3!$D$3:$E$91,2,FALSE)","v":1},"NOAH KAUFMANN","Lakeville North High School","Freshman Boys D1",null,100391145,3658,2," 00:00:00.000"," 00:39:34.610"," 00:19:54.119"," 00:19:40.491",null,null,288,3]
[100391698,49,289,{"$f":"VLOOKUP(F562,Sheet3!$D$3:$E$91,2,FALSE)","v":1},"KEYNON MEIER","Shakopee High School","Freshman Boys D1",null,100391698,3809,2," 00:00:00.000"," 00:39:58.945"," 00:20:29.475"," 00:19:29.470",null,null,287,2]
[100393036,50,287,{"$f":"VLOOKUP(F563,Sheet3!$D$3:$E$91,2,FALSE)","v":1},"JAMES WALLEK","White Bear Lake High School","Freshman Boys D1",null,100393036,3901,2," 00:00:00.000"," 00:40:06.367"," 00:20:12.721"," 00:19:53.646",null,null,286,1]
[100431391,51,286,{"$f":"VLOOKUP(F564,Sheet3!$D$3:$E$91,2,FALSE)","v":1},"BENJAMIN TOMCZIK","Wayzata Mountain Bike","Freshman Boys D1",null,100431391,3882,2," 00:00:00.000"," 00:40:11.592"," 00:20:15.117"," 00:19:56.475",null,null,285,1]
[100391835,52,285,{"$f":"VLOOKUP(F565,Sheet3!$D$3:$E$91,2,FALSE)","v":1},"BRANDEN MOSER","Bloomington Jefferson","Freshman Boys D1",null,100391835,3524,2," 00:00:00.000"," 00:40:13.539"," 00:20:13.591"," 00:19:59.948",null,null,284,1]
[100391196,53,284,{"$f":"VLOOKUP(F566,Sheet3!$D$3:$E$91,2,FALSE)","v":1},"WILLIAM KING","Stillwater Mountain Bike","Freshman Boys D1",null,100391196,3836,2," 00:00:00.000"," 00:40:25.712"," 00:20:41.376"," 00:19:44.336",null,null,283,1]
[100391524,54,283,{"$f":"VLOOKUP(F567,Sheet3!$D$3:$E$91,2,FALSE)","v":1},"BRAYDEN LUNDE","Burnsville High School","Freshman Boys D1",null,100391524,3539,2," 00:00:00.000"," 00:40:36.581"," 00:20:16.172"," 00:20:20.409",null,null,282,1]
[100423759,55,282,{"$f":"VLOOKUP(F568,Sheet3!$D$3:$E$91,2,FALSE)","v":1},"AUGUST WHITED","Edina Cycling","Freshman Boys D1",null,100423759,3623,2," 00:00:00.000"," 00:40:40.499"," 00:20:49.584"," 00:19:50.915",null,null,281,1]
[100392359,56,281,{"$f":"VLOOKUP(F569,Sheet3!$D$3:$E$91,2,FALSE)","v":1},"ERIK RODEWALD","Alexandria Area Youth Cycling","Freshman Boys D1",null,100392359,3505,2," 00:00:00.000"," 00:40:42.871"," 00:20:45.632"," 00:19:57.239",null,null,280,1]
[100392690,57,280,{"$f":"VLOOKUP(F570,Sheet3!$D$3:$E$91,2,FALSE)","v":1},"JEDIAH SOXMAN","Brainerd High School","Freshman Boys D1",null,100392690,3536,2," 00:00:00.000"," 00:40:50.348"," 00:20:54.730"," 00:19:55.618",null,null,279,1]
[100393007,58,279,{"$f":"VLOOKUP(F571,Sheet3!$D$3:$E$91,2,FALSE)","v":1},"PATRICK VOSE","Edina Cycling","Freshman Boys D1",null,100393007,3621,2," 00:00:00.000"," 00:40:51.100"," 00:20:35.272"," 00:20:15.828",null,null,278,1]
[100392948,59,278,{"$f":"VLOOKUP(F572,Sheet3!$D$3:$E$91,2,FALSE)","v":1},"WYATT TYMINSKI","Rock Ridge Composite","Freshman Boys D1",null,100392948,3784,2," 00:00:00.000"," 00:40:51.235"," 00:20:52.993"," 00:19:58.242",null,null,277,1]
[100392114,60,277,{"$f":"VLOOKUP(F573,Sheet3!$D$3:$E$91,2,FALSE)","v":1},"TUCKER PEDERSON","Crosby-Ironton High School","Freshman Boys D1",null,100392114,3573,2," 00:00:00.000"," 00:40:52.625"," 00:20:35.654"," 00:20:16.971",null,null,276,1]
[100390222,61,276,{"$f":"VLOOKUP(F574,Sheet3!$D$3:$E$91,2,FALSE)","v":1},"AUGUST DUEHR","Shakopee High School","Freshman Boys D1",null,100390222,3805,2," 00:00:00.000"," 00:40:54.758"," 00:21:01.736"," 00:19:53.022",null,null,275,1]
[100389649,62,275,{"$f":"VLOOKUP(F575,Sheet3!$D$3:$E$91,2,FALSE)","v":1},"SIMON BEUKEMA","Rock Ridge Composite","Freshman Boys D1",null,100389649,3776,2," 00:00:00.000"," 00:41:07.085"," 00:20:56.739"," 00:20:10.346",null,null,274,1]
[100391179,63,274,{"$f":"VLOOKUP(F576,Sheet3!$D$3:$E$91,2,FALSE)","v":1},"GRANT KERFOOT","Chaska High School","Freshman Boys D1",null,100391179,3559,2," 00:00:00.000"," 00:41:14.959"," 00:20:45.819"," 00:20:29.140",null,null,273,1]
[100410634,64,273,{"$f":"VLOOKUP(F577,Sheet3!$D$3:$E$91,2,FALSE)","v":1},"CRUZ BUTTERFASS","Shakopee High School","Freshman Boys D1",null,100410634,3802,2," 00:00:00.000"," 00:41:16.529"," 00:21:17.932"," 00:19:58.597",null,null,272,1]
[100419219,65,272,{"$f":"VLOOKUP(F578,Sheet3!$D$3:$E$91,2,FALSE)","v":1},"CRISTOBAL OSSANNA","East Ridge High School","Freshman Boys D1",null,100419219,3593,2," 00:00:00.000"," 00:41:18.621"," 00:20:59.835"," 00:20:18.786",null,null,271,1]
[100392752,66,271,{"$f":"VLOOKUP(F579,Sheet3!$D$3:$E$91,2,FALSE)","v":1},"BENJAMIN STONEHOUSE","Stillwater Mountain Bike","Freshman Boys D1",null,100392752,3846,2," 00:00:00.000"," 00:41:19.465"," 00:21:09.603"," 00:20:09.862",null,null,270,1]
[100410430,67,{"$f":"+S580+R580","v":270},{"$f":"VLOOKUP(F580,Sheet3!$D$3:$E$91,2,FALSE)","v":1},"JACOB FOSS","Minnetonka High School","Freshman Boys D1",null,100410430,3680,2," 00:00:00.000"," 00:41:26.607"," 00:21:04.760"," 00:20:21.847",null,null,269,1]
[100392985,68,269,{"$f":"VLOOKUP(F581,Sheet3!$D$3:$E$91,2,FALSE)","v":1},"JACK VELANDER","Edina Cycling","Freshman Boys D1",null,100392985,3620,2," 00:00:00.000"," 00:41:33.448"," 00:20:49.648"," 00:20:43.800",null,null,268,1]
[100392896,69,268,{"$f":"VLOOKUP(F582,Sheet3!$D$3:$E$91,2,FALSE)","v":1},"BENJAMIN TOMLIN","Wayzata Mountain Bike","Freshman Boys D1",null,100392896,3883,2," 00:00:00.000"," 00:41:39.926"," 00:20:46.444"," 00:20:53.482",null,null,267,1]
[100392524,70,267,{"$f":"VLOOKUP(F583,Sheet3!$D$3:$E$91,2,FALSE)","v":1},"ADAM SCHRIER","Prior Lake High School","Freshman Boys D1",null,100392524,3759,2," 00:00:00.000"," 00:41:40.724"," 00:20:43.677"," 00:20:57.047",null,null,266,1]
[100391898,71,266,{"$f":"VLOOKUP(F584,Sheet3!$D$3:$E$91,2,FALSE)","v":1},"JACOB NESS","Stillwater Mountain Bike","Freshman Boys D1",null,100391898,3839,2," 00:00:00.000"," 00:41:49.617"," 00:21:45.878"," 00:20:03.739",null,null,265,1]
[100390291,72,265,{"$f":"VLOOKUP(F585,Sheet3!$D$3:$E$91,2,FALSE)","v":1},"SAWYER ENGEN","White Bear Lake High School","Freshman Boys D1",null,100390291,3890,2," 00:00:00.000"," 00:42:11.718"," 00:21:11.794"," 00:20:59.924",null,null,264,1]
[100422735,73,264,{"$f":"VLOOKUP(F586,Sheet3!$D$3:$E$91,2,FALSE)","v":1},"ANDREW GERLACH","Burnsville High School","Freshman Boys D1",null,100422735,3537,2," 00:00:00.000"," 00:42:12.949"," 00:21:12.885"," 00:21:00.064",null,null,263,1]
[100420381,74,263,{"$f":"VLOOKUP(F587,Sheet3!$D$3:$E$91,2,FALSE)","v":1},"LUCAS INGVALSON","Lakeville North High School","Freshman Boys D1",null,100420381,3656,2," 00:00:00.000"," 00:42:22.128"," 00:21:08.570"," 00:21:13.558",null,null,262,1]
[100412492,75,262,{"$f":"VLOOKUP(F588,Sheet3!$D$3:$E$91,2,FALSE)","v":1},"AUGUST RAYGOR","Minneapolis Southwest","Freshman Boys D1",null,100412492,3721,2," 00:00:00.000"," 00:42:24.719"," 00:21:48.983"," 00:20:35.736",null,null,261,1]
[100391710,76,261,{"$f":"VLOOKUP(F589,Sheet3!$D$3:$E$91,2,FALSE)","v":1},"JAKE MERCADO","Edina Cycling","Freshman Boys D1",null,100391710,3611,2," 00:00:00.000"," 00:42:45.988"," 00:21:37.144"," 00:21:08.844",null,null,260,1]
[100392957,77,260,{"$f":"VLOOKUP(F590,Sheet3!$D$3:$E$91,2,FALSE)","v":1},"CHRISTIAN URNESS","Alexandria Area Youth Cycling","Freshman Boys D1",null,100392957,3508,2," 00:00:00.000"," 00:42:46.296"," 00:21:22.097"," 00:21:24.199",null,null,259,1]
[100390688,78,259,{"$f":"VLOOKUP(F591,Sheet3!$D$3:$E$91,2,FALSE)","v":1},"MILES HANE","East Ridge High School","Freshman Boys D1",null,100390688,3587,2," 00:00:00.000"," 00:42:46.588"," 00:21:25.555"," 00:21:21.033",null,null,258,1]
[100390366,79,258,{"$f":"VLOOKUP(F592,Sheet3!$D$3:$E$91,2,FALSE)","v":1},"AYDEN FERREL","Chanhassen High School","Freshman Boys D1",null,100390366,3549,2," 00:00:00.000"," 00:42:53.115"," 00:21:48.735"," 00:21:04.380",null,null,257,1]
[100431163,80,257,{"$f":"VLOOKUP(F593,Sheet3!$D$3:$E$91,2,FALSE)","v":1},"LOGAN STROHMEYER","Duluth East High School","Freshman Boys D1",null,100431163,3918,2," 00:00:00.000"," 00:42:55.454"," 00:22:09.327"," 00:20:46.127",null,null,256,1]
[100390035,81,256,{"$f":"VLOOKUP(F594,Sheet3!$D$3:$E$91,2,FALSE)","v":1},"WILLIAM CORY","East Ridge High School","Freshman Boys D1",null,100390035,3584,2," 00:00:00.000"," 00:42:58.019"," 00:22:00.845"," 00:20:57.174",null,null,255,1]
[100428725,82,255,{"$f":"VLOOKUP(F595,Sheet3!$D$3:$E$91,2,FALSE)","v":1},"RILEY LEPAGE","East Ridge High School","Freshman Boys D1",null,100428725,3589,2," 00:00:00.000"," 00:43:01.401"," 00:21:41.209"," 00:21:20.192",null,null,254,1]
[100427670,83,254,{"$f":"VLOOKUP(F596,Sheet3!$D$3:$E$91,2,FALSE)","v":1},"SAMUEL KALINA","Alexandria Area Youth Cycling","Freshman Boys D1",null,100427670,3503,2," 00:00:00.000"," 00:43:09.205"," 00:21:50.381"," 00:21:18.824",null,null,253,1]
[100414972,84,253,{"$f":"VLOOKUP(F597,Sheet3!$D$3:$E$91,2,FALSE)","v":1},"ELIJAH ERICKSON","East Ridge High School","Freshman Boys D1",null,100414972,3586,2," 00:00:00.000"," 00:43:25.617"," 00:21:41.316"," 00:21:44.301",null,null,252,1]
[100389746,85,252,{"$f":"VLOOKUP(F598,Sheet3!$D$3:$E$91,2,FALSE)","v":1},"LOGAN BRACKEN","Edina Cycling","Freshman Boys D1",null,100389746,3604,2," 00:00:00.000"," 00:43:26.064"," 00:22:22.201"," 00:21:03.863",null,null,251,1]
[100391383,86,251,{"$f":"VLOOKUP(F599,Sheet3!$D$3:$E$91,2,FALSE)","v":1},"SAWYER LARSON","Alexandria Area Youth Cycling","Freshman Boys D1",null,100391383,3504,2," 00:00:00.000"," 00:43:30.547"," 00:22:23.910"," 00:21:06.637",null,null,250,1]
[100391733,87,250,{"$f":"VLOOKUP(F600,Sheet3!$D$3:$E$91,2,FALSE)","v":1},"AIDAN MICHALS","Hopkins High School","Freshman Boys D1",null,100391733,3649,2," 00:00:00.000"," 00:43:33.433"," 00:22:16.680"," 00:21:16.753",null,null,249,1]
[100390673,88,249,{"$f":"VLOOKUP(F601,Sheet3!$D$3:$E$91,2,FALSE)","v":1},"ZACH HALL","Shakopee High School","Freshman Boys D1",null,100390673,3806,2," 00:00:00.000"," 00:43:44.512"," 00:22:03.182"," 00:21:41.330",null,null,248,1]
[100412365,89,248,{"$f":"VLOOKUP(F602,Sheet3!$D$3:$E$91,2,FALSE)","v":1},"MYLES NIEMASZ","Minneapolis Southwest","Freshman Boys D1",null,100412365,3719,2," 00:00:00.000"," 00:44:20.332"," 00:22:23.853"," 00:21:56.479",null,null,247,1]
[100422865,90,247,{"$f":"VLOOKUP(F603,Sheet3!$D$3:$E$91,2,FALSE)","v":1},"HARRY DING","Wayzata Mountain Bike","Freshman Boys D1",null,100422865,3877,2," 00:00:00.000"," 00:44:21.289"," 00:22:33.927"," 00:21:47.362",null,null,246,1]
[100408495,91,246,{"$f":"VLOOKUP(F604,Sheet3!$D$3:$E$91,2,FALSE)","v":1},"MITCHELL HAYES","Minnetonka High School","Freshman Boys D1",null,100408495,3681,2," 00:00:00.000"," 00:44:26.943"," 00:22:58.300"," 00:21:28.643",null,null,245,1]
[100408937,92,245,{"$f":"VLOOKUP(F605,Sheet3!$D$3:$E$91,2,FALSE)","v":1},"BECKETT KOONS","Mounds View High School","Freshman Boys D1",null,100408937,3702,2," 00:00:00.000"," 00:44:39.952"," 00:22:04.664"," 00:22:35.288",null,null,244,1]
[100428728,93,244,{"$f":"VLOOKUP(F606,Sheet3!$D$3:$E$91,2,FALSE)","v":1},"CARTER RUSH","Alexandria Area Youth Cycling","Freshman Boys D1",null,100428728,3507,2," 00:00:00.000"," 00:44:53.858"," 00:22:24.897"," 00:22:28.961",null,null,243,1]
[100389884,94,243,{"$f":"VLOOKUP(F607,Sheet3!$D$3:$E$91,2,FALSE)","v":1},"WILLIAM CARBERRY","Wayzata Mountain Bike","Freshman Boys D1",null,100389884,3876,2," 00:00:00.000"," 00:44:57.477"," 00:21:20.906"," 00:23:36.571",null,null,242,1]
[100393196,95,242,{"$f":"VLOOKUP(F608,Sheet3!$D$3:$E$91,2,FALSE)","v":1},"DREW WOOD","Lakeville North High School","Freshman Boys D1",null,100393196,3659,2," 00:00:00.000"," 00:45:17.361"," 00:22:56.338"," 00:22:21.023",null,null,241,1]
[100423875,96,241,{"$f":"VLOOKUP(F609,Sheet3!$D$3:$E$91,2,FALSE)","v":1},"WYATT BEHL","Champlin Park High School","Freshman Boys D1",null,100423875,3543,2," 00:00:00.000"," 00:45:51.683"," 00:23:18.287"," 00:22:33.396",null,null,240,1]
[100412126,97,240,{"$f":"VLOOKUP(F610,Sheet3!$D$3:$E$91,2,FALSE)","v":1},"KADEN BARIBEAU","Rock Ridge Composite","Freshman Boys D1",null,100412126,3775,2," 00:00:00.000"," 00:46:36.521"," 00:23:26.450"," 00:23:10.071",null,null,239,1]
[100392148,98,239,{"$f":"VLOOKUP(F611,Sheet3!$D$3:$E$91,2,FALSE)","v":1},"BECKETT PETERSON","Washburn High School","Freshman Boys D1",null,100392148,3871,2," 00:00:00.000"," 00:46:42.358"," 00:23:00.589"," 00:23:41.769",null,null,238,1]
[100391854,99,238,{"$f":"VLOOKUP(F612,Sheet3!$D$3:$E$91,2,FALSE)","v":1},"ELI MURPHY","White Bear Lake High School","Freshman Boys D1",null,100391854,3897,2," 00:00:00.000"," 00:46:44.031"," 00:23:07.436"," 00:23:36.595",null,null,237,1]
[100392507,100,237,{"$f":"VLOOKUP(F613,Sheet3!$D$3:$E$91,2,FALSE)","v":1},"MICAH SCHMIDT","Chanhassen High School","Freshman Boys D1",null,100392507,3552,2," 00:00:00.000"," 00:47:07.233"," 00:23:25.300"," 00:23:41.933",null,null,236,1]
[100389898,101,236,{"$f":"VLOOKUP(F614,Sheet3!$D$3:$E$91,2,FALSE)","v":1},"ROWAN CARLSON","Shakopee High School","Freshman Boys D1",null,100389898,3803,2," 00:00:00.000"," 00:47:14.046"," 00:23:53.865"," 00:23:20.181",null,null,235,1]
[100423462,102,235,{"$f":"VLOOKUP(F615,Sheet3!$D$3:$E$91,2,FALSE)","v":1},"HOLLIS FROST","Rock Ridge Composite","Freshman Boys D1",null,100423462,3778,2," 00:00:00.000"," 00:47:16.992"," 00:23:24.840"," 00:23:52.152",null,null,234,1]
[100412147,103,234,{"$f":"VLOOKUP(F616,Sheet3!$D$3:$E$91,2,FALSE)","v":1},"CARTER ORRBEN","Shakopee High School","Freshman Boys D1",null,100412147,3811,2," 00:00:00.000"," 00:47:17.441"," 00:23:19.207"," 00:23:58.234",null,null,233,1]
[100420178,104,233,{"$f":"VLOOKUP(F617,Sheet3!$D$3:$E$91,2,FALSE)","v":1},"SOREN TOWNSEND","Edina Cycling","Freshman Boys D1",null,100420178,3618,2," 00:00:00.000"," 00:47:18.772"," 00:23:23.800"," 00:23:54.972",null,null,232,1]
[100391559,105,232,{"$f":"VLOOKUP(F618,Sheet3!$D$3:$E$91,2,FALSE)","v":1},"ALEX MAKI","White Bear Lake High School","Freshman Boys D1",null,100391559,3895,2," 00:00:00.000"," 00:47:45.119"," 00:23:37.788"," 00:24:07.331",null,null,231,1]
[100433953,106,231,{"$f":"VLOOKUP(F619,Sheet3!$D$3:$E$91,2,FALSE)","v":1},"ZANDER CESARI","Bloomington Jefferson","Freshman Boys D1",null,100433953,3921,2," 00:00:00.000"," 00:47:58.563"," 00:23:29.801"," 00:24:28.762",null,null,230,1]
[100389816,107,230,{"$f":"VLOOKUP(F620,Sheet3!$D$3:$E$91,2,FALSE)","v":1},"QUINLAN BROWN","Minneapolis Southwest","Freshman Boys D1",null,100389816,3716,2," 00:00:00.000"," 00:48:01.961"," 00:24:01.930"," 00:24:00.031",null,null,229,1]
[100432580,108,229,{"$f":"VLOOKUP(F621,Sheet3!$D$3:$E$91,2,FALSE)","v":1},"COLTON SIMPSON","Edina Cycling","Freshman Boys D1",null,100432580,3614,2," 00:00:00.000"," 00:48:02.832"," 00:23:48.177"," 00:24:14.655",null,null,228,1]
[100390295,109,228,{"$f":"VLOOKUP(F622,Sheet3!$D$3:$E$91,2,FALSE)","v":1},"BRODY ENZ","White Bear Lake High School","Freshman Boys D1",null,100390295,3891,2," 00:00:00.000"," 00:48:05.252"," 00:23:28.544"," 00:24:36.708",null,null,227,1]
[100416394,110,227,{"$f":"VLOOKUP(F623,Sheet3!$D$3:$E$91,2,FALSE)","v":1},"DYLAN NEWKIRK","Stillwater Mountain Bike","Freshman Boys D1",null,100416394,3841,2," 00:00:00.000"," 00:48:36.336"," 00:23:05.121"," 00:25:31.215",null,null,226,1]
[100389598,111,226,{"$f":"VLOOKUP(F624,Sheet3!$D$3:$E$91,2,FALSE)","v":1},"EZRA BENDELE","White Bear Lake High School","Freshman Boys D1",null,100389598,3889,2," 00:00:00.000"," 00:48:44.897"," 00:24:42.468"," 00:24:02.429",null,null,225,1]
[100392648,112,225,{"$f":"VLOOKUP(F625,Sheet3!$D$3:$E$91,2,FALSE)","v":1},"HOLLUND SMITH","Stillwater Mountain Bike","Freshman Boys D1",null,100392648,3844,2," 00:00:00.000"," 00:49:23.573"," 00:24:14.068"," 00:25:09.505",null,null,224,1]
[100418259,113,224,{"$f":"VLOOKUP(F626,Sheet3!$D$3:$E$91,2,FALSE)","v":1},"SAMUEL HANSEN","Stillwater Mountain Bike","Freshman Boys D1",null,100418259,3834,2," 00:00:00.000"," 00:49:29.406"," 00:24:22.470"," 00:25:06.936",null,null,223,1]
[100408028,114,223,{"$f":"VLOOKUP(F627,Sheet3!$D$3:$E$91,2,FALSE)","v":1},"WILLIAM ERLIN","Edina Cycling","Freshman Boys D1",null,100408028,3605,2," 00:00:00.000"," 00:49:30.436"," 00:24:01.412"," 00:25:29.024",null,null,222,1]
[100417164,115,222,{"$f":"VLOOKUP(F628,Sheet3!$D$3:$E$91,2,FALSE)","v":1},"TIM POTTER","Minneapolis Southwest","Freshman Boys D1",null,100417164,3720,2," 00:00:00.000"," 00:49:46.242"," 00:25:21.276"," 00:24:24.966",null,null,221,1]
[100417495,116,221,{"$f":"VLOOKUP(F629,Sheet3!$D$3:$E$91,2,FALSE)","v":1},"DOMINICK TAMBURO","Stillwater Mountain Bike","Freshman Boys D1",null,100417495,3847,2," 00:00:00.000"," 00:50:21.211"," 00:26:04.942"," 00:24:16.269",null,null,220,1]
[100424422,117,220,{"$f":"VLOOKUP(F630,Sheet3!$D$3:$E$91,2,FALSE)","v":1},"GEORGE HILLSTROM","Brainerd High School","Freshman Boys D1",null,100424422,3533,2," 00:00:00.000"," 00:51:22.323"," 00:25:23.618"," 00:25:58.705",null,null,219,1]
[100390186,118,219,{"$f":"VLOOKUP(F631,Sheet3!$D$3:$E$91,2,FALSE)","v":1},"GEORGE DOLAN","Minnetonka High School","Freshman Boys D1",null,100390186,3679,2," 00:00:00.000"," 00:52:10.087"," 00:26:18.227"," 00:25:51.860",null,null,218,1]
[100392548,119,218,{"$f":"VLOOKUP(F632,Sheet3!$D$3:$E$91,2,FALSE)","v":1},"JOSEPH SCHUSTER","Minneapolis Southwest","Freshman Boys D1",null,100392548,3723,2," 00:00:00.000"," 00:54:33.444"," 00:23:45.422"," 00:30:48.022",null,null,217,1]
[100408992,120,217,{"$f":"VLOOKUP(F633,Sheet3!$D$3:$E$91,2,FALSE)","v":1},"AIDAN CLAXTON","East Ridge High School","Freshman Boys D1",null,100408992,3583,2," 00:00:00.000"," 00:54:37.650"," 00:27:01.922"," 00:27:35.728",null,null,216,1]
[100424497,121,216,{"$f":"VLOOKUP(F634,Sheet3!$D$3:$E$91,2,FALSE)","v":1},"NOAH FRAZER","Champlin Park High School","Freshman Boys D1",null,100424497,3545,2," 00:00:00.000"," 00:55:32.803"," 00:27:41.592"," 00:27:51.211",null,null,215,1]
[100426009,122,215,{"$f":"VLOOKUP(F635,Sheet3!$D$3:$E$91,2,FALSE)","v":1},"ZACHARY STAY","Wayzata Mountain Bike","Freshman Boys D1",null,100426009,3881,2," 00:00:00.000"," 00:59:13.941"," 00:28:35.112"," 00:30:38.829",null,null,214,1]
[100389530,123,214,{"$f":"VLOOKUP(F636,Sheet3!$D$3:$E$91,2,FALSE)","v":1},"LUCAS BAKKER","Alexandria Area Youth Cycling","Freshman Boys D1",null,100389530,3502,2," 00:00:00.000"," 00:59:49.802"," 00:19:25.640"," 00:40:24.162",null,null,213,1]
[100391901,124,213,{"$f":"VLOOKUP(F637,Sheet3!$D$3:$E$91,2,FALSE)","v":1},"WILLIAM NESS","Stillwater Mountain Bike","Freshman Boys D1",null,100391901,3840,2," 00:00:00.000"," 01:03:18.018"," 00:30:40.505"," 00:32:37.513",null,null,212,1]
[100390762,125,212,{"$f":"VLOOKUP(F638,Sheet3!$D$3:$E$91,2,FALSE)","v":1},"OWEN HAWLEY","Chaska High School","Freshman Boys D1","Outside Assist",100390762,3556,2," 00:10:00.000"," 01:04:34.147"," 00:22:24.589"," 00:32:09.558",null,null,211,1]
[100392468,126,211,{"$f":"VLOOKUP(F639,Sheet3!$D$3:$E$91,2,FALSE)","v":1},"ROWAN SCHAEFER","Armstrong Cycle","Freshman Boys D1",null,100392468,3510,2," 00:00:00.000"," 01:08:13.827"," 00:20:22.305"," 00:47:51.522",null,null,210,1]
[100407002,127,210,{"$f":"VLOOKUP(F640,Sheet3!$D$3:$E$91,2,FALSE)","v":1},"ANGUS LEVINS","White Bear Lake High School","Freshman Boys D1","Bike Swap",100407002,3894,2," 00:10:00.000"," 01:10:52.990"," 00:28:13.362"," 00:32:39.628",null,null,209,1]
[100392183,128,209,{"$f":"VLOOKUP(F641,Sheet3!$D$3:$E$91,2,FALSE)","v":1},"OLIVER PITMAN","Washburn High School","Freshman Boys D1","Outside Assist / -1 LAP",100392183,3872,1," 00:05:00.000"," 00:40:51.634"," 00:35:51.634",null,null,null,208,1]
[100391984,129,0,{"$f":"VLOOKUP(F642,Sheet3!$D$3:$E$91,2,FALSE)","v":1},"MAX OIEN","East Ridge High School","Freshman Boys D1","DNF",100391984,3592,1," 00:00:00.000"," 00:17:01.213"," 00:17:01.213",null,null,null,0,0]
[100391707,130,0,{"$f":"VLOOKUP(F643,Sheet3!$D$3:$E$91,2,FALSE)","v":1},"AUGUST MENTON","Winona","Freshman Boys D1","DNF Medical",100391707,3905,1," 00:00:00.000"," 00:17:28.118"," 00:17:28.118",null,null,null,0,0]
[100392969,1,{"$f":"+S644+R644","v":550},{"$f":"VLOOKUP(F644,Sheet3!$D$3:$E$91,2,FALSE)","v":2},"OWEN VANDAL","Duluth Composite","Freshman Boys D2",null,100392969,3578,2," 00:00:00.000"," 00:34:40.850"," 00:17:24.827"," 00:17:16.023",null,null,500,50]
[100389771,2,539,{"$f":"VLOOKUP(F645,Sheet3!$D$3:$E$91,2,FALSE)","v":2},"MILES BREMER","Eastview High School","Freshman Boys D2",null,100389771,3595,2," 00:00:00.000"," 00:34:45.229"," 00:17:36.414"," 00:17:08.815",null,null,490,49]
[100428690,3,529,{"$f":"VLOOKUP(F646,Sheet3!$D$3:$E$91,2,FALSE)","v":2},"KYLE HAMLIN","Chisago Lakes Composite","Freshman Boys D2",null,100428690,3562,2," 00:00:00.000"," 00:34:50.553"," 00:17:32.930"," 00:17:17.623",null,null,481,48]
[100391961,4,519,{"$f":"VLOOKUP(F647,Sheet3!$D$3:$E$91,2,FALSE)","v":2},"RYLAN OACHS","Woodbury Composite","Freshman Boys D2",null,100391961,3914,2," 00:00:00.000"," 00:35:35.042"," 00:17:47.247"," 00:17:47.795",null,null,472,47]
[100392557,5,510,{"$f":"VLOOKUP(F648,Sheet3!$D$3:$E$91,2,FALSE)","v":2},"ISAAC SCHWARZ","North Dakota Kindred Composite","Freshman Boys D2",null,100392557,3738,2," 00:00:00.000"," 00:36:07.226"," 00:18:00.029"," 00:18:07.197",null,null,464,46]
[100391906,6,501,{"$f":"VLOOKUP(F649,Sheet3!$D$3:$E$91,2,FALSE)","v":2},"CODA NGUYEN","Apple Valley High School","Freshman Boys D2",null,100391906,3509,2," 00:00:00.000"," 00:36:13.254"," 00:18:13.620"," 00:17:59.634",null,null,456,45]
[100424114,7,492,{"$f":"VLOOKUP(F650,Sheet3!$D$3:$E$91,2,FALSE)","v":2},"OWEN MARKS","Benilde St Margaret","Freshman Boys D2",null,100424114,3516,2," 00:00:00.000"," 00:36:24.665"," 00:18:36.368"," 00:17:48.297",null,null,448,44]
[100393195,8,484,{"$f":"VLOOKUP(F651,Sheet3!$D$3:$E$91,2,FALSE)","v":2},"DOMINIC WOOD","Minneapolis Southside Composite","Freshman Boys D2",null,100393195,3714,2," 00:00:00.000"," 00:36:30.419"," 00:18:32.857"," 00:17:57.562",null,null,441,43]
[100392212,9,476,{"$f":"VLOOKUP(F652,Sheet3!$D$3:$E$91,2,FALSE)","v":2},"ISAAC POVOLNY","Eastview High School","Freshman Boys D2",null,100392212,3919,2," 00:00:00.000"," 00:36:32.180"," 00:18:36.544"," 00:17:55.636",null,null,434,42]
[100392020,10,468,{"$f":"VLOOKUP(F653,Sheet3!$D$3:$E$91,2,FALSE)","v":2},"ODEN OLSON","Minnesota Valley Composite","Freshman Boys D2",null,100392020,3675,2," 00:00:00.000"," 00:36:32.702"," 00:18:38.236"," 00:17:54.466",null,null,427,41]
[100390752,11,460,{"$f":"VLOOKUP(F654,Sheet3!$D$3:$E$91,2,FALSE)","v":2},"GAVIN HAUGEN","Rochester Area Composite","Freshman Boys D2",null,100390752,3771,2," 00:00:00.000"," 00:36:34.058"," 00:18:36.255"," 00:17:57.803",null,null,420,40]
[100392588,12,453,{"$f":"VLOOKUP(F655,Sheet3!$D$3:$E$91,2,FALSE)","v":2},"COLIN SHEA","St. Paul Composite - South","Freshman Boys D2",null,100392588,3829,2," 00:00:00.000"," 00:36:55.883"," 00:18:51.308"," 00:18:04.575",null,null,414,39]
[100428923,13,446,{"$f":"VLOOKUP(F656,Sheet3!$D$3:$E$91,2,FALSE)","v":2},"QUINN SPOHN","Duluth Composite","Freshman Boys D2",null,100428923,3577,2," 00:00:00.000"," 00:36:57.291"," 00:18:43.062"," 00:18:14.229",null,null,408,38]
[100390002,14,439,{"$f":"VLOOKUP(F657,Sheet3!$D$3:$E$91,2,FALSE)","v":2},"MAX CONNELLY","Tioga Trailblazers","Freshman Boys D2",null,100390002,3853,2," 00:00:00.000"," 00:37:24.350"," 00:18:53.261"," 00:18:31.089",null,null,402,37]
[100427947,15,432,{"$f":"VLOOKUP(F658,Sheet3!$D$3:$E$91,2,FALSE)","v":2},"BREVIK BROWN","Tioga Trailblazers","Freshman Boys D2",null,100427947,3851,2," 00:00:00.000"," 00:37:34.442"," 00:18:50.632"," 00:18:43.810",null,null,396,36]
[100392073,16,425,{"$f":"VLOOKUP(F659,Sheet3!$D$3:$E$91,2,FALSE)","v":2},"BRODY PARMER","North Dakota Composite","Freshman Boys D2",null,100392073,3736,2," 00:00:00.000"," 00:37:38.985"," 00:18:56.694"," 00:18:42.291",null,null,390,35]
[100390573,17,419,{"$f":"VLOOKUP(F660,Sheet3!$D$3:$E$91,2,FALSE)","v":2},"ARTHUR GOODMAN","Duluth Composite","Freshman Boys D2",null,100390573,3574,2," 00:00:00.000"," 00:37:41.705"," 00:19:01.208"," 00:18:40.497",null,null,385,34]
[100389936,18,413,{"$f":"VLOOKUP(F661,Sheet3!$D$3:$E$91,2,FALSE)","v":2},"ELI CHERNE","Tioga Trailblazers","Freshman Boys D2",null,100389936,3852,2," 00:00:00.000"," 00:37:56.152"," 00:19:05.995"," 00:18:50.157",null,null,380,33]
[100419085,19,407,{"$f":"VLOOKUP(F662,Sheet3!$D$3:$E$91,2,FALSE)","v":2},"COLIN PETERSON","Mound Westonka Composite","Freshman Boys D2",null,100419085,3693,2," 00:00:00.000"," 00:38:06.146"," 00:19:11.159"," 00:18:54.987",null,null,375,32]
[100428077,20,401,{"$f":"VLOOKUP(F663,Sheet3!$D$3:$E$91,2,FALSE)","v":2},"ETHAN ALBRECHT","Mahtomedi High School","Freshman Boys D2",null,100428077,3662,2," 00:00:00.000"," 00:38:27.903"," 00:19:38.302"," 00:18:49.601",null,null,370,31]
[100390791,21,395,{"$f":"VLOOKUP(F664,Sheet3!$D$3:$E$91,2,FALSE)","v":2},"WILLIS HEIM","Minneapolis Southside Composite","Freshman Boys D2",null,100390791,3710,2," 00:00:00.000"," 00:38:47.063"," 00:19:10.986"," 00:19:36.077",null,null,365,30]
[100389430,22,389,{"$f":"VLOOKUP(F665,Sheet3!$D$3:$E$91,2,FALSE)","v":2},"ANDY AMUNDSON","Cannon Valley Composite","Freshman Boys D2",null,100389430,3920,2," 00:00:00.000"," 00:38:52.323"," 00:19:11.310"," 00:19:41.013",null,null,360,29]
[100390908,23,384,{"$f":"VLOOKUP(F666,Sheet3!$D$3:$E$91,2,FALSE)","v":2},"SILAS HOLTAN","Minneapolis Southside Composite","Freshman Boys D2",null,100390908,3711,2," 00:00:00.000"," 00:38:53.030"," 00:19:46.123"," 00:19:06.907",null,null,356,28]
[100426536,24,379,{"$f":"VLOOKUP(F667,Sheet3!$D$3:$E$91,2,FALSE)","v":2},"GABE LINDSTROM","Northwest Composite","Freshman Boys D2",null,100426536,3743,2," 00:00:00.000"," 00:39:06.558"," 00:19:59.546"," 00:19:07.012",null,null,352,27]
[100428900,25,374,{"$f":"VLOOKUP(F668,Sheet3!$D$3:$E$91,2,FALSE)","v":2},"GARRETT PETERSON","Spectrum High School","Freshman Boys D2",null,100428900,3814,2," 00:00:00.000"," 00:39:13.474"," 00:20:01.106"," 00:19:12.368",null,null,348,26]
[100392397,26,369,{"$f":"VLOOKUP(F669,Sheet3!$D$3:$E$91,2,FALSE)","v":2},"MILO ROY","Minneapolis Southside Composite","Freshman Boys D2",null,100392397,3712,2," 00:00:00.000"," 00:39:18.119"," 00:20:28.613"," 00:18:49.506",null,null,344,25]
[100390985,27,364,{"$f":"VLOOKUP(F670,Sheet3!$D$3:$E$91,2,FALSE)","v":2},"ZAE ISENSEE","Minneapolis South High","Freshman Boys D2",null,100390985,3709,2," 00:00:00.000"," 00:39:20.099"," 00:19:27.858"," 00:19:52.241",null,null,340,24]
[100392281,28,359,{"$f":"VLOOKUP(F671,Sheet3!$D$3:$E$91,2,FALSE)","v":2},"WILL REDETZKE","Cannon Valley Composite","Freshman Boys D2",null,100392281,3541,2," 00:00:00.000"," 00:39:21.178"," 00:19:39.661"," 00:19:41.517",null,null,336,23]
[100390617,29,354,{"$f":"VLOOKUP(F672,Sheet3!$D$3:$E$91,2,FALSE)","v":2},"IVAN GRINBERG","Eagan High School","Freshman Boys D2",null,100390617,3579,2," 00:00:00.000"," 00:39:29.915"," 00:19:46.121"," 00:19:43.794",null,null,332,22]
[100391802,30,350,{"$f":"VLOOKUP(F673,Sheet3!$D$3:$E$91,2,FALSE)","v":2},"LEVI MOORE","Hutchinson High School","Freshman Boys D2",null,100391802,3653,2," 00:00:00.000"," 00:39:50.538"," 00:19:57.590"," 00:19:52.948",null,null,329,21]
[100392460,31,346,{"$f":"VLOOKUP(F674,Sheet3!$D$3:$E$91,2,FALSE)","v":2},"KEATON SAUVAGEAU","North Dakota Kindred Composite","Freshman Boys D2",null,100392460,3737,2," 00:00:00.000"," 00:39:53.685"," 00:20:29.843"," 00:19:23.842",null,null,326,20]
[100415142,32,342,{"$f":"VLOOKUP(F675,Sheet3!$D$3:$E$91,2,FALSE)","v":2},"LEVI LARSON","Roosevelt High School","Freshman Boys D2",null,100415142,3793,2," 00:00:00.000"," 00:40:24.468"," 00:20:35.928"," 00:19:48.540",null,null,323,19]
[100392050,33,338,{"$f":"VLOOKUP(F676,Sheet3!$D$3:$E$91,2,FALSE)","v":2},"NOLAN OTT","Park High School","Freshman Boys D2",null,100392050,3749,2," 00:00:00.000"," 00:40:24.695"," 00:20:28.724"," 00:19:55.971",null,null,320,18]
[100391887,34,334,{"$f":"VLOOKUP(F677,Sheet3!$D$3:$E$91,2,FALSE)","v":2},"JACK NELSON","Elk River Composite","Freshman Boys D2",null,100391887,3628,2," 00:00:00.000"," 00:40:31.498"," 00:20:56.733"," 00:19:34.765",null,null,317,17]
[100431778,35,330,{"$f":"VLOOKUP(F678,Sheet3!$D$3:$E$91,2,FALSE)","v":2},"ALEXANDER KLINNERT","Northwest Composite","Freshman Boys D2",null,100431778,3742,2," 00:00:00.000"," 00:40:32.667"," 00:20:31.733"," 00:20:00.934",null,null,314,16]
[100390091,36,326,{"$f":"VLOOKUP(F679,Sheet3!$D$3:$E$91,2,FALSE)","v":2},"AYDAN DARK","Minneapolis Northside Composite","Freshman Boys D2",null,100390091,3708,2," 00:00:00.000"," 00:40:49.991"," 00:20:55.608"," 00:19:54.383",null,null,311,15]
[100407757,37,322,{"$f":"VLOOKUP(F680,Sheet3!$D$3:$E$91,2,FALSE)","v":2},"SAM EAGLE","Rochester Area Composite","Freshman Boys D2",null,100407757,3770,2," 00:00:00.000"," 00:40:53.528"," 00:20:47.186"," 00:20:06.342",null,null,308,14]
[100389706,38,319,{"$f":"VLOOKUP(F681,Sheet3!$D$3:$E$91,2,FALSE)","v":2},"ADAM BOERBOOM","Rockford Composite","Freshman Boys D2",null,100389706,3785,2," 00:00:00.000"," 00:41:10.779"," 00:20:58.941"," 00:20:11.838",null,null,306,13]
[100392528,39,316,{"$f":"VLOOKUP(F682,Sheet3!$D$3:$E$91,2,FALSE)","v":2},"BEN SCHROEDER","Tioga Trailblazers","Freshman Boys D2",null,100392528,3855,2," 00:00:00.000"," 00:41:12.727"," 00:19:42.933"," 00:21:29.794",null,null,304,12]
[100389823,40,313,{"$f":"VLOOKUP(F683,Sheet3!$D$3:$E$91,2,FALSE)","v":2},"MAX BRYAN","Mound Westonka Composite","Freshman Boys D2",null,100389823,3690,2," 00:00:00.000"," 00:41:17.548"," 00:20:56.149"," 00:20:21.399",null,null,302,11]
[100428023,41,310,{"$f":"VLOOKUP(F684,Sheet3!$D$3:$E$91,2,FALSE)","v":2},"CADEN O’BRIEN","Benilde St Margaret","Freshman Boys D2",null,100428023,3915,2," 00:00:00.000"," 00:41:32.830"," 00:21:01.543"," 00:20:31.287",null,null,300,10]
[100392413,42,307,{"$f":"VLOOKUP(F685,Sheet3!$D$3:$E$91,2,FALSE)","v":2},"SAWYER RUST","Duluth Composite","Freshman Boys D2",null,100392413,3576,2," 00:00:00.000"," 00:41:36.199"," 00:21:00.441"," 00:20:35.758",null,null,298,9]
[100430909,43,304,{"$f":"VLOOKUP(F686,Sheet3!$D$3:$E$91,2,FALSE)","v":2},"ELIJAH LANE","Tioga Trailblazers","Freshman Boys D2",null,100430909,3854,2," 00:00:00.000"," 00:41:37.985"," 00:21:48.585"," 00:19:49.400",null,null,296,8]
[100389533,44,301,{"$f":"VLOOKUP(F687,Sheet3!$D$3:$E$91,2,FALSE)","v":2},"WYATT BANKS","Elk River Composite","Freshman Boys D2",null,100389533,3624,2," 00:00:00.000"," 00:41:48.847"," 00:21:11.479"," 00:20:37.368",null,null,294,7]
[100412854,45,298,{"$f":"VLOOKUP(F688,Sheet3!$D$3:$E$91,2,FALSE)","v":2},"OWEN HAIGHT","Roosevelt High School","Freshman Boys D2",null,100412854,3792,2," 00:00:00.000"," 00:41:55.422"," 00:21:13.054"," 00:20:42.368",null,null,292,6]
[100392672,46,295,{"$f":"VLOOKUP(F689,Sheet3!$D$3:$E$91,2,FALSE)","v":2},"BEN SOLEM","Tioga Trailblazers","Freshman Boys D2",null,100392672,3856,2," 00:00:00.000"," 00:41:57.568"," 00:21:47.690"," 00:20:09.878",null,null,290,5]
[100393220,47,293,{"$f":"VLOOKUP(F690,Sheet3!$D$3:$E$91,2,FALSE)","v":2},"MIKKOL YOST","Bemidji Composite","Freshman Boys D2",null,100393220,3931,2," 00:00:00.000"," 00:41:57.584"," 00:21:44.431"," 00:20:13.153",null,null,289,4]
[100390081,48,291,{"$f":"VLOOKUP(F691,Sheet3!$D$3:$E$91,2,FALSE)","v":2},"TYLER DALAHUNT","Woodbury Composite","Freshman Boys D2",null,100390081,3908,2," 00:00:00.000"," 00:42:02.342"," 00:21:14.543"," 00:20:47.799",null,null,288,3]
[100406235,49,289,{"$f":"VLOOKUP(F692,Sheet3!$D$3:$E$91,2,FALSE)","v":2},"KYLER JOHNSON","Rochester Area Composite","Freshman Boys D2",null,100406235,3772,2," 00:00:00.000"," 00:42:02.525"," 00:20:59.327"," 00:21:03.198",null,null,287,2]
[100391379,50,287,{"$f":"VLOOKUP(F693,Sheet3!$D$3:$E$91,2,FALSE)","v":2},"NOAH LARSON","Woodbury Composite","Freshman Boys D2",null,100391379,3911,2," 00:00:00.000"," 00:42:28.551"," 00:21:38.511"," 00:20:50.040",null,null,286,1]
[100411840,51,286,{"$f":"VLOOKUP(F694,Sheet3!$D$3:$E$91,2,FALSE)","v":2},"RAY ROESNER","Roosevelt High School","Freshman Boys D2",null,100411840,3794,2," 00:00:00.000"," 00:42:33.275"," 00:21:24.685"," 00:21:08.590",null,null,285,1]
[100431805,52,285,{"$f":"VLOOKUP(F695,Sheet3!$D$3:$E$91,2,FALSE)","v":2},"LUKE HANNO","St. Paul Composite - North","Freshman Boys D2",null,100431805,3826,2," 00:00:00.000"," 00:42:49.090"," 00:21:11.059"," 00:21:38.031",null,null,284,1]
[100391833,53,284,{"$f":"VLOOKUP(F696,Sheet3!$D$3:$E$91,2,FALSE)","v":2},"KAMERON MOSCHO","St Cloud Area Composite","Freshman Boys D2",null,100391833,3815,2," 00:00:00.000"," 00:42:57.214"," 00:21:11.965"," 00:21:45.249",null,null,283,1]
[100389807,54,283,{"$f":"VLOOKUP(F697,Sheet3!$D$3:$E$91,2,FALSE)","v":2},"KALUB BROWN","West Range Composite","Freshman Boys D2",null,100389807,3884,2," 00:00:00.000"," 00:43:15.612"," 00:22:06.918"," 00:21:08.694",null,null,282,1]
[100427599,55,282,{"$f":"VLOOKUP(F698,Sheet3!$D$3:$E$91,2,FALSE)","v":2},"JACK MOZEIKA","Eagan High School","Freshman Boys D2",null,100427599,3580,2," 00:00:00.000"," 00:43:16.511"," 00:21:52.095"," 00:21:24.416",null,null,281,1]
[100429439,56,281,{"$f":"VLOOKUP(F699,Sheet3!$D$3:$E$91,2,FALSE)","v":2},"COLE SHOULTZ","Elk River Composite","Freshman Boys D2",null,100429439,3631,2," 00:00:00.000"," 00:43:17.178"," 00:22:11.801"," 00:21:05.377",null,null,280,1]
[100392017,57,280,{"$f":"VLOOKUP(F700,Sheet3!$D$3:$E$91,2,FALSE)","v":2},"MARCUS OLSON","Northwest Composite","Freshman Boys D2",null,100392017,3744,2," 00:00:00.000"," 00:43:17.435"," 00:21:46.345"," 00:21:31.090",null,null,279,1]
[100391940,58,279,{"$f":"VLOOKUP(F701,Sheet3!$D$3:$E$91,2,FALSE)","v":2},"LIAM NORDBY","Minnesota Valley Composite","Freshman Boys D2",null,100391940,3674,2," 00:00:00.000"," 00:43:28.353"," 00:22:00.778"," 00:21:27.575",null,null,278,1]
[100390293,59,278,{"$f":"VLOOKUP(F702,Sheet3!$D$3:$E$91,2,FALSE)","v":2},"SIMON ENGLUND","Roseville Area Composite","Freshman Boys D2",null,100390293,3797,2," 00:00:00.000"," 00:44:03.686"," 00:22:17.885"," 00:21:45.801",null,null,277,1]
[100391909,60,277,{"$f":"VLOOKUP(F703,Sheet3!$D$3:$E$91,2,FALSE)","v":2},"WILLEM NIBBELINK","Roseville Area Composite","Freshman Boys D2",null,100391909,3798,2," 00:00:00.000"," 00:44:06.221"," 00:21:54.605"," 00:22:11.616",null,null,276,1]
[100389958,61,276,{"$f":"VLOOKUP(F704,Sheet3!$D$3:$E$91,2,FALSE)","v":2},"CAMERON CIESIELCZYK","Minneapolis South High","Freshman Boys D2",null,100389958,3867,2," 00:00:00.000"," 00:44:21.068"," 00:22:11.142"," 00:22:09.926",null,null,275,1]
[100417307,62,275,{"$f":"VLOOKUP(F705,Sheet3!$D$3:$E$91,2,FALSE)","v":2},"ANDERS CLEMON","Lakeville South High School","Freshman Boys D2",null,100417307,3660,2," 00:00:00.000"," 00:44:23.150"," 00:23:09.809"," 00:21:13.341",null,null,274,1]
[100391606,63,274,{"$f":"VLOOKUP(F706,Sheet3!$D$3:$E$91,2,FALSE)","v":2},"JACK MARTIN","Bemidji Composite","Freshman Boys D2",null,100391606,3932,2," 00:00:00.000"," 00:44:26.519"," 00:22:15.091"," 00:22:11.428",null,null,273,1]
[100426824,64,273,{"$f":"VLOOKUP(F707,Sheet3!$D$3:$E$91,2,FALSE)","v":2},"LIAM OCONNELL","Eagan High School","Freshman Boys D2",null,100426824,3581,2," 00:00:00.000"," 00:44:31.198"," 00:22:52.343"," 00:21:38.855",null,null,272,1]
[100424390,65,{"$f":"+S708+R708","v":272},{"$f":"VLOOKUP(F708,Sheet3!$D$3:$E$91,2,FALSE)","v":2},"AMIN AIT BENHADDOU","Minneapolis Henry High School","Freshman Boys D2",null,100424390,3706,2," 00:00:00.000"," 00:44:39.085"," 00:22:39.146"," 00:21:59.939",null,null,271,1]
[100390603,66,271,{"$f":"VLOOKUP(F709,Sheet3!$D$3:$E$91,2,FALSE)","v":2},"ARI GREENBERG","North Dakota Composite","Freshman Boys D2",null,100390603,3734,2," 00:00:00.000"," 00:44:42.578"," 00:22:49.725"," 00:21:52.853",null,null,270,1]
[100391753,67,270,{"$f":"VLOOKUP(F710,Sheet3!$D$3:$E$91,2,FALSE)","v":2},"THEO MILLER","Highland Park St Paul","Freshman Boys D2",null,100391753,3645,2," 00:00:00.000"," 00:44:42.783"," 00:22:30.375"," 00:22:12.408",null,null,269,1]
[100391649,68,269,{"$f":"VLOOKUP(F711,Sheet3!$D$3:$E$91,2,FALSE)","v":2},"BRADY MCCONN","Orono High School","Freshman Boys D2",null,100391649,3747,2," 00:00:00.000"," 00:45:04.144"," 00:22:11.243"," 00:22:52.901",null,null,268,1]
[100422258,69,268,{"$f":"VLOOKUP(F712,Sheet3!$D$3:$E$91,2,FALSE)","v":2},"JACK LARSON","St Louis Park High School","Freshman Boys D2",null,100422258,3819,2," 00:00:00.000"," 00:45:04.752"," 00:23:15.626"," 00:21:49.126",null,null,267,1]
[100390787,70,267,{"$f":"VLOOKUP(F713,Sheet3!$D$3:$E$91,2,FALSE)","v":2},"BLAKE HEGFORS","Borealis Composite","Freshman Boys D2",null,100390787,3531,2," 00:00:00.000"," 00:45:05.285"," 00:22:04.803"," 00:23:00.482",null,null,266,1]
[100392687,71,266,{"$f":"VLOOKUP(F714,Sheet3!$D$3:$E$91,2,FALSE)","v":2},"GAGE SOUCEK","Austin High School","Freshman Boys D2",null,100392687,3514,2," 00:00:00.000"," 00:45:06.399"," 00:22:28.934"," 00:22:37.465",null,null,265,1]
[100410443,72,265,{"$f":"VLOOKUP(F715,Sheet3!$D$3:$E$91,2,FALSE)","v":2},"DAYD BAYSINGER","Hutchinson High School","Freshman Boys D2",null,100410443,3652,2," 00:00:00.000"," 00:46:02.657"," 00:22:48.168"," 00:23:14.489",null,null,264,1]
[100428414,73,264,{"$f":"VLOOKUP(F716,Sheet3!$D$3:$E$91,2,FALSE)","v":2},"GAVIN GROH","Chisago Lakes Composite","Freshman Boys D2",null,100428414,3561,2," 00:00:00.000"," 00:46:03.589"," 00:22:48.740"," 00:23:14.849",null,null,263,1]
[100391818,74,263,{"$f":"VLOOKUP(F717,Sheet3!$D$3:$E$91,2,FALSE)","v":2},"ZANDER MORIARTY","Woodbury Composite","Freshman Boys D2",null,100391818,3913,2," 00:00:00.000"," 00:46:15.646"," 00:23:10.825"," 00:23:04.821",null,null,262,1]
[100390122,75,262,{"$f":"VLOOKUP(F718,Sheet3!$D$3:$E$91,2,FALSE)","v":2},"JAMES DELAHUNT","Woodbury Composite","Freshman Boys D2",null,100390122,3909,2," 00:00:00.000"," 00:46:28.490"," 00:23:25.793"," 00:23:02.697",null,null,261,1]
[100390437,76,261,{"$f":"VLOOKUP(F719,Sheet3!$D$3:$E$91,2,FALSE)","v":2},"JOE FRENSKO","Minnesota Valley Composite","Freshman Boys D2",null,100390437,3672,2," 00:00:00.000"," 00:46:29.620"," 00:22:57.591"," 00:23:32.029",null,null,260,1]
[100389431,77,260,{"$f":"VLOOKUP(F720,Sheet3!$D$3:$E$91,2,FALSE)","v":2},"ELLIOTT AMUNDSON","Roosevelt High School","Freshman Boys D2",null,100389431,3790,2," 00:00:00.000"," 00:46:30.222"," 00:22:52.853"," 00:23:37.369",null,null,259,1]
[100391652,78,259,{"$f":"VLOOKUP(F721,Sheet3!$D$3:$E$91,2,FALSE)","v":2},"JONATHAN MCCORMACK","Elk River Composite","Freshman Boys D2",null,100391652,3627,2," 00:00:00.000"," 00:46:30.770"," 00:23:44.614"," 00:22:46.156",null,null,258,1]
[100392274,79,258,{"$f":"VLOOKUP(F722,Sheet3!$D$3:$E$91,2,FALSE)","v":2},"PARKER REBISCHKE","Rockford Composite","Freshman Boys D2",null,100392274,3788,2," 00:00:00.000"," 00:46:31.589"," 00:22:57.080"," 00:23:34.509",null,null,257,1]
[100429289,80,257,{"$f":"VLOOKUP(F723,Sheet3!$D$3:$E$91,2,FALSE)","v":2},"OLIVER PLAUTZ","Minneapolis Henry High School","Freshman Boys D2",null,100429289,3707,2," 00:00:00.000"," 00:46:46.172"," 00:23:34.324"," 00:23:11.848",null,null,256,1]
[100428483,81,256,{"$f":"VLOOKUP(F724,Sheet3!$D$3:$E$91,2,FALSE)","v":2},"ANDRES MORENO JOHNSON","Eden Prairie High School","Freshman Boys D2",null,100428483,3601,2," 00:00:00.000"," 00:46:46.546"," 00:23:53.468"," 00:22:53.078",null,null,255,1]
[100389683,82,255,{"$f":"VLOOKUP(F725,Sheet3!$D$3:$E$91,2,FALSE)","v":2},"BRADY BLAES","Benilde St Margaret","Freshman Boys D2",null,100389683,3515,2," 00:00:00.000"," 00:46:56.602"," 00:23:13.912"," 00:23:42.690",null,null,254,1]
[100428611,83,254,{"$f":"VLOOKUP(F726,Sheet3!$D$3:$E$91,2,FALSE)","v":2},"LUKE BRANDENBURG","Rockford Composite","Freshman Boys D2",null,100428611,3786,2," 00:00:00.000"," 00:47:19.135"," 00:23:47.545"," 00:23:31.590",null,null,253,1]
[100427397,84,253,{"$f":"VLOOKUP(F727,Sheet3!$D$3:$E$91,2,FALSE)","v":2},"HENRY NORDMEIER","Mankato West High School","Freshman Boys D2",null,100427397,3668,2," 00:00:00.000"," 00:47:33.363"," 00:24:01.396"," 00:23:31.967",null,null,252,1]
[100427938,85,252,{"$f":"VLOOKUP(F728,Sheet3!$D$3:$E$91,2,FALSE)","v":2},"JOHN DOUGHTY","Orono High School","Freshman Boys D2",null,100427938,3746,2," 00:00:00.000"," 00:48:18.908"," 00:24:32.927"," 00:23:45.981",null,null,251,1]
[100391013,86,251,{"$f":"VLOOKUP(F729,Sheet3!$D$3:$E$91,2,FALSE)","v":2},"GAVIN JASCHKE","Bemidji Composite","Freshman Boys D2",null,100391013,3929,2," 00:00:00.000"," 00:48:26.840"," 00:25:40.808"," 00:22:46.032",null,null,250,1]
[100432537,87,250,{"$f":"VLOOKUP(F730,Sheet3!$D$3:$E$91,2,FALSE)","v":2},"MAX BERNIER","North Dakota Kindred Composite","Freshman Boys D2",null,100432537,3733,2," 00:00:00.000"," 00:48:49.230"," 00:24:02.130"," 00:24:47.100",null,null,249,1]
[100392580,88,249,{"$f":"VLOOKUP(F731,Sheet3!$D$3:$E$91,2,FALSE)","v":2},"SIDNEY SHANAFELT","Mankato Composite","Freshman Boys D2",null,100392580,3667,2," 00:00:00.000"," 00:48:55.980"," 00:19:10.248"," 00:29:45.732",null,null,248,1]
[100391349,89,248,{"$f":"VLOOKUP(F732,Sheet3!$D$3:$E$91,2,FALSE)","v":2},"LOGAN LANDON","Rochester John Marshall","Freshman Boys D2",null,100391349,3773,2," 00:00:00.000"," 00:50:09.317"," 00:24:31.135"," 00:25:38.182",null,null,247,1]
[100391728,90,247,{"$f":"VLOOKUP(F733,Sheet3!$D$3:$E$91,2,FALSE)","v":2},"HARRISON MEYER","St. Paul Composite - South","Freshman Boys D2","Bike Swap",100391728,3827,2," 00:10:00.000"," 00:50:16.599"," 00:20:33.382"," 00:19:43.217",null,null,246,1]
[100391510,91,246,{"$f":"VLOOKUP(F734,Sheet3!$D$3:$E$91,2,FALSE)","v":2},"AIDAN LOVEGREN","Woodbury Composite","Freshman Boys D2",null,100391510,3912,2," 00:00:00.000"," 00:50:41.027"," 00:24:04.922"," 00:26:36.105",null,null,245,1]
[100392968,92,245,{"$f":"VLOOKUP(F735,Sheet3!$D$3:$E$91,2,FALSE)","v":2},"FINNEGAN VANDAL","Duluth Composite","Freshman Boys D2",null,100392968,3916,2," 00:00:00.000"," 00:51:32.866"," 00:29:09.797"," 00:22:23.069",null,null,244,1]
[100409712,93,244,{"$f":"VLOOKUP(F736,Sheet3!$D$3:$E$91,2,FALSE)","v":2},"LIAM ARROYO","Rochester Mayo","Freshman Boys D2",null,100409712,3769,2," 00:00:00.000"," 00:52:15.973"," 00:26:32.958"," 00:25:43.015",null,null,243,1]
[100392629,94,243,{"$f":"VLOOKUP(F737,Sheet3!$D$3:$E$91,2,FALSE)","v":2},"LUKAS SKINNER","Roseville Area Composite","Freshman Boys D2",null,100392629,3799,2," 00:00:00.000"," 00:52:50.169"," 00:26:01.051"," 00:26:49.118",null,null,242,1]
[100390051,95,242,{"$f":"VLOOKUP(F738,Sheet3!$D$3:$E$91,2,FALSE)","v":2},"CHARLEY CROWSON","Roseville Area Composite","Freshman Boys D2",null,100390051,3796,2," 00:00:00.000"," 00:55:41.159"," 00:27:08.240"," 00:28:32.919",null,null,241,1]
[100391377,96,0,{"$f":"VLOOKUP(F739,Sheet3!$D$3:$E$91,2,FALSE)","v":2},"LIAM LARSON","Bemidji Composite","Freshman Boys D2","DNF Medical",100391377,3930,1," 00:00:00.000"," 00:21:41.247"," 00:21:41.247",null,null,null,0,0]
[100409261,97,0,{"$f":"VLOOKUP(F740,Sheet3!$D$3:$E$91,2,FALSE)","v":2},"KALEB PRICE","Eastview High School","Freshman Boys D2","DNF",100409261,3597,0," 00:00:00.000",null,null,null,null,null,0,0]
[100391563,1,550,{"$f":"VLOOKUP(F741,Sheet3!$D$3:$E$91,2,FALSE)","v":1},"EVIE MALEC","Minnetonka High School","Freshman Girls",null,100391563,4578,2," 00:00:00.000"," 00:37:32.547"," 00:19:06.959"," 00:18:25.588",null,null,500,50]
[100392416,2,539,{"$f":"VLOOKUP(F742,Sheet3!$D$3:$E$91,2,FALSE)","v":1},"JOSEPHINE RYAN","Duluth East High School","Freshman Girls",null,100392416,4514,2," 00:00:00.000"," 00:37:39.515"," 00:19:06.962"," 00:18:32.553",null,null,490,49]
[100407460,3,529,{"$f":"VLOOKUP(F743,Sheet3!$D$3:$E$91,2,FALSE)","v":1},"CIARA THATCHER","Washburn High School","Freshman Girls",null,100407460,4562,2," 00:00:00.000"," 00:39:00.812"," 00:20:00.862"," 00:18:59.950",null,null,481,48]
[100390963,4,519,{"$f":"VLOOKUP(F744,Sheet3!$D$3:$E$91,2,FALSE)","v":1},"STELLA HUSETH","Hopkins High School","Freshman Girls",null,100390963,4521,2," 00:00:00.000"," 00:39:03.200"," 00:20:10.274"," 00:18:52.926",null,null,472,47]
[100391736,5,510,{"$f":"VLOOKUP(F745,Sheet3!$D$3:$E$91,2,FALSE)","v":1},"HAYDEN MIELKE","Hopkins High School","Freshman Girls",null,100391736,4522,2," 00:00:00.000"," 00:39:03.562"," 00:20:04.239"," 00:18:59.323",null,null,464,46]
[100422289,6,501,{"$f":"VLOOKUP(F746,Sheet3!$D$3:$E$91,2,FALSE)","v":1},"LEXI HALVORSON","Wayzata Mountain Bike","Freshman Girls",null,100422289,4565,2," 00:00:00.000"," 00:39:04.300"," 00:20:05.426"," 00:18:58.874",null,null,456,45]
[100391315,7,492,{"$f":"VLOOKUP(F747,Sheet3!$D$3:$E$91,2,FALSE)","v":2},"NATALIA KUNZE","Duluth Composite","Freshman Girls",null,100391315,4570,2," 00:00:00.000"," 00:39:11.780"," 00:20:11.129"," 00:19:00.651",null,null,448,44]
[100390568,8,484,{"$f":"VLOOKUP(F748,Sheet3!$D$3:$E$91,2,FALSE)","v":1},"LILA GOLOMB","Wayzata Mountain Bike","Freshman Girls",null,100390568,4564,2," 00:00:00.000"," 00:39:19.673"," 00:20:31.104"," 00:18:48.569",null,null,441,43]
[100391355,9,476,{"$f":"VLOOKUP(F749,Sheet3!$D$3:$E$91,2,FALSE)","v":1},"CLARA LANG","East Ridge High School","Freshman Girls",null,100391355,4515,2," 00:00:00.000"," 00:41:04.467"," 00:21:36.498"," 00:19:27.969",null,null,434,42]
[100391921,10,468,{"$f":"VLOOKUP(F750,Sheet3!$D$3:$E$91,2,FALSE)","v":2},"KATE NICKLESKI","River Falls High School","Freshman Girls",null,100391921,4542,2," 00:00:00.000"," 00:41:13.218"," 00:20:59.183"," 00:20:14.035",null,null,427,41]
[100390114,11,460,{"$f":"VLOOKUP(F751,Sheet3!$D$3:$E$91,2,FALSE)","v":2},"ELOISE DEBUS","Cannon Valley Composite","Freshman Girls",null,100390114,4509,2," 00:00:00.000"," 00:41:30.721"," 00:21:03.322"," 00:20:27.399",null,null,420,40]
[100392215,12,453,{"$f":"VLOOKUP(F752,Sheet3!$D$3:$E$91,2,FALSE)","v":1},"ELOISE POWELL","Stillwater Mountain Bike","Freshman Girls",null,100392215,4556,2," 00:00:00.000"," 00:41:30.843"," 00:22:30.775"," 00:19:00.068",null,null,414,39]
[100391870,13,446,{"$f":"VLOOKUP(F753,Sheet3!$D$3:$E$91,2,FALSE)","v":1},"ESME NEEDHAM","Mounds View High School","Freshman Girls",null,100391870,4533,2," 00:00:00.000"," 00:41:33.406"," 00:21:02.809"," 00:20:30.597",null,null,408,38]
[100406464,14,439,{"$f":"VLOOKUP(F754,Sheet3!$D$3:$E$91,2,FALSE)","v":1},"ROSEMARY KUBIAK","Stillwater Mountain Bike","Freshman Girls",null,100406464,4555,2," 00:00:00.000"," 00:41:36.275"," 00:21:07.836"," 00:20:28.439",null,null,402,37]
[100391721,15,432,{"$f":"VLOOKUP(F755,Sheet3!$D$3:$E$91,2,FALSE)","v":1},"ANNELISE METZGER","Burnsville High School","Freshman Girls",null,100391721,4508,2," 00:00:00.000"," 00:42:19.238"," 00:21:26.470"," 00:20:52.768",null,null,396,36]
[100432143,16,425,{"$f":"VLOOKUP(F756,Sheet3!$D$3:$E$91,2,FALSE)","v":2},"MADISON WHITE","Duluth Composite","Freshman Girls",null,100432143,4569,2," 00:00:00.000"," 00:42:37.728"," 00:21:28.956"," 00:21:08.772",null,null,390,35]
[100422070,17,419,{"$f":"VLOOKUP(F757,Sheet3!$D$3:$E$91,2,FALSE)","v":1},"MARLIE RIETSCHEL","Champlin Park High School","Freshman Girls",null,100422070,4510,2," 00:00:00.000"," 00:44:37.519"," 00:23:07.731"," 00:21:29.788",null,null,385,34]
[100391825,18,413,{"$f":"VLOOKUP(F758,Sheet3!$D$3:$E$91,2,FALSE)","v":1},"IZZY MORRIS","Wayzata Mountain Bike","Freshman Girls",null,100391825,4566,2," 00:00:00.000"," 00:45:01.640"," 00:22:36.195"," 00:22:25.445",null,null,380,33]
[100391448,19,407,{"$f":"VLOOKUP(F759,Sheet3!$D$3:$E$91,2,FALSE)","v":2},"ASTRID LEVY","Duluth Composite","Freshman Girls",null,100391448,4512,2," 00:00:00.000"," 00:45:05.011"," 00:22:38.079"," 00:22:26.932",null,null,375,32]
[100388966,20,401,{"$f":"VLOOKUP(F760,Sheet3!$D$3:$E$91,2,FALSE)","v":1},"MARGARET POLSTON","Hopkins High School","Freshman Girls",null,100388966,4574,2," 00:00:00.000"," 00:45:05.563"," 00:22:20.325"," 00:22:45.238",null,null,370,31]
[100420801,21,395,{"$f":"VLOOKUP(F761,Sheet3!$D$3:$E$91,2,FALSE)","v":1},"ADDISON RIDGEWAY","New Prague Middle and High School","Freshman Girls",null,100420801,4537,2," 00:00:00.000"," 00:45:15.631"," 00:23:16.858"," 00:21:58.773",null,null,365,30]
[100392342,22,389,{"$f":"VLOOKUP(F762,Sheet3!$D$3:$E$91,2,FALSE)","v":1},"SOPHIE ROARK","Rock Ridge Composite","Freshman Girls",null,100392342,4546,2," 00:00:00.000"," 00:45:32.375"," 00:23:08.517"," 00:22:23.858",null,null,360,29]
[100428141,23,384,{"$f":"VLOOKUP(F763,Sheet3!$D$3:$E$91,2,FALSE)","v":1},"LYDIA STEVENSON","Minnetonka High School","Freshman Girls",null,100428141,4530,2," 00:00:00.000"," 00:45:35.638"," 00:22:41.535"," 00:22:54.103",null,null,356,28]
[100391560,24,379,{"$f":"VLOOKUP(F764,Sheet3!$D$3:$E$91,2,FALSE)","v":1},"ELLA MAKOSKY","Minneapolis Southwest","Freshman Girls",null,100391560,4535,2," 00:00:00.000"," 00:46:24.816"," 00:23:53.920"," 00:22:30.896",null,null,352,27]
[100389628,25,374,{"$f":"VLOOKUP(F765,Sheet3!$D$3:$E$91,2,FALSE)","v":1},"ELLA BERG","Shakopee High School","Freshman Girls",null,100389628,4548,2," 00:00:00.000"," 00:46:41.249"," 00:23:32.536"," 00:23:08.713",null,null,348,26]
[100419075,26,369,{"$f":"VLOOKUP(F766,Sheet3!$D$3:$E$91,2,FALSE)","v":1},"LACEY SIIRA","Alexandria Area Youth Cycling","Freshman Girls",null,100419075,4502,2," 00:00:00.000"," 00:46:43.303"," 00:24:15.378"," 00:22:27.925",null,null,344,25]
[100390154,27,364,{"$f":"VLOOKUP(F767,Sheet3!$D$3:$E$91,2,FALSE)","v":1},"GRETA DICKHAUSEN","Burnsville High School","Freshman Girls",null,100390154,4506,2," 00:00:00.000"," 00:46:46.475"," 00:23:58.596"," 00:22:47.879",null,null,340,24]
[100432377,28,359,{"$f":"VLOOKUP(F768,Sheet3!$D$3:$E$91,2,FALSE)","v":1},"GRETA WIDENBRANT","Stillwater Mountain Bike","Freshman Girls",null,100432377,4557,2," 00:00:00.000"," 00:47:07.510"," 00:24:32.886"," 00:22:34.624",null,null,336,23]
[100405966,29,354,{"$f":"VLOOKUP(F769,Sheet3!$D$3:$E$91,2,FALSE)","v":1},"KAMDYN KAREL","Mounds View High School","Freshman Girls",null,100405966,4532,2," 00:00:00.000"," 00:48:49.666"," 00:24:28.936"," 00:24:20.730",null,null,332,22]
[100431150,30,350,{"$f":"VLOOKUP(F770,Sheet3!$D$3:$E$91,2,FALSE)","v":1},"ELIZABETH FACKERT","Wayzata Mountain Bike","Freshman Girls",null,100431150,4563,2," 00:00:00.000"," 00:49:24.597"," 00:25:33.580"," 00:23:51.017",null,null,329,21]
[100390489,31,346,{"$f":"VLOOKUP(F771,Sheet3!$D$3:$E$91,2,FALSE)","v":1},"SYLVIE GALLOWAY","Rock Ridge Composite","Freshman Girls",null,100390489,4545,2," 00:00:00.000"," 00:49:53.329"," 00:25:13.591"," 00:24:39.738",null,null,326,20]
[100390604,32,{"$f":"+S772+R772","v":342},{"$f":"VLOOKUP(F772,Sheet3!$D$3:$E$91,2,FALSE)","v":1},"IZZY GREENWIN","Washburn High School","Freshman Girls",null,100390604,4561,2," 00:00:00.000"," 00:50:42.930"," 00:25:41.904"," 00:25:01.026",null,null,323,19]
[100390292,33,338,{"$f":"VLOOKUP(F773,Sheet3!$D$3:$E$91,2,FALSE)","v":2},"ELLA ENGLAND","Minneapolis Southside Composite","Freshman Girls",null,100390292,4534,2," 00:00:00.000"," 00:50:43.136"," 00:25:42.229"," 00:25:00.907",null,null,320,18]
[100391599,34,334,{"$f":"VLOOKUP(F774,Sheet3!$D$3:$E$91,2,FALSE)","v":1},"CORA MARTENSEN","Brainerd High School","Freshman Girls",null,100391599,4505,2," 00:00:00.000"," 00:51:04.551"," 00:25:10.433"," 00:25:54.118",null,null,317,17]
[100393201,35,330,{"$f":"VLOOKUP(F775,Sheet3!$D$3:$E$91,2,FALSE)","v":1},"PAIGE WORCESTER","Duluth East High School","Freshman Girls",null,100393201,4571,2," 00:00:00.000"," 00:51:35.224"," 00:26:02.429"," 00:25:32.795",null,null,314,16]
[100389563,36,326,{"$f":"VLOOKUP(F776,Sheet3!$D$3:$E$91,2,FALSE)","v":1},"PRIYA BASHYAL","Washburn High School","Freshman Girls",null,100389563,4559,2," 00:00:00.000"," 00:51:35.416"," 00:26:16.786"," 00:25:18.630",null,null,311,15]
[100428733,37,322,{"$f":"VLOOKUP(F777,Sheet3!$D$3:$E$91,2,FALSE)","v":2},"AILA HARDING","Borealis Composite","Freshman Girls",null,100428733,4504,2," 00:00:00.000"," 00:54:07.570"," 00:27:13.894"," 00:26:53.676",null,null,308,14]
[100432608,38,319,{"$f":"VLOOKUP(F778,Sheet3!$D$3:$E$91,2,FALSE)","v":2},"JULIA CALVERT","Bemidji Composite","Freshman Girls",null,100432608,4576,2," 00:00:00.000"," 00:57:43.070"," 00:27:18.260"," 00:30:24.810",null,null,306,13]
[100391113,39,316,{"$f":"VLOOKUP(F779,Sheet3!$D$3:$E$91,2,FALSE)","v":2},"FINN JORGENSEN","Bemidji Composite","Freshman Girls",null,100391113,4575,2," 00:00:00.000"," 01:01:14.252"," 00:30:23.894"," 00:30:50.358",null,null,304,12]
[100429355,40,313,{"$f":"VLOOKUP(F780,Sheet3!$D$3:$E$91,2,FALSE)","v":1},"ADA STANGL","Winona","Freshman Girls",null,100429355,4568,2," 00:00:00.000"," 01:11:49.217"," 00:35:26.074"," 00:36:23.143",null,null,302,11]
[100392789,41,0,{"$f":"VLOOKUP(F781,Sheet3!$D$3:$E$91,2,FALSE)","v":2},"GRETA SUNDBERG","Hudson High School","Freshman Girls","DNF",100392789,4525,0," 00:00:00.000",null,null,null,null,null,0,0]
[100431359,42,0,{"$f":"VLOOKUP(F782,Sheet3!$D$3:$E$91,2,FALSE)","v":2},"KIERA KYLANDER-JOHNSON","Duluth Composite","Freshman Girls","DNF Medical",100431359,4572,0," 00:00:00.000",null,null,null,null,null,0,0]
[100391564,1,550,{"$f":"VLOOKUP(F783,Sheet3!$D$3:$E$91,2,FALSE)","v":1},"JACK MALEC","Minnetonka High School","JV2 Boys D1",null,100391564,2222,2," 00:00:00.000"," 00:31:03.869"," 00:16:04.499"," 00:14:59.370",null,null,500,50]
[100391474,2,539,{"$f":"VLOOKUP(F784,Sheet3!$D$3:$E$91,2,FALSE)","v":1},"ISAAC LINDHOLM","White Bear Lake High School","JV2 Boys D1",null,100391474,2560,2," 00:00:00.000"," 00:31:07.173"," 00:16:08.726"," 00:14:58.447",null,null,490,49]
[100390013,3,529,{"$f":"VLOOKUP(F785,Sheet3!$D$3:$E$91,2,FALSE)","v":1},"PARKER CONVERSE","Alexandria Area Youth Cycling","JV2 Boys D1",null,100390013,2003,2," 00:00:00.000"," 00:31:08.033"," 00:16:05.052"," 00:15:02.981",null,null,481,48]
[100390297,4,519,{"$f":"VLOOKUP(F786,Sheet3!$D$3:$E$91,2,FALSE)","v":1},"BRADEN ERDAHL","Prior Lake High School","JV2 Boys D1",null,100390297,2337,2," 00:00:00.000"," 00:31:35.659"," 00:16:06.579"," 00:15:29.080",null,null,472,47]
[100392804,5,510,{"$f":"VLOOKUP(F787,Sheet3!$D$3:$E$91,2,FALSE)","v":1},"LUCAS SYLVESTER","Minnetonka High School","JV2 Boys D1",null,100392804,2237,2," 00:00:00.000"," 00:31:46.560"," 00:16:19.027"," 00:15:27.533",null,null,464,46]
[100389790,6,501,{"$f":"VLOOKUP(F788,Sheet3!$D$3:$E$91,2,FALSE)","v":1},"EDWARD BROOKHART","Lakeville North High School","JV2 Boys D1",null,100389790,2169,2," 00:00:00.000"," 00:31:47.005"," 00:16:34.154"," 00:15:12.851",null,null,456,45]
[100421410,7,492,{"$f":"VLOOKUP(F789,Sheet3!$D$3:$E$91,2,FALSE)","v":1},"TRISTAN SMITH","Hopkins High School","JV2 Boys D1",null,100421410,2152,2," 00:00:00.000"," 00:31:58.552"," 00:16:33.699"," 00:15:24.853",null,null,448,44]
[100390922,8,484,{"$f":"VLOOKUP(F790,Sheet3!$D$3:$E$91,2,FALSE)","v":1},"MAX HORECK","Winona","JV2 Boys D1",null,100390922,2567,2," 00:00:00.000"," 00:32:00.545"," 00:16:21.572"," 00:15:38.973",null,null,441,43]
[100391488,9,476,{"$f":"VLOOKUP(F791,Sheet3!$D$3:$E$91,2,FALSE)","v":1},"ARRON LOCKWOOD","Brainerd High School","JV2 Boys D1",null,100391488,2056,2," 00:00:00.000"," 00:32:10.622"," 00:16:36.374"," 00:15:34.248",null,null,434,42]
[100431032,10,468,{"$f":"VLOOKUP(F792,Sheet3!$D$3:$E$91,2,FALSE)","v":1},"SAWYER FILIPIAK","Alexandria Area Youth Cycling","JV2 Boys D1",null,100431032,2004,2," 00:00:00.000"," 00:32:15.405"," 00:16:34.989"," 00:15:40.416",null,null,427,41]
[100391937,11,460,{"$f":"VLOOKUP(F793,Sheet3!$D$3:$E$91,2,FALSE)","v":1},"BISHOP NOETZEL","Brainerd High School","JV2 Boys D1",null,100391937,2059,2," 00:00:00.000"," 00:32:41.309"," 00:16:35.068"," 00:16:06.241",null,null,420,40]
[100389648,12,453,{"$f":"VLOOKUP(F794,Sheet3!$D$3:$E$91,2,FALSE)","v":1},"SAMUEL BEUKEMA","Rock Ridge Composite","JV2 Boys D1",null,100389648,2387,2," 00:00:00.000"," 00:32:51.307"," 00:16:38.642"," 00:16:12.665",null,null,414,39]
[100392371,13,446,{"$f":"VLOOKUP(F795,Sheet3!$D$3:$E$91,2,FALSE)","v":1},"ANDREW ROLOFF","Mounds View High School","JV2 Boys D1",null,100392371,2257,2," 00:00:00.000"," 00:32:54.504"," 00:17:21.872"," 00:15:32.632",null,null,408,38]
[100422453,14,439,{"$f":"VLOOKUP(F796,Sheet3!$D$3:$E$91,2,FALSE)","v":1},"CULLEN BRITZ","Wayzata Mountain Bike","JV2 Boys D1",null,100422453,2536,2," 00:00:00.000"," 00:33:00.499"," 00:16:56.915"," 00:16:03.584",null,null,402,37]
[100392078,15,432,{"$f":"VLOOKUP(F797,Sheet3!$D$3:$E$91,2,FALSE)","v":1},"ALEXANDER PASDO","Washburn High School","JV2 Boys D1",null,100392078,2529,2," 00:00:00.000"," 00:33:08.297"," 00:17:02.337"," 00:16:05.960",null,null,396,36]
[100390670,16,425,{"$f":"VLOOKUP(F798,Sheet3!$D$3:$E$91,2,FALSE)","v":1},"CARSON HALL","Lakeville North High School","JV2 Boys D1",null,100390670,2172,2," 00:00:00.000"," 00:33:13.526"," 00:17:32.671"," 00:15:40.855",null,null,390,35]
[100419077,17,419,{"$f":"VLOOKUP(F799,Sheet3!$D$3:$E$91,2,FALSE)","v":1},"TYLER SIIRA","Alexandria Area Youth Cycling","JV2 Boys D1",null,100419077,2009,2," 00:00:00.000"," 00:33:13.691"," 00:17:06.114"," 00:16:07.577",null,null,385,34]
[100425795,18,413,{"$f":"VLOOKUP(F800,Sheet3!$D$3:$E$91,2,FALSE)","v":1},"KADEN BOLDUC","Burnsville High School","JV2 Boys D1",null,100425795,2062,2," 00:00:00.000"," 00:33:24.275"," 00:17:24.236"," 00:16:00.039",null,null,380,33]
[100391347,19,407,{"$f":"VLOOKUP(F801,Sheet3!$D$3:$E$91,2,FALSE)","v":1},"GRIFFIN LAMPE","Hopkins High School","JV2 Boys D1",null,100391347,2148,2," 00:00:00.000"," 00:33:26.077"," 00:17:30.695"," 00:15:55.382",null,null,375,32]
[100390929,20,401,{"$f":"VLOOKUP(F802,Sheet3!$D$3:$E$91,2,FALSE)","v":1},"MASON HORTER","Prior Lake High School","JV2 Boys D1",null,100390929,2344,2," 00:00:00.000"," 00:33:33.648"," 00:17:40.109"," 00:15:53.539",null,null,370,31]
[100391541,21,395,{"$f":"VLOOKUP(F803,Sheet3!$D$3:$E$91,2,FALSE)","v":1},"PETER MAES","Prior Lake High School","JV2 Boys D1",null,100391541,2346,2," 00:00:00.000"," 00:33:34.287"," 00:17:15.146"," 00:16:19.141",null,null,365,30]
[100410631,22,389,{"$f":"VLOOKUP(F804,Sheet3!$D$3:$E$91,2,FALSE)","v":1},"PARKER BUTTERFASS","Shakopee High School","JV2 Boys D1",null,100410631,2422,2," 00:00:00.000"," 00:33:35.623"," 00:16:55.068"," 00:16:40.555",null,null,360,29]
[100391016,23,384,{"$f":"VLOOKUP(F805,Sheet3!$D$3:$E$91,2,FALSE)","v":1},"GABRIEL JAVAHERIAN","Duluth East High School","JV2 Boys D1",null,100391016,2098,2," 00:00:00.000"," 00:33:38.328"," 00:16:57.988"," 00:16:40.340",null,null,356,28]
[100390401,24,379,{"$f":"VLOOKUP(F806,Sheet3!$D$3:$E$91,2,FALSE)","v":1},"DECLAN FOLGER","Prior Lake High School","JV2 Boys D1",null,100390401,2338,2," 00:00:00.000"," 00:33:40.082"," 00:17:40.702"," 00:15:59.380",null,null,352,27]
[100392259,25,374,{"$f":"VLOOKUP(F807,Sheet3!$D$3:$E$91,2,FALSE)","v":1},"RUKSHAN RAJAN","Wayzata Mountain Bike","JV2 Boys D1",null,100392259,2547,2," 00:00:00.000"," 00:33:46.305"," 00:17:26.206"," 00:16:20.099",null,null,348,26]
[100393181,26,369,{"$f":"VLOOKUP(F808,Sheet3!$D$3:$E$91,2,FALSE)","v":1},"BENJAMIN WISNIEWSKI","Winona","JV2 Boys D1",null,100393181,2576,2," 00:00:00.000"," 00:33:51.959"," 00:17:38.097"," 00:16:13.862",null,null,344,25]
[100392368,27,364,{"$f":"VLOOKUP(F809,Sheet3!$D$3:$E$91,2,FALSE)","v":1},"BLAKE ROLFER","White Bear Lake High School","JV2 Boys D1",null,100392368,2563,2," 00:00:00.000"," 00:33:53.356"," 00:17:13.041"," 00:16:40.315",null,null,340,24]
[100391387,28,359,{"$f":"VLOOKUP(F810,Sheet3!$D$3:$E$91,2,FALSE)","v":1},"NICK LASSARD","Cloquet-Esko-Carlton","JV2 Boys D1",null,100391387,2093,2," 00:00:00.000"," 00:34:01.760"," 00:17:31.329"," 00:16:30.431",null,null,336,23]
[100391697,29,354,{"$f":"VLOOKUP(F811,Sheet3!$D$3:$E$91,2,FALSE)","v":1},"ELLIOT MEENTS","Hopkins High School","JV2 Boys D1",null,100391697,2150,2," 00:00:00.000"," 00:34:27.432"," 00:17:38.464"," 00:16:48.968",null,null,332,22]
[100427025,30,350,{"$f":"VLOOKUP(F812,Sheet3!$D$3:$E$91,2,FALSE)","v":1},"CHRISTIAN MUELLER","Winona","JV2 Boys D1",null,100427025,2571,2," 00:00:00.000"," 00:34:30.455"," 00:17:52.669"," 00:16:37.786",null,null,329,21]
[100390838,31,346,{"$f":"VLOOKUP(F813,Sheet3!$D$3:$E$91,2,FALSE)","v":1},"AJ HERZBERG","Wayzata Mountain Bike","JV2 Boys D1",null,100390838,2543,2," 00:00:00.000"," 00:34:30.875"," 00:17:38.616"," 00:16:52.259",null,null,326,20]
[100392691,32,342,{"$f":"VLOOKUP(F814,Sheet3!$D$3:$E$91,2,FALSE)","v":1},"JARET SOXMAN","Brainerd High School","JV2 Boys D1",null,100392691,2061,2," 00:00:00.000"," 00:34:32.336"," 00:17:43.143"," 00:16:49.193",null,null,323,19]
[100390893,33,338,{"$f":"VLOOKUP(F815,Sheet3!$D$3:$E$91,2,FALSE)","v":1},"SPENCER HOLLENHORST","Crosby-Ironton High School","JV2 Boys D1",null,100390893,2096,2," 00:00:00.000"," 00:34:35.616"," 00:17:51.057"," 00:16:44.559",null,null,320,18]
[100390464,34,334,{"$f":"VLOOKUP(F816,Sheet3!$D$3:$E$91,2,FALSE)","v":1},"JAMES FROYUM","Shakopee High School","JV2 Boys D1",null,100390464,2425,2," 00:00:00.000"," 00:34:39.958"," 00:17:43.991"," 00:16:55.967",null,null,317,17]
[100390499,35,330,{"$f":"VLOOKUP(F817,Sheet3!$D$3:$E$91,2,FALSE)","v":1},"LUCAS GARANT","Prior Lake High School","JV2 Boys D1",null,100390499,2340,2," 00:00:00.000"," 00:34:44.762"," 00:17:45.558"," 00:16:59.204",null,null,314,16]
[100432624,36,326,{"$f":"VLOOKUP(F818,Sheet3!$D$3:$E$91,2,FALSE)","v":1},"CHARLIE KOEHNEN","Minnetonka High School","JV2 Boys D1",null,100432624,2219,2," 00:00:00.000"," 00:34:52.755"," 00:18:02.022"," 00:16:50.733",null,null,311,15]
[100390160,37,322,{"$f":"VLOOKUP(F819,Sheet3!$D$3:$E$91,2,FALSE)","v":1},"WALKER DIETZ","White Bear Lake High School","JV2 Boys D1",null,100390160,2556,2," 00:00:00.000"," 00:34:55.214"," 00:18:09.509"," 00:16:45.705",null,null,308,14]
[100392917,38,319,{"$f":"VLOOKUP(F820,Sheet3!$D$3:$E$91,2,FALSE)","v":1},"SAM TRIPP","Washburn High School","JV2 Boys D1",null,100392917,2534,2," 00:00:00.000"," 00:34:55.878"," 00:17:51.368"," 00:17:04.510",null,null,306,13]
[100390946,39,316,{"$f":"VLOOKUP(F821,Sheet3!$D$3:$E$91,2,FALSE)","v":1},"TRESTON HUGHES","Alexandria Area Youth Cycling","JV2 Boys D1",null,100390946,2007,2," 00:00:00.000"," 00:35:01.104"," 00:18:10.570"," 00:16:50.534",null,null,304,12]
[100424931,40,313,{"$f":"VLOOKUP(F822,Sheet3!$D$3:$E$91,2,FALSE)","v":1},"OWEN ANDERSON","Alexandria Area Youth Cycling","JV2 Boys D1",null,100424931,2001,2," 00:00:00.000"," 00:35:01.939"," 00:17:46.475"," 00:17:15.464",null,null,302,11]
[100390625,41,310,{"$f":"VLOOKUP(F823,Sheet3!$D$3:$E$91,2,FALSE)","v":1},"JACK GUGGENHEIMER","Hopkins High School","JV2 Boys D1",null,100390625,2144,2," 00:00:00.000"," 00:35:05.841"," 00:18:02.981"," 00:17:02.860",null,null,300,10]
[100392092,42,307,{"$f":"VLOOKUP(F824,Sheet3!$D$3:$E$91,2,FALSE)","v":1},"HAYDEN PATTON","Brainerd High School","JV2 Boys D1",null,100392092,2060,2," 00:00:00.000"," 00:35:08.123"," 00:18:35.794"," 00:16:32.329",null,null,298,9]
[100392046,43,304,{"$f":"VLOOKUP(F825,Sheet3!$D$3:$E$91,2,FALSE)","v":1},"PJ O'SHEA","Hopkins High School","JV2 Boys D1",null,100392046,2151,2," 00:00:00.000"," 00:35:09.214"," 00:18:03.114"," 00:17:06.100",null,null,296,8]
[100391188,44,301,{"$f":"VLOOKUP(F826,Sheet3!$D$3:$E$91,2,FALSE)","v":1},"JACOB KILIAN","New Prague Middle and High School","JV2 Boys D1",null,100391188,2291,2," 00:00:00.000"," 00:35:09.409"," 00:17:41.487"," 00:17:27.922",null,null,294,7]
[100421014,45,298,{"$f":"VLOOKUP(F827,Sheet3!$D$3:$E$91,2,FALSE)","v":1},"CHARLES EVANGELISTA","Chanhassen High School","JV2 Boys D1",null,100421014,2071,2," 00:00:00.000"," 00:35:09.927"," 00:17:31.717"," 00:17:38.210",null,null,292,6]
[100391074,46,295,{"$f":"VLOOKUP(F828,Sheet3!$D$3:$E$91,2,FALSE)","v":1},"JUSTIN JOHNSON","Armstrong Cycle","JV2 Boys D1",null,100391074,2022,2," 00:00:00.000"," 00:35:16.854"," 00:18:12.205"," 00:17:04.649",null,null,290,5]
[100393105,47,293,{"$f":"VLOOKUP(F829,Sheet3!$D$3:$E$91,2,FALSE)","v":1},"DRAKE WETHERILL","Mounds View High School","JV2 Boys D1",null,100393105,2266,2," 00:00:00.000"," 00:35:23.002"," 00:18:17.627"," 00:17:05.375",null,null,289,4]
[100407446,48,291,{"$f":"VLOOKUP(F830,Sheet3!$D$3:$E$91,2,FALSE)","v":1},"TYLER SCHNORR","Shakopee High School","JV2 Boys D1",null,100407446,2436,2," 00:00:00.000"," 00:35:23.574"," 00:18:04.788"," 00:17:18.786",null,null,288,3]
[100390433,49,289,{"$f":"VLOOKUP(F831,Sheet3!$D$3:$E$91,2,FALSE)","v":1},"DEACON FRENCH","Crosby-Ironton High School","JV2 Boys D1",null,100390433,2095,2," 00:00:00.000"," 00:35:32.004"," 00:18:20.288"," 00:17:11.716",null,null,287,2]
[100392069,50,287,{"$f":"VLOOKUP(F832,Sheet3!$D$3:$E$91,2,FALSE)","v":1},"ARISTOTLE PAPPAJOHN-GOLDADE","Washburn High School","JV2 Boys D1",null,100392069,2528,2," 00:00:00.000"," 00:35:32.533"," 00:18:10.629"," 00:17:21.904",null,null,286,1]
[100390844,51,286,{"$f":"VLOOKUP(F833,Sheet3!$D$3:$E$91,2,FALSE)","v":1},"WILLIAM HESTON","Bloomington Jefferson","JV2 Boys D1",null,100390844,2046,2," 00:00:00.000"," 00:35:50.077"," 00:18:08.677"," 00:17:41.400",null,null,285,1]
[100390760,52,285,{"$f":"VLOOKUP(F834,Sheet3!$D$3:$E$91,2,FALSE)","v":1},"MARSHALL HAWKS","White Bear Lake High School","JV2 Boys D1",null,100390760,2559,2," 00:00:00.000"," 00:35:53.047"," 00:18:12.094"," 00:17:40.953",null,null,284,1]
[100390076,53,284,{"$f":"VLOOKUP(F835,Sheet3!$D$3:$E$91,2,FALSE)","v":1},"SAMUEL DAHN","New Prague Middle and High School","JV2 Boys D1",null,100390076,2290,2," 00:00:00.000"," 00:36:00.858"," 00:18:38.694"," 00:17:22.164",null,null,283,1]
[100427928,54,{"$f":"+S836+R836","v":283},{"$f":"VLOOKUP(F836,Sheet3!$D$3:$E$91,2,FALSE)","v":1},"TRISTAN EHN","Armstrong Cycle","JV2 Boys D1",null,100427928,2015,2," 00:00:00.000"," 00:36:02.353"," 00:17:59.653"," 00:18:02.700",null,null,282,1]
[100432637,55,282,{"$f":"VLOOKUP(F837,Sheet3!$D$3:$E$91,2,FALSE)","v":1},"ALDEN KNUDSON","Rock Ridge Composite","JV2 Boys D1",null,100432637,2391,2," 00:00:00.000"," 00:36:13.795"," 00:17:47.987"," 00:18:25.808",null,null,281,1]
[100390857,56,281,{"$f":"VLOOKUP(F838,Sheet3!$D$3:$E$91,2,FALSE)","v":1},"ERIK HILL","Rochester Century High School","JV2 Boys D1",null,100390857,2368,2," 00:00:00.000"," 00:36:14.253"," 00:18:29.783"," 00:17:44.470",null,null,280,1]
[100429298,57,280,{"$f":"VLOOKUP(F839,Sheet3!$D$3:$E$91,2,FALSE)","v":1},"KAI HAROLDSON","Armstrong Cycle","JV2 Boys D1",null,100429298,2019,2," 00:00:00.000"," 00:36:18.019"," 00:18:36.519"," 00:17:41.500",null,null,279,1]
[100391582,58,279,{"$f":"VLOOKUP(F840,Sheet3!$D$3:$E$91,2,FALSE)","v":1},"HENRY MARCH","Stillwater Mountain Bike","JV2 Boys D1",null,100391582,2489,2," 00:00:00.000"," 00:36:20.760"," 00:18:19.977"," 00:18:00.783",null,null,278,1]
[100390133,59,278,{"$f":"VLOOKUP(F841,Sheet3!$D$3:$E$91,2,FALSE)","v":1},"PARKER DESHAW","Shakopee High School","JV2 Boys D1",null,100390133,2424,2," 00:00:00.000"," 00:36:21.086"," 00:19:01.973"," 00:17:19.113",null,null,277,1]
[100390528,60,277,{"$f":"VLOOKUP(F842,Sheet3!$D$3:$E$91,2,FALSE)","v":1},"HOLDEN GEIR","White Bear Lake High School","JV2 Boys D1",null,100390528,2558,2," 00:00:00.000"," 00:36:55.130"," 00:18:28.523"," 00:18:26.607",null,null,276,1]
[100391067,61,276,{"$f":"VLOOKUP(F843,Sheet3!$D$3:$E$91,2,FALSE)","v":1},"GAVIN JOHNSON","Champlin Park High School","JV2 Boys D1",null,100391067,2070,2," 00:00:00.000"," 00:36:59.518"," 00:18:51.007"," 00:18:08.511",null,null,275,1]
[100424598,62,275,{"$f":"VLOOKUP(F844,Sheet3!$D$3:$E$91,2,FALSE)","v":1},"CHARLIE BLOCK","Champlin Park High School","JV2 Boys D1",null,100424598,2069,2," 00:00:00.000"," 00:37:01.167"," 00:18:40.398"," 00:18:20.769",null,null,274,1]
[100431457,63,274,{"$f":"VLOOKUP(F845,Sheet3!$D$3:$E$91,2,FALSE)","v":1},"ALLEN ORMSBEE","Wayzata Mountain Bike","JV2 Boys D1",null,100431457,2546,2," 00:00:00.000"," 00:37:02.521"," 00:18:50.314"," 00:18:12.207",null,null,273,1]
[100392829,64,273,{"$f":"VLOOKUP(F846,Sheet3!$D$3:$E$91,2,FALSE)","v":1},"ETHAN TEVOGT","Minnetonka High School","JV2 Boys D1",null,100392829,2238,2," 00:00:00.000"," 00:37:04.884"," 00:18:40.910"," 00:18:23.974",null,null,272,1]
[100390779,65,272,{"$f":"VLOOKUP(F847,Sheet3!$D$3:$E$91,2,FALSE)","v":1},"DUTCH HEDBLOM","Rock Ridge Composite","JV2 Boys D1",null,100390779,2389,2," 00:00:00.000"," 00:37:06.045"," 00:18:28.436"," 00:18:37.609",null,null,271,1]
[100407740,66,271,{"$f":"VLOOKUP(F848,Sheet3!$D$3:$E$91,2,FALSE)","v":1},"LUKE SCHMITZER","Mounds View High School","JV2 Boys D1",null,100407740,2259,2," 00:00:00.000"," 00:37:06.100"," 00:19:07.980"," 00:17:58.120",null,null,270,1]
[100426334,67,270,{"$f":"VLOOKUP(F849,Sheet3!$D$3:$E$91,2,FALSE)","v":1},"JEREMIAH GIACOMINI","Stillwater Mountain Bike","JV2 Boys D1",null,100426334,2477,2," 00:00:00.000"," 00:37:12.969"," 00:19:01.834"," 00:18:11.135",null,null,269,1]
[100392484,68,269,{"$f":"VLOOKUP(F850,Sheet3!$D$3:$E$91,2,FALSE)","v":1},"CASEY SCHELL","Mounds View High School","JV2 Boys D1",null,100392484,2258,2," 00:00:00.000"," 00:37:15.972"," 00:18:59.248"," 00:18:16.724",null,null,268,1]
[100415675,69,268,{"$f":"VLOOKUP(F851,Sheet3!$D$3:$E$91,2,FALSE)","v":1},"NATHAN WIDERSKI","Stillwater Mountain Bike","JV2 Boys D1",null,100415675,2496,2," 00:00:00.000"," 00:37:35.030"," 00:18:51.849"," 00:18:43.181",null,null,267,1]
[100428866,70,267,{"$f":"VLOOKUP(F852,Sheet3!$D$3:$E$91,2,FALSE)","v":1},"BRADY GUMZ","Armstrong Cycle","JV2 Boys D1",null,100428866,2017,2," 00:00:00.000"," 00:37:37.207"," 00:19:31.729"," 00:18:05.478",null,null,266,1]
[100431510,71,266,{"$f":"VLOOKUP(F853,Sheet3!$D$3:$E$91,2,FALSE)","v":1},"ELLIOTT JOHNSON","Stillwater Mountain Bike","JV2 Boys D1",null,100431510,2484,2," 00:00:00.000"," 00:37:37.539"," 00:19:01.072"," 00:18:36.467",null,null,265,1]
[100392628,72,265,{"$f":"VLOOKUP(F854,Sheet3!$D$3:$E$91,2,FALSE)","v":1},"TYLER SKINDELIEN","Bloomington Jefferson","JV2 Boys D1",null,100392628,2051,2," 00:00:00.000"," 00:37:37.571"," 00:19:14.401"," 00:18:23.170",null,null,264,1]
[100414538,73,264,{"$f":"VLOOKUP(F855,Sheet3!$D$3:$E$91,2,FALSE)","v":1},"GRIFFIN GARRITY","Prior Lake High School","JV2 Boys D1",null,100414538,2341,2," 00:00:00.000"," 00:37:40.341"," 00:19:14.932"," 00:18:25.409",null,null,263,1]
[100392650,74,263,{"$f":"VLOOKUP(F856,Sheet3!$D$3:$E$91,2,FALSE)","v":1},"LANDON SMITH","Stillwater Mountain Bike","JV2 Boys D1",null,100392650,2491,2," 00:00:00.000"," 00:38:17.259"," 00:19:14.077"," 00:19:03.182",null,null,262,1]
[100393146,75,262,{"$f":"VLOOKUP(F857,Sheet3!$D$3:$E$91,2,FALSE)","v":1},"ZANDER WILICHOWSKI","Stillwater Mountain Bike","JV2 Boys D1",null,100393146,2498,2," 00:00:00.000"," 00:38:20.372"," 00:19:30.189"," 00:18:50.183",null,null,261,1]
[100389577,76,261,{"$f":"VLOOKUP(F858,Sheet3!$D$3:$E$91,2,FALSE)","v":1},"ZACHARY BEARD","Stillwater Mountain Bike","JV2 Boys D1",null,100389577,2474,2," 00:00:00.000"," 00:38:21.720"," 00:19:56.199"," 00:18:25.521",null,null,260,1]
[100392722,77,260,{"$f":"VLOOKUP(F859,Sheet3!$D$3:$E$91,2,FALSE)","v":1},"HAZEN STANGL","Winona","JV2 Boys D1",null,100392722,2575,2," 00:00:00.000"," 00:38:22.807"," 00:19:28.618"," 00:18:54.189",null,null,259,1]
[100426347,78,259,{"$f":"VLOOKUP(F860,Sheet3!$D$3:$E$91,2,FALSE)","v":1},"OWEN QUIST","Minnetonka High School","JV2 Boys D1",null,100426347,2230,2," 00:00:00.000"," 00:38:24.304"," 00:19:28.568"," 00:18:55.736",null,null,258,1]
[100390456,79,258,{"$f":"VLOOKUP(F861,Sheet3!$D$3:$E$91,2,FALSE)","v":1},"NOAH FRIENDSHUH","Prior Lake High School","JV2 Boys D1",null,100390456,2339,2," 00:00:00.000"," 00:38:31.550"," 00:19:15.804"," 00:19:15.746",null,null,257,1]
[100406131,80,257,{"$f":"VLOOKUP(F862,Sheet3!$D$3:$E$91,2,FALSE)","v":1},"ANDREW PERRON","Mounds View High School","JV2 Boys D1",null,100406131,2253,2," 00:00:00.000"," 00:38:32.767"," 00:19:20.099"," 00:19:12.668",null,null,256,1]
[100427021,81,256,{"$f":"VLOOKUP(F863,Sheet3!$D$3:$E$91,2,FALSE)","v":1},"ERIC PAMPUCH","Winona","JV2 Boys D1",null,100427021,2572,2," 00:00:00.000"," 00:38:34.127"," 00:19:49.600"," 00:18:44.527",null,null,255,1]
[100391715,82,255,{"$f":"VLOOKUP(F864,Sheet3!$D$3:$E$91,2,FALSE)","v":1},"RYAN MESSNER","Shakopee High School","JV2 Boys D1",null,100391715,2431,2," 00:00:00.000"," 00:38:41.708"," 00:19:54.004"," 00:18:47.704",null,null,254,1]
[100391758,83,254,{"$f":"VLOOKUP(F865,Sheet3!$D$3:$E$91,2,FALSE)","v":1},"AARON MILLS","Rochester Century High School","JV2 Boys D1",null,100391758,2371,2," 00:00:00.000"," 00:38:42.067"," 00:19:30.756"," 00:19:11.311",null,null,253,1]
[100411665,84,253,{"$f":"VLOOKUP(F866,Sheet3!$D$3:$E$91,2,FALSE)","v":1},"HENRY WALTZ","Prior Lake High School","JV2 Boys D1",null,100411665,2358,2," 00:00:00.000"," 00:38:49.217"," 00:19:15.120"," 00:19:34.097",null,null,252,1]
[100389463,85,252,{"$f":"VLOOKUP(F867,Sheet3!$D$3:$E$91,2,FALSE)","v":1},"HENRY ANDERSSON","Mounds View High School","JV2 Boys D1",null,100389463,2245,2," 00:00:00.000"," 00:38:50.142"," 00:19:25.706"," 00:19:24.436",null,null,251,1]
[100391385,86,251,{"$f":"VLOOKUP(F868,Sheet3!$D$3:$E$91,2,FALSE)","v":1},"TOLAN LARSON","Shakopee High School","JV2 Boys D1",null,100391385,2430,2," 00:00:00.000"," 00:38:54.788"," 00:19:32.641"," 00:19:22.147",null,null,250,1]
[100427492,87,250,{"$f":"VLOOKUP(F869,Sheet3!$D$3:$E$91,2,FALSE)","v":1},"TREVOR IMBACH","Armstrong Cycle","JV2 Boys D1",null,100427492,2021,2," 00:00:00.000"," 00:38:57.725"," 00:20:31.487"," 00:18:26.238",null,null,249,1]
[100392131,88,249,{"$f":"VLOOKUP(F870,Sheet3!$D$3:$E$91,2,FALSE)","v":1},"DAWSON PERALEZ","Minnetonka High School","JV2 Boys D1",null,100392131,2229,2," 00:00:00.000"," 00:39:00.871"," 00:20:12.550"," 00:18:48.321",null,null,248,1]
[100391566,89,248,{"$f":"VLOOKUP(F871,Sheet3!$D$3:$E$91,2,FALSE)","v":1},"CHARLIE MALECHA","Prior Lake High School","JV2 Boys D1",null,100391566,2347,2," 00:00:00.000"," 00:39:01.068"," 00:20:01.595"," 00:18:59.473",null,null,247,1]
[100428991,90,247,{"$f":"VLOOKUP(F872,Sheet3!$D$3:$E$91,2,FALSE)","v":1},"BRANDON GARCIA-HUERTA","Armstrong Cycle","JV2 Boys D1",null,100428991,2016,2," 00:00:00.000"," 00:39:01.548"," 00:20:46.299"," 00:18:15.249",null,null,246,1]
[100391343,91,246,{"$f":"VLOOKUP(F873,Sheet3!$D$3:$E$91,2,FALSE)","v":1},"JAKOB LAMONT","Bloomington Jefferson","JV2 Boys D1",null,100391343,2049,2," 00:00:00.000"," 00:39:02.649"," 00:20:09.466"," 00:18:53.183",null,null,245,1]
[100392132,92,245,{"$f":"VLOOKUP(F874,Sheet3!$D$3:$E$91,2,FALSE)","v":1},"BRODEN PERCIVAL","Prior Lake High School","JV2 Boys D1",null,100392132,2351,2," 00:00:00.000"," 00:39:18.847"," 00:19:55.648"," 00:19:23.199",null,null,244,1]
[100390100,93,244,{"$f":"VLOOKUP(F875,Sheet3!$D$3:$E$91,2,FALSE)","v":1},"GUSTAV DAVIDSON","Minnetonka High School","JV2 Boys D1",null,100390100,2208,2," 00:00:00.000"," 00:39:19.752"," 00:19:05.977"," 00:20:13.775",null,null,243,1]
[100430781,94,243,{"$f":"VLOOKUP(F876,Sheet3!$D$3:$E$91,2,FALSE)","v":1},"ISAAC BLOMMEL","Lakeville North High School","JV2 Boys D1",null,100430781,2168,2," 00:00:00.000"," 00:39:27.941"," 00:21:03.566"," 00:18:24.375",null,null,242,1]
[100392562,95,242,{"$f":"VLOOKUP(F877,Sheet3!$D$3:$E$91,2,FALSE)","v":1},"AIDAN SCOTT","Prior Lake High School","JV2 Boys D1",null,100392562,2353,2," 00:00:00.000"," 00:39:34.797"," 00:20:48.740"," 00:18:46.057",null,null,241,1]
[100391246,96,241,{"$f":"VLOOKUP(F878,Sheet3!$D$3:$E$91,2,FALSE)","v":1},"MARSHAL KOKAISEL","East Ridge High School","JV2 Boys D1",null,100391246,2105,2," 00:00:00.000"," 00:39:46.964"," 00:20:15.194"," 00:19:31.770",null,null,240,1]
[100389973,97,240,{"$f":"VLOOKUP(F879,Sheet3!$D$3:$E$91,2,FALSE)","v":1},"AARON CLEARY","Minnetonka High School","JV2 Boys D1",null,100389973,2206,2," 00:00:00.000"," 00:39:53.637"," 00:20:48.365"," 00:19:05.272",null,null,239,1]
[100430761,98,239,{"$f":"VLOOKUP(F880,Sheet3!$D$3:$E$91,2,FALSE)","v":1},"BLAKE LYMAN","Lakeville North High School","JV2 Boys D1",null,100430761,2174,2," 00:00:00.000"," 00:39:58.824"," 00:21:05.047"," 00:18:53.777",null,null,238,1]
[100411522,99,238,{"$f":"VLOOKUP(F881,Sheet3!$D$3:$E$91,2,FALSE)","v":1},"ANDREW KONOTOPKA","Chaska High School","JV2 Boys D1",null,100411522,2083,2," 00:00:00.000"," 00:40:03.153"," 00:18:37.813"," 00:21:25.340",null,null,237,1]
[100431639,100,237,{"$f":"VLOOKUP(F882,Sheet3!$D$3:$E$91,2,FALSE)","v":1},"JOE WILLIAMS","Wayzata Mountain Bike","JV2 Boys D1",null,100431639,2552,2," 00:00:00.000"," 00:40:06.034"," 00:19:57.033"," 00:20:09.001",null,null,236,1]
[100408499,101,236,{"$f":"VLOOKUP(F883,Sheet3!$D$3:$E$91,2,FALSE)","v":1},"AIDAN YORK","Minnetonka High School","JV2 Boys D1",null,100408499,2239,2," 00:00:00.000"," 00:40:14.739"," 00:19:53.454"," 00:20:21.285",null,null,235,1]
[100422732,102,235,{"$f":"VLOOKUP(F884,Sheet3!$D$3:$E$91,2,FALSE)","v":1},"TEGAN FEATHERSTONE","Prior Lake High School","JV2 Boys D1",null,100422732,2599,2," 00:00:00.000"," 00:40:26.798"," 00:20:03.685"," 00:20:23.113",null,null,234,1]
[100392429,103,234,{"$f":"VLOOKUP(F885,Sheet3!$D$3:$E$91,2,FALSE)","v":1},"CONNOR SAGSVEEN","Wayzata Mountain Bike","JV2 Boys D1",null,100392429,2549,2," 00:00:00.000"," 00:40:43.910"," 00:20:55.415"," 00:19:48.495",null,null,233,1]
[100421335,104,233,{"$f":"VLOOKUP(F886,Sheet3!$D$3:$E$91,2,FALSE)","v":1},"SEAN LASSIG","Washburn High School","JV2 Boys D1",null,100421335,2519,2," 00:00:00.000"," 00:40:52.160"," 00:21:08.635"," 00:19:43.525",null,null,232,1]
[100427934,105,232,{"$f":"VLOOKUP(F887,Sheet3!$D$3:$E$91,2,FALSE)","v":1},"CONNOR EHN","Armstrong Cycle","JV2 Boys D1",null,100427934,2014,2," 00:00:00.000"," 00:40:58.579"," 00:20:12.092"," 00:20:46.487",null,null,231,1]
[100392199,106,231,{"$f":"VLOOKUP(F888,Sheet3!$D$3:$E$91,2,FALSE)","v":1},"ETHAN POND","Rock Ridge Composite","JV2 Boys D1",null,100392199,2395,2," 00:00:00.000"," 00:40:59.405"," 00:20:42.636"," 00:20:16.769",null,null,230,1]
[100390451,107,230,{"$f":"VLOOKUP(F889,Sheet3!$D$3:$E$91,2,FALSE)","v":1},"ALEX FRIEDLE","Rochester Century High School","JV2 Boys D1",null,100390451,2366,2," 00:00:00.000"," 00:41:13.502"," 00:21:24.023"," 00:19:49.479",null,null,229,1]
[100389833,108,229,{"$f":"VLOOKUP(F890,Sheet3!$D$3:$E$91,2,FALSE)","v":1},"ANDERS BURDICK","Chaska High School","JV2 Boys D1",null,100389833,2079,2," 00:00:00.000"," 00:41:21.585"," 00:21:09.293"," 00:20:12.292",null,null,228,1]
[100390783,109,228,{"$f":"VLOOKUP(F891,Sheet3!$D$3:$E$91,2,FALSE)","v":1},"HUGO HEEB","Minnetonka High School","JV2 Boys D1",null,100390783,2213,2," 00:00:00.000"," 00:41:22.904"," 00:21:00.320"," 00:20:22.584",null,null,227,1]
[100430323,110,227,{"$f":"VLOOKUP(F892,Sheet3!$D$3:$E$91,2,FALSE)","v":1},"NATHAN ROBBENNOLT","Wayzata Mountain Bike","JV2 Boys D1",null,100430323,2548,2," 00:00:00.000"," 00:41:33.237"," 00:21:31.755"," 00:20:01.482",null,null,226,1]
[100413470,111,226,{"$f":"VLOOKUP(F893,Sheet3!$D$3:$E$91,2,FALSE)","v":1},"ERIK PANYAN","Rock Ridge Composite","JV2 Boys D1",null,100413470,2394,2," 00:00:00.000"," 00:41:36.959"," 00:21:36.265"," 00:20:00.694",null,null,225,1]
[100390201,112,225,{"$f":"VLOOKUP(F894,Sheet3!$D$3:$E$91,2,FALSE)","v":1},"JOE DOUGLASS","Minnetonka High School","JV2 Boys D1",null,100390201,2210,2," 00:00:00.000"," 00:41:44.594"," 00:20:54.886"," 00:20:49.708",null,null,224,1]
[100389810,113,224,{"$f":"VLOOKUP(F895,Sheet3!$D$3:$E$91,2,FALSE)","v":1},"LOGAN BROWN","Washburn High School","JV2 Boys D1",null,100389810,2516,2," 00:00:00.000"," 00:41:46.494"," 00:21:10.604"," 00:20:35.890",null,null,223,1]
[100392121,114,223,{"$f":"VLOOKUP(F896,Sheet3!$D$3:$E$91,2,FALSE)","v":1},"TAYLEN PELOQUIN","White Bear Lake High School","JV2 Boys D1",null,100392121,2562,2," 00:00:00.000"," 00:42:15.872"," 00:21:08.836"," 00:21:07.036",null,null,222,1]
[100389719,115,222,{"$f":"VLOOKUP(F897,Sheet3!$D$3:$E$91,2,FALSE)","v":1},"GRIFFIN BOLDT","Mounds View High School","JV2 Boys D1",null,100389719,2248,2," 00:00:00.000"," 00:42:17.554"," 00:20:49.435"," 00:21:28.119",null,null,221,1]
[100392745,116,221,{"$f":"VLOOKUP(F898,Sheet3!$D$3:$E$91,2,FALSE)","v":1},"CASEY STINER","Stillwater Mountain Bike","JV2 Boys D1",null,100392745,2492,2," 00:00:00.000"," 00:42:19.134"," 00:20:55.720"," 00:21:23.414",null,null,220,1]
[100390282,117,220,{"$f":"VLOOKUP(F899,Sheet3!$D$3:$E$91,2,FALSE)","v":1},"JOEY ENGDAHL","Wayzata Mountain Bike","JV2 Boys D1",null,100390282,2540,2," 00:00:00.000"," 00:42:25.275"," 00:21:36.441"," 00:20:48.834",null,null,219,1]
[100389814,118,{"$f":"+S900+R900","v":219},{"$f":"VLOOKUP(F900,Sheet3!$D$3:$E$91,2,FALSE)","v":1},"NOAH BROWN","Shakopee High School","JV2 Boys D1",null,100389814,2421,2," 00:00:00.000"," 00:42:29.189"," 00:21:28.627"," 00:21:00.562",null,null,218,1]
[100390848,119,218,{"$f":"VLOOKUP(F901,Sheet3!$D$3:$E$91,2,FALSE)","v":1},"NATHAN HICKMAN","Minneapolis Southwest","JV2 Boys D1",null,100390848,2282,2," 00:00:00.000"," 00:42:29.428"," 00:22:05.052"," 00:20:24.376",null,null,217,1]
[100391438,120,217,{"$f":"VLOOKUP(F902,Sheet3!$D$3:$E$91,2,FALSE)","v":1},"JONAH LEONARDSON","Armstrong Cycle","JV2 Boys D1",null,100391438,2024,2," 00:00:00.000"," 00:42:31.881"," 00:22:48.256"," 00:19:43.625",null,null,216,1]
[100391705,121,216,{"$f":"VLOOKUP(F903,Sheet3!$D$3:$E$91,2,FALSE)","v":1},"PETER MENDEZ","Burnsville High School","JV2 Boys D1",null,100391705,2063,2," 00:00:00.000"," 00:42:34.601"," 00:22:53.764"," 00:19:40.837",null,null,215,1]
[100391836,122,215,{"$f":"VLOOKUP(F904,Sheet3!$D$3:$E$91,2,FALSE)","v":1},"GANNON MOSHER","Minneapolis Southwest","JV2 Boys D1",null,100391836,2286,2," 00:00:00.000"," 00:42:44.758"," 00:21:56.845"," 00:20:47.913",null,null,214,1]
[100390903,123,214,{"$f":"VLOOKUP(F905,Sheet3!$D$3:$E$91,2,FALSE)","v":1},"OWEN HOLROYD","Stillwater Mountain Bike","JV2 Boys D1",null,100390903,2483,2," 00:00:00.000"," 00:43:04.480"," 00:22:11.104"," 00:20:53.376",null,null,213,1]
[100410713,124,213,{"$f":"VLOOKUP(F906,Sheet3!$D$3:$E$91,2,FALSE)","v":1},"EDWARD STAATS","Washburn High School","JV2 Boys D1",null,100410713,2532,2," 00:00:00.000"," 00:43:13.903"," 00:21:54.331"," 00:21:19.572",null,null,212,1]
[100390254,125,212,{"$f":"VLOOKUP(F907,Sheet3!$D$3:$E$91,2,FALSE)","v":1},"CARTER EICHTEN","Washburn High School","JV2 Boys D1",null,100390254,2582,2," 00:00:00.000"," 00:43:38.646"," 00:18:53.216"," 00:24:45.430",null,null,211,1]
[100427242,126,211,{"$f":"VLOOKUP(F908,Sheet3!$D$3:$E$91,2,FALSE)","v":1},"TUCKER CONNELLY","New Prague Middle and High School","JV2 Boys D1",null,100427242,2289,2," 00:00:00.000"," 00:43:45.120"," 00:23:56.049"," 00:19:49.071",null,null,210,1]
[100427907,127,210,{"$f":"VLOOKUP(F909,Sheet3!$D$3:$E$91,2,FALSE)","v":1},"PRESTON CRAWFORD","Lakeville North High School","JV2 Boys D1",null,100427907,2170,2," 00:00:00.000"," 00:43:51.476"," 00:21:55.008"," 00:21:56.468",null,null,209,1]
[100390775,128,209,{"$f":"VLOOKUP(F910,Sheet3!$D$3:$E$91,2,FALSE)","v":1},"WESLEY HEARN","Washburn High School","JV2 Boys D1",null,100390775,2518,2," 00:00:00.000"," 00:43:55.532"," 00:22:02.419"," 00:21:53.113",null,null,208,1]
[100390622,129,208,{"$f":"VLOOKUP(F911,Sheet3!$D$3:$E$91,2,FALSE)","v":1},"JACKSON GRUNDAHL","Stillwater Mountain Bike","JV2 Boys D1",null,100390622,2478,2," 00:00:00.000"," 00:43:56.319"," 00:21:57.397"," 00:21:58.922",null,null,207,1]
[100422024,130,207,{"$f":"VLOOKUP(F912,Sheet3!$D$3:$E$91,2,FALSE)","v":1},"DONOVAN SCHAFROTH","Prior Lake High School","JV2 Boys D1",null,100422024,2352,2," 00:00:00.000"," 00:43:58.948"," 00:22:31.569"," 00:21:27.379",null,null,206,1]
[100391930,131,206,{"$f":"VLOOKUP(F913,Sheet3!$D$3:$E$91,2,FALSE)","v":1},"SEVERIN NILSEN","Washburn High School","JV2 Boys D1",null,100391930,2525,2," 00:00:00.000"," 00:44:48.713"," 00:22:12.632"," 00:22:36.081",null,null,205,1]
[100390378,132,205,{"$f":"VLOOKUP(F914,Sheet3!$D$3:$E$91,2,FALSE)","v":1},"JACOB FISCHER","Wayzata Mountain Bike","JV2 Boys D1",null,100390378,2541,2," 00:00:00.000"," 00:44:52.780"," 00:22:35.300"," 00:22:17.480",null,null,204,1]
[100392334,133,204,{"$f":"VLOOKUP(F915,Sheet3!$D$3:$E$91,2,FALSE)","v":1},"NOLAN RIVERS","Winona","JV2 Boys D1",null,100392334,2573,2," 00:00:00.000"," 00:44:57.642"," 00:22:54.275"," 00:22:03.367",null,null,203,1]
[100390662,134,203,{"$f":"VLOOKUP(F916,Sheet3!$D$3:$E$91,2,FALSE)","v":1},"BRODY HAHN","Prior Lake High School","JV2 Boys D1",null,100390662,2343,2," 00:00:00.000"," 00:45:10.408"," 00:22:59.144"," 00:22:11.264",null,null,202,1]
[100389570,135,202,{"$f":"VLOOKUP(F917,Sheet3!$D$3:$E$91,2,FALSE)","v":1},"KAIDEN BAUER","Armstrong Cycle","JV2 Boys D1",null,100389570,2013,2," 00:00:00.000"," 00:45:18.271"," 00:22:20.494"," 00:22:57.777",null,null,201,1]
[100391574,136,201,{"$f":"VLOOKUP(F918,Sheet3!$D$3:$E$91,2,FALSE)","v":1},"JOHN MALVIN","Minnetonka High School","JV2 Boys D1",null,100391574,2223,2," 00:00:00.000"," 00:45:23.501"," 00:23:04.512"," 00:22:18.989",null,null,200,1]
[100428655,137,200,{"$f":"VLOOKUP(F919,Sheet3!$D$3:$E$91,2,FALSE)","v":1},"CAMERON USHER","Alexandria Area Youth Cycling","JV2 Boys D1",null,100428655,2010,2," 00:00:00.000"," 00:45:34.842"," 00:24:37.643"," 00:20:57.199",null,null,199,1]
[100427953,138,199,{"$f":"VLOOKUP(F920,Sheet3!$D$3:$E$91,2,FALSE)","v":1},"CODY RADEMACHER","Shakopee High School","JV2 Boys D1",null,100427953,2435,2," 00:00:00.000"," 00:46:12.825"," 00:23:25.582"," 00:22:47.243",null,null,198,1]
[100417739,139,198,{"$f":"VLOOKUP(F921,Sheet3!$D$3:$E$91,2,FALSE)","v":1},"BRAYDEN CROTTEAU","Rock Ridge Composite","JV2 Boys D1",null,100417739,2388,2," 00:00:00.000"," 00:46:38.799"," 00:22:32.840"," 00:24:05.959",null,null,197,1]
[100392098,140,197,{"$f":"VLOOKUP(F922,Sheet3!$D$3:$E$91,2,FALSE)","v":1},"CAMERON PAULY","Chaska High School","JV2 Boys D1",null,100392098,2085,2," 00:00:00.000"," 00:47:15.069"," 00:23:11.013"," 00:24:04.056",null,null,196,1]
[100427307,141,196,{"$f":"VLOOKUP(F923,Sheet3!$D$3:$E$91,2,FALSE)","v":1},"JACK STELLA","Rock Ridge Composite","JV2 Boys D1",null,100427307,2396,2," 00:00:00.000"," 00:47:55.763"," 00:24:06.860"," 00:23:48.903",null,null,195,1]
[100391516,142,195,{"$f":"VLOOKUP(F924,Sheet3!$D$3:$E$91,2,FALSE)","v":1},"CAMERON LUCKY","Wayzata Mountain Bike","JV2 Boys D1",null,100391516,2544,2," 00:00:00.000"," 00:48:31.972"," 00:22:42.252"," 00:25:49.720",null,null,194,1]
[100430412,143,194,{"$f":"VLOOKUP(F925,Sheet3!$D$3:$E$91,2,FALSE)","v":1},"GABE HOVEN","Alexandria Area Youth Cycling","JV2 Boys D1",null,100430412,2006,2," 00:00:00.000"," 00:48:50.668"," 00:24:02.491"," 00:24:48.177",null,null,193,1]
[100393089,144,193,{"$f":"VLOOKUP(F926,Sheet3!$D$3:$E$91,2,FALSE)","v":1},"CHARLIE WENNERSTROM","Chanhassen High School","JV2 Boys D1",null,100393089,2076,2," 00:00:00.000"," 00:49:39.173"," 00:16:34.032"," 00:33:05.141",null,null,192,1]
[100419186,145,192,{"$f":"VLOOKUP(F927,Sheet3!$D$3:$E$91,2,FALSE)","v":1},"JOBE GLASHAGEL","Prior Lake High School","JV2 Boys D1",null,100419186,2342,2," 00:00:00.000"," 00:51:32.093"," 00:19:39.911"," 00:31:52.182",null,null,191,1]
[100392743,146,191,{"$f":"VLOOKUP(F928,Sheet3!$D$3:$E$91,2,FALSE)","v":1},"ANDREW STIEGLER","Prior Lake High School","JV2 Boys D1",null,100392743,2356,2," 00:00:00.000"," 00:56:45.795"," 00:23:55.095"," 00:32:50.700",null,null,190,1]
[100406225,147,190,{"$f":"VLOOKUP(F929,Sheet3!$D$3:$E$91,2,FALSE)","v":1},"ODIN WESTERN","Mounds View High School","JV2 Boys D1",null,100406225,2265,2," 00:00:00.000"," 00:57:11.533"," 00:20:48.512"," 00:36:23.021",null,null,189,1]
[100430856,148,189,{"$f":"VLOOKUP(F930,Sheet3!$D$3:$E$91,2,FALSE)","v":1},"LINDSON TURNER","Stillwater Mountain Bike","JV2 Boys D1","Bike Swap",100430856,2494,2," 00:20:00.000"," 01:00:32.730"," 00:23:04.286"," 00:17:28.444",null,null,188,1]
[100391087,149,188,{"$f":"VLOOKUP(F931,Sheet3!$D$3:$E$91,2,FALSE)","v":1},"SAM JOHNSON","Bloomington Jefferson","JV2 Boys D1","Bike Swap / -1 LAP",100391087,2048,1," 00:10:00.000"," 00:51:31.654"," 00:41:31.654",null,null,null,187,1]
[100389653,150,0,{"$f":"VLOOKUP(F932,Sheet3!$D$3:$E$91,2,FALSE)","v":1},"NEIL BHARGAVA","Edina Cycling","JV2 Boys D1","DNF Medical",100389653,2121,0," 00:00:00.000",null,null,null,null,null,0,0]
[100406832,151,0,{"$f":"VLOOKUP(F933,Sheet3!$D$3:$E$91,2,FALSE)","v":1},"SEBASTIAN NESBURG","Chanhassen High School","JV2 Boys D1","DNF Medical",100406832,2074,0," 00:00:00.000",null,null,null,null,null,0,0]
[100411657,152,0,{"$f":"VLOOKUP(F934,Sheet3!$D$3:$E$91,2,FALSE)","v":1},"CONNER ELLIS","Prior Lake High School","JV2 Boys D1","DNF Medical",100411657,2336,0," 00:00:00.000",null,null,null,null,null,0,0]
[100431109,1,550,{"$f":"VLOOKUP(F935,Sheet3!$D$3:$E$91,2,FALSE)","v":2},"DOMENIC HEGMAN","Rogers High School","JV2 Boys D2",null,100431109,2406,2," 00:00:00.000"," 00:31:06.495"," 00:16:05.029"," 00:15:01.466",null,null,500,50]
[100393228,2,539,{"$f":"VLOOKUP(F936,Sheet3!$D$3:$E$91,2,FALSE)","v":2},"HOLDEN ZAK","St Cloud Area Composite","JV2 Boys D2",null,100393228,2443,2," 00:00:00.000"," 00:31:29.486"," 00:16:04.546"," 00:15:24.940",null,null,490,49]
[100390515,3,529,{"$f":"VLOOKUP(F937,Sheet3!$D$3:$E$91,2,FALSE)","v":2},"FINN GARRY","St Paul Central","JV2 Boys D2",null,100390515,2456,2," 00:00:00.000"," 00:32:47.865"," 00:16:50.284"," 00:15:57.581",null,null,481,48]
[100391641,4,519,{"$f":"VLOOKUP(F938,Sheet3!$D$3:$E$91,2,FALSE)","v":2},"KEIGAN MCCARTY","St. Paul Composite - North","JV2 Boys D2",null,100391641,2561,2," 00:00:00.000"," 00:32:54.064"," 00:17:18.420"," 00:15:35.644",null,null,472,47]
[100390164,5,510,{"$f":"VLOOKUP(F939,Sheet3!$D$3:$E$91,2,FALSE)","v":2},"JOHNNY DIPRIMA","Orono High School","JV2 Boys D2",null,100390164,2309,2," 00:00:00.000"," 00:32:56.482"," 00:16:49.605"," 00:16:06.877",null,null,464,46]
[100390785,6,501,{"$f":"VLOOKUP(F940,Sheet3!$D$3:$E$91,2,FALSE)","v":2},"LIAM HEFFERAN","Highland Park St Paul","JV2 Boys D2",null,100390785,2142,2," 00:00:00.000"," 00:33:01.293"," 00:17:01.102"," 00:16:00.191",null,null,456,45]
[100390793,7,492,{"$f":"VLOOKUP(F941,Sheet3!$D$3:$E$91,2,FALSE)","v":2},"SETH HEIN","North Dakota Composite","JV2 Boys D2",null,100390793,2294,2," 00:00:00.000"," 00:33:05.970"," 00:17:07.506"," 00:15:58.464",null,null,448,44]
[100389748,8,484,{"$f":"VLOOKUP(F942,Sheet3!$D$3:$E$91,2,FALSE)","v":2},"COURTLAND BRAGG","Lakeville South High School","JV2 Boys D2",null,100389748,2178,2," 00:00:00.000"," 00:33:06.601"," 00:17:10.851"," 00:15:55.750",null,null,441,43]
[100393020,9,476,{"$f":"VLOOKUP(F943,Sheet3!$D$3:$E$91,2,FALSE)","v":2},"BRADY WAINIONPAA","Hudson High School","JV2 Boys D2",null,100393020,2158,2," 00:00:00.000"," 00:33:08.739"," 00:17:10.886"," 00:15:57.853",null,null,434,42]
[100390982,10,468,{"$f":"VLOOKUP(F944,Sheet3!$D$3:$E$91,2,FALSE)","v":2},"BRENDAN ISENBERG","Mankato West High School","JV2 Boys D2",null,100390982,2195,2," 00:00:00.000"," 00:33:21.358"," 00:17:01.933"," 00:16:19.425",null,null,427,41]
[100392490,11,460,{"$f":"VLOOKUP(F945,Sheet3!$D$3:$E$91,2,FALSE)","v":2},"CARTER SCHILDGEN","Chisago Lakes Composite","JV2 Boys D2",null,100392490,2091,2," 00:00:00.000"," 00:33:24.016"," 00:16:56.273"," 00:16:27.743",null,null,420,40]
[100390336,12,453,{"$f":"VLOOKUP(F946,Sheet3!$D$3:$E$91,2,FALSE)","v":2},"ZACH FAHEY","Minnesota Valley Composite","JV2 Boys D2",null,100390336,2202,2," 00:00:00.000"," 00:33:24.686"," 00:17:08.201"," 00:16:16.485",null,null,414,39]
[100389540,13,446,{"$f":"VLOOKUP(F947,Sheet3!$D$3:$E$91,2,FALSE)","v":2},"LOGAN BARKE","Mankato Composite","JV2 Boys D2",null,100389540,2189,2," 00:00:00.000"," 00:33:32.192"," 00:17:11.108"," 00:16:21.084",null,null,408,38]
[100389839,14,439,{"$f":"VLOOKUP(F948,Sheet3!$D$3:$E$91,2,FALSE)","v":2},"MATT BURI","St. Paul Composite - North","JV2 Boys D2",null,100389839,2466,2," 00:00:00.000"," 00:33:42.714"," 00:17:25.612"," 00:16:17.102",null,null,402,37]
[100390324,15,432,{"$f":"VLOOKUP(F949,Sheet3!$D$3:$E$91,2,FALSE)","v":2},"CLAYTON ETNIER","St Michael / Albertville Composite","JV2 Boys D2",null,100390324,2450,2," 00:00:00.000"," 00:33:42.914"," 00:17:11.789"," 00:16:31.125",null,null,396,36]
[100392843,16,425,{"$f":"VLOOKUP(F950,Sheet3!$D$3:$E$91,2,FALSE)","v":2},"SHAWN THIERS","St. Paul Composite - North","JV2 Boys D2",null,100392843,2473,2," 00:00:00.000"," 00:33:43.296"," 00:17:21.587"," 00:16:21.709",null,null,390,35]
[100422634,17,419,{"$f":"VLOOKUP(F951,Sheet3!$D$3:$E$91,2,FALSE)","v":2},"QUINN BECK","St Paul Central","JV2 Boys D2",null,100422634,2451,2," 00:00:00.000"," 00:34:01.684"," 00:17:20.697"," 00:16:40.987",null,null,385,34]
[100410939,18,413,{"$f":"VLOOKUP(F952,Sheet3!$D$3:$E$91,2,FALSE)","v":2},"BRENNEN DADO","River Falls High School","JV2 Boys D2",null,100410939,2362,2," 00:00:00.000"," 00:34:05.449"," 00:17:16.984"," 00:16:48.465",null,null,380,33]
[100392733,19,407,{"$f":"VLOOKUP(F953,Sheet3!$D$3:$E$91,2,FALSE)","v":2},"CHARLIE STEFFEN","Eden Prairie High School","JV2 Boys D2",null,100392733,2118,2," 00:00:00.000"," 00:34:05.807"," 00:17:22.185"," 00:16:43.622",null,null,375,32]
[100431188,20,401,{"$f":"VLOOKUP(F954,Sheet3!$D$3:$E$91,2,FALSE)","v":2},"LUKE WARZECHA","Eden Prairie High School","JV2 Boys D2",null,100431188,2119,2," 00:00:00.000"," 00:34:10.826"," 00:17:22.042"," 00:16:48.784",null,null,370,31]
[100392005,21,395,{"$f":"VLOOKUP(F955,Sheet3!$D$3:$E$91,2,FALSE)","v":2},"ABE OLSON","Osseo Composite","JV2 Boys D2",null,100392005,2327,2," 00:00:00.000"," 00:34:12.434"," 00:17:11.547"," 00:17:00.887",null,null,365,30]
[100391430,22,389,{"$f":"VLOOKUP(F956,Sheet3!$D$3:$E$91,2,FALSE)","v":2},"NATHAN LENZEN","Apple Valley High School","JV2 Boys D2",null,100391430,2012,2," 00:00:00.000"," 00:34:12.675"," 00:17:32.190"," 00:16:40.485",null,null,360,29]
[100392486,23,384,{"$f":"VLOOKUP(F957,Sheet3!$D$3:$E$91,2,FALSE)","v":2},"SAWYER SCHETTL","Minnesota Valley Composite","JV2 Boys D2",null,100392486,2204,2," 00:00:00.000"," 00:34:13.968"," 00:17:36.619"," 00:16:37.349",null,null,356,28]
[100390591,24,379,{"$f":"VLOOKUP(F958,Sheet3!$D$3:$E$91,2,FALSE)","v":2},"CALEB GRASSMANN","Mankato West High School","JV2 Boys D2",null,100390591,2192,2," 00:00:00.000"," 00:34:14.661"," 00:17:28.390"," 00:16:46.271",null,null,352,27]
[100417230,25,374,{"$f":"VLOOKUP(F959,Sheet3!$D$3:$E$91,2,FALSE)","v":2},"JAVIER SCHIMMING","St Louis Park High School","JV2 Boys D2",null,100417230,2447,2," 00:00:00.000"," 00:34:29.075"," 00:17:32.033"," 00:16:57.042",null,null,348,26]
[100406856,26,369,{"$f":"VLOOKUP(F960,Sheet3!$D$3:$E$91,2,FALSE)","v":2},"MATTHIAS PASKE","St. Paul Composite - South","JV2 Boys D2",null,100406856,2471,2," 00:00:00.000"," 00:34:32.366"," 00:17:32.918"," 00:16:59.448",null,null,344,25]
[100391460,27,364,{"$f":"VLOOKUP(F961,Sheet3!$D$3:$E$91,2,FALSE)","v":2},"OLIVER LEY","St. Paul Composite - South","JV2 Boys D2",null,100391460,2303,2," 00:00:00.000"," 00:34:33.206"," 00:17:55.077"," 00:16:38.129",null,null,340,24]
[100392461,28,359,{"$f":"VLOOKUP(F962,Sheet3!$D$3:$E$91,2,FALSE)","v":2},"NOAH SAUVAGEAU","North Dakota Kindred Composite","JV2 Boys D2",null,100392461,2297,2," 00:00:00.000"," 00:34:44.433"," 00:17:47.317"," 00:16:57.116",null,null,336,23]
[100391546,29,354,{"$f":"VLOOKUP(F963,Sheet3!$D$3:$E$91,2,FALSE)","v":2},"GRADY MAGRUDER","Elk River Composite","JV2 Boys D2",null,100391546,2589,2," 00:00:00.000"," 00:34:53.960"," 00:17:56.645"," 00:16:57.315",null,null,332,22]
[100391018,30,{"$f":"+S964+R964","v":350},{"$f":"VLOOKUP(F964,Sheet3!$D$3:$E$91,2,FALSE)","v":2},"BO JEFFERS","Elk River Composite","JV2 Boys D2",null,100391018,2130,2," 00:00:00.000"," 00:34:54.509"," 00:17:48.515"," 00:17:05.994",null,null,329,21]
[100432565,31,346,{"$f":"VLOOKUP(F965,Sheet3!$D$3:$E$91,2,FALSE)","v":2},"MILES MARTIG","Cannon Valley Composite","JV2 Boys D2",null,100432565,2067,2," 00:00:00.000"," 00:34:54.629"," 00:17:34.843"," 00:17:19.786",null,null,326,20]
[100390044,32,342,{"$f":"VLOOKUP(F966,Sheet3!$D$3:$E$91,2,FALSE)","v":2},"LANDEN CRISP","Eastview High School","JV2 Boys D2",null,100390044,2109,2," 00:00:00.000"," 00:34:57.416"," 00:17:40.182"," 00:17:17.234",null,null,323,19]
[100422794,33,338,{"$f":"VLOOKUP(F967,Sheet3!$D$3:$E$91,2,FALSE)","v":2},"TOMMY KELLER","St Louis Park High School","JV2 Boys D2",null,100422794,2445,2," 00:00:00.000"," 00:34:57.476"," 00:17:38.870"," 00:17:18.606",null,null,320,18]
[100391888,34,334,{"$f":"VLOOKUP(F968,Sheet3!$D$3:$E$91,2,FALSE)","v":2},"JAMES NELSON","Rochester Mayo","JV2 Boys D2",null,100391888,2385,2," 00:00:00.000"," 00:34:58.570"," 00:18:06.374"," 00:16:52.196",null,null,317,17]
[100391469,35,330,{"$f":"VLOOKUP(F969,Sheet3!$D$3:$E$91,2,FALSE)","v":2},"HOWIE LIND","West Range Composite","JV2 Boys D2",null,100391469,2553,2," 00:00:00.000"," 00:34:58.829"," 00:17:46.374"," 00:17:12.455",null,null,314,16]
[100391846,36,326,{"$f":"VLOOKUP(F970,Sheet3!$D$3:$E$91,2,FALSE)","v":2},"HENRY MROTZ","Minneapolis Henry High School","JV2 Boys D2",null,100391846,2268,2," 00:00:00.000"," 00:34:58.933"," 00:17:53.943"," 00:17:04.990",null,null,311,15]
[100430479,37,322,{"$f":"VLOOKUP(F971,Sheet3!$D$3:$E$91,2,FALSE)","v":2},"REX WALLI","West Range Composite","JV2 Boys D2",null,100430479,2554,2," 00:00:00.000"," 00:34:59.852"," 00:17:38.823"," 00:17:21.029",null,null,308,14]
[100391792,38,319,{"$f":"VLOOKUP(F972,Sheet3!$D$3:$E$91,2,FALSE)","v":2},"STEFFEN MONTVILLE","St Paul Central","JV2 Boys D2",null,100391792,2459,2," 00:00:00.000"," 00:35:03.919"," 00:17:33.281"," 00:17:30.638",null,null,306,13]
[100392301,39,316,{"$f":"VLOOKUP(F973,Sheet3!$D$3:$E$91,2,FALSE)","v":2},"SAMUEL REITER","Hutchinson High School","JV2 Boys D2",null,100392301,2161,2," 00:00:00.000"," 00:35:05.171"," 00:18:09.771"," 00:16:55.400",null,null,304,12]
[100413935,40,313,{"$f":"VLOOKUP(F974,Sheet3!$D$3:$E$91,2,FALSE)","v":2},"SAMUEL BURNS","Mound Westonka Composite","JV2 Boys D2",null,100413935,2242,2," 00:00:00.000"," 00:35:11.773"," 00:17:55.049"," 00:17:16.724",null,null,302,11]
[100391216,41,310,{"$f":"VLOOKUP(F975,Sheet3!$D$3:$E$91,2,FALSE)","v":2},"JOEY KLAITH","Rockford Composite","JV2 Boys D2",null,100391216,2400,2," 00:00:00.000"," 00:35:32.353"," 00:18:26.000"," 00:17:06.353",null,null,300,10]
[100426670,42,307,{"$f":"VLOOKUP(F976,Sheet3!$D$3:$E$91,2,FALSE)","v":2},"BENJAMIN PIPKIN","Osseo","JV2 Boys D2",null,100426670,2324,2," 00:00:00.000"," 00:35:32.831"," 00:18:25.303"," 00:17:07.528",null,null,298,9]
[100390417,43,304,{"$f":"VLOOKUP(F977,Sheet3!$D$3:$E$91,2,FALSE)","v":2},"SAM FRABEL","Osseo","JV2 Boys D2",null,100390417,2321,2," 00:00:00.000"," 00:35:42.074"," 00:18:27.078"," 00:17:14.996",null,null,296,8]
[100422731,44,301,{"$f":"VLOOKUP(F978,Sheet3!$D$3:$E$91,2,FALSE)","v":2},"JONAS ROACH","St Paul Central","JV2 Boys D2",null,100422731,2460,2," 00:00:00.000"," 00:35:46.282"," 00:18:07.418"," 00:17:38.864",null,null,294,7]
[100418406,45,298,{"$f":"VLOOKUP(F979,Sheet3!$D$3:$E$91,2,FALSE)","v":2},"CARTER NESBITT","Lakeville South High School","JV2 Boys D2",null,100418406,2183,2," 00:00:00.000"," 00:35:47.847"," 00:18:31.290"," 00:17:16.557",null,null,292,6]
[100390693,46,295,{"$f":"VLOOKUP(F980,Sheet3!$D$3:$E$91,2,FALSE)","v":2},"AARON HANSON","Eagan High School","JV2 Boys D2",null,100390693,2101,2," 00:00:00.000"," 00:35:50.517"," 00:18:07.854"," 00:17:42.663",null,null,290,5]
[100389436,47,293,{"$f":"VLOOKUP(F981,Sheet3!$D$3:$E$91,2,FALSE)","v":2},"JASON ANDERSEN","Osseo","JV2 Boys D2",null,100389436,2319,2," 00:00:00.000"," 00:35:57.329"," 00:18:25.514"," 00:17:31.815",null,null,289,4]
[100391040,48,291,{"$f":"VLOOKUP(F982,Sheet3!$D$3:$E$91,2,FALSE)","v":2},"AUGUST JOHNSON","Highland Park St Paul","JV2 Boys D2",null,100391040,2143,2," 00:00:00.000"," 00:35:58.443"," 00:18:22.334"," 00:17:36.109",null,null,288,3]
[100391632,49,289,{"$f":"VLOOKUP(F983,Sheet3!$D$3:$E$91,2,FALSE)","v":2},"BRAYDEN MAYER","Mound Westonka Composite","JV2 Boys D2",null,100391632,2244,2," 00:00:00.000"," 00:36:02.905"," 00:18:27.747"," 00:17:35.158",null,null,287,2]
[100392850,50,287,{"$f":"VLOOKUP(F984,Sheet3!$D$3:$E$91,2,FALSE)","v":2},"ANDREW THOMPSON","Austin High School","JV2 Boys D2",null,100392850,2035,2," 00:00:00.000"," 00:36:04.089"," 00:18:12.350"," 00:17:51.739",null,null,286,1]
[100392584,51,286,{"$f":"VLOOKUP(F985,Sheet3!$D$3:$E$91,2,FALSE)","v":2},"OLIVER SHARP","Rockford Composite","JV2 Boys D2",null,100392584,2402,2," 00:00:00.000"," 00:36:13.916"," 00:18:23.916"," 00:17:50.000",null,null,285,1]
[100392763,52,285,{"$f":"VLOOKUP(F986,Sheet3!$D$3:$E$91,2,FALSE)","v":2},"DEVAN STRATTON","River Falls High School","JV2 Boys D2",null,100392763,2364,2," 00:00:00.000"," 00:36:17.075"," 00:18:22.875"," 00:17:54.200",null,null,284,1]
[100391580,53,284,{"$f":"VLOOKUP(F987,Sheet3!$D$3:$E$91,2,FALSE)","v":2},"EVAN MARCELLE","St. Paul Composite - North","JV2 Boys D2",null,100391580,2469,2," 00:00:00.000"," 00:36:21.861"," 00:18:19.477"," 00:18:02.384",null,null,283,1]
[100391851,54,283,{"$f":"VLOOKUP(F988,Sheet3!$D$3:$E$91,2,FALSE)","v":2},"DALTON MULLIN","Chisago Lakes Composite","JV2 Boys D2",null,100391851,2090,2," 00:00:00.000"," 00:36:22.383"," 00:18:40.473"," 00:17:41.910",null,null,282,1]
[100392706,55,282,{"$f":"VLOOKUP(F989,Sheet3!$D$3:$E$91,2,FALSE)","v":2},"LANDON SRP","Rochester Area Composite","JV2 Boys D2",null,100392706,2380,2," 00:00:00.000"," 00:36:24.768"," 00:18:41.385"," 00:17:43.383",null,null,281,1]
[100391555,56,281,{"$f":"VLOOKUP(F990,Sheet3!$D$3:$E$91,2,FALSE)","v":2},"RYAN MAISUK","Eastview High School","JV2 Boys D2",null,100391555,2111,2," 00:00:00.000"," 00:36:26.793"," 00:18:38.458"," 00:17:48.335",null,null,280,1]
[100390406,57,280,{"$f":"VLOOKUP(F991,Sheet3!$D$3:$E$91,2,FALSE)","v":2},"TOMMY FOSSE","Northwest Composite","JV2 Boys D2",null,100390406,2298,2," 00:00:00.000"," 00:36:29.521"," 00:18:39.563"," 00:17:49.958",null,null,279,1]
[100420087,58,279,{"$f":"VLOOKUP(F992,Sheet3!$D$3:$E$91,2,FALSE)","v":2},"TENNYSON STINSON","Minneapolis South High","JV2 Boys D2",null,100420087,2273,2," 00:00:00.000"," 00:36:33.218"," 00:18:34.422"," 00:17:58.796",null,null,278,1]
[100429807,59,278,{"$f":"VLOOKUP(F993,Sheet3!$D$3:$E$91,2,FALSE)","v":2},"ELIJAH BURG","Mankato West High School","JV2 Boys D2",null,100429807,2191,2," 00:00:00.000"," 00:36:39.401"," 00:19:10.709"," 00:17:28.692",null,null,277,1]
[100391484,60,277,{"$f":"VLOOKUP(F994,Sheet3!$D$3:$E$91,2,FALSE)","v":2},"ALEX LITTERER","Chisago Lakes Composite","JV2 Boys D2",null,100391484,2088,2," 00:00:00.000"," 00:36:54.587"," 00:18:48.043"," 00:18:06.544",null,null,276,1]
[100390476,61,276,{"$f":"VLOOKUP(F995,Sheet3!$D$3:$E$91,2,FALSE)","v":2},"TIMOTHY GABBARD","Northwest Composite","JV2 Boys D2",null,100390476,2299,2," 00:00:00.000"," 00:37:05.960"," 00:19:14.593"," 00:17:51.367",null,null,275,1]
[100391065,62,275,{"$f":"VLOOKUP(F996,Sheet3!$D$3:$E$91,2,FALSE)","v":2},"FINN JOHNSON","Roosevelt High School","JV2 Boys D2",null,100391065,2408,2," 00:00:00.000"," 00:37:14.525"," 00:18:47.181"," 00:18:27.344",null,null,274,1]
[100391969,63,274,{"$f":"VLOOKUP(F997,Sheet3!$D$3:$E$91,2,FALSE)","v":2},"WILLIAM O'BRIEN","Woodbury Composite","JV2 Boys D2",null,100391969,2579,2," 00:00:00.000"," 00:37:19.259"," 00:19:19.756"," 00:17:59.503",null,null,273,1]
[100431795,64,273,{"$f":"VLOOKUP(F998,Sheet3!$D$3:$E$91,2,FALSE)","v":2},"ANDREW HACKENMUELLER","St Cloud Area Composite","JV2 Boys D2",null,100431795,2440,2," 00:00:00.000"," 00:37:24.165"," 00:19:07.633"," 00:18:16.532",null,null,272,1]
[100390633,65,272,{"$f":"VLOOKUP(F999,Sheet3!$D$3:$E$91,2,FALSE)","v":2},"MARSHALL GULLICKSON","Mankato West High School","JV2 Boys D2",null,100390633,2193,2," 00:00:00.000"," 00:37:24.249"," 00:19:09.224"," 00:18:15.025",null,null,271,1]
[100427850,66,271,{"$f":"VLOOKUP(F1000,Sheet3!$D$3:$E$91,2,FALSE)","v":2},"ANDERS LINDBERG","Osseo","JV2 Boys D2",null,100427850,2323,2," 00:00:00.000"," 00:37:29.781"," 00:19:07.523"," 00:18:22.258",null,null,270,1]
[100392305,67,270,{"$f":"VLOOKUP(F1001,Sheet3!$D$3:$E$91,2,FALSE)","v":2},"JONAH RICARD","St Cloud Area Composite","JV2 Boys D2",null,100392305,2442,2," 00:00:00.000"," 00:37:39.889"," 00:19:16.356"," 00:18:23.533",null,null,269,1]
[100390707,68,269,{"$f":"VLOOKUP(F1002,Sheet3!$D$3:$E$91,2,FALSE)","v":2},"ROBERT HANSON","Mankato West High School","JV2 Boys D2",null,100390707,2194,2," 00:00:00.000"," 00:37:43.016"," 00:19:21.791"," 00:18:21.225",null,null,268,1]
[100390895,69,268,{"$f":"VLOOKUP(F1003,Sheet3!$D$3:$E$91,2,FALSE)","v":2},"LANDON HOLM","Northwest Composite","JV2 Boys D2",null,100390895,2300,2," 00:00:00.000"," 00:37:47.766"," 00:18:58.214"," 00:18:49.552",null,null,267,1]
[100390596,70,267,{"$f":"VLOOKUP(F1004,Sheet3!$D$3:$E$91,2,FALSE)","v":2},"JOSEPH GRAY","Elk River Composite","JV2 Boys D2",null,100390596,2129,2," 00:00:00.000"," 00:37:48.491"," 00:19:44.155"," 00:18:04.336",null,null,266,1]
[100390739,71,266,{"$f":"VLOOKUP(F1005,Sheet3!$D$3:$E$91,2,FALSE)","v":2},"MAX HARTMANN","Bloomington Composite","JV2 Boys D2",null,100390739,2039,2," 00:00:00.000"," 00:37:48.654"," 00:19:06.970"," 00:18:41.684",null,null,265,1]
[100417226,72,265,{"$f":"VLOOKUP(F1006,Sheet3!$D$3:$E$91,2,FALSE)","v":2},"NOAH DOUGHERTY","Rockford Composite","JV2 Boys D2",null,100417226,2397,2," 00:00:00.000"," 00:37:58.119"," 00:19:49.208"," 00:18:08.911",null,null,264,1]
[100391131,73,264,{"$f":"VLOOKUP(F1007,Sheet3!$D$3:$E$91,2,FALSE)","v":2},"CALEB KALM","Mankato West High School","JV2 Boys D2",null,100391131,2196,2," 00:00:00.000"," 00:38:02.911"," 00:19:06.036"," 00:18:56.875",null,null,263,1]
[100391204,74,263,{"$f":"VLOOKUP(F1008,Sheet3!$D$3:$E$91,2,FALSE)","v":2},"MATTHEW KIRCHHOFF","Eastview High School","JV2 Boys D2",null,100391204,2110,2," 00:00:00.000"," 00:38:13.428"," 00:19:09.283"," 00:19:04.145",null,null,262,1]
[100393133,75,262,{"$f":"VLOOKUP(F1009,Sheet3!$D$3:$E$91,2,FALSE)","v":2},"KANISHKA WIJERATNE","Spectrum High School","JV2 Boys D2",null,100393133,2439,2," 00:00:00.000"," 00:38:20.037"," 00:19:20.973"," 00:18:59.064",null,null,261,1]
[100426151,76,261,{"$f":"VLOOKUP(F1010,Sheet3!$D$3:$E$91,2,FALSE)","v":2},"KYLE VOWELS","Totino Grace High School","JV2 Boys D2",null,100426151,2513,2," 00:00:00.000"," 00:38:22.639"," 00:19:48.437"," 00:18:34.202",null,null,260,1]
[100390135,77,260,{"$f":"VLOOKUP(F1011,Sheet3!$D$3:$E$91,2,FALSE)","v":2},"TREVOR DESMA","St Paul Central","JV2 Boys D2",null,100390135,2453,2," 00:00:00.000"," 00:38:25.830"," 00:19:51.129"," 00:18:34.701",null,null,259,1]
[100429515,78,259,{"$f":"VLOOKUP(F1012,Sheet3!$D$3:$E$91,2,FALSE)","v":2},"OWEN ANDERBERG","St Michael / Albertville Composite","JV2 Boys D2",null,100429515,2449,2," 00:00:00.000"," 00:38:28.286"," 00:19:48.131"," 00:18:40.155",null,null,258,1]
[100390141,79,258,{"$f":"VLOOKUP(F1013,Sheet3!$D$3:$E$91,2,FALSE)","v":2},"EMERY DEUSTERMAN","Spectrum High School","JV2 Boys D2",null,100390141,2438,2," 00:00:00.000"," 00:38:31.463"," 00:19:42.740"," 00:18:48.723",null,null,257,1]
[100424734,80,257,{"$f":"VLOOKUP(F1014,Sheet3!$D$3:$E$91,2,FALSE)","v":2},"FINNEGAN BENDER","Minneapolis Northside Composite","JV2 Boys D2",null,100424734,2269,2," 00:00:00.000"," 00:38:37.034"," 00:19:42.809"," 00:18:54.225",null,null,256,1]
[100390664,81,256,{"$f":"VLOOKUP(F1015,Sheet3!$D$3:$E$91,2,FALSE)","v":2},"JAXTON HAHN","Mankato West High School","JV2 Boys D2",null,100390664,2197,2," 00:00:00.000"," 00:38:39.039"," 00:19:52.477"," 00:18:46.562",null,null,255,1]
[100428403,82,255,{"$f":"VLOOKUP(F1016,Sheet3!$D$3:$E$91,2,FALSE)","v":2},"ANDREW GLINIECKI","Lakeville South High School","JV2 Boys D2",null,100428403,2181,2," 00:00:00.000"," 00:38:48.262"," 00:19:38.114"," 00:19:10.148",null,null,254,1]
[100390252,83,254,{"$f":"VLOOKUP(F1017,Sheet3!$D$3:$E$91,2,FALSE)","v":2},"MAX EHRLICH-VANDYCK","St Paul Central","JV2 Boys D2",null,100390252,2454,2," 00:00:00.000"," 00:39:00.658"," 00:19:51.496"," 00:19:09.162",null,null,253,1]
[100419506,84,253,{"$f":"VLOOKUP(F1018,Sheet3!$D$3:$E$91,2,FALSE)","v":2},"JACK ORME","St. Paul Composite - South","JV2 Boys D2",null,100419506,2470,2," 00:00:00.000"," 00:39:02.492"," 00:18:56.723"," 00:20:05.769",null,null,252,1]
[100389445,85,252,{"$f":"VLOOKUP(F1019,Sheet3!$D$3:$E$91,2,FALSE)","v":2},"CHARLIE ANDERSON","St. Paul Composite - South","JV2 Boys D2",null,100389445,2464,2," 00:00:00.000"," 00:39:02.500"," 00:20:14.840"," 00:18:47.660",null,null,251,1]
[100392571,86,251,{"$f":"VLOOKUP(F1020,Sheet3!$D$3:$E$91,2,FALSE)","v":2},"LANCE SEIFERT","Hutchinson High School","JV2 Boys D2",null,100392571,2162,2," 00:00:00.000"," 00:39:09.020"," 00:20:21.498"," 00:18:47.522",null,null,250,1]
[100390119,87,250,{"$f":"VLOOKUP(F1021,Sheet3!$D$3:$E$91,2,FALSE)","v":2},"HAYDEN DEFORREST","Woodbury Composite","JV2 Boys D2",null,100390119,2578,2," 00:00:00.000"," 00:39:09.085"," 00:20:23.907"," 00:18:45.178",null,null,249,1]
[100392387,88,249,{"$f":"VLOOKUP(F1022,Sheet3!$D$3:$E$91,2,FALSE)","v":2},"JUSTIN ROSENBOOM","Kerkhoven Composite","JV2 Boys D2",null,100392387,2166,2," 00:00:00.000"," 00:39:13.173"," 00:20:23.594"," 00:18:49.579",null,null,248,1]
[100389821,89,248,{"$f":"VLOOKUP(F1023,Sheet3!$D$3:$E$91,2,FALSE)","v":2},"BENJI BRUNNER","Highland Park St Paul","JV2 Boys D2",null,100389821,2138,2," 00:00:00.000"," 00:39:19.622"," 00:20:18.742"," 00:19:00.880",null,null,247,1]
[100390415,90,247,{"$f":"VLOOKUP(F1024,Sheet3!$D$3:$E$91,2,FALSE)","v":2},"NOAH FOX","Maple Grove High School","JV2 Boys D2",null,100390415,2199,2," 00:00:00.000"," 00:39:28.108"," 00:19:24.664"," 00:20:03.444",null,null,246,1]
[100393189,91,246,{"$f":"VLOOKUP(F1025,Sheet3!$D$3:$E$91,2,FALSE)","v":2},"FINN WOLD","Roosevelt High School","JV2 Boys D2",null,100393189,2411,2," 00:00:00.000"," 00:39:34.189"," 00:20:24.138"," 00:19:10.051",null,null,245,1]
[100391011,92,245,{"$f":"VLOOKUP(F1026,Sheet3!$D$3:$E$91,2,FALSE)","v":2},"EZRA JARMAN","Hutchinson High School","JV2 Boys D2",null,100391011,2160,2," 00:00:00.000"," 00:39:34.396"," 00:20:24.286"," 00:19:10.110",null,null,244,1]
[100428044,93,244,{"$f":"VLOOKUP(F1027,Sheet3!$D$3:$E$91,2,FALSE)","v":2},"ALEX NOVAK","Eastview High School","JV2 Boys D2",null,100428044,2112,2," 00:00:00.000"," 00:39:35.675"," 00:20:23.888"," 00:19:11.787",null,null,243,1]
[100389710,94,{"$f":"+S1028+R1028","v":243},{"$f":"VLOOKUP(F1028,Sheet3!$D$3:$E$91,2,FALSE)","v":2},"FINN BOFFELI","Eastview High School","JV2 Boys D2",null,100389710,2108,2," 00:00:00.000"," 00:39:38.470"," 00:20:26.557"," 00:19:11.913",null,null,242,1]
[100427217,95,242,{"$f":"VLOOKUP(F1029,Sheet3!$D$3:$E$91,2,FALSE)","v":2},"BENJAMIN STRICKLAND","Kerkhoven Composite","JV2 Boys D2",null,100427217,2167,2," 00:00:00.000"," 00:39:55.499"," 00:20:31.170"," 00:19:24.329",null,null,241,1]
[100391167,96,241,{"$f":"VLOOKUP(F1030,Sheet3!$D$3:$E$91,2,FALSE)","v":2},"BRENDAN KENNEDY","Mahtomedi High School","JV2 Boys D2",null,100391167,2185,2," 00:00:00.000"," 00:39:57.694"," 00:20:29.095"," 00:19:28.599",null,null,240,1]
[100428185,97,240,{"$f":"VLOOKUP(F1031,Sheet3!$D$3:$E$91,2,FALSE)","v":2},"ANDREW SEPPELT","Eastview High School","JV2 Boys D2",null,100428185,2114,2," 00:00:00.000"," 00:40:07.928"," 00:20:34.240"," 00:19:33.688",null,null,239,1]
[100389472,98,239,{"$f":"VLOOKUP(F1032,Sheet3!$D$3:$E$91,2,FALSE)","v":2},"PARKER ANTILLA","Mound Westonka Composite","JV2 Boys D2",null,100389472,2240,2," 00:00:00.000"," 00:40:12.199"," 00:20:56.639"," 00:19:15.560",null,null,238,1]
[100410591,99,238,{"$f":"VLOOKUP(F1033,Sheet3!$D$3:$E$91,2,FALSE)","v":2},"FINNEGAN TURNER","Minneapolis Southside Composite","JV2 Boys D2",null,100410591,2275,2," 00:00:00.000"," 00:40:30.410"," 00:20:27.724"," 00:20:02.686",null,null,237,1]
[100389470,100,237,{"$f":"VLOOKUP(F1034,Sheet3!$D$3:$E$91,2,FALSE)","v":2},"OWEN ANGELLAR","Roseville Area Composite","JV2 Boys D2",null,100389470,2418,2," 00:00:00.000"," 00:40:43.671"," 00:20:52.042"," 00:19:51.629",null,null,236,1]
[100426765,101,236,{"$f":"VLOOKUP(F1035,Sheet3!$D$3:$E$91,2,FALSE)","v":2},"MARLEY RICH","Maple Grove High School","JV2 Boys D2",null,100426765,2200,2," 00:00:00.000"," 00:41:09.834"," 00:21:06.618"," 00:20:03.216",null,null,235,1]
[100423898,102,235,{"$f":"VLOOKUP(F1036,Sheet3!$D$3:$E$91,2,FALSE)","v":2},"GRANT MARREEL","Austin High School","JV2 Boys D2",null,100423898,2031,2," 00:00:00.000"," 00:41:15.225"," 00:20:41.554"," 00:20:33.671",null,null,234,1]
[100390363,103,234,{"$f":"VLOOKUP(F1037,Sheet3!$D$3:$E$91,2,FALSE)","v":2},"IAN FERGUSON","Hastings Area Composite","JV2 Boys D2",null,100390363,2133,2," 00:00:00.000"," 00:41:17.713"," 00:20:33.194"," 00:20:44.519",null,null,233,1]
[100425641,104,233,{"$f":"VLOOKUP(F1038,Sheet3!$D$3:$E$91,2,FALSE)","v":2},"JACK SQUIRES","Bloomington Composite","JV2 Boys D2",null,100425641,2041,2," 00:00:00.000"," 00:41:22.185"," 00:20:14.464"," 00:21:07.721",null,null,232,1]
[100390715,105,232,{"$f":"VLOOKUP(F1039,Sheet3!$D$3:$E$91,2,FALSE)","v":2},"ALIX HARDTKE","Rochester Area Composite","JV2 Boys D2",null,100390715,2378,2," 00:00:00.000"," 00:41:26.789"," 00:20:50.844"," 00:20:35.945",null,null,231,1]
[100409713,106,231,{"$f":"VLOOKUP(F1040,Sheet3!$D$3:$E$91,2,FALSE)","v":2},"JACOB ARROYO","Rochester Mayo","JV2 Boys D2",null,100409713,2374,2," 00:00:00.000"," 00:41:30.736"," 00:21:19.767"," 00:20:10.969",null,null,230,1]
[100409773,107,230,{"$f":"VLOOKUP(F1041,Sheet3!$D$3:$E$91,2,FALSE)","v":2},"AIDAN ALTON","Woodbury Composite","JV2 Boys D2",null,100409773,2577,2," 00:00:00.000"," 00:41:42.573"," 00:21:48.293"," 00:19:54.280",null,null,229,1]
[100391058,108,229,{"$f":"VLOOKUP(F1042,Sheet3!$D$3:$E$91,2,FALSE)","v":2},"DREW JOHNSON","Osseo","JV2 Boys D2",null,100391058,2322,2," 00:00:00.000"," 00:41:51.460"," 00:21:24.246"," 00:20:27.214",null,null,228,1]
[100393151,109,228,{"$f":"VLOOKUP(F1043,Sheet3!$D$3:$E$91,2,FALSE)","v":2},"AIDEN WILLIAMS","Rockford Composite","JV2 Boys D2",null,100393151,2405,2," 00:00:00.000"," 00:41:57.292"," 00:20:49.959"," 00:21:07.333",null,null,227,1]
[100392602,110,227,{"$f":"VLOOKUP(F1044,Sheet3!$D$3:$E$91,2,FALSE)","v":2},"JACK SHOEMAKER","Rosemount High School","JV2 Boys D2",null,100392602,2414,2," 00:00:00.000"," 00:42:10.348"," 00:19:08.456"," 00:23:01.892",null,null,226,1]
[100389560,111,226,{"$f":"VLOOKUP(F1045,Sheet3!$D$3:$E$91,2,FALSE)","v":2},"RYAN BARSNESS","Tioga Trailblazers","JV2 Boys D2",null,100389560,2500,2," 00:00:00.000"," 00:42:14.438"," 00:20:57.212"," 00:21:17.226",null,null,225,1]
[100392756,112,225,{"$f":"VLOOKUP(F1046,Sheet3!$D$3:$E$91,2,FALSE)","v":2},"GRAYDON STRAND","Hastings Area Composite","JV2 Boys D2",null,100392756,2581,2," 00:00:00.000"," 00:42:27.904"," 00:21:00.611"," 00:21:27.293",null,null,224,1]
[100391801,113,224,{"$f":"VLOOKUP(F1047,Sheet3!$D$3:$E$91,2,FALSE)","v":2},"JACOB MOORE","Mankato Composite","JV2 Boys D2",null,100391801,2190,2," 00:00:00.000"," 00:42:44.763"," 00:21:24.494"," 00:21:20.269",null,null,223,1]
[100392857,114,223,{"$f":"VLOOKUP(F1048,Sheet3!$D$3:$E$91,2,FALSE)","v":2},"BRADEN THORNBURG","Bloomington Composite","JV2 Boys D2",null,100392857,2042,2," 00:00:00.000"," 00:42:58.570"," 00:21:32.848"," 00:21:25.722",null,null,222,1]
[100391031,115,222,{"$f":"VLOOKUP(F1049,Sheet3!$D$3:$E$91,2,FALSE)","v":2},"RILEY JEREMIASON","Orono High School","JV2 Boys D2",null,100391031,2312,2," 00:00:00.000"," 00:43:34.329"," 00:22:04.729"," 00:21:29.600",null,null,221,1]
[100432593,116,221,{"$f":"VLOOKUP(F1050,Sheet3!$D$3:$E$91,2,FALSE)","v":2},"JAMIE MARTIG","Cannon Valley Composite","JV2 Boys D2",null,100432593,2066,2," 00:00:00.000"," 00:44:13.083"," 00:22:11.474"," 00:22:01.609",null,null,220,1]
[100431544,117,220,{"$f":"VLOOKUP(F1051,Sheet3!$D$3:$E$91,2,FALSE)","v":2},"BRADY OLSON","Rockford Composite","JV2 Boys D2",null,100431544,2401,2," 00:00:00.000"," 00:45:32.092"," 00:23:01.843"," 00:22:30.249",null,null,219,1]
[100389482,118,219,{"$f":"VLOOKUP(F1052,Sheet3!$D$3:$E$91,2,FALSE)","v":2},"NOAH AREVALO","Rochester Mayo","JV2 Boys D2",null,100389482,2383,2," 00:00:00.000"," 00:46:24.624"," 00:23:14.234"," 00:23:10.390",null,null,218,1]
[100391658,119,218,{"$f":"VLOOKUP(F1053,Sheet3!$D$3:$E$91,2,FALSE)","v":2},"GUILLERMO MCELRATH","Roosevelt High School","JV2 Boys D2",null,100391658,2409,2," 00:00:00.000"," 00:46:49.568"," 00:23:32.195"," 00:23:17.373",null,null,217,1]
[100427078,120,217,{"$f":"VLOOKUP(F1054,Sheet3!$D$3:$E$91,2,FALSE)","v":2},"BODHI ZIEMANN","Mahtomedi High School","JV2 Boys D2",null,100427078,2188,2," 00:00:00.000"," 00:49:08.817"," 00:25:02.139"," 00:24:06.678",null,null,216,1]
[100389615,121,216,{"$f":"VLOOKUP(F1055,Sheet3!$D$3:$E$91,2,FALSE)","v":2},"CARL BENSON","Kerkhoven Composite","JV2 Boys D2",null,100389615,2164,2," 00:00:00.000"," 00:49:22.173"," 00:23:24.117"," 00:25:58.056",null,null,215,1]
[100392303,122,215,{"$f":"VLOOKUP(F1056,Sheet3!$D$3:$E$91,2,FALSE)","v":2},"ZACHARY REVERMANN","St Cloud Area Composite","JV2 Boys D2",null,100392303,2441,2," 00:00:00.000"," 00:49:22.435"," 00:24:24.455"," 00:24:57.980",null,null,214,1]
[100389422,123,214,{"$f":"VLOOKUP(F1057,Sheet3!$D$3:$E$91,2,FALSE)","v":2},"MARK ALTMAN","Maple Grove High School","JV2 Boys D2",null,100389422,2198,2," 00:00:00.000"," 00:52:53.648"," 00:20:47.935"," 00:32:05.713",null,null,213,1]
[100389950,124,213,{"$f":"VLOOKUP(F1058,Sheet3!$D$3:$E$91,2,FALSE)","v":2},"ADAM CHRISTENSON","Austin High School","JV2 Boys D2",null,100389950,2027,2," 00:00:00.000"," 01:05:07.669"," 00:20:23.903"," 00:44:43.766",null,null,212,1]
[100391019,125,0,{"$f":"VLOOKUP(F1059,Sheet3!$D$3:$E$91,2,FALSE)","v":2},"MASON JENKINS","Hudson High School","JV2 Boys D2","DNF",100391019,2157,1," 00:00:00.000"," 00:17:19.441"," 00:17:19.441",null,null,null,0,0]
[100391918,126,0,{"$f":"VLOOKUP(F1060,Sheet3!$D$3:$E$91,2,FALSE)","v":2},"JACOB NICHOLSON","Northwest Composite","JV2 Boys D2","DNF",100391918,2302,1," 00:00:00.000"," 00:17:23.882"," 00:17:23.882",null,null,null,0,0]
[100392686,127,0,{"$f":"VLOOKUP(F1061,Sheet3!$D$3:$E$91,2,FALSE)","v":2},"CADEN SOUCEK","Austin High School","JV2 Boys D2","DNF Medical",100392686,2034,1," 00:00:00.000"," 00:18:25.758"," 00:18:25.758",null,null,null,0,0]
[100389773,128,0,{"$f":"VLOOKUP(F1062,Sheet3!$D$3:$E$91,2,FALSE)","v":2},"IAN BREN","Lakeville South High School","JV2 Boys D2","DNF",100389773,2179,1," 00:00:00.000"," 00:18:28.920"," 00:18:28.920",null,null,null,0,0]
[100392933,129,0,{"$f":"VLOOKUP(F1063,Sheet3!$D$3:$E$91,2,FALSE)","v":2},"LUKE TUFVANDER","Orono High School","JV2 Boys D2","DNF",100392933,2316,1," 00:00:00.000"," 00:19:45.243"," 00:19:45.243",null,null,null,0,0]
[100407756,130,0,{"$f":"VLOOKUP(F1064,Sheet3!$D$3:$E$91,2,FALSE)","v":2},"BEN EAGLE","Rochester Area Composite","JV2 Boys D2","DNF",100407756,2377,1," 00:00:00.000"," 00:21:28.104"," 00:21:28.104",null,null,null,0,0]
[100392711,131,0,{"$f":"VLOOKUP(F1065,Sheet3!$D$3:$E$91,2,FALSE)","v":2},"LANDON STAGEBERG","Rockford Composite","JV2 Boys D2","DNF",100392711,2403,1," 00:00:00.000"," 00:27:02.603"," 00:27:02.603",null,null,null,0,0]
[100393049,132,205,{"$f":"VLOOKUP(F1066,Sheet3!$D$3:$E$91,2,FALSE)","v":2},"ISAIAH WANG","St Paul Central","JV2 Boys D2","-1 LAP",100393049,2463,1," 00:00:00.000"," 00:27:05.217"," 00:27:05.217",null,null,null,204,1]
[100412141,1,550,{"$f":"VLOOKUP(F1067,Sheet3!$D$3:$E$91,2,FALSE)","v":2},"INGA WING","Minneapolis Southside Composite","JV2 Girls",null,100412141,3056,2," 00:00:00.000"," 00:33:33.587"," 00:17:48.465"," 00:15:45.122",null,null,500,50]
[100391634,2,539,{"$f":"VLOOKUP(F1068,Sheet3!$D$3:$E$91,2,FALSE)","v":1},"ISABELLE MAYER","Hopkins High School","JV2 Girls",null,100391634,3030,2," 00:00:00.000"," 00:33:52.888"," 00:17:33.007"," 00:16:19.881",null,null,490,49]
[100389439,3,529,{"$f":"VLOOKUP(F1069,Sheet3!$D$3:$E$91,2,FALSE)","v":1},"BETHANY ANDERSON","Minnetonka High School","JV2 Girls",null,100389439,3043,2," 00:00:00.000"," 00:34:11.179"," 00:17:18.379"," 00:16:52.800",null,null,481,48]
[100391042,4,519,{"$f":"VLOOKUP(F1070,Sheet3!$D$3:$E$91,2,FALSE)","v":1},"AVA JOHNSON","Crosby-Ironton High School","JV2 Girls",null,100391042,3018,2," 00:00:00.000"," 00:34:57.821"," 00:17:33.178"," 00:17:24.643",null,null,472,47]
[100390608,5,510,{"$f":"VLOOKUP(F1071,Sheet3!$D$3:$E$91,2,FALSE)","v":1},"ALIYA GRICIUS","Winona","JV2 Girls",null,100390608,3108,2," 00:00:00.000"," 00:35:34.318"," 00:17:51.731"," 00:17:42.587",null,null,464,46]
[100390197,6,501,{"$f":"VLOOKUP(F1072,Sheet3!$D$3:$E$91,2,FALSE)","v":1},"MADELINE DORNFELD","Mounds View High School","JV2 Girls",null,100390197,3046,2," 00:00:00.000"," 00:35:40.589"," 00:18:14.607"," 00:17:25.982",null,null,456,45]
[100389627,7,492,{"$f":"VLOOKUP(F1073,Sheet3!$D$3:$E$91,2,FALSE)","v":1},"ASPEN BERG","Cloquet-Esko-Carlton","JV2 Girls",null,100389627,3015,2," 00:00:00.000"," 00:36:12.719"," 00:19:09.747"," 00:17:02.972",null,null,448,44]
[100391417,8,484,{"$f":"VLOOKUP(F1074,Sheet3!$D$3:$E$91,2,FALSE)","v":1},"GABI LEHMANN","Stillwater Mountain Bike","JV2 Girls",null,100391417,3089,2," 00:00:00.000"," 00:36:24.220"," 00:19:04.049"," 00:17:20.171",null,null,441,43]
[100390490,9,476,{"$f":"VLOOKUP(F1075,Sheet3!$D$3:$E$91,2,FALSE)","v":1},"WRENNA GALLOWAY","Rock Ridge Composite","JV2 Girls",null,100390490,3068,2," 00:00:00.000"," 00:36:28.994"," 00:19:07.525"," 00:17:21.469",null,null,434,42]
[100389721,10,468,{"$f":"VLOOKUP(F1076,Sheet3!$D$3:$E$91,2,FALSE)","v":2},"CARISSA BOLSTER","Minnesota Valley Composite","JV2 Girls",null,100389721,3040,2," 00:00:00.000"," 00:36:53.430"," 00:18:55.703"," 00:17:57.727",null,null,427,41]
[100390563,11,460,{"$f":"VLOOKUP(F1077,Sheet3!$D$3:$E$91,2,FALSE)","v":1},"MOLLY GOHEEN","Stillwater Mountain Bike","JV2 Girls",null,100390563,3088,2," 00:00:00.000"," 00:36:58.049"," 00:18:25.239"," 00:18:32.810",null,null,420,40]
[100426764,12,453,{"$f":"VLOOKUP(F1078,Sheet3!$D$3:$E$91,2,FALSE)","v":2},"FAYE CALVERT","Bemidji Composite","JV2 Girls",null,100426764,3009,2," 00:00:00.000"," 00:36:59.814"," 00:18:51.594"," 00:18:08.220",null,null,414,39]
[100389687,13,446,{"$f":"VLOOKUP(F1079,Sheet3!$D$3:$E$91,2,FALSE)","v":1},"GRETCHEN BLANKENSHIP","White Bear Lake High School","JV2 Girls",null,100389687,3104,2," 00:00:00.000"," 00:37:03.973"," 00:19:01.036"," 00:18:02.937",null,null,408,38]
[100392538,14,439,{"$f":"VLOOKUP(F1080,Sheet3!$D$3:$E$91,2,FALSE)","v":1},"ASHLEY SCHULTZ","Cloquet-Esko-Carlton","JV2 Girls",null,100392538,3017,2," 00:00:00.000"," 00:37:41.065"," 00:19:22.489"," 00:18:18.576",null,null,402,37]
[100391273,15,432,{"$f":"VLOOKUP(F1081,Sheet3!$D$3:$E$91,2,FALSE)","v":2},"ALYSSA KRIG","Breck/Blake","JV2 Girls",null,100391273,3008,2," 00:00:00.000"," 00:38:49.303"," 00:20:07.299"," 00:18:42.004",null,null,396,36]
[100427818,16,425,{"$f":"VLOOKUP(F1082,Sheet3!$D$3:$E$91,2,FALSE)","v":1},"GRACE CONROY","White Bear Lake High School","JV2 Girls",null,100427818,3105,2," 00:00:00.000"," 00:38:49.707"," 00:20:06.952"," 00:18:42.755",null,null,390,35]
[100389461,17,419,{"$f":"VLOOKUP(F1083,Sheet3!$D$3:$E$91,2,FALSE)","v":1},"ZOE ANDERSON","Chanhassen High School","JV2 Girls",null,100389461,3014,2," 00:00:00.000"," 00:39:02.968"," 00:19:51.620"," 00:19:11.348",null,null,385,34]
[100391259,18,413,{"$f":"VLOOKUP(F1084,Sheet3!$D$3:$E$91,2,FALSE)","v":1},"KATERINA KOSTAL","Mounds View High School","JV2 Girls",null,100391259,3049,2," 00:00:00.000"," 00:39:03.165"," 00:20:17.177"," 00:18:45.988",null,null,380,33]
[100429090,19,407,{"$f":"VLOOKUP(F1085,Sheet3!$D$3:$E$91,2,FALSE)","v":1},"ISABELLE SMITH","Brainerd High School","JV2 Girls",null,100429090,3013,2," 00:00:00.000"," 00:39:10.120"," 00:19:58.471"," 00:19:11.649",null,null,375,32]
[100388611,20,401,{"$f":"VLOOKUP(F1086,Sheet3!$D$3:$E$91,2,FALSE)","v":2},"JUNA KRIKAVA","Minneapolis Henry High School","JV2 Girls",null,100388611,3052,2," 00:00:00.000"," 00:39:12.208"," 00:20:27.479"," 00:18:44.729",null,null,370,31]
[100417235,21,395,{"$f":"VLOOKUP(F1087,Sheet3!$D$3:$E$91,2,FALSE)","v":1},"ADDISON ALEMAN","Minnetonka High School","JV2 Girls",null,100417235,3042,2," 00:00:00.000"," 00:39:13.599"," 00:20:17.268"," 00:18:56.331",null,null,365,30]
[100405928,22,389,{"$f":"VLOOKUP(F1088,Sheet3!$D$3:$E$91,2,FALSE)","v":2},"MAGGIE WEISS","Bloomington Composite","JV2 Girls",null,100405928,3010,2," 00:00:00.000"," 00:39:15.669"," 00:19:57.607"," 00:19:18.062",null,null,360,29]
[100428592,23,384,{"$f":"VLOOKUP(F1089,Sheet3!$D$3:$E$91,2,FALSE)","v":2},"BREE TORGERSON","Duluth Composite","JV2 Girls",null,100428592,3019,2," 00:00:00.000"," 00:39:30.704"," 00:20:12.909"," 00:19:17.795",null,null,356,28]
[100407619,24,379,{"$f":"VLOOKUP(F1090,Sheet3!$D$3:$E$91,2,FALSE)","v":2},"MARIA HEIM","Minneapolis Southside Composite","JV2 Girls",null,100407619,3054,2," 00:00:00.000"," 00:40:00.581"," 00:20:11.831"," 00:19:48.750",null,null,352,27]
[100392307,25,374,{"$f":"VLOOKUP(F1091,Sheet3!$D$3:$E$91,2,FALSE)","v":1},"SARAH RICH","Prior Lake High School","JV2 Girls",null,100392307,3064,2," 00:00:00.000"," 00:40:18.063"," 00:22:07.231"," 00:18:10.832",null,null,348,26]
[100392423,26,{"$f":"+S1092+R1092","v":369},{"$f":"VLOOKUP(F1092,Sheet3!$D$3:$E$91,2,FALSE)","v":2},"LELA SABIN","Minneapolis Henry High School","JV2 Girls",null,100392423,3053,2," 00:00:00.000"," 00:40:30.751"," 00:20:41.487"," 00:19:49.264",null,null,344,25]
[100392168,27,364,{"$f":"VLOOKUP(F1093,Sheet3!$D$3:$E$91,2,FALSE)","v":1},"JENNA PETTES","Prior Lake High School","JV2 Girls",null,100392168,3063,2," 00:00:00.000"," 00:40:40.265"," 00:20:47.980"," 00:19:52.285",null,null,340,24]
[100391470,28,359,{"$f":"VLOOKUP(F1094,Sheet3!$D$3:$E$91,2,FALSE)","v":1},"ALEAH LINDGREN","Cloquet-Esko-Carlton","JV2 Girls",null,100391470,3016,2," 00:00:00.000"," 00:40:43.751"," 00:20:48.463"," 00:19:55.288",null,null,336,23]
[100391094,29,354,{"$f":"VLOOKUP(F1095,Sheet3!$D$3:$E$91,2,FALSE)","v":2},"RENA JOHNSTON","Borealis Composite","JV2 Girls",null,100391094,3012,2," 00:00:00.000"," 00:40:47.047"," 00:21:33.994"," 00:19:13.053",null,null,332,22]
[100391654,30,350,{"$f":"VLOOKUP(F1096,Sheet3!$D$3:$E$91,2,FALSE)","v":1},"PAULINA MCCULLOUGH","Mounds View High School","JV2 Girls",null,100391654,3051,2," 00:00:00.000"," 00:41:12.025"," 00:21:00.863"," 00:20:11.162",null,null,329,21]
[100390716,31,346,{"$f":"VLOOKUP(F1097,Sheet3!$D$3:$E$91,2,FALSE)","v":2},"CHLOE HARDTKE","Rochester Area Composite","JV2 Girls",null,100390716,3066,2," 00:00:00.000"," 00:41:27.744"," 00:21:11.269"," 00:20:16.475",null,null,326,20]
[100428613,32,342,{"$f":"VLOOKUP(F1098,Sheet3!$D$3:$E$91,2,FALSE)","v":1},"TEVA FEIT","New Prague Middle and High School","JV2 Girls",null,100428613,3062,2," 00:00:00.000"," 00:42:08.795"," 00:22:11.410"," 00:19:57.385",null,null,323,19]
[100389591,33,338,{"$f":"VLOOKUP(F1099,Sheet3!$D$3:$E$91,2,FALSE)","v":1},"KYRA BEDNARZ","Armstrong Cycle","JV2 Girls",null,100389591,3002,2," 00:00:00.000"," 00:42:12.345"," 00:21:50.693"," 00:20:21.652",null,null,320,18]
[100389424,34,334,{"$f":"VLOOKUP(F1100,Sheet3!$D$3:$E$91,2,FALSE)","v":2},"SAMANTHA ALTMAN","Maple Grove High School","JV2 Girls",null,100389424,3038,2," 00:00:00.000"," 00:42:28.437"," 00:22:28.730"," 00:19:59.707",null,null,317,17]
[100391015,35,330,{"$f":"VLOOKUP(F1101,Sheet3!$D$3:$E$91,2,FALSE)","v":1},"BEATRICE JAVAHERIAN","Duluth East High School","JV2 Girls",null,100391015,3022,2," 00:00:00.000"," 00:43:01.600"," 00:21:43.845"," 00:21:17.755",null,null,314,16]
[100392658,36,326,{"$f":"VLOOKUP(F1102,Sheet3!$D$3:$E$91,2,FALSE)","v":1},"ADDIE SMITTEN","Stillwater Mountain Bike","JV2 Girls",null,100392658,3093,2," 00:00:00.000"," 00:43:31.590"," 00:22:41.550"," 00:20:50.040",null,null,311,15]
[100389850,37,322,{"$f":"VLOOKUP(F1103,Sheet3!$D$3:$E$91,2,FALSE)","v":1},"OLIVE BURRES","Bloomington Jefferson","JV2 Girls",null,100389850,3011,2," 00:00:00.000"," 00:43:35.167"," 00:22:24.703"," 00:21:10.464",null,null,308,14]
[100391656,38,319,{"$f":"VLOOKUP(F1104,Sheet3!$D$3:$E$91,2,FALSE)","v":2},"CLAUDIA MCDONALD","Austin High School","JV2 Girls",null,100391656,3007,2," 00:00:00.000"," 00:44:01.599"," 00:22:40.722"," 00:21:20.877",null,null,306,13]
[100391359,39,316,{"$f":"VLOOKUP(F1105,Sheet3!$D$3:$E$91,2,FALSE)","v":1},"KENNEDY LANGE","White Bear Lake High School","JV2 Girls",null,100391359,3107,2," 00:00:00.000"," 00:45:25.472"," 00:22:24.993"," 00:23:00.479",null,null,304,12]
[100418424,40,313,{"$f":"VLOOKUP(F1106,Sheet3!$D$3:$E$91,2,FALSE)","v":1},"CASSIDY SKARSTEN","Armstrong Cycle","JV2 Girls",null,100418424,3004,2," 00:00:00.000"," 00:47:06.063"," 00:24:15.372"," 00:22:50.691",null,null,302,11]
[100391795,41,310,{"$f":"VLOOKUP(F1107,Sheet3!$D$3:$E$91,2,FALSE)","v":2},"ANNA MOORE","Hutchinson High School","JV2 Girls",null,100391795,3033,2," 00:00:00.000"," 00:47:22.659"," 00:24:01.557"," 00:23:21.102",null,null,300,10]
[100392110,42,307,{"$f":"VLOOKUP(F1108,Sheet3!$D$3:$E$91,2,FALSE)","v":1},"SOPHIA PEDERSEN","Lakeville North High School","JV2 Girls",null,100392110,3034,2," 00:00:00.000"," 00:48:07.625"," 00:25:10.671"," 00:22:56.954",null,null,298,9]
[100427269,43,304,{"$f":"VLOOKUP(F1109,Sheet3!$D$3:$E$91,2,FALSE)","v":2},"REGAN GROSS","Maple Grove High School","JV2 Girls",null,100427269,3039,2," 00:00:00.000"," 00:48:10.245"," 00:25:07.908"," 00:23:02.337",null,null,296,8]
[100391416,44,301,{"$f":"VLOOKUP(F1110,Sheet3!$D$3:$E$91,2,FALSE)","v":1},"NORA LEGER","Winona","JV2 Girls",null,100391416,3109,2," 00:00:00.000"," 00:48:11.953"," 00:24:36.766"," 00:23:35.187",null,null,294,7]
[100392430,45,298,{"$f":"VLOOKUP(F1111,Sheet3!$D$3:$E$91,2,FALSE)","v":1},"KATE SAGSVEEN","Wayzata Mountain Bike","JV2 Girls",null,100392430,3103,2," 00:00:00.000"," 00:49:28.000"," 00:24:44.000"," 00:24:44.000",null,null,292,6]
[100411332,46,295,{"$f":"VLOOKUP(F1112,Sheet3!$D$3:$E$91,2,FALSE)","v":2},"ELIANA MONTERO-WARD","St Louis Park High School","JV2 Girls",null,100411332,3080,2," 00:00:00.000"," 00:50:17.865"," 00:25:35.561"," 00:24:42.304",null,null,290,5]
[100431384,47,293,{"$f":"VLOOKUP(F1113,Sheet3!$D$3:$E$91,2,FALSE)","v":1},"ARIELLA ROSENWALD","Wayzata Mountain Bike","JV2 Girls",null,100431384,3102,2," 00:00:00.000"," 00:51:45.089"," 00:25:17.189"," 00:26:27.900",null,null,289,4]
[100392341,48,291,{"$f":"VLOOKUP(F1114,Sheet3!$D$3:$E$91,2,FALSE)","v":1},"EVA ROARK","Rock Ridge Composite","JV2 Girls",null,100392341,3072,2," 00:00:00.000"," 00:52:05.763"," 00:25:49.761"," 00:26:16.002",null,null,288,3]
[100427190,49,289,{"$f":"VLOOKUP(F1115,Sheet3!$D$3:$E$91,2,FALSE)","v":1},"NORAH KAINZ","Rock Ridge Composite","JV2 Girls",null,100427190,3070,2," 00:00:00.000"," 00:54:17.508"," 00:26:05.580"," 00:28:11.928",null,null,287,2]
[100392795,50,287,{"$f":"VLOOKUP(F1116,Sheet3!$D$3:$E$91,2,FALSE)","v":1},"MEGAN SWANSON","Armstrong Cycle","JV2 Girls",null,100392795,3005,2," 00:00:00.000"," 00:57:10.546"," 00:18:04.639"," 00:39:05.907",null,null,286,1]
[100424755,51,286,{"$f":"VLOOKUP(F1117,Sheet3!$D$3:$E$91,2,FALSE)","v":1},"HAYLEY HECKAMAN","White Bear Lake High School","JV2 Girls",null,100424755,3106,2," 00:00:00.000"," 01:04:03.855"," 00:25:43.759"," 00:38:20.096",null,null,285,1]
[100390339,1,590,{"$f":"VLOOKUP(F1118,Sheet3!$D$3:$E$91,2,FALSE)","v":1},"MAX FAHRMANN","Bloomington Jefferson","JV3 Boys",null,100390339,1028,3," 00:00:00.000"," 00:42:48.358"," 00:14:41.039"," 00:13:57.967"," 00:14:09.352",null,540,50]
[100393041,2,579,{"$f":"VLOOKUP(F1119,Sheet3!$D$3:$E$91,2,FALSE)","v":1},"LUKE WALSH","Alexandria Area Youth Cycling","JV3 Boys",null,100393041,1008,3," 00:00:00.000"," 00:44:01.151"," 00:15:02.768"," 00:14:24.804"," 00:14:33.579",null,530,49]
[100419032,3,569,{"$f":"VLOOKUP(F1120,Sheet3!$D$3:$E$91,2,FALSE)","v":2},"THOMAS AVRA","Minneapolis Southside Composite","JV3 Boys",null,100419032,1116,3," 00:00:00.000"," 00:44:26.911"," 00:15:38.195"," 00:14:23.418"," 00:14:25.298",null,521,48]
[100428622,4,559,{"$f":"VLOOKUP(F1121,Sheet3!$D$3:$E$91,2,FALSE)","v":2},"WILLIAM BECK","Orono High School","JV3 Boys",null,100428622,1220,3," 00:00:00.000"," 00:44:35.928"," 00:15:03.136"," 00:14:59.149"," 00:14:33.643",null,512,47]
[100391659,5,550,{"$f":"VLOOKUP(F1122,Sheet3!$D$3:$E$91,2,FALSE)","v":2},"BODEE MCFADDEN","Duluth Composite","JV3 Boys",null,100391659,1216,3," 00:00:00.000"," 00:44:42.795"," 00:15:26.333"," 00:14:49.692"," 00:14:26.770",null,504,46]
[100389594,6,541,{"$f":"VLOOKUP(F1123,Sheet3!$D$3:$E$91,2,FALSE)","v":1},"ISAAC BELL","Edina Cycling","JV3 Boys",null,100389594,1079,3," 00:00:00.000"," 00:44:43.010"," 00:15:29.368"," 00:14:41.309"," 00:14:32.333",null,496,45]
[100408927,7,532,{"$f":"VLOOKUP(F1124,Sheet3!$D$3:$E$91,2,FALSE)","v":1},"KADIN BLACK","Minneapolis Southwest","JV3 Boys",null,100408927,1118,3," 00:00:00.000"," 00:44:43.174"," 00:15:29.896"," 00:14:45.666"," 00:14:27.612",null,488,44]
[100391471,8,524,{"$f":"VLOOKUP(F1125,Sheet3!$D$3:$E$91,2,FALSE)","v":1},"ETHAN LINDGREN","Cloquet-Esko-Carlton","JV3 Boys",null,100391471,1053,3," 00:00:00.000"," 00:45:11.857"," 00:15:59.679"," 00:15:03.986"," 00:14:08.192",null,481,43]
[100393200,9,516,{"$f":"VLOOKUP(F1126,Sheet3!$D$3:$E$91,2,FALSE)","v":1},"LUCAS WOODEN","Winona","JV3 Boys",null,100393200,1209,3," 00:00:00.000"," 00:45:28.404"," 00:15:29.143"," 00:14:49.426"," 00:15:09.835",null,474,42]
[100391321,10,508,{"$f":"VLOOKUP(F1127,Sheet3!$D$3:$E$91,2,FALSE)","v":2},"REED KUZEL","Bemidji Composite","JV3 Boys",null,100391321,1024,3," 00:00:00.000"," 00:46:02.875"," 00:15:36.884"," 00:15:11.067"," 00:15:14.924",null,467,41]
[100389761,11,500,{"$f":"VLOOKUP(F1128,Sheet3!$D$3:$E$91,2,FALSE)","v":2},"OWEN BRATTEBO","Eden Prairie High School","JV3 Boys",null,100389761,1074,3," 00:00:00.000"," 00:46:11.991"," 00:16:06.288"," 00:15:13.617"," 00:14:52.086",null,460,40]
[100425244,12,493,{"$f":"VLOOKUP(F1129,Sheet3!$D$3:$E$91,2,FALSE)","v":1},"LIAM GARNER","Edina Cycling","JV3 Boys",null,100425244,1080,3," 00:00:00.000"," 00:46:24.497"," 00:15:55.329"," 00:15:09.250"," 00:15:19.918",null,454,39]
[100392065,13,486,{"$f":"VLOOKUP(F1130,Sheet3!$D$3:$E$91,2,FALSE)","v":1},"WILLIAM PALMIERI","Shakopee High School","JV3 Boys",null,100392065,1170,3," 00:00:00.000"," 00:46:25.517"," 00:15:42.719"," 00:15:06.222"," 00:15:36.576",null,448,38]
[100391135,14,479,{"$f":"VLOOKUP(F1131,Sheet3!$D$3:$E$91,2,FALSE)","v":1},"JAMES KALMON","Stillwater Mountain Bike","JV3 Boys",null,100391135,1183,3," 00:00:00.000"," 00:46:34.586"," 00:16:07.447"," 00:15:19.587"," 00:15:07.552",null,442,37]
[100429063,15,472,{"$f":"VLOOKUP(F1132,Sheet3!$D$3:$E$91,2,FALSE)","v":1},"ETHAN ISHAUG","Bloomington Jefferson","JV3 Boys",null,100429063,1029,3," 00:00:00.000"," 00:46:35.364"," 00:15:49.455"," 00:15:34.726"," 00:15:11.183",null,436,36]
[100390409,16,465,{"$f":"VLOOKUP(F1133,Sheet3!$D$3:$E$91,2,FALSE)","v":1},"MAX FOSTER","Cloquet-Esko-Carlton","JV3 Boys",null,100390409,1051,3," 00:00:00.000"," 00:46:35.782"," 00:15:55.225"," 00:15:14.159"," 00:15:26.398",null,430,35]
[100392556,17,459,{"$f":"VLOOKUP(F1134,Sheet3!$D$3:$E$91,2,FALSE)","v":2},"ELIJAH SCHWARZ","North Dakota Kindred Composite","JV3 Boys",null,100392556,1131,3," 00:00:00.000"," 00:46:36.447"," 00:16:01.520"," 00:15:23.712"," 00:15:11.215",null,425,34]
[100391995,18,453,{"$f":"VLOOKUP(F1135,Sheet3!$D$3:$E$91,2,FALSE)","v":1},"POYRAZ OLGUN","East Ridge High School","JV3 Boys",null,100391995,1069,3," 00:00:00.000"," 00:46:42.122"," 00:16:03.361"," 00:15:20.097"," 00:15:18.664",null,420,33]
[100390039,19,447,{"$f":"VLOOKUP(F1136,Sheet3!$D$3:$E$91,2,FALSE)","v":1},"SAMUEL COUGHLIN","Crosby-Ironton High School","JV3 Boys",null,100390039,1057,3," 00:00:00.000"," 00:46:51.249"," 00:15:54.829"," 00:15:16.738"," 00:15:39.682",null,415,32]
[100389389,20,441,{"$f":"VLOOKUP(F1137,Sheet3!$D$3:$E$91,2,FALSE)","v":1},"KAYLOR ADKINS","Cloquet-Esko-Carlton","JV3 Boys",null,100389389,1049,3," 00:00:00.000"," 00:46:51.416"," 00:15:47.956"," 00:15:32.543"," 00:15:30.917",null,410,31]
[100393108,21,435,{"$f":"VLOOKUP(F1138,Sheet3!$D$3:$E$91,2,FALSE)","v":1},"TYLER WETZSTEIN","Rochester Century High School","JV3 Boys",null,100393108,1156,3," 00:00:00.000"," 00:46:53.369"," 00:16:09.334"," 00:15:25.804"," 00:15:18.231",null,405,30]
[100391082,22,429,{"$f":"VLOOKUP(F1139,Sheet3!$D$3:$E$91,2,FALSE)","v":2},"MASON JOHNSON","Apple Valley High School","JV3 Boys",null,100391082,1009,3," 00:00:00.000"," 00:46:54.095"," 00:16:02.570"," 00:15:23.420"," 00:15:28.105",null,400,29]
[100391420,23,424,{"$f":"VLOOKUP(F1140,Sheet3!$D$3:$E$91,2,FALSE)","v":2},"HAYDEN LEISETH","Northwest Composite","JV3 Boys",null,100391420,1132,3," 00:00:00.000"," 00:46:55.671"," 00:16:11.794"," 00:15:23.739"," 00:15:20.138",null,396,28]
[100391258,24,419,{"$f":"VLOOKUP(F1141,Sheet3!$D$3:$E$91,2,FALSE)","v":1},"ANTONIN KOSTAL","Mounds View High School","JV3 Boys",null,100391258,1113,3," 00:00:00.000"," 00:46:57.498"," 00:16:00.464"," 00:15:32.879"," 00:15:24.155",null,392,27]
[100432653,25,414,{"$f":"VLOOKUP(F1142,Sheet3!$D$3:$E$91,2,FALSE)","v":2},"LOUIS MORRISSEY","Bemidji Composite","JV3 Boys",null,100432653,1026,3," 00:00:00.000"," 00:46:57.911"," 00:16:35.284"," 00:15:11.981"," 00:15:10.646",null,388,26]
[100392923,26,409,{"$f":"VLOOKUP(F1143,Sheet3!$D$3:$E$91,2,FALSE)","v":1},"RYE TRUITT","Duluth East High School","JV3 Boys",null,100392923,1066,3," 00:00:00.000"," 00:46:58.136"," 00:16:00.874"," 00:15:33.196"," 00:15:24.066",null,384,25]
[100392889,27,404,{"$f":"VLOOKUP(F1144,Sheet3!$D$3:$E$91,2,FALSE)","v":1},"OLIVER TOFTNESS","Crosby-Ironton High School","JV3 Boys",null,100392889,1061,3," 00:00:00.000"," 00:47:03.836"," 00:15:43.197"," 00:15:41.591"," 00:15:39.048",null,380,24]
[100389664,28,399,{"$f":"VLOOKUP(F1145,Sheet3!$D$3:$E$91,2,FALSE)","v":2},"EDDIE BINSFELD","Rockford Composite","JV3 Boys",null,100389664,1163,3," 00:00:00.000"," 00:47:15.432"," 00:15:39.082"," 00:16:09.404"," 00:15:26.946",null,376,23]
[100389848,29,394,{"$f":"VLOOKUP(F1146,Sheet3!$D$3:$E$91,2,FALSE)","v":2},"ANDREW BURQUEST","Spectrum High School","JV3 Boys",null,100389848,1172,3," 00:00:00.000"," 00:47:21.968"," 00:16:34.363"," 00:15:21.434"," 00:15:26.171",null,372,22]
[100389532,30,390,{"$f":"VLOOKUP(F1147,Sheet3!$D$3:$E$91,2,FALSE)","v":2},"COLTON BANKS","Elk River Composite","JV3 Boys",null,100389532,1083,3," 00:00:00.000"," 00:47:33.751"," 00:17:04.266"," 00:15:18.799"," 00:15:10.686",null,369,21]
[100432476,31,386,{"$f":"VLOOKUP(F1148,Sheet3!$D$3:$E$91,2,FALSE)","v":2},"BEN POWNELL","Cannon Valley Composite","JV3 Boys",null,100432476,1215,3," 00:00:00.000"," 00:47:35.208"," 00:16:28.295"," 00:15:37.544"," 00:15:29.369",null,366,20]
[100390344,32,382,{"$f":"VLOOKUP(F1149,Sheet3!$D$3:$E$91,2,FALSE)","v":1},"TYLER FATH","Alexandria Area Youth Cycling","JV3 Boys",null,100390344,1004,3," 00:00:00.000"," 00:47:44.247"," 00:16:22.042"," 00:15:43.565"," 00:15:38.640",null,363,19]
[100393156,33,378,{"$f":"VLOOKUP(F1150,Sheet3!$D$3:$E$91,2,FALSE)","v":1},"HUNTER WILLIAMS","Cloquet-Esko-Carlton","JV3 Boys",null,100393156,1054,3," 00:00:00.000"," 00:47:46.210"," 00:16:47.282"," 00:15:34.673"," 00:15:24.255",null,360,18]
[100389678,34,374,{"$f":"VLOOKUP(F1151,Sheet3!$D$3:$E$91,2,FALSE)","v":1},"SIMON BJERKETVEDT","Hopkins High School","JV3 Boys",null,100389678,1088,3," 00:00:00.000"," 00:47:49.946"," 00:16:08.852"," 00:15:44.399"," 00:15:56.695",null,357,17]
[100390736,35,370,{"$f":"VLOOKUP(F1152,Sheet3!$D$3:$E$91,2,FALSE)","v":1},"ANDREW HARTMANN","Edina Cycling","JV3 Boys",null,100390736,1081,3," 00:00:00.000"," 00:47:57.108"," 00:16:06.105"," 00:15:58.785"," 00:15:52.218",null,354,16]
[100389487,36,366,{"$f":"VLOOKUP(F1153,Sheet3!$D$3:$E$91,2,FALSE)","v":2},"DUNCAN ARMOUR","Breck/Blake","JV3 Boys",null,100389487,1018,3," 00:00:00.000"," 00:47:58.692"," 00:16:08.371"," 00:15:54.506"," 00:15:55.815",null,351,15]
[100391052,37,362,{"$f":"VLOOKUP(F1154,Sheet3!$D$3:$E$91,2,FALSE)","v":1},"CHARLIE JOHNSON","Stillwater Mountain Bike","JV3 Boys",null,100391052,1182,3," 00:00:00.000"," 00:47:59.115"," 00:16:16.625"," 00:16:05.759"," 00:15:36.731",null,348,14]
[100390096,38,359,{"$f":"VLOOKUP(F1155,Sheet3!$D$3:$E$91,2,FALSE)","v":2},"ROMAN DAVENPORT","River Falls High School","JV3 Boys",null,100390096,1149,3," 00:00:00.000"," 00:48:02.353"," 00:16:11.275"," 00:15:55.407"," 00:15:55.671",null,346,13]
[100391195,39,{"$f":"+S1156+R1156","v":356},{"$f":"VLOOKUP(F1156,Sheet3!$D$3:$E$91,2,FALSE)","v":1},"MAX KING","Stillwater Mountain Bike","JV3 Boys",null,100391195,1184,3," 00:00:00.000"," 00:48:02.844"," 00:16:35.190"," 00:15:47.462"," 00:15:40.192",null,344,12]
[100407213,40,353,{"$f":"VLOOKUP(F1157,Sheet3!$D$3:$E$91,2,FALSE)","v":1},"JAYDEN JOHNSON","Cloquet-Esko-Carlton","JV3 Boys",null,100407213,1052,3," 00:00:00.000"," 00:48:02.955"," 00:16:26.804"," 00:15:51.520"," 00:15:44.631",null,342,11]
[100391688,41,350,{"$f":"VLOOKUP(F1158,Sheet3!$D$3:$E$91,2,FALSE)","v":1},"COLIN MCSHANE","Duluth East High School","JV3 Boys",null,100391688,1065,3," 00:00:00.000"," 00:48:04.891"," 00:16:06.867"," 00:16:01.732"," 00:15:56.292",null,340,10]
[100391967,42,347,{"$f":"VLOOKUP(F1159,Sheet3!$D$3:$E$91,2,FALSE)","v":2},"MATTHEW O'BRIEN","Rogers High School","JV3 Boys",null,100391967,1164,3," 00:00:00.000"," 00:48:19.263"," 00:16:34.724"," 00:15:46.034"," 00:15:58.505",null,338,9]
[100391760,43,344,{"$f":"VLOOKUP(F1160,Sheet3!$D$3:$E$91,2,FALSE)","v":1},"BEN MIMICK","Minneapolis Southwest","JV3 Boys",null,100391760,1122,3," 00:00:00.000"," 00:48:32.260"," 00:17:06.144"," 00:15:56.410"," 00:15:29.706",null,336,8]
[100392353,44,341,{"$f":"VLOOKUP(F1161,Sheet3!$D$3:$E$91,2,FALSE)","v":2},"LUKAS ROBINSON","North Dakota Composite","JV3 Boys",null,100392353,1130,3," 00:00:00.000"," 00:48:32.275"," 00:16:02.063"," 00:15:47.486"," 00:16:42.726",null,334,7]
[100389516,45,338,{"$f":"VLOOKUP(F1162,Sheet3!$D$3:$E$91,2,FALSE)","v":1},"HAYDEN BACKOWSKI","Crosby-Ironton High School","JV3 Boys",null,100389516,1056,3," 00:00:00.000"," 00:48:38.487"," 00:17:03.207"," 00:15:41.492"," 00:15:53.788",null,332,6]
[100389938,46,335,{"$f":"VLOOKUP(F1163,Sheet3!$D$3:$E$91,2,FALSE)","v":1},"FINN CHERVENY","Washburn High School","JV3 Boys",null,100389938,1190,3," 00:00:00.000"," 00:48:38.875"," 00:17:03.798"," 00:15:44.109"," 00:15:50.968",null,330,5]
[100427004,47,333,{"$f":"VLOOKUP(F1164,Sheet3!$D$3:$E$91,2,FALSE)","v":1},"CONNOR LACKAS","Wayzata Mountain Bike","JV3 Boys",null,100427004,1197,3," 00:00:00.000"," 00:48:41.277"," 00:16:44.893"," 00:16:19.016"," 00:15:37.368",null,329,4]
[100392409,48,331,{"$f":"VLOOKUP(F1165,Sheet3!$D$3:$E$91,2,FALSE)","v":1},"LANDON RUNGE","Alexandria Area Youth Cycling","JV3 Boys",null,100392409,1007,3," 00:00:00.000"," 00:48:46.242"," 00:16:36.210"," 00:16:02.575"," 00:16:07.457",null,328,3]
[100389942,49,329,{"$f":"VLOOKUP(F1166,Sheet3!$D$3:$E$91,2,FALSE)","v":2},"JAMES CHIRI","Irondale High School","JV3 Boys",null,100389942,1097,3," 00:00:00.000"," 00:48:47.010"," 00:16:39.903"," 00:16:19.102"," 00:15:48.005",null,327,2]
[100390376,50,327,{"$f":"VLOOKUP(F1167,Sheet3!$D$3:$E$91,2,FALSE)","v":1},"AIDEN FISCH","Prior Lake High School","JV3 Boys",null,100390376,1143,3," 00:00:00.000"," 00:48:49.657"," 00:16:52.620"," 00:16:14.976"," 00:15:42.061",null,326,1]
[100389765,51,326,{"$f":"VLOOKUP(F1168,Sheet3!$D$3:$E$91,2,FALSE)","v":1},"TYLER BRAUN","Shakopee High School","JV3 Boys",null,100389765,1168,3," 00:00:00.000"," 00:49:01.265"," 00:17:05.018"," 00:16:05.739"," 00:15:50.508",null,325,1]
[100392278,52,325,{"$f":"VLOOKUP(F1169,Sheet3!$D$3:$E$91,2,FALSE)","v":2},"KENNEDY RECH","Hutchinson High School","JV3 Boys",null,100392278,1096,3," 00:00:00.000"," 00:49:05.917"," 00:17:08.582"," 00:15:57.860"," 00:15:59.475",null,324,1]
[100391653,53,324,{"$f":"VLOOKUP(F1170,Sheet3!$D$3:$E$91,2,FALSE)","v":1},"ROBERT MCCROSKEY","Prior Lake High School","JV3 Boys",null,100391653,1146,3," 00:00:00.000"," 00:49:07.578"," 00:16:38.558"," 00:15:56.120"," 00:16:32.900",null,323,1]
[100389767,54,323,{"$f":"VLOOKUP(F1171,Sheet3!$D$3:$E$91,2,FALSE)","v":1},"CARTER BREEDEN","Shakopee High School","JV3 Boys",null,100389767,1169,3," 00:00:00.000"," 00:49:10.327"," 00:16:38.426"," 00:16:10.169"," 00:16:21.732",null,322,1]
[100390536,55,322,{"$f":"VLOOKUP(F1172,Sheet3!$D$3:$E$91,2,FALSE)","v":1},"KEEGAN GHANI","Armstrong Cycle","JV3 Boys",null,100390536,1012,3," 00:00:00.000"," 00:49:13.027"," 00:17:04.527"," 00:16:05.531"," 00:16:02.969",null,321,1]
[100392211,56,321,{"$f":"VLOOKUP(F1173,Sheet3!$D$3:$E$91,2,FALSE)","v":2},"ELIJAH POVOLNY","Eastview High School","JV3 Boys",null,100392211,1072,3," 00:00:00.000"," 00:49:15.910"," 00:16:22.632"," 00:16:20.214"," 00:16:33.064",null,320,1]
[100393107,57,320,{"$f":"VLOOKUP(F1174,Sheet3!$D$3:$E$91,2,FALSE)","v":1},"RYAN WETZSTEIN","Rochester Century High School","JV3 Boys",null,100393107,1155,3," 00:00:00.000"," 00:49:15.935"," 00:17:09.407"," 00:16:01.272"," 00:16:05.256",null,319,1]
[100429917,58,319,{"$f":"VLOOKUP(F1175,Sheet3!$D$3:$E$91,2,FALSE)","v":1},"JONATHAN MARONEY","Crosby-Ironton High School","JV3 Boys",null,100429917,1059,3," 00:00:00.000"," 00:49:16.563"," 00:16:42.569"," 00:16:22.514"," 00:16:11.480",null,318,1]
[100389624,59,318,{"$f":"VLOOKUP(F1176,Sheet3!$D$3:$E$91,2,FALSE)","v":1},"TANNER BENSON","Winona","JV3 Boys",null,100389624,1205,3," 00:00:00.000"," 00:49:17.096"," 00:17:07.259"," 00:16:05.560"," 00:16:04.277",null,317,1]
[100389978,60,317,{"$f":"VLOOKUP(F1177,Sheet3!$D$3:$E$91,2,FALSE)","v":1},"RYDER CLOUGH","Prior Lake High School","JV3 Boys",null,100389978,1141,3," 00:00:00.000"," 00:49:18.173"," 00:16:41.342"," 00:16:24.258"," 00:16:12.573",null,316,1]
[100392739,61,316,{"$f":"VLOOKUP(F1178,Sheet3!$D$3:$E$91,2,FALSE)","v":2},"SCOTT STEPHENSON","Hudson High School","JV3 Boys",null,100392739,1093,3," 00:00:00.000"," 00:49:22.533"," 00:16:40.662"," 00:16:24.959"," 00:16:16.912",null,315,1]
[100391441,62,315,{"$f":"VLOOKUP(F1179,Sheet3!$D$3:$E$91,2,FALSE)","v":2},"BENNETT LEVANDER","Woodbury Composite","JV3 Boys",null,100391441,1210,3," 00:00:00.000"," 00:49:23.259"," 00:17:13.503"," 00:15:59.142"," 00:16:10.614",null,314,1]
[100389421,63,314,{"$f":"VLOOKUP(F1180,Sheet3!$D$3:$E$91,2,FALSE)","v":2},"SETH ALMANASEER","North Dakota Composite","JV3 Boys",null,100389421,1127,3," 00:00:00.000"," 00:49:26.997"," 00:16:52.648"," 00:16:28.409"," 00:16:05.940",null,313,1]
[100391981,64,313,{"$f":"VLOOKUP(F1181,Sheet3!$D$3:$E$91,2,FALSE)","v":1},"JACKSON OHMAN","Minnetonka High School","JV3 Boys",null,100391981,1109,3," 00:00:00.000"," 00:49:27.846"," 00:16:54.954"," 00:16:23.872"," 00:16:09.020",null,312,1]
[100391744,65,312,{"$f":"VLOOKUP(F1182,Sheet3!$D$3:$E$91,2,FALSE)","v":1},"HOLDEN MILLER","Minnetonka High School","JV3 Boys",null,100391744,1107,3," 00:00:00.000"," 00:49:28.178"," 00:17:09.437"," 00:15:51.985"," 00:16:26.756",null,311,1]
[100392465,66,311,{"$f":"VLOOKUP(F1183,Sheet3!$D$3:$E$91,2,FALSE)","v":1},"CAYDEN SCHAEFER","Shakopee High School","JV3 Boys",null,100392465,1171,3," 00:00:00.000"," 00:49:34.288"," 00:16:45.210"," 00:16:31.234"," 00:16:17.844",null,310,1]
[100392376,67,310,{"$f":"VLOOKUP(F1184,Sheet3!$D$3:$E$91,2,FALSE)","v":1},"BAYLEN ROOKER","Crosby-Ironton High School","JV3 Boys",null,100392376,1060,3," 00:00:00.000"," 00:49:35.437"," 00:17:09.125"," 00:16:40.735"," 00:15:45.577",null,309,1]
[100420502,68,309,{"$f":"VLOOKUP(F1185,Sheet3!$D$3:$E$91,2,FALSE)","v":2},"XENOPHON WESTIE","Eden Prairie High School","JV3 Boys",null,100420502,1224,3," 00:00:00.000"," 00:49:38.514"," 00:16:09.565"," 00:16:53.825"," 00:16:35.124",null,308,1]
[100392606,69,308,{"$f":"VLOOKUP(F1186,Sheet3!$D$3:$E$91,2,FALSE)","v":2},"HAL SHUFFELTON","Cannon Valley Composite","JV3 Boys",null,100392606,1034,3," 00:00:00.000"," 00:49:39.517"," 00:17:42.061"," 00:16:20.704"," 00:15:36.752",null,307,1]
[100392033,70,307,{"$f":"VLOOKUP(F1187,Sheet3!$D$3:$E$91,2,FALSE)","v":1},"NATHAN OMAN","Chaska High School","JV3 Boys",null,100392033,1047,3," 00:00:00.000"," 00:49:42.069"," 00:16:59.070"," 00:16:17.493"," 00:16:25.506",null,306,1]
[100390925,71,306,{"$f":"VLOOKUP(F1188,Sheet3!$D$3:$E$91,2,FALSE)","v":2},"ISAIAH HORSAGER","Mahtomedi High School","JV3 Boys",null,100390925,1100,3," 00:00:00.000"," 00:49:42.540"," 00:17:21.303"," 00:16:14.633"," 00:16:06.604",null,305,1]
[100393026,72,305,{"$f":"VLOOKUP(F1189,Sheet3!$D$3:$E$91,2,FALSE)","v":1},"ARI WALKER","Rochester Century High School","JV3 Boys",null,100393026,1154,3," 00:00:00.000"," 00:49:42.971"," 00:16:35.057"," 00:15:48.694"," 00:17:19.220",null,304,1]
[100391320,73,304,{"$f":"VLOOKUP(F1190,Sheet3!$D$3:$E$91,2,FALSE)","v":2},"COOPER KUZEL","Bemidji Composite","JV3 Boys",null,100391320,1023,3," 00:00:00.000"," 00:49:45.499"," 00:17:22.501"," 00:16:17.643"," 00:16:05.355",null,303,1]
[100390899,74,303,{"$f":"VLOOKUP(F1191,Sheet3!$D$3:$E$91,2,FALSE)","v":2},"WALTER HOLMES","Orono High School","JV3 Boys",null,100390899,1222,3," 00:00:00.000"," 00:49:45.525"," 00:17:20.675"," 00:16:15.996"," 00:16:08.854",null,302,1]
[100390814,75,302,{"$f":"VLOOKUP(F1192,Sheet3!$D$3:$E$91,2,FALSE)","v":1},"DYLAN HENDERSON","Chaska High School","JV3 Boys",null,100390814,1045,3," 00:00:00.000"," 00:49:48.687"," 00:17:05.589"," 00:16:06.038"," 00:16:37.060",null,301,1]
[100390594,76,301,{"$f":"VLOOKUP(F1193,Sheet3!$D$3:$E$91,2,FALSE)","v":1},"DAMON GRAY","White Bear Lake High School","JV3 Boys",null,100390594,1203,3," 00:00:00.000"," 00:49:49.873"," 00:17:09.524"," 00:16:22.063"," 00:16:18.286",null,300,1]
[100389940,77,300,{"$f":"VLOOKUP(F1194,Sheet3!$D$3:$E$91,2,FALSE)","v":1},"MAXWELL CHINN","Alexandria Area Youth Cycling","JV3 Boys",null,100389940,1001,3," 00:00:00.000"," 00:49:54.390"," 00:17:39.835"," 00:16:28.759"," 00:15:45.796",null,299,1]
[100392193,78,299,{"$f":"VLOOKUP(F1195,Sheet3!$D$3:$E$91,2,FALSE)","v":2},"RORY POLLOCK","Austin High School","JV3 Boys",null,100392193,1221,3," 00:00:00.000"," 00:50:02.321"," 00:16:53.772"," 00:16:40.429"," 00:16:28.120",null,298,1]
[100392472,79,298,{"$f":"VLOOKUP(F1196,Sheet3!$D$3:$E$91,2,FALSE)","v":2},"ISAAC SCHAFFER","Mankato Composite","JV3 Boys",null,100392472,1102,3," 00:00:00.000"," 00:50:02.327"," 00:17:38.072"," 00:16:27.164"," 00:15:57.091",null,297,1]
[100391957,80,297,{"$f":"VLOOKUP(F1197,Sheet3!$D$3:$E$91,2,FALSE)","v":2},"NIGEL NOWLIN","Benilde St Margaret","JV3 Boys",null,100391957,1020,3," 00:00:00.000"," 00:50:05.489"," 00:17:10.091"," 00:16:42.025"," 00:16:13.373",null,296,1]
[100391722,81,296,{"$f":"VLOOKUP(F1198,Sheet3!$D$3:$E$91,2,FALSE)","v":1},"MICAH METZGER","Burnsville High School","JV3 Boys",null,100391722,1031,3," 00:00:00.000"," 00:50:05.825"," 00:17:06.883"," 00:16:20.875"," 00:16:38.067",null,295,1]
[100389941,82,295,{"$f":"VLOOKUP(F1199,Sheet3!$D$3:$E$91,2,FALSE)","v":1},"SPENSER CHINN","Alexandria Area Youth Cycling","JV3 Boys",null,100389941,1002,3," 00:00:00.000"," 00:50:07.212"," 00:16:56.168"," 00:16:31.222"," 00:16:39.822",null,294,1]
[100392048,83,294,{"$f":"VLOOKUP(F1200,Sheet3!$D$3:$E$91,2,FALSE)","v":1},"ZACHARY OSWALD","Stillwater Mountain Bike","JV3 Boys",null,100392048,1186,3," 00:00:00.000"," 00:50:07.602"," 00:18:03.886"," 00:16:08.384"," 00:15:55.332",null,293,1]
[100408334,84,293,{"$f":"VLOOKUP(F1201,Sheet3!$D$3:$E$91,2,FALSE)","v":1},"BRENNAN FISHER-TRACY","Cloquet-Esko-Carlton","JV3 Boys",null,100408334,1217,3," 00:00:00.000"," 00:50:11.477"," 00:16:46.069"," 00:16:45.733"," 00:16:39.675",null,292,1]
[100391002,85,292,{"$f":"VLOOKUP(F1202,Sheet3!$D$3:$E$91,2,FALSE)","v":1},"KAMERON JAENICKE","Lakeville North High School","JV3 Boys",null,100391002,1098,3," 00:00:00.000"," 00:50:13.537"," 00:17:37.522"," 00:16:26.775"," 00:16:09.240",null,291,1]
[100390105,86,291,{"$f":"VLOOKUP(F1203,Sheet3!$D$3:$E$91,2,FALSE)","v":2},"ROBBIE DAVIS","Mound Westonka Composite","JV3 Boys",null,100390105,1112,3," 00:00:00.000"," 00:50:22.689"," 00:16:54.608"," 00:16:43.399"," 00:16:44.682",null,290,1]
[100391913,87,290,{"$f":"VLOOKUP(F1204,Sheet3!$D$3:$E$91,2,FALSE)","v":1},"JOSIAH NICHOLAS","Burnsville High School","JV3 Boys",null,100391913,1032,3," 00:00:00.000"," 00:50:25.110"," 00:17:20.075"," 00:16:34.516"," 00:16:30.519",null,289,1]
[100390851,88,289,{"$f":"VLOOKUP(F1205,Sheet3!$D$3:$E$91,2,FALSE)","v":1},"COOPER HIGGINS","Champlin Park High School","JV3 Boys",null,100390851,1036,3," 00:00:00.000"," 00:50:26.150"," 00:17:10.249"," 00:16:48.918"," 00:16:26.983",null,288,1]
[100390037,89,288,{"$f":"VLOOKUP(F1206,Sheet3!$D$3:$E$91,2,FALSE)","v":1},"KYLE COUDRON","Winona","JV3 Boys",null,100390037,1206,3," 00:00:00.000"," 00:50:28.598"," 00:17:33.361"," 00:16:33.817"," 00:16:21.420",null,287,1]
[100389849,90,287,{"$f":"VLOOKUP(F1207,Sheet3!$D$3:$E$91,2,FALSE)","v":2},"MATTHEW BURQUEST","Spectrum High School","JV3 Boys",null,100389849,1173,3," 00:00:00.000"," 00:50:34.517"," 00:18:08.923"," 00:16:05.851"," 00:16:19.743",null,286,1]
[100392736,91,286,{"$f":"VLOOKUP(F1208,Sheet3!$D$3:$E$91,2,FALSE)","v":1},"CARSON STENGER","New Prague Middle and High School","JV3 Boys",null,100392736,1126,3," 00:00:00.000"," 00:50:41.849"," 00:16:27.848"," 00:16:48.224"," 00:17:25.777",null,285,1]
[100389609,92,285,{"$f":"VLOOKUP(F1209,Sheet3!$D$3:$E$91,2,FALSE)","v":1},"ALEX BENNETT","Minneapolis Southwest","JV3 Boys",null,100389609,1117,3," 00:00:00.000"," 00:50:45.578"," 00:17:27.894"," 00:16:42.634"," 00:16:35.050",null,284,1]
[100389529,93,284,{"$f":"VLOOKUP(F1210,Sheet3!$D$3:$E$91,2,FALSE)","v":1},"PARKER BAINES","Prior Lake High School","JV3 Boys",null,100389529,1140,3," 00:00:00.000"," 00:50:46.516"," 00:17:16.541"," 00:16:53.071"," 00:16:36.904",null,283,1]
[100390939,94,283,{"$f":"VLOOKUP(F1211,Sheet3!$D$3:$E$91,2,FALSE)","v":2},"JULES HOWES","Roosevelt High School","JV3 Boys",null,100390939,1165,3," 00:00:00.000"," 00:50:48.462"," 00:17:32.442"," 00:16:47.223"," 00:16:28.797",null,282,1]
[100392150,95,282,{"$f":"VLOOKUP(F1212,Sheet3!$D$3:$E$91,2,FALSE)","v":1},"CARSON PETERSON","Stillwater Mountain Bike","JV3 Boys",null,100392150,1187,3," 00:00:00.000"," 00:50:49.137"," 00:17:21.022"," 00:16:44.354"," 00:16:43.761",null,281,1]
[100392298,96,281,{"$f":"VLOOKUP(F1213,Sheet3!$D$3:$E$91,2,FALSE)","v":1},"EVAN REINSCH","Chaska High School","JV3 Boys",null,100392298,1048,3," 00:00:00.000"," 00:50:50.383"," 00:17:22.766"," 00:16:46.369"," 00:16:41.248",null,280,1]
[100428054,97,280,{"$f":"VLOOKUP(F1214,Sheet3!$D$3:$E$91,2,FALSE)","v":1},"WILL COPPS","Hopkins High School","JV3 Boys",null,100428054,1089,3," 00:00:00.000"," 00:50:53.548"," 00:17:36.064"," 00:16:31.990"," 00:16:45.494",null,279,1]
[100390836,98,279,{"$f":"VLOOKUP(F1215,Sheet3!$D$3:$E$91,2,FALSE)","v":2},"MILES HERSRUD","Roosevelt High School","JV3 Boys",null,100390836,1223,3," 00:00:00.000"," 00:51:01.612"," 00:17:38.005"," 00:16:36.092"," 00:16:47.515",null,278,1]
[100392469,99,278,{"$f":"VLOOKUP(F1216,Sheet3!$D$3:$E$91,2,FALSE)","v":1},"MASON SCHAEFER","Armstrong Cycle","JV3 Boys",null,100392469,1014,3," 00:00:00.000"," 00:51:02.967"," 00:17:38.130"," 00:16:50.021"," 00:16:34.816",null,277,1]
[100389558,100,277,{"$f":"VLOOKUP(F1217,Sheet3!$D$3:$E$91,2,FALSE)","v":2},"ALEXANDER BARRY","Osseo","JV3 Boys",null,100389558,1211,3," 00:00:00.000"," 00:51:04.772"," 00:17:42.261"," 00:16:42.333"," 00:16:40.178",null,276,1]
[100390425,101,276,{"$f":"VLOOKUP(F1218,Sheet3!$D$3:$E$91,2,FALSE)","v":1},"KARL FRANSON","Alexandria Area Youth Cycling","JV3 Boys",null,100390425,1005,3," 00:00:00.000"," 00:51:06.239"," 00:17:46.013"," 00:16:39.919"," 00:16:40.307",null,275,1]
[100392559,102,275,{"$f":"VLOOKUP(F1219,Sheet3!$D$3:$E$91,2,FALSE)","v":2},"JACK SCHWEIGERT","Park High School","JV3 Boys",null,100392559,1138,3," 00:00:00.000"," 00:51:06.425"," 00:16:30.052"," 00:18:37.993"," 00:15:58.380",null,274,1]
[100393004,103,{"$f":"+S1220+R1220","v":274},{"$f":"VLOOKUP(F1220,Sheet3!$D$3:$E$91,2,FALSE)","v":2},"BEN VOILES","River Falls High School","JV3 Boys",null,100393004,1152,3," 00:00:00.000"," 00:51:16.675"," 00:17:26.263"," 00:16:43.216"," 00:17:07.196",null,273,1]
[100389758,104,273,{"$f":"VLOOKUP(F1221,Sheet3!$D$3:$E$91,2,FALSE)","v":1},"WILL BRANDVOLD","Minneapolis Southwest","JV3 Boys",null,100389758,1119,3," 00:00:00.000"," 00:51:22.241"," 00:17:11.131"," 00:17:28.080"," 00:16:43.030",null,272,1]
[100390150,105,272,{"$f":"VLOOKUP(F1222,Sheet3!$D$3:$E$91,2,FALSE)","v":1},"COLTON DEWEY","Cloquet-Esko-Carlton","JV3 Boys",null,100390150,1050,3," 00:00:00.000"," 00:51:23.943"," 00:16:43.944"," 00:16:09.383"," 00:18:30.616",null,271,1]
[100391799,106,271,{"$f":"VLOOKUP(F1223,Sheet3!$D$3:$E$91,2,FALSE)","v":2},"CLAYTON MOORE","Hutchinson High School","JV3 Boys",null,100391799,1095,3," 00:00:00.000"," 00:51:30.444"," 00:18:02.172"," 00:16:57.844"," 00:16:30.428",null,270,1]
[100391380,107,270,{"$f":"VLOOKUP(F1224,Sheet3!$D$3:$E$91,2,FALSE)","v":2},"AIDAN LARSON","Bemidji Composite","JV3 Boys",null,100391380,1025,3," 00:00:00.000"," 00:51:35.167"," 00:17:52.152"," 00:17:14.422"," 00:16:28.593",null,269,1]
[100391838,108,269,{"$f":"VLOOKUP(F1225,Sheet3!$D$3:$E$91,2,FALSE)","v":1},"BRANDON MOSS","East Ridge High School","JV3 Boys",null,100391838,1068,3," 00:00:00.000"," 00:51:39.463"," 00:17:39.341"," 00:17:01.784"," 00:16:58.338",null,268,1]
[100393120,109,268,{"$f":"VLOOKUP(F1226,Sheet3!$D$3:$E$91,2,FALSE)","v":1},"COLIN WHITE","Winona","JV3 Boys",null,100393120,1208,3," 00:00:00.000"," 00:51:46.736"," 00:17:30.553"," 00:17:35.549"," 00:16:40.634",null,267,1]
[100391770,110,267,{"$f":"VLOOKUP(F1227,Sheet3!$D$3:$E$91,2,FALSE)","v":2},"NATHAN MIZIORKO","Eagan High School","JV3 Boys",null,100391770,1067,3," 00:00:00.000"," 00:51:53.971"," 00:17:33.330"," 00:17:07.839"," 00:17:12.802",null,266,1]
[100391333,111,266,{"$f":"VLOOKUP(F1228,Sheet3!$D$3:$E$91,2,FALSE)","v":2},"COLTEN LAJOIE","Duluth Composite","JV3 Boys",null,100391333,1062,3," 00:00:00.000"," 00:52:00.393"," 00:18:21.653"," 00:16:42.444"," 00:16:56.296",null,265,1]
[100428902,112,265,{"$f":"VLOOKUP(F1229,Sheet3!$D$3:$E$91,2,FALSE)","v":1},"TREFFEN SPORE","Armstrong Cycle","JV3 Boys",null,100428902,1015,3," 00:00:00.000"," 00:52:05.595"," 00:17:39.372"," 00:17:02.845"," 00:17:23.378",null,264,1]
[100409023,113,264,{"$f":"VLOOKUP(F1230,Sheet3!$D$3:$E$91,2,FALSE)","v":2},"TOMMY LEE","River Falls High School","JV3 Boys",null,100409023,1151,3," 00:00:00.000"," 00:52:05.766"," 00:17:27.986"," 00:17:18.458"," 00:17:19.322",null,263,1]
[100393032,114,263,{"$f":"VLOOKUP(F1231,Sheet3!$D$3:$E$91,2,FALSE)","v":2},"WINSTON WALKUP","Austin High School","JV3 Boys",null,100393032,1016,3," 00:00:00.000"," 00:52:10.775"," 00:17:49.047"," 00:16:48.349"," 00:17:33.379",null,262,1]
[100391781,115,262,{"$f":"VLOOKUP(F1232,Sheet3!$D$3:$E$91,2,FALSE)","v":1},"BEN MOGUSH","Washburn High School","JV3 Boys",null,100391781,1192,3," 00:00:00.000"," 00:52:23.697"," 00:16:36.677"," 00:18:23.888"," 00:17:23.132",null,261,1]
[100392851,116,261,{"$f":"VLOOKUP(F1233,Sheet3!$D$3:$E$91,2,FALSE)","v":2},"JOSHUA THOMPSON","Highland Park St Paul","JV3 Boys",null,100392851,1086,3," 00:00:00.000"," 00:52:27.247"," 00:17:39.332"," 00:18:28.207"," 00:16:19.708",null,260,1]
[100422072,117,260,{"$f":"VLOOKUP(F1234,Sheet3!$D$3:$E$91,2,FALSE)","v":1},"COOPER LAMOTT","Champlin Park High School","JV3 Boys",null,100422072,1038,3," 00:00:00.000"," 00:52:28.884"," 00:18:11.370"," 00:17:14.310"," 00:17:03.204",null,259,1]
[100407878,118,259,{"$f":"VLOOKUP(F1235,Sheet3!$D$3:$E$91,2,FALSE)","v":1},"LEO MILLER","Minnetonka High School","JV3 Boys",null,100407878,1108,3," 00:00:00.000"," 00:52:31.453"," 00:17:25.676"," 00:17:24.555"," 00:17:41.222",null,258,1]
[100391119,119,258,{"$f":"VLOOKUP(F1236,Sheet3!$D$3:$E$91,2,FALSE)","v":2},"CARTER JUHNKE","Hutchinson High School","JV3 Boys",null,100391119,1094,3," 00:00:00.000"," 00:52:34.449"," 00:17:44.710"," 00:17:14.683"," 00:17:35.056",null,257,1]
[100425459,120,257,{"$f":"VLOOKUP(F1237,Sheet3!$D$3:$E$91,2,FALSE)","v":2},"MAXWELL BUESCHER","Mound Westonka Composite","JV3 Boys",null,100425459,1111,3," 00:00:00.000"," 00:52:34.954"," 00:17:24.115"," 00:17:02.537"," 00:18:08.302",null,256,1]
[100391376,121,256,{"$f":"VLOOKUP(F1238,Sheet3!$D$3:$E$91,2,FALSE)","v":1},"KAL LARSON","Crosby-Ironton High School","JV3 Boys",null,100391376,1058,3," 00:00:00.000"," 00:52:46.027"," 00:18:03.990"," 00:17:35.474"," 00:17:06.563",null,255,1]
[100390487,122,255,{"$f":"VLOOKUP(F1239,Sheet3!$D$3:$E$91,2,FALSE)","v":1},"SAM GALLOWAY","Wayzata Mountain Bike","JV3 Boys",null,100390487,1194,3," 00:00:00.000"," 00:52:52.157"," 00:17:23.864"," 00:17:59.476"," 00:17:28.817",null,254,1]
[100392013,123,254,{"$f":"VLOOKUP(F1240,Sheet3!$D$3:$E$91,2,FALSE)","v":1},"GAVIN OLSON","Prior Lake High School","JV3 Boys",null,100392013,1147,3," 00:00:00.000"," 00:52:59.311"," 00:18:05.943"," 00:17:33.652"," 00:17:19.716",null,253,1]
[100430362,124,253,{"$f":"VLOOKUP(F1241,Sheet3!$D$3:$E$91,2,FALSE)","v":1},"JACOB HERNESS","Wayzata Mountain Bike","JV3 Boys",null,100430362,1196,3," 00:00:00.000"," 00:53:07.921"," 00:18:09.580"," 00:17:36.444"," 00:17:21.897",null,252,1]
[100392333,125,252,{"$f":"VLOOKUP(F1242,Sheet3!$D$3:$E$91,2,FALSE)","v":1},"LOGAN RIVERS","Winona","JV3 Boys",null,100392333,1207,3," 00:00:00.000"," 00:53:11.137"," 00:18:01.140"," 00:17:46.915"," 00:17:23.082",null,251,1]
[100420835,126,251,{"$f":"VLOOKUP(F1243,Sheet3!$D$3:$E$91,2,FALSE)","v":1},"CHARLIE MILLER","Wayzata Mountain Bike","JV3 Boys",null,100420835,1200,3," 00:00:00.000"," 00:53:51.071"," 00:18:06.063"," 00:18:04.644"," 00:17:40.364",null,250,1]
[100390012,127,250,{"$f":"VLOOKUP(F1244,Sheet3!$D$3:$E$91,2,FALSE)","v":1},"COLTON CONVERSE","Alexandria Area Youth Cycling","JV3 Boys",null,100390012,1003,3," 00:00:00.000"," 00:53:54.255"," 00:16:32.469"," 00:16:03.259"," 00:21:18.527",null,249,1]
[100390152,128,249,{"$f":"VLOOKUP(F1245,Sheet3!$D$3:$E$91,2,FALSE)","v":1},"CHARLIE DIAZ","Armstrong Cycle","JV3 Boys",null,100390152,1010,3," 00:00:00.000"," 00:54:02.604"," 00:18:04.767"," 00:17:50.873"," 00:18:06.964",null,248,1]
[100390441,129,248,{"$f":"VLOOKUP(F1246,Sheet3!$D$3:$E$91,2,FALSE)","v":2},"OLIVER FREY","St. Paul Composite - North","JV3 Boys",null,100390441,1181,3," 00:00:00.000"," 00:54:33.252"," 00:18:52.182"," 00:17:44.393"," 00:17:56.677",null,247,1]
[100390631,130,247,{"$f":"VLOOKUP(F1247,Sheet3!$D$3:$E$91,2,FALSE)","v":2},"JACKSON GULICK","River Falls High School","JV3 Boys",null,100390631,1150,3," 00:00:00.000"," 00:54:38.817"," 00:18:16.112"," 00:17:55.727"," 00:18:26.978",null,246,1]
[100392598,131,246,{"$f":"VLOOKUP(F1248,Sheet3!$D$3:$E$91,2,FALSE)","v":1},"TYLER SHIELD","East Ridge High School","JV3 Boys",null,100392598,1071,3," 00:00:00.000"," 00:54:41.851"," 00:18:32.947"," 00:17:55.655"," 00:18:13.249",null,245,1]
[100390449,132,245,{"$f":"VLOOKUP(F1249,Sheet3!$D$3:$E$91,2,FALSE)","v":1},"BENJAMIN FRICKE","Armstrong Cycle","JV3 Boys",null,100390449,1011,3," 00:00:00.000"," 00:55:00.071"," 00:18:53.418"," 00:17:45.925"," 00:18:20.728",null,244,1]
[100389480,133,244,{"$f":"VLOOKUP(F1250,Sheet3!$D$3:$E$91,2,FALSE)","v":1},"ROHIT ARALIKAR","Edina Cycling","JV3 Boys",null,100389480,1078,3," 00:00:00.000"," 00:55:13.541"," 00:18:36.859"," 00:18:22.721"," 00:18:13.961",null,243,1]
[100390995,134,243,{"$f":"VLOOKUP(F1251,Sheet3!$D$3:$E$91,2,FALSE)","v":2},"NOLAN JACOBS","St Cloud Area Composite","JV3 Boys",null,100390995,1174,3," 00:00:00.000"," 00:55:14.343"," 00:19:10.931"," 00:18:31.909"," 00:17:31.503",null,242,1]
[100389856,135,242,{"$f":"VLOOKUP(F1252,Sheet3!$D$3:$E$91,2,FALSE)","v":2},"MAX BUSCH","Mankato West High School","JV3 Boys",null,100389856,1103,3," 00:00:00.000"," 00:56:08.241"," 00:18:03.184"," 00:18:09.651"," 00:19:55.406",null,241,1]
[100392366,136,241,{"$f":"VLOOKUP(F1253,Sheet3!$D$3:$E$91,2,FALSE)","v":2},"OWEN ROGHOLT","St Cloud Area Composite","JV3 Boys",null,100392366,1175,3," 00:00:00.000"," 00:56:09.102"," 00:18:10.098"," 00:19:09.327"," 00:18:49.677",null,240,1]
[100391301,137,240,{"$f":"VLOOKUP(F1254,Sheet3!$D$3:$E$91,2,FALSE)","v":1},"JAMESON KUBITSCHEK-MYERS","Armstrong Cycle","JV3 Boys",null,100391301,1218,3," 00:00:00.000"," 00:56:17.000"," 00:19:28.654"," 00:18:05.448"," 00:18:42.898",null,239,1]
[100390733,138,239,{"$f":"VLOOKUP(F1255,Sheet3!$D$3:$E$91,2,FALSE)","v":2},"STIRLING HART","Bemidji Composite","JV3 Boys",null,100390733,1022,3," 00:00:00.000"," 00:56:22.264"," 00:18:48.738"," 00:18:38.748"," 00:18:54.778",null,238,1]
[100390544,139,238,{"$f":"VLOOKUP(F1256,Sheet3!$D$3:$E$91,2,FALSE)","v":1},"HANK GISSELMAN","Minneapolis Southwest","JV3 Boys",null,100390544,1120,3," 00:00:00.000"," 00:56:36.934"," 00:18:46.308"," 00:19:52.032"," 00:17:58.594",null,237,1]
[100392175,140,237,{"$f":"VLOOKUP(F1257,Sheet3!$D$3:$E$91,2,FALSE)","v":1},"JACOB PIERCE","White Bear Lake High School","JV3 Boys",null,100392175,1204,3," 00:00:00.000"," 00:56:58.857"," 00:19:06.724"," 00:18:46.435"," 00:19:05.698",null,236,1]
[100391543,141,236,{"$f":"VLOOKUP(F1258,Sheet3!$D$3:$E$91,2,FALSE)","v":2},"BLAKE MAGELEE","Mankato Composite","JV3 Boys",null,100391543,1101,3," 00:00:00.000"," 00:57:14.724"," 00:19:04.504"," 00:18:40.757"," 00:19:29.463",null,235,1]
[100390826,142,235,{"$f":"VLOOKUP(F1259,Sheet3!$D$3:$E$91,2,FALSE)","v":2},"KILLIAN HEPPELMANN","Rochester Area Composite","JV3 Boys",null,100390826,1157,3," 00:00:00.000"," 00:57:16.216"," 00:19:12.072"," 00:18:59.103"," 00:19:05.041",null,234,1]
[100392560,143,234,{"$f":"VLOOKUP(F1260,Sheet3!$D$3:$E$91,2,FALSE)","v":2},"LOGAN SCHWEIGERT","Park High School","JV3 Boys",null,100392560,1139,3," 00:00:00.000"," 00:59:21.335"," 00:21:21.840"," 00:21:04.818"," 00:16:54.677",null,233,1]
[100389447,144,233,{"$f":"VLOOKUP(F1261,Sheet3!$D$3:$E$91,2,FALSE)","v":1},"ENOCH ANDERSON","Crosby-Ironton High School","JV3 Boys",null,100389447,1055,3," 00:00:00.000"," 00:59:31.556"," 00:17:46.093"," 00:21:15.603"," 00:20:29.860",null,232,1]
[100391350,145,232,{"$f":"VLOOKUP(F1262,Sheet3!$D$3:$E$91,2,FALSE)","v":2},"RILEY LANDON","Rochester John Marshall","JV3 Boys",null,100391350,1158,3," 00:00:00.000"," 00:59:32.082"," 00:19:41.944"," 00:19:47.990"," 00:20:02.148",null,231,1]
[100390569,146,231,{"$f":"VLOOKUP(F1263,Sheet3!$D$3:$E$91,2,FALSE)","v":1},"MAX GOLOMB","Wayzata Mountain Bike","JV3 Boys",null,100390569,1195,3," 00:00:00.000"," 00:59:52.910"," 00:20:03.753"," 00:19:40.302"," 00:20:08.855",null,230,1]
[100391972,147,230,{"$f":"VLOOKUP(F1264,Sheet3!$D$3:$E$91,2,FALSE)","v":1},"JOSEPH ODDAN","Wayzata Mountain Bike","JV3 Boys",null,100391972,1201,3," 00:00:00.000"," 00:59:53.027"," 00:20:03.647"," 00:19:40.250"," 00:20:09.130",null,229,1]
[100392129,148,229,{"$f":"VLOOKUP(F1265,Sheet3!$D$3:$E$91,2,FALSE)","v":2},"BRAIDEN PENSHORN","Hudson High School","JV3 Boys",null,100392129,1092,3," 00:00:00.000"," 00:59:54.212"," 00:20:12.822"," 00:19:54.596"," 00:19:46.794",null,228,1]
[100392234,149,228,{"$f":"VLOOKUP(F1266,Sheet3!$D$3:$E$91,2,FALSE)","v":2},"KENTON PRUDHOMME","Maple Grove High School","JV3 Boys",null,100392234,1105,3," 00:00:00.000"," 00:59:54.593"," 00:20:11.950"," 00:19:35.635"," 00:20:07.008",null,227,1]
[100428742,150,227,{"$f":"VLOOKUP(F1267,Sheet3!$D$3:$E$91,2,FALSE)","v":1},"KELLAN OROURKE","Armstrong Cycle","JV3 Boys",null,100428742,1219,3," 00:00:00.000"," 01:01:07.061"," 00:19:10.150"," 00:18:44.151"," 00:23:12.760",null,226,1]
[100422779,151,226,{"$f":"VLOOKUP(F1268,Sheet3!$D$3:$E$91,2,FALSE)","v":2},"CHARLEY MOORE","St Paul Central","JV3 Boys",null,100422779,1180,3," 00:00:00.000"," 01:01:27.996"," 00:17:26.732"," 00:17:09.612"," 00:26:51.652",null,225,1]
[100420800,152,225,{"$f":"VLOOKUP(F1269,Sheet3!$D$3:$E$91,2,FALSE)","v":1},"DANIEL RIDGEWAY JR.","New Prague Middle and High School","JV3 Boys",null,100420800,1125,3," 00:00:00.000"," 01:03:49.847"," 00:15:03.659"," 00:14:55.413"," 00:33:50.775",null,224,1]
[100427164,153,224,{"$f":"VLOOKUP(F1270,Sheet3!$D$3:$E$91,2,FALSE)","v":2},"BEN HESLI","Osseo Composite","JV3 Boys",null,100427164,1136,3," 00:00:00.000"," 01:07:04.717"," 00:21:50.244"," 00:22:44.738"," 00:22:29.735",null,223,1]
[100391151,154,0,{"$f":"VLOOKUP(F1271,Sheet3!$D$3:$E$91,2,FALSE)","v":2},"JACK KELLER","Hudson High School","JV3 Boys","DNF",100391151,1091,2," 00:00:00.000"," 00:29:23.198"," 00:14:52.471"," 00:14:30.727",null,null,0,0]
[100392003,155,0,{"$f":"VLOOKUP(F1272,Sheet3!$D$3:$E$91,2,FALSE)","v":1},"ALEC OLSEN","Champlin Park High School","JV3 Boys","DNF",100392003,1040,2," 00:00:00.000"," 00:35:00.906"," 00:17:56.890"," 00:17:04.016",null,null,0,0]
[100391534,156,0,{"$f":"VLOOKUP(F1273,Sheet3!$D$3:$E$91,2,FALSE)","v":1},"AIDAN MACMILLAN","Wayzata Mountain Bike","JV3 Boys","DNF",100391534,1199,2," 00:00:00.000"," 00:41:26.245"," 00:19:40.578"," 00:21:45.667",null,null,0,0]
[100390149,157,0,{"$f":"VLOOKUP(F1274,Sheet3!$D$3:$E$91,2,FALSE)","v":1},"BREKKEN DEWEESE","Rochester Century High School","JV3 Boys","DNF",100390149,1153,2," 00:00:00.000"," 00:42:34.881"," 00:17:46.402"," 00:24:48.479",null,null,0,0]
[100425568,158,219,{"$f":"VLOOKUP(F1275,Sheet3!$D$3:$E$91,2,FALSE)","v":2},"ELLIOT ZIMPFER","Osseo Composite","JV3 Boys","Bike Swap / -1 LAP",100425568,1137,2," 00:10:00.000"," 01:03:18.100"," 00:32:57.944"," 00:20:20.156",null,null,218,1]
[100391617,159,218,{"$f":"VLOOKUP(F1276,Sheet3!$D$3:$E$91,2,FALSE)","v":2},"BEN MASICA","Orono High School","JV3 Boys","Bike Swap / -1 LAP",100391617,1133,2," 00:10:00.000"," 01:06:52.488"," 00:21:13.956"," 00:35:38.532",null,null,217,1]
[100391553,160,0,{"$f":"VLOOKUP(F1277,Sheet3!$D$3:$E$91,2,FALSE)","v":1},"JOHN MAINES","Prior Lake High School","JV3 Boys","DNF",100391553,1213,1," 00:00:00.000"," 00:16:05.426"," 00:16:05.426",null,null,null,0,0]
[100427213,161,0,{"$f":"VLOOKUP(F1278,Sheet3!$D$3:$E$91,2,FALSE)","v":2},"JAMES DOLAN","Osseo","JV3 Boys","DNF",100427213,1134,1," 00:00:00.000"," 00:17:27.492"," 00:17:27.492",null,null,null,0,0]
[100391863,162,0,{"$f":"VLOOKUP(F1279,Sheet3!$D$3:$E$91,2,FALSE)","v":1},"ANDERS MYHRE","Washburn High School","JV3 Boys","DNF",100391863,1193,1," 00:00:00.000"," 00:18:12.979"," 00:18:12.979",null,null,null,0,0]
[100389542,163,0,{"$f":"VLOOKUP(F1280,Sheet3!$D$3:$E$91,2,FALSE)","v":2},"NICK BARKEIM","Rockford Composite","JV3 Boys","DNF",100389542,1162,1," 00:00:00.000"," 00:21:06.385"," 00:21:06.385",null,null,null,0,0]
[100391873,164,0,{"$f":"VLOOKUP(F1281,Sheet3!$D$3:$E$91,2,FALSE)","v":1},"TYLER NEITZEL","Stillwater Mountain Bike","JV3 Boys","DNF",100391873,1185,1," 00:00:00.000"," 00:30:39.459"," 00:30:39.459",null,null,null,0,0]
[100388824,165,0,{"$f":"VLOOKUP(F1282,Sheet3!$D$3:$E$91,2,FALSE)","v":2},"JACK MUELLER","Bemidji Composite","JV3 Boys","DNF",100388824,1027,0," 00:00:00.000",null,null,null,null,null,0,0]
[100391414,1,590,{"$f":"VLOOKUP(F1283,Sheet3!$D$3:$E$91,2,FALSE)","v":1},"PHOEBE LEEGE","Duluth East High School","JV3 Girls",null,100391414,1541,3," 00:00:00.000"," 00:49:58.353"," 00:17:39.297"," 00:15:37.480"," 00:16:41.576",null,540,50]
[100392216,2,{"$f":"+S1284+R1284","v":579},{"$f":"VLOOKUP(F1284,Sheet3!$D$3:$E$91,2,FALSE)","v":1},"STELLA POWELL","Stillwater Mountain Bike","JV3 Girls",null,100392216,1538,3," 00:00:00.000"," 00:50:36.102"," 00:17:39.168"," 00:16:05.423"," 00:16:51.511",null,530,49]
[100389674,3,569,{"$f":"VLOOKUP(F1285,Sheet3!$D$3:$E$91,2,FALSE)","v":2},"KATE BITTENBENDER","Cannon Valley Composite","JV3 Girls",null,100389674,1508,3," 00:00:00.000"," 00:51:32.040"," 00:17:40.178"," 00:16:40.070"," 00:17:11.792",null,521,48]
[100391236,4,559,{"$f":"VLOOKUP(F1286,Sheet3!$D$3:$E$91,2,FALSE)","v":1},"CATE KOELZER","Stillwater Mountain Bike","JV3 Girls",null,100391236,1537,3," 00:00:00.000"," 00:51:56.344"," 00:17:53.740"," 00:17:11.318"," 00:16:51.286",null,512,47]
[100393069,5,550,{"$f":"VLOOKUP(F1287,Sheet3!$D$3:$E$91,2,FALSE)","v":1},"COURTNEY WEBER","Hopkins High School","JV3 Girls",null,100393069,1518,3," 00:00:00.000"," 00:52:21.357"," 00:18:42.071"," 00:16:54.940"," 00:16:44.346",null,504,46]
[100392532,6,541,{"$f":"VLOOKUP(F1288,Sheet3!$D$3:$E$91,2,FALSE)","v":1},"MEGAN SCHROOTEN","Bloomington Jefferson","JV3 Girls",null,100392532,1504,3," 00:00:00.000"," 00:52:26.378"," 00:18:17.469"," 00:17:09.514"," 00:16:59.395",null,496,45]
[100390558,7,532,{"$f":"VLOOKUP(F1289,Sheet3!$D$3:$E$91,2,FALSE)","v":1},"TIAHNA GOEKE","Alexandria Area Youth Cycling","JV3 Girls",null,100390558,1501,3," 00:00:00.000"," 00:52:26.849"," 00:18:52.825"," 00:16:46.129"," 00:16:47.895",null,488,44]
[100391684,8,524,{"$f":"VLOOKUP(F1290,Sheet3!$D$3:$E$91,2,FALSE)","v":2},"ANI MCQUILLEN","Roosevelt High School","JV3 Girls",null,100391684,1530,3," 00:00:00.000"," 00:52:31.560"," 00:18:08.012"," 00:17:18.749"," 00:17:04.799",null,481,43]
[100390193,9,516,{"$f":"VLOOKUP(F1291,Sheet3!$D$3:$E$91,2,FALSE)","v":2},"ELLA DOLS","St Cloud Area Composite","JV3 Girls",null,100390193,1534,3," 00:00:00.000"," 00:54:01.994"," 00:18:02.929"," 00:17:41.401"," 00:18:17.664",null,474,42]
[100390864,10,508,{"$f":"VLOOKUP(F1292,Sheet3!$D$3:$E$91,2,FALSE)","v":1},"COURTNEY HISLOP","Duluth East High School","JV3 Girls",null,100390864,1542,3," 00:00:00.000"," 00:54:20.520"," 00:18:53.311"," 00:17:37.231"," 00:17:49.978",null,467,41]
[100393202,11,500,{"$f":"VLOOKUP(F1293,Sheet3!$D$3:$E$91,2,FALSE)","v":1},"CHARLI WORCESTER","Duluth East High School","JV3 Girls",null,100393202,1512,3," 00:00:00.000"," 00:54:42.756"," 00:19:53.480"," 00:17:19.255"," 00:17:30.021",null,460,40]
[100391009,12,493,{"$f":"VLOOKUP(F1294,Sheet3!$D$3:$E$91,2,FALSE)","v":2},"VERONICA JANZEN","St. Paul Composite - North","JV3 Girls",null,100391009,1535,3," 00:00:00.000"," 00:54:54.298"," 00:18:40.264"," 00:18:01.741"," 00:18:12.293",null,454,39]
[100392622,13,486,{"$f":"VLOOKUP(F1295,Sheet3!$D$3:$E$91,2,FALSE)","v":2},"ABBY SKANE","Mankato Composite","JV3 Girls",null,100392622,1520,3," 00:00:00.000"," 00:55:10.834"," 00:19:01.452"," 00:17:55.952"," 00:18:13.430",null,448,38]
[100390495,14,479,{"$f":"VLOOKUP(F1296,Sheet3!$D$3:$E$91,2,FALSE)","v":2},"SANNY GANGI","Tioga Trailblazers","JV3 Girls",null,100390495,1539,3," 00:00:00.000"," 00:55:17.874"," 00:19:07.821"," 00:18:04.414"," 00:18:05.639",null,442,37]
[100393155,15,472,{"$f":"VLOOKUP(F1297,Sheet3!$D$3:$E$91,2,FALSE)","v":2},"ELEANORA WILLIAMS","Rochester Mayo","JV3 Girls",null,100393155,1528,3," 00:00:00.000"," 00:55:47.004"," 00:19:28.606"," 00:17:51.832"," 00:18:26.566",null,436,36]
[100393183,16,465,{"$f":"VLOOKUP(F1298,Sheet3!$D$3:$E$91,2,FALSE)","v":2},"MEGAN WITT","Eagan High School","JV3 Girls",null,100393183,1513,3," 00:00:00.000"," 00:56:47.568"," 00:19:04.653"," 00:18:39.121"," 00:19:03.794",null,430,35]
[100392037,17,459,{"$f":"VLOOKUP(F1299,Sheet3!$D$3:$E$91,2,FALSE)","v":2},"STELLA ORDAHL","Benilde St Margaret","JV3 Girls",null,100392037,1503,3," 00:00:00.000"," 00:57:00.082"," 00:19:55.977"," 00:18:36.101"," 00:18:28.004",null,425,34]
[100391156,18,453,{"$f":"VLOOKUP(F1300,Sheet3!$D$3:$E$91,2,FALSE)","v":2},"JADAH KELLY","North Dakota Composite","JV3 Girls",null,100391156,1526,3," 00:00:00.000"," 00:57:00.146"," 00:19:55.208"," 00:18:36.483"," 00:18:28.455",null,420,33]
[100391290,19,447,{"$f":"VLOOKUP(F1301,Sheet3!$D$3:$E$91,2,FALSE)","v":2},"SAVANNAH KRULL","Maple Grove High School","JV3 Girls",null,100391290,1521,3," 00:00:00.000"," 00:57:52.838"," 00:20:37.068"," 00:18:42.653"," 00:18:33.117",null,415,32]
[100389949,20,441,{"$f":"VLOOKUP(F1302,Sheet3!$D$3:$E$91,2,FALSE)","v":1},"MEREDITH CHRISTENSEN","Stillwater Mountain Bike","JV3 Girls",null,100389949,1536,3," 00:00:00.000"," 00:59:15.363"," 00:19:58.142"," 00:19:25.189"," 00:19:52.032",null,410,31]
[100391719,21,435,{"$f":"VLOOKUP(F1303,Sheet3!$D$3:$E$91,2,FALSE)","v":1},"SOPHIA METZDORFF","New Prague Middle and High School","JV3 Girls",null,100391719,1525,3," 00:00:00.000"," 00:59:19.514"," 00:19:34.445"," 00:19:23.357"," 00:20:21.712",null,405,30]
[100390379,22,429,{"$f":"VLOOKUP(F1304,Sheet3!$D$3:$E$91,2,FALSE)","v":2},"SANDY FISH","Roseville Area Composite","JV3 Girls",null,100390379,1531,3," 00:00:00.000"," 00:59:25.456"," 00:20:49.810"," 00:19:29.863"," 00:19:05.783",null,400,29]
[100390660,23,424,{"$f":"VLOOKUP(F1305,Sheet3!$D$3:$E$91,2,FALSE)","v":1},"STELLA HAGEN","Brainerd High School","JV3 Girls",null,100390660,1505,3," 00:00:00.000"," 00:59:48.407"," 00:19:55.389"," 00:19:44.847"," 00:20:08.171",null,396,28]
[100389858,24,419,{"$f":"VLOOKUP(F1306,Sheet3!$D$3:$E$91,2,FALSE)","v":2},"MEARA BUSSE","Hutchinson High School","JV3 Girls",null,100389858,1519,3," 00:00:00.000"," 01:00:57.616"," 00:21:19.975"," 00:19:44.794"," 00:19:52.847",null,392,27]
[100429294,25,414,{"$f":"VLOOKUP(F1307,Sheet3!$D$3:$E$91,2,FALSE)","v":2},"AUDREY KEMPEL","Elk River Composite","JV3 Girls",null,100429294,1517,3," 00:00:00.000"," 01:01:10.001"," 00:20:10.226"," 00:21:09.065"," 00:19:50.710",null,388,26]
[100390735,26,409,{"$f":"VLOOKUP(F1308,Sheet3!$D$3:$E$91,2,FALSE)","v":1},"ROSLYN HARTLEY","Duluth East High School","JV3 Girls",null,100390735,1543,3," 00:00:00.000"," 01:01:17.008"," 00:20:31.534"," 00:20:08.137"," 00:20:37.337",null,384,25]
[100389541,27,404,{"$f":"VLOOKUP(F1309,Sheet3!$D$3:$E$91,2,FALSE)","v":2},"HAEDYN BARKEIM","Rockford Composite","JV3 Girls",null,100389541,1529,3," 00:00:00.000"," 01:03:06.030"," 00:20:58.874"," 00:21:23.797"," 00:20:43.359",null,380,24]
[100389899,28,399,{"$f":"VLOOKUP(F1310,Sheet3!$D$3:$E$91,2,FALSE)","v":1},"SARA CARLSON","Prior Lake High School","JV3 Girls",null,100389899,1527,3," 00:00:00.000"," 01:03:55.875"," 00:21:25.293"," 00:21:02.945"," 00:21:27.637",null,376,23]
[100392680,29,394,{"$f":"VLOOKUP(F1311,Sheet3!$D$3:$E$91,2,FALSE)","v":1},"ARYANNA SOMAIAH","Armstrong Cycle","JV3 Girls",null,100392680,1502,3," 00:00:00.000"," 01:07:06.594"," 00:22:42.912"," 00:21:57.221"," 00:22:26.461",null,372,22]
[100390718,30,390,{"$f":"VLOOKUP(F1312,Sheet3!$D$3:$E$91,2,FALSE)","v":1},"MICHON HARJU","Duluth East High School","JV3 Girls","Bike Swap",100390718,1511,3," 00:10:00.000"," 01:09:28.014"," 00:21:53.719"," 00:18:46.674"," 00:18:47.621",null,369,21]
[100391600,31,386,{"$f":"VLOOKUP(F1313,Sheet3!$D$3:$E$91,2,FALSE)","v":1},"SELAH MARTENSEN","Brainerd High School","JV3 Girls",null,100391600,1506,3," 00:00:00.000"," 01:10:11.789"," 00:22:46.266"," 00:26:23.652"," 00:21:01.871",null,366,20]
[100418439,32,382,{"$f":"VLOOKUP(F1314,Sheet3!$D$3:$E$91,2,FALSE)","v":2},"ADA LARA","Eden Prairie High School","JV3 Girls",null,100418439,1516,3," 00:00:00.000"," 01:10:57.757"," 00:23:21.614"," 00:23:06.380"," 00:24:29.763",null,363,19]
[100390730,33,378,{"$f":"VLOOKUP(F1315,Sheet3!$D$3:$E$91,2,FALSE)","v":1},"ELIN HARRISON","East Ridge High School","JV3 Girls",null,100390730,1514,3," 00:00:00.000"," 01:13:13.328"," 00:22:35.135"," 00:22:46.411"," 00:27:51.782",null,360,18]
[100390463,34,374,{"$f":"VLOOKUP(F1316,Sheet3!$D$3:$E$91,2,FALSE)","v":1},"ANNIKA FROYUM","Shakopee High School","JV3 Girls","Bike Swap",100390463,1532,3," 00:10:00.000"," 01:16:05.579"," 00:21:03.886"," 00:20:00.520"," 00:25:01.173",null,357,17]
[100390731,35,370,{"$f":"VLOOKUP(F1317,Sheet3!$D$3:$E$91,2,FALSE)","v":1},"ERIKA HARRISON","East Ridge High School","JV3 Girls","Outside Assist",100390731,1515,3," 00:05:00.000"," 01:21:40.306"," 00:22:36.809"," 00:22:44.827"," 00:31:18.670",null,354,16]
[100393180,36,366,{"$f":"VLOOKUP(F1318,Sheet3!$D$3:$E$91,2,FALSE)","v":1},"AVA WISE","Minneapolis Southwest","JV3 Girls",null,100393180,1524,3," 00:00:00.000"," 01:22:52.696"," 00:21:13.626"," 00:21:18.862"," 00:40:20.208",null,351,15]
[100391192,37,362,{"$f":"VLOOKUP(F1319,Sheet3!$D$3:$E$91,2,FALSE)","v":1},"ARIANA KIMBALL","Washburn High School","JV3 Girls",null,100391192,1540,3," 00:00:00.000"," 01:26:29.794"," 00:20:49.939"," 00:20:04.162"," 00:45:35.693",null,348,14]
[100392785,38,0,{"$f":"VLOOKUP(F1320,Sheet3!$D$3:$E$91,2,FALSE)","v":1},"ZOE SUMNER","Minneapolis Southwest","JV3 Girls","DNF",100392785,1523,1," 00:00:00.000"," 00:18:10.847"," 00:18:10.847",null,null,null,0,0]
[100391298,1,625,{"$f":"VLOOKUP(F1321,Sheet3!$D$3:$E$91,2,FALSE)","v":1},"JOHN KUBIAK","Stillwater Mountain Bike","Varsity Boys",null,100391298,54,4," 00:00:00.000"," 00:54:39.903"," 00:14:28.878"," 00:13:19.122"," 00:13:22.432"," 00:13:29.471",575,50]
[100390991,2,614,{"$f":"VLOOKUP(F1322,Sheet3!$D$3:$E$91,2,FALSE)","v":2},"TEAGUE JACKSON","Benilde St Margaret","Varsity Boys",null,100390991,2,4," 00:00:00.000"," 00:54:52.000"," 00:14:30.297"," 00:13:24.985"," 00:13:23.718"," 00:13:33.000",565,49]
[100389417,3,604,{"$f":"VLOOKUP(F1323,Sheet3!$D$3:$E$91,2,FALSE)","v":1},"ISAAC ALLRED","Winona","Varsity Boys",null,100389417,61,4," 00:00:00.000"," 00:55:48.000"," 00:14:29.585"," 00:13:52.057"," 00:13:45.438"," 00:13:40.920",556,48]
[100390816,4,594,{"$f":"VLOOKUP(F1324,Sheet3!$D$3:$E$91,2,FALSE)","v":1},"MORGAN HENDRICKS","Minnetonka High School","Varsity Boys",null,100390816,33,4," 00:00:00.000"," 00:56:07.719"," 00:14:30.142"," 00:13:43.097"," 00:13:54.195"," 00:14:00.285",547,47]
[100392384,5,585,{"$f":"VLOOKUP(F1325,Sheet3!$D$3:$E$91,2,FALSE)","v":1},"AIDAN ROSEMEIER","New Prague Middle and High School","Varsity Boys",null,100392384,40,4," 00:00:00.000"," 00:56:08.345"," 00:14:31.220"," 00:13:50.867"," 00:13:45.642"," 00:14:00.616",539,46]
[100391643,6,576,{"$f":"VLOOKUP(F1326,Sheet3!$D$3:$E$91,2,FALSE)","v":2},"JACK MCCAULEY","Rochester Mayo","Varsity Boys",null,100391643,48,4," 00:00:00.000"," 00:56:48.876"," 00:14:48.014"," 00:14:06.639"," 00:13:51.507"," 00:14:02.716",531,45]
[100390671,7,567,{"$f":"VLOOKUP(F1327,Sheet3!$D$3:$E$91,2,FALSE)","v":1},"ROWAN HALL","Lakeville North High School","Varsity Boys",null,100390671,28,4," 00:00:00.000"," 00:56:53.904"," 00:14:47.155"," 00:14:07.838"," 00:13:51.661"," 00:14:07.250",523,44]
[100392849,8,559,{"$f":"VLOOKUP(F1328,Sheet3!$D$3:$E$91,2,FALSE)","v":1},"WILL THOMES","Brainerd High School","Varsity Boys",null,100392849,8,4," 00:00:00.000"," 00:57:07.564"," 00:14:50.268"," 00:14:04.823"," 00:13:52.151"," 00:14:20.322",516,43]
[100390659,9,551,{"$f":"VLOOKUP(F1329,Sheet3!$D$3:$E$91,2,FALSE)","v":1},"HAYDEN HAGEN","Brainerd High School","Varsity Boys",null,100390659,6,4," 00:00:00.000"," 00:57:20.578"," 00:14:48.836"," 00:14:07.027"," 00:13:57.810"," 00:14:26.905",509,42]
[100390310,10,543,{"$f":"VLOOKUP(F1330,Sheet3!$D$3:$E$91,2,FALSE)","v":1},"EVAN ERSPAMER","Cloquet-Esko-Carlton","Varsity Boys",null,100390310,14,4," 00:00:00.000"," 00:57:22.137"," 00:15:21.613"," 00:14:03.217"," 00:13:54.238"," 00:14:03.069",502,41]
[100390204,11,535,{"$f":"VLOOKUP(F1331,Sheet3!$D$3:$E$91,2,FALSE)","v":1},"ANDREAS DREKONJA","Washburn High School","Varsity Boys",null,100390204,59,4," 00:00:00.000"," 00:57:23.891"," 00:14:47.490"," 00:14:08.317"," 00:14:09.085"," 00:14:18.999",495,40]
[100391635,12,528,{"$f":"VLOOKUP(F1332,Sheet3!$D$3:$E$91,2,FALSE)","v":1},"GAVIN MAYHEW","Bloomington Jefferson","Varsity Boys",null,100391635,5,4," 00:00:00.000"," 00:57:27.322"," 00:14:50.983"," 00:14:05.320"," 00:14:09.087"," 00:14:21.932",489,39]
[100391955,13,521,{"$f":"VLOOKUP(F1333,Sheet3!$D$3:$E$91,2,FALSE)","v":2},"EVAN NOWLIN","Benilde St Margaret","Varsity Boys",null,100391955,3,4," 00:00:00.000"," 00:57:41.088"," 00:14:50.680"," 00:14:05.915"," 00:14:09.123"," 00:14:35.370",483,38]
[100390626,14,514,{"$f":"VLOOKUP(F1334,Sheet3!$D$3:$E$91,2,FALSE)","v":1},"NOAH GUINEE","Bloomington Jefferson","Varsity Boys",null,100390626,4,4," 00:00:00.000"," 00:58:33.451"," 00:15:03.673"," 00:14:21.665"," 00:14:36.911"," 00:14:31.202",477,37]
[100390646,15,507,{"$f":"VLOOKUP(F1335,Sheet3!$D$3:$E$91,2,FALSE)","v":2},"KARL HAALAND","Highland Park St Paul","Varsity Boys",null,100390646,21,4," 00:00:00.000"," 00:58:33.984"," 00:14:55.105"," 00:14:30.576"," 00:14:29.659"," 00:14:38.644",471,36]
[100392102,16,500,{"$f":"VLOOKUP(F1336,Sheet3!$D$3:$E$91,2,FALSE)","v":2},"GRAEME PEARSON","Hudson High School","Varsity Boys",null,100392102,27,4," 00:00:00.000"," 00:58:41.576"," 00:15:37.697"," 00:14:30.587"," 00:14:12.045"," 00:14:21.247",465,35]
[100389385,17,494,{"$f":"VLOOKUP(F1337,Sheet3!$D$3:$E$91,2,FALSE)","v":1},"LIAM ADAMS","Stillwater Mountain Bike","Varsity Boys",null,100389385,52,4," 00:00:00.000"," 00:58:49.260"," 00:15:31.238"," 00:14:38.234"," 00:14:26.237"," 00:14:13.551",460,34]
[100392260,18,488,{"$f":"VLOOKUP(F1338,Sheet3!$D$3:$E$91,2,FALSE)","v":1},"JACK RALSTON","Stillwater Mountain Bike","Varsity Boys",null,100392260,57,4," 00:00:00.000"," 00:58:51.383"," 00:15:03.021"," 00:14:25.125"," 00:14:40.169"," 00:14:43.068",455,33]
[100431756,19,482,{"$f":"VLOOKUP(F1339,Sheet3!$D$3:$E$91,2,FALSE)","v":1},"CARL MORSE","Duluth East High School","Varsity Boys",null,100431756,17,4," 00:00:00.000"," 00:59:26.913"," 00:15:15.438"," 00:14:34.753"," 00:14:45.930"," 00:14:50.792",450,32]
[100391885,20,476,{"$f":"VLOOKUP(F1340,Sheet3!$D$3:$E$91,2,FALSE)","v":1},"GRIFFIN NELSON","Edina Cycling","Varsity Boys",null,100391885,19,4," 00:00:00.000"," 00:59:28.855"," 00:15:35.848"," 00:14:49.911"," 00:14:25.027"," 00:14:38.069",445,31]
[100391911,21,470,{"$f":"VLOOKUP(F1341,Sheet3!$D$3:$E$91,2,FALSE)","v":1},"AIDEN NICHOLAS","Burnsville High School","Varsity Boys",null,100391911,9,4," 00:00:00.000"," 00:59:28.884"," 00:15:37.652"," 00:14:47.743"," 00:14:32.812"," 00:14:30.677",440,30]
[100391725,22,464,{"$f":"VLOOKUP(F1342,Sheet3!$D$3:$E$91,2,FALSE)","v":2},"CHARLES MEYER","St. Paul Composite - South","Varsity Boys",null,100391725,51,4," 00:00:00.000"," 00:59:31.006"," 00:15:38.371"," 00:14:47.994"," 00:14:24.753"," 00:14:39.888",435,29]
[100392880,23,459,{"$f":"VLOOKUP(F1343,Sheet3!$D$3:$E$91,2,FALSE)","v":1},"OSCAR TIX","Hopkins High School","Varsity Boys",null,100392880,26,4," 00:00:00.000"," 00:59:38.453"," 00:15:45.197"," 00:14:40.986"," 00:14:24.287"," 00:14:47.983",431,28]
[100389946,24,454,{"$f":"VLOOKUP(F1344,Sheet3!$D$3:$E$91,2,FALSE)","v":1},"JORDAN CHOPSKIE","Cloquet-Esko-Carlton","Varsity Boys",null,100389946,13,4," 00:00:00.000"," 00:59:45.470"," 00:15:27.228"," 00:14:49.038"," 00:14:43.734"," 00:14:45.470",427,27]
[100391644,25,449,{"$f":"VLOOKUP(F1345,Sheet3!$D$3:$E$91,2,FALSE)","v":2},"PATRICK MCCAULEY","Rochester Mayo","Varsity Boys",null,100391644,49,4," 00:00:00.000"," 01:00:05.019"," 00:15:32.183"," 00:14:35.241"," 00:14:53.762"," 00:15:03.833",423,26]
[100391266,26,444,{"$f":"VLOOKUP(F1346,Sheet3!$D$3:$E$91,2,FALSE)","v":1},"ALEX KRAWZA","Prior Lake High School","Varsity Boys",null,100391266,44,4," 00:00:00.000"," 01:00:45.501"," 00:16:10.327"," 00:14:57.268"," 00:14:52.987"," 00:14:44.919",419,25]
[100391392,27,439,{"$f":"VLOOKUP(F1347,Sheet3!$D$3:$E$91,2,FALSE)","v":1},"EVERETT LAUER","Stillwater Mountain Bike","Varsity Boys",null,100391392,55,4," 00:00:00.000"," 01:00:49.962"," 00:16:02.465"," 00:14:57.018"," 00:14:43.045"," 00:15:07.434",415,24]
[100391561,28,{"$f":"+S1348+R1348","v":434},{"$f":"VLOOKUP(F1348,Sheet3!$D$3:$E$91,2,FALSE)","v":1},"LOGAN MAKOWSKI","Stillwater Mountain Bike","Varsity Boys",null,100391561,56,4," 00:00:00.000"," 01:00:50.093"," 00:15:58.591"," 00:15:00.425"," 00:14:45.020"," 00:15:06.057",411,23]
[100392162,29,429,{"$f":"VLOOKUP(F1349,Sheet3!$D$3:$E$91,2,FALSE)","v":1},"WYATT PETERSON","Burnsville High School","Varsity Boys",null,100392162,10,4," 00:00:00.000"," 01:01:09.436"," 00:16:02.987"," 00:15:02.698"," 00:15:08.466"," 00:14:55.285",407,22]
[100391809,30,425,{"$f":"VLOOKUP(F1350,Sheet3!$D$3:$E$91,2,FALSE)","v":1},"TEGAN MOORE","Prior Lake High School","Varsity Boys",null,100391809,46,4," 00:00:00.000"," 01:01:23.815"," 00:15:59.945"," 00:15:02.044"," 00:15:01.888"," 00:15:19.938",404,21]
[100424591,31,421,{"$f":"VLOOKUP(F1351,Sheet3!$D$3:$E$91,2,FALSE)","v":2},"GAVIN MOORMANN","St Michael / Albertville Composite","Varsity Boys",null,100424591,67,4," 00:00:00.000"," 01:01:25.466"," 00:15:51.276"," 00:15:06.626"," 00:15:13.098"," 00:15:14.466",401,20]
[100391178,32,417,{"$f":"VLOOKUP(F1352,Sheet3!$D$3:$E$91,2,FALSE)","v":1},"EMMETT KEPLER","Minneapolis Southwest","Varsity Boys",null,100391178,38,4," 00:00:00.000"," 01:01:27.041"," 00:15:58.588"," 00:15:02.893"," 00:15:01.742"," 00:15:23.818",398,19]
[100390788,33,413,{"$f":"VLOOKUP(F1353,Sheet3!$D$3:$E$91,2,FALSE)","v":2},"JESSE HEIM","Minneapolis South High","Varsity Boys",null,100390788,35,4," 00:00:00.000"," 01:01:27.113"," 00:15:57.813"," 00:15:03.340"," 00:15:01.809"," 00:15:24.151",395,18]
[100390888,34,409,{"$f":"VLOOKUP(F1354,Sheet3!$D$3:$E$91,2,FALSE)","v":2},"THEO HOLDSWORTH","Minneapolis South High","Varsity Boys",null,100390888,66,4," 00:00:00.000"," 01:01:30.071"," 00:15:46.349"," 00:14:48.827"," 00:15:19.647"," 00:15:35.248",392,17]
[100391478,35,405,{"$f":"VLOOKUP(F1355,Sheet3!$D$3:$E$91,2,FALSE)","v":1},"PARKER LINN","Brainerd High School","Varsity Boys",null,100391478,7,4," 00:00:00.000"," 01:01:47.365"," 00:15:58.659"," 00:15:04.931"," 00:15:10.823"," 00:15:32.952",389,16]
[100392016,36,401,{"$f":"VLOOKUP(F1356,Sheet3!$D$3:$E$91,2,FALSE)","v":2},"JACOB T OLSON","Northwest Composite","Varsity Boys",null,100392016,42,4," 00:00:00.000"," 01:02:03.996"," 00:15:53.933"," 00:15:18.874"," 00:15:23.165"," 00:15:28.024",386,15]
[100391616,37,397,{"$f":"VLOOKUP(F1357,Sheet3!$D$3:$E$91,2,FALSE)","v":2},"TOBY MARTIN-KOHLS","Highland Park St Paul","Varsity Boys",null,100391616,22,4," 00:00:00.000"," 01:02:05.257","00:15:32","00:15:31.700"," 00:15:22.084"," 00:15:39.432",383,14]
[100432661,38,394,{"$f":"VLOOKUP(F1358,Sheet3!$D$3:$E$91,2,FALSE)","v":1},"SAM BAILEY","Duluth East High School","Varsity Boys",null,100432661,63,4," 00:00:00.000"," 01:03:29.412"," 00:16:02.268"," 00:15:20.592"," 00:15:55.850"," 00:16:10.702",381,13]
[100390651,39,391,{"$f":"VLOOKUP(F1359,Sheet3!$D$3:$E$91,2,FALSE)","v":1},"BRADLEY HACHEY","Crosby-Ironton High School","Varsity Boys",null,100390651,15,4," 00:00:00.000"," 01:03:49.476"," 00:16:22.562"," 00:15:45.609"," 00:16:11.794"," 00:15:29.511",379,12]
[100393023,40,388,{"$f":"VLOOKUP(F1360,Sheet3!$D$3:$E$91,2,FALSE)","v":2},"BLAKE WAKELING","St Croix Composite","Varsity Boys",null,100393023,50,4," 00:00:00.000"," 01:04:00.373"," 00:16:07.183"," 00:16:01.837"," 00:16:11.951"," 00:15:39.402",377,11]
[100391237,41,385,{"$f":"VLOOKUP(F1361,Sheet3!$D$3:$E$91,2,FALSE)","v":1},"CHARLIE KOELZER","Stillwater Mountain Bike","Varsity Boys",null,100391237,53,4," 00:00:00.000"," 01:04:25.767"," 00:16:20.557"," 00:15:47.996"," 00:16:11.943"," 00:16:05.271",375,10]
[100392869,42,382,{"$f":"VLOOKUP(F1362,Sheet3!$D$3:$E$91,2,FALSE)","v":1},"JOEL TIBBS","Minneapolis Southwest","Varsity Boys",null,100392869,68,4," 00:00:00.000"," 01:04:46.832"," 00:16:59.773"," 00:15:59.437"," 00:16:11.468"," 00:15:36.154",373,9]
[100390439,43,379,{"$f":"VLOOKUP(F1363,Sheet3!$D$3:$E$91,2,FALSE)","v":2},"JOSH FRETT","Breck/Blake","Varsity Boys",null,100390439,1,4," 00:00:00.000"," 01:05:45.345"," 00:16:26.994"," 00:16:10.679"," 00:16:24.900"," 00:16:42.772",371,8]
[100391173,44,376,{"$f":"VLOOKUP(F1364,Sheet3!$D$3:$E$91,2,FALSE)","v":1},"SETH KENNEDY","Chanhassen High School","Varsity Boys",null,100391173,65,4," 00:00:00.000"," 01:05:47.985"," 00:16:55.949"," 00:16:14.995"," 00:16:26.272"," 00:16:10.769",369,7]
[100393235,45,373,{"$f":"VLOOKUP(F1365,Sheet3!$D$3:$E$91,2,FALSE)","v":1},"HAYDEN ZOLL","Lakeville North High School","Varsity Boys",null,100393235,29,4," 00:00:00.000"," 01:06:21.692"," 00:16:54.886"," 00:16:19.221"," 00:16:24.417"," 00:16:43.168",367,6]
[100390560,46,370,{"$f":"VLOOKUP(F1366,Sheet3!$D$3:$E$91,2,FALSE)","v":1},"JOHN GOETTL","Burnsville High School","Varsity Boys",null,100390560,64,4," 00:00:00.000"," 01:08:56.164"," 00:16:55.282"," 00:16:06.658"," 00:17:12.287"," 00:18:41.937",365,5]
[100391735,47,368,{"$f":"VLOOKUP(F1367,Sheet3!$D$3:$E$91,2,FALSE)","v":2},"WALTER MICHELS","Mankato West High School","Varsity Boys",null,100391735,32,4," 00:00:00.000"," 01:14:52.800"," 00:18:03.568"," 00:18:30.061"," 00:18:48.498"," 00:19:30.673",364,4]
[100390961,48,366,{"$f":"VLOOKUP(F1368,Sheet3!$D$3:$E$91,2,FALSE)","v":1},"RILEY HUSEBY","New Prague Middle and High School","Varsity Boys","Bike Swap",100390961,39,4," 00:20:00.000"," 01:29:54.415"," 00:20:42.471"," 00:16:07.567"," 00:16:37.476"," 00:16:26.901",363,3]
[100390954,49,364,{"$f":"VLOOKUP(F1369,Sheet3!$D$3:$E$91,2,FALSE)","v":1},"PARKER HUNT","Minneapolis Southwest","Varsity Boys","-1 LAP",100390954,37,3," 00:00:00.000"," 00:54:47.228"," 00:22:15.068"," 00:16:02.907"," 00:16:29.253",null,362,2]
[100392978,50,362,{"$f":"VLOOKUP(F1370,Sheet3!$D$3:$E$91,2,FALSE)","v":1},"OWEN VANHEUVELN","Edina Cycling","Varsity Boys","-1 LAP",100392978,20,3," 00:00:00.000"," 01:03:03.751"," 00:27:56.801"," 00:17:16.616"," 00:17:50.334",null,361,1]
[100389595,51,361,{"$f":"VLOOKUP(F1371,Sheet3!$D$3:$E$91,2,FALSE)","v":1},"SAM BELL","Edina Cycling","Varsity Boys","Bike Swap / -1 LAP",100389595,18,3," 00:10:00.000"," 01:15:55.089"," 00:15:50.078"," 00:28:25.428"," 00:21:39.583",null,360,1]
[100391124,52,0,{"$f":"VLOOKUP(F1372,Sheet3!$D$3:$E$91,2,FALSE)","v":1},"AIDEN JUREK","Washburn High School","Varsity Boys","DNF",100391124,60,3," 00:00:00.000"," 00:46:25.177"," 00:16:02.205"," 00:15:02.570"," 00:15:20.402",null,0,0]
[100429138,53,0,{"$f":"VLOOKUP(F1373,Sheet3!$D$3:$E$91,2,FALSE)","v":2},"ETHANM LUNDBERG","Northwest Composite","Varsity Boys","DNF",100429138,41,3," 00:00:00.000"," 00:50:01.929"," 00:15:54.705"," 00:15:17.625"," 00:18:49.599",null,0,0]
[100391465,54,0,{"$f":"VLOOKUP(F1374,Sheet3!$D$3:$E$91,2,FALSE)","v":2},"JACK LIISTE","Totino Grace High School","Varsity Boys","DNF",100391465,58,1," 00:00:00.000"," 00:22:09.690"," 00:22:09.690",null,null,null,0,0]
[100390737,1,625,{"$f":"VLOOKUP(F1375,Sheet3!$D$3:$E$91,2,FALSE)","v":1},"ELIN HARTMANN","Edina Cycling","Varsity Girls",null,100390737,510,4," 00:00:00.000"," 01:05:00.635"," 00:16:24.328"," 00:16:59.302"," 00:15:44.478"," 00:15:52.527",575,50]
[100393059,2,614,{"$f":"VLOOKUP(F1376,Sheet3!$D$3:$E$91,2,FALSE)","v":1},"LILY WARD","Stillwater Mountain Bike","Varsity Girls",null,100393059,519,4," 00:00:00.000"," 01:06:08.519"," 00:17:09.351"," 00:16:09.140"," 00:16:19.278"," 00:16:30.750",565,49]
[100391636,3,604,{"$f":"VLOOKUP(F1377,Sheet3!$D$3:$E$91,2,FALSE)","v":1},"ISABELLA MAZION","Edina Cycling","Varsity Girls",null,100391636,511,4," 00:00:00.000"," 01:06:48.536"," 00:17:10.926"," 00:16:19.073"," 00:16:30.406"," 00:16:48.131",556,48]
[100389992,4,594,{"$f":"VLOOKUP(F1378,Sheet3!$D$3:$E$91,2,FALSE)","v":1},"LEAH COLEMAN","Duluth East High School","Varsity Girls",null,100389992,507,4," 00:00:00.000"," 01:08:04.173"," 00:17:37.560"," 00:16:44.507"," 00:16:50.585"," 00:16:51.521",547,47]
[100390657,5,585,{"$f":"VLOOKUP(F1379,Sheet3!$D$3:$E$91,2,FALSE)","v":1},"LAYLA HAGELIN","Cloquet-Esko-Carlton","Varsity Girls",null,100390657,506,4," 00:00:00.000"," 01:08:18.544"," 00:17:15.381"," 00:16:50.999"," 00:17:06.614"," 00:17:05.550",539,46]
[100392414,6,576,{"$f":"VLOOKUP(F1380,Sheet3!$D$3:$E$91,2,FALSE)","v":1},"ADDIE RYAN","Brainerd High School","Varsity Girls",null,100392414,501,4," 00:00:00.000"," 01:08:31.380"," 00:17:10.242"," 00:16:58.863"," 00:17:05.447"," 00:17:16.828",531,45]
[100391263,7,567,{"$f":"VLOOKUP(F1381,Sheet3!$D$3:$E$91,2,FALSE)","v":1},"THEA KRAMER","Duluth East High School","Varsity Girls",null,100391263,508,4," 00:00:00.000"," 01:09:35.883"," 00:17:49.642"," 00:17:14.679"," 00:17:17.779"," 00:17:13.783",523,44]
[100390645,8,559,{"$f":"VLOOKUP(F1382,Sheet3!$D$3:$E$91,2,FALSE)","v":1},"CAROLINE HAAG","Bloomington Jefferson","Varsity Girls",null,100390645,502,4," 00:00:00.000"," 01:10:05.760"," 00:17:55.646"," 00:17:15.031"," 00:17:26.573"," 00:17:28.510",516,43]
[100392748,9,551,{"$f":"VLOOKUP(F1383,Sheet3!$D$3:$E$91,2,FALSE)","v":1},"SHELBY STOBBE","Minnetonka High School","Varsity Girls",null,100392748,514,4," 00:00:00.000"," 01:10:54.608"," 00:17:09.895"," 00:18:02.621"," 00:17:50.992"," 00:17:51.100",509,42]
[100392489,10,543,{"$f":"VLOOKUP(F1384,Sheet3!$D$3:$E$91,2,FALSE)","v":1},"MAISY SCHEUNEMAN","Burnsville High School","Varsity Girls",null,100392489,503,4," 00:00:00.000"," 01:13:40.420"," 00:18:26.370"," 00:17:53.993"," 00:18:43.027"," 00:18:37.030",502,41]
[100390923,11,535,{"$f":"VLOOKUP(F1385,Sheet3!$D$3:$E$91,2,FALSE)","v":1},"NATALIE HORECK","Winona","Varsity Girls",null,100390923,521,4," 00:00:00.000"," 01:13:40.472"," 00:18:04.622"," 00:17:44.496"," 00:18:34.256"," 00:19:17.098",495,40]
[100391864,12,528,{"$f":"VLOOKUP(F1386,Sheet3!$D$3:$E$91,2,FALSE)","v":1},"ASTRID MYHRE","Washburn High School","Varsity Girls",null,100391864,520,4," 00:00:00.000"," 01:14:58.481"," 00:18:54.142"," 00:18:40.784"," 00:18:36.623"," 00:18:46.932",489,39]
[100389503,13,521,{"$f":"VLOOKUP(F1387,Sheet3!$D$3:$E$91,2,FALSE)","v":1},"GRACE ATTERSON","Chaska High School","Varsity Girls",null,100389503,505,4," 00:00:00.000"," 01:16:06.830"," 00:18:40.306"," 00:19:26.661"," 00:18:45.822"," 00:19:14.041",483,38]
[100389844,14,514,{"$f":"VLOOKUP(F1388,Sheet3!$D$3:$E$91,2,FALSE)","v":2},"MAYSA BURNAM","Hudson High School","Varsity Girls",null,100389844,513,4," 00:00:00.000"," 01:26:31.455"," 00:21:07.521"," 00:21:54.124"," 00:21:27.095"," 00:22:02.715",477,37]
[100392873,15,507,{"$f":"VLOOKUP(F1389,Sheet3!$D$3:$E$91,2,FALSE)","v":1},"OLIVIA TILBURY","Burnsville High School","Varsity Girls","Bike Swap",100392873,504,4," 00:10:00.000"," 01:29:30.374"," 00:23:47.211"," 00:18:20.781"," 00:18:28.130"," 00:18:54.252",471,36]
[100392485,16,500,{"$f":"VLOOKUP(F1390,Sheet3!$D$3:$E$91,2,FALSE)","v":1},"SELAH SCHERMAN","New Prague Middle and High School","Varsity Girls","Bike Swap",100392485,515,4," 00:10:00.000"," 01:31:06.352"," 00:21:00.427"," 00:19:36.647"," 00:21:15.477"," 00:19:13.801",465,35]
[100391413,17,494,{"$f":"VLOOKUP(F1391,Sheet3!$D$3:$E$91,2,FALSE)","v":1},"CHLOE LEEGE","Duluth East High School","Varsity Girls","Bike Swap ",100391413,509,4," 00:10:00.000"," 01:44:45.474"," 00:26:49.714"," 00:19:19.000"," 00:24:08.592"," 00:24:28.168",460,34]

{"sheet":"Sheet3","index":1,"n_rows":1390,"n_cols":11,"rows_kept":1390,"cut":false,"hidden":false,"merged":[]}
[]
[null,null,null,"Team","Div",null,"Team","Div",null,"Team","Div"]
[null,"Cloquet-Esko-Carlton",null,{"$f":"B3","v":"Cloquet-Esko-Carlton"},{"$f":"VLOOKUP(D3,Divisions!$P$4:$Q$95,2,FALSE)","v":1},null,"Alexandria Area Youth Cycling",1,null,"Apple Valley High School",2]
[null,"Rock Ridge Composite",null,{"$f":"nextUnique($B$3:$B$1390,$D$3:D3)","v":"Rock Ridge Composite"},{"$f":"VLOOKUP(D4,Divisions!$P$4:$Q$95,2,FALSE)","v":1},null,"Armstrong Cycle",1,null,"Austin High School",2]
[null,"Minnetonka High School",null,{"$f":"nextUnique($B$3:$B$1390,$D$3:D4)","v":"Minnetonka High School"},{"$f":"VLOOKUP(D5,Divisions!$P$4:$Q$95,2,FALSE)","v":1},null,"Bloomington Jefferson",1,null,"Bemidji Composite",2]
[null,"Stillwater Mountain Bike",null,{"$f":"nextUnique($B$3:$B$1390,$D$3:D5)","v":"Stillwater Mountain Bike"},{"$f":"VLOOKUP(D6,Divisions!$P$4:$Q$95,2,FALSE)","v":1},null,"Brainerd High School",1,null,"Benilde St Margaret",2]
[null,"Cloquet-Esko-Carlton",null,{"$f":"nextUnique($B$3:$B$1390,$D$3:D6)","v":"East Ridge High School"},{"$f":"VLOOKUP(D7,Divisions!$P$4:$Q$95,2,FALSE)","v":1},null,"Burnsville High School",1,null,"Bloomington Composite",2]
[null,"East Ridge High School",null,{"$f":"nextUnique($B$3:$B$1390,$D$3:D7)","v":"Brainerd High School"},{"$f":"VLOOKUP(D8,Divisions!$P$4:$Q$95,2,FALSE)","v":1},null,"Champlin Park High School",1,null,"Borealis Composite",2]
[null,"East Ridge High School",null,{"$f":"nextUnique($B$3:$B$1390,$D$3:D8)","v":"Crosby-Ironton High School"},{"$f":"VLOOKUP(D9,Divisions!$P$4:$Q$95,2,FALSE)","v":1},null,"Chanhassen High School",1,null,"Breck/Blake",2]
[null,"East Ridge High School",null,{"$f":"nextUnique($B$3:$B$1390,$D$3:D9)","v":"Edina Cycling"},{"$f":"VLOOKUP(D10,Divisions!$P$4:$Q$95,2,FALSE)","v":1},null,"Chaska High School",1,null,"Cannon Valley Composite",2]
[null,"Cloquet-Esko-Carlton",null,{"$f":"nextUnique($B$3:$B$1390,$D$3:D10)","v":"Chaska High School"},{"$f":"VLOOKUP(D11,Divisions!$P$4:$Q$95,2,FALSE)","v":1},null,"Cloquet-Esko-Carlton",1,null,"Chisago Lakes Composite",2]
[null,"Brainerd High School",null,{"$f":"nextUnique($B$3:$B$1390,$D$3:D11)","v":"Burnsville High School"},{"$f":"VLOOKUP(D12,Divisions!$P$4:$Q$95,2,FALSE)","v":1},null,"Crosby-Ironton High School",1,null,"Duluth Composite",2]
[null,"East Ridge High School",null,{"$f":"nextUnique($B$3:$B$1390,$D$3:D12)","v":"Wayzata Mountain Bike"},{"$f":"VLOOKUP(D13,Divisions!$P$4:$Q$95,2,FALSE)","v":1},null,"Duluth East High School",1,null,"Eagan High School",2]
[null,"Stillwater Mountain Bike",null,{"$f":"nextUnique($B$3:$B$1390,$D$3:D13)","v":"Lakeville North High School"},{"$f":"VLOOKUP(D14,Divisions!$P$4:$Q$95,2,FALSE)","v":1},null,"East Ridge High School",1,null,"Eastview High School",2]
[null,"Crosby-Ironton High School",null,{"$f":"nextUnique($B$3:$B$1390,$D$3:D14)","v":"Champlin Park High School"},{"$f":"VLOOKUP(D15,Divisions!$P$4:$Q$95,2,FALSE)","v":1},null,"Edina Cycling",1,null,"Eden Prairie High School",2]
[null,"Edina Cycling",null,{"$f":"nextUnique($B$3:$B$1390,$D$3:D15)","v":"Armstrong Cycle"},{"$f":"VLOOKUP(D16,Divisions!$P$4:$Q$95,2,FALSE)","v":1},null,"Hopkins High School",1,null,"Elk River Composite",2]
[null,"Chaska High School",null,{"$f":"nextUnique($B$3:$B$1390,$D$3:D16)","v":"Minneapolis Southwest"},{"$f":"VLOOKUP(D17,Divisions!$P$4:$Q$95,2,FALSE)","v":1},null,"Lakeville North High School",1,null,"Hastings Area Composite",2]
[null,"Burnsville High School",null,{"$f":"nextUnique($B$3:$B$1390,$D$3:D17)","v":"Shakopee High School"},{"$f":"VLOOKUP(D18,Divisions!$P$4:$Q$95,2,FALSE)","v":1},null,"Minneapolis Southwest",1,null,"Hermantown-Proctor",2]
[null,"Wayzata Mountain Bike",null,{"$f":"nextUnique($B$3:$B$1390,$D$3:D18)","v":"New Prague Middle and High School"},{"$f":"VLOOKUP(D19,Divisions!$P$4:$Q$95,2,FALSE)","v":1},null,"Minnetonka High School",1,null,"Highland Park St Paul",2]
[null,"Lakeville North High School",null,{"$f":"nextUnique($B$3:$B$1390,$D$3:D19)","v":"Washburn High School"},{"$f":"VLOOKUP(D20,Divisions!$P$4:$Q$95,2,FALSE)","v":1},null,"Mounds View High School",1,null,"Hudson High School",2]
[null,"Rock Ridge Composite",null,{"$f":"nextUnique($B$3:$B$1390,$D$3:D20)","v":"Mounds View High School"},{"$f":"VLOOKUP(D21,Divisions!$P$4:$Q$95,2,FALSE)","v":1},null,"New Prague Middle and High School",1,null,"Hutchinson High School",2]
[null,"Champlin Park High School",null,{"$f":"nextUnique($B$3:$B$1390,$D$3:D21)","v":"St Cloud Area Composite"},{"$f":"VLOOKUP(D22,Divisions!$P$4:$Q$95,2,FALSE)","v":2},null,"Prior Lake High School",1,null,"Irondale High School",2]
[null,"Minnetonka High School",null,{"$f":"nextUnique($B$3:$B$1390,$D$3:D22)","v":"Orono High School"},{"$f":"VLOOKUP(D23,Divisions!$P$4:$Q$95,2,FALSE)","v":2},null,"Rochester Century High School",1,null,"Kerkhoven Composite",2]
[null,"Armstrong Cycle",null,{"$f":"nextUnique($B$3:$B$1390,$D$3:D23)","v":"Osseo Composite"},{"$f":"VLOOKUP(D24,Divisions!$P$4:$Q$95,2,FALSE)","v":2},null,"Rock Ridge Composite",1,null,"Lakeville South High School",2]
[null,"Minneapolis Southwest",null,{"$f":"nextUnique($B$3:$B$1390,$D$3:D24)","v":"St Louis Park High School"},{"$f":"VLOOKUP(D25,Divisions!$P$4:$Q$95,2,FALSE)","v":2},null,"Shakopee High School",1,null,"Mahtomedi High School",2]
[null,"Minneapolis Southwest",null,{"$f":"nextUnique($B$3:$B$1390,$D$3:D25)","v":"St Paul Central"},{"$f":"VLOOKUP(D26,Divisions!$P$4:$Q$95,2,FALSE)","v":2},null,"Stillwater Mountain Bike",1,null,"Mankato Composite",2]
[null,"Shakopee High School",null,{"$f":"nextUnique($B$3:$B$1390,$D$3:D26)","v":"Hudson High School"},{"$f":"VLOOKUP(D27,Divisions!$P$4:$Q$95,2,FALSE)","v":2},null,"Washburn High School",1,null,"Mankato West High School",2]
[null,"Minnetonka High School",null,{"$f":"nextUnique($B$3:$B$1390,$D$3:D27)","v":"Minnesota Valley Composite"},{"$f":"VLOOKUP(D28,Divisions!$P$4:$Q$95,2,FALSE)","v":2},null,"Wayzata Mountain Bike",1,null,"Maple Grove High School",2]
[null,"Brainerd High School",null,{"$f":"nextUnique($B$3:$B$1390,$D$3:D28)","v":"Breck/Blake"},2,null,"White Bear Lake High School",1,null,"Minneapolis Henry High School",2]
[null,"New Prague Middle and High School",null,{"$f":"nextUnique($B$3:$B$1390,$D$3:D29)","v":"Highland Park St Paul"},{"$f":"VLOOKUP(D30,Divisions!$P$4:$Q$95,2,FALSE)","v":2},null,"Winona",1,null,"Minneapolis Northside Composite",2]
[null,"Wayzata Mountain Bike",null,{"$f":"nextUnique($B$3:$B$1390,$D$3:D30)","v":"St Michael / Albertville Composite"},{"$f":"VLOOKUP(D31,Divisions!$P$4:$Q$95,2,FALSE)","v":2},null,null,null,null,"Minneapolis South High",2]
[null,"Minneapolis Southwest",null,{"$f":"nextUnique($B$3:$B$1390,$D$3:D31)","v":"Borealis Composite"},{"$f":"VLOOKUP(D32,Divisions!$P$4:$Q$95,2,FALSE)","v":2},null,null,null,null,"Minneapolis Southside Composite",2]
[null,"Wayzata Mountain Bike",null,{"$f":"nextUnique($B$3:$B$1390,$D$3:D32)","v":"Totino Grace High School"},{"$f":"VLOOKUP(D33,Divisions!$P$4:$Q$95,2,FALSE)","v":2},null,null,null,null,"Minnesota Valley Composite",2]
[null,"Wayzata Mountain Bike",null,{"$f":"nextUnique($B$3:$B$1390,$D$3:D33)","v":"Chisago Lakes Composite"},{"$f":"VLOOKUP(D34,Divisions!$P$4:$Q$95,2,FALSE)","v":2},null,null,null,null,"Mound Westonka Composite",2]
[null,"Washburn High School",null,{"$f":"nextUnique($B$3:$B$1390,$D$3:D34)","v":"Roosevelt High School"},{"$f":"VLOOKUP(D35,Divisions!$P$4:$Q$95,2,FALSE)","v":2},null,null,null,null,"North Dakota Composite",2]
[null,"Stillwater Mountain Bike",null,{"$f":"nextUnique($B$3:$B$1390,$D$3:D35)","v":"Mahtomedi High School"},{"$f":"VLOOKUP(D36,Divisions!$P$4:$Q$95,2,FALSE)","v":2},null,null,null,null,"North Dakota Kindred Composite",2]
[null,"Shakopee High School",null,{"$f":"nextUnique($B$3:$B$1390,$D$3:D36)","v":"Rogers High School"},{"$f":"VLOOKUP(D37,Divisions!$P$4:$Q$95,2,FALSE)","v":2},null,null,null,null,"Northwest Composite",2]
[null,"Rock Ridge Composite",null,{"$f":"nextUnique($B$3:$B$1390,$D$3:D37)","v":"St. Paul Composite - North"},{"$f":"VLOOKUP(D38,Divisions!$P$4:$Q$95,2,FALSE)","v":2},null,null,null,null,"Orono High School",2]
[null,"Rock Ridge Composite",null,{"$f":"nextUnique($B$3:$B$1390,$D$3:D38)","v":"Tioga Trailblazers"},{"$f":"VLOOKUP(D39,Divisions!$P$4:$Q$95,2,FALSE)","v":2},null,null,null,null,"Osseo",2]
[null,"New Prague Middle and High School",null,{"$f":"nextUnique($B$3:$B$1390,$D$3:D39)","v":"St. Paul Composite - South"},{"$f":"VLOOKUP(D40,Divisions!$P$4:$Q$95,2,FALSE)","v":2},null,null,null,null,"Osseo Composite",2]
[null,"Rock Ridge Composite",null,{"$f":"nextUnique($B$3:$B$1390,$D$3:D40)","v":"Maple Grove High School"},{"$f":"VLOOKUP(D41,Divisions!$P$4:$Q$95,2,FALSE)","v":2},null,null,null,null,"Park High School",2]
[null,"Wayzata Mountain Bike",null,{"$f":"nextUnique($B$3:$B$1390,$D$3:D41)","v":"Elk River Composite"},{"$f":"VLOOKUP(D42,Divisions!$P$4:$Q$95,2,FALSE)","v":2},null,null,null,null,"River Falls High School",2]
[null,"Minnetonka High School",null,{"$f":"nextUnique($B$3:$B$1390,$D$3:D42)","v":"Alexandria Area Youth Cycling"},{"$f":"VLOOKUP(D43,Divisions!$P$4:$Q$95,2,FALSE)","v":1},null,null,null,null,"Rochester Area Composite",2]
[null,"Lakeville North High School",null,{"$f":"nextUnique($B$3:$B$1390,$D$3:D43)","v":"Prior Lake High School"},{"$f":"VLOOKUP(D44,Divisions!$P$4:$Q$95,2,FALSE)","v":1},null,null,null,null,"Rochester John Marshall",2]
[null,"Minneapolis Southwest",null,{"$f":"nextUnique($B$3:$B$1390,$D$3:D44)","v":"Woodbury Composite"},{"$f":"VLOOKUP(D45,Divisions!$P$4:$Q$95,2,FALSE)","v":2},null,null,null,null,"Rochester Mayo",2]
[null,"Wayzata Mountain Bike",null,{"$f":"nextUnique($B$3:$B$1390,$D$3:D45)","v":"Hastings Area Composite"},{"$f":"VLOOKUP(D46,Divisions!$P$4:$Q$95,2,FALSE)","v":2},null,null,null,null,"Rockford Composite",2]
[null,"Minnetonka High School",null,{"$f":"nextUnique($B$3:$B$1390,$D$3:D46)","v":"River Falls High School"},{"$f":"VLOOKUP(D47,Divisions!$P$4:$Q$95,2,FALSE)","v":2},null,null,null,null,"Rogers High School",2]
[null,"Burnsville High School",null,{"$f":"nextUnique($B$3:$B$1390,$D$3:D47)","v":"Hopkins High School"},{"$f":"VLOOKUP(D48,Divisions!$P$4:$Q$95,2,FALSE)","v":1},null,null,null,null,"Roosevelt High School",2]
[null,"Mounds View High School",null,{"$f":"nextUnique($B$3:$B$1390,$D$3:D48)","v":"Chanhassen High School"},{"$f":"VLOOKUP(D49,Divisions!$P$4:$Q$95,2,FALSE)","v":1},null,null,null,null,"Rosemount High School",2]
[null,"Wayzata Mountain Bike",null,{"$f":"nextUnique($B$3:$B$1390,$D$3:D49)","v":"Bloomington Jefferson"},{"$f":"VLOOKUP(D50,Divisions!$P$4:$Q$95,2,FALSE)","v":1},null,null,null,null,"Roseville Area Composite",2]
[null,"Stillwater Mountain Bike",null,{"$f":"nextUnique($B$3:$B$1390,$D$3:D50)","v":"Rochester Century High School"},{"$f":"VLOOKUP(D51,Divisions!$P$4:$Q$95,2,FALSE)","v":1},null,null,null,null,"Spectrum High School",2]
[null,"St Cloud Area Composite",null,{"$f":"nextUnique($B$3:$B$1390,$D$3:D51)","v":"White Bear Lake High School"},{"$f":"VLOOKUP(D52,Divisions!$P$4:$Q$95,2,FALSE)","v":1},null,null,null,null,"St Cloud Area Composite",2]
[null,"Orono High School",null,{"$f":"nextUnique($B$3:$B$1390,$D$3:D52)","v":"Winona"},{"$f":"VLOOKUP(D53,Divisions!$P$4:$Q$95,2,FALSE)","v":1},null,null,null,null,"St Croix Composite",2]
[null,"Osseo Composite",null,{"$f":"nextUnique($B$3:$B$1390,$D$3:D53)","v":"Rosemount High School"},{"$f":"VLOOKUP(D54,Divisions!$P$4:$Q$95,2,FALSE)","v":2},null,null,null,null,"St Louis Park High School",2]
[null,"St Louis Park High School",null,{"$f":"nextUnique($B$3:$B$1390,$D$3:D54)","v":"Eden Prairie High School"},{"$f":"VLOOKUP(D55,Divisions!$P$4:$Q$95,2,FALSE)","v":2},null,null,null,null,"St Michael / Albertville Composite",2]
[null,"St Paul Central",null,{"$f":"nextUnique($B$3:$B$1390,$D$3:D55)","v":"Northwest Composite"},{"$f":"VLOOKUP(D56,Divisions!$P$4:$Q$95,2,FALSE)","v":2},null,null,null,null,"St Paul Central",2]
[null,"Hudson High School",null,{"$f":"nextUnique($B$3:$B$1390,$D$3:D56)","v":"Hutchinson High School"},{"$f":"VLOOKUP(D57,Divisions!$P$4:$Q$95,2,FALSE)","v":2},null,null,null,null,"St. Paul Composite - North",2]
[null,"Minnesota Valley Composite",null,{"$f":"nextUnique($B$3:$B$1390,$D$3:D57)","v":"Eagan High School"},{"$f":"VLOOKUP(D58,Divisions!$P$4:$Q$95,2,FALSE)","v":2},null,null,null,null,"St. Paul Composite - South",2]
[null,"St Louis Park High School",null,{"$f":"nextUnique($B$3:$B$1390,$D$3:D58)","v":"Rochester John Marshall"},{"$f":"VLOOKUP(D59,Divisions!$P$4:$Q$95,2,FALSE)","v":2},null,null,null,null,"Tioga Trailblazers",2]
[null,"Breck/Blake",null,{"$f":"nextUnique($B$3:$B$1390,$D$3:D59)","v":"Austin High School"},{"$f":"VLOOKUP(D60,Divisions!$P$4:$Q$95,2,FALSE)","v":2},null,null,null,null,"Totino Grace High School",2]
[null,"Highland Park St Paul",null,{"$f":"nextUnique($B$3:$B$1390,$D$3:D60)","v":"Roseville Area Composite"},{"$f":"VLOOKUP(D61,Divisions!$P$4:$Q$95,2,FALSE)","v":2},null,null,null,null,"West Fork",2]
[null,"St Michael / Albertville Composite",null,{"$f":"nextUnique($B$3:$B$1390,$D$3:D61)","v":"West Range Composite"},2,null,null,null,null,"West Range Composite",2]
[null,"Borealis Composite",null,{"$f":"nextUnique($B$3:$B$1390,$D$3:D62)","v":"Cannon Valley Composite"},{"$f":"VLOOKUP(D63,Divisions!$P$4:$Q$95,2,FALSE)","v":2},null,null,null,null,"Woodbury Composite",2]
[null,"St Louis Park High School",null,{"$f":"nextUnique($B$3:$B$1390,$D$3:D63)","v":"Rochester Area Composite"},{"$f":"VLOOKUP(D64,Divisions!$P$4:$Q$95,2,FALSE)","v":2}]
[null,"Totino Grace High School",null,{"$f":"nextUnique($B$3:$B$1390,$D$3:D64)","v":"Mound Westonka Composite"},{"$f":"VLOOKUP(D65,Divisions!$P$4:$Q$95,2,FALSE)","v":2}]
[null,"Chisago Lakes Composite",null,{"$f":"nextUnique($B$3:$B$1390,$D$3:D65)","v":"Rockford Composite"},{"$f":"VLOOKUP(D66,Divisions!$P$4:$Q$95,2,FALSE)","v":2}]
[null,"Roosevelt High School",null,{"$f":"nextUnique($B$3:$B$1390,$D$3:D66)","v":"West Fork"},2]
[null,"Mahtomedi High School",null,{"$f":"nextUnique($B$3:$B$1390,$D$3:D67)","v":"Bloomington Composite"},{"$f":"VLOOKUP(D68,Divisions!$P$4:$Q$95,2,FALSE)","v":2}]
[null,"Minnesota Valley Composite",null,{"$f":"nextUnique($B$3:$B$1390,$D$3:D68)","v":"Hermantown-Proctor"},{"$f":"VLOOKUP(D69,Divisions!$P$4:$Q$95,2,FALSE)","v":2}]
[null,"Rogers High School",null,{"$f":"nextUnique($B$3:$B$1390,$D$3:D69)","v":"Osseo"},{"$f":"VLOOKUP(D70,Divisions!$P$4:$Q$95,2,FALSE)","v":2}]
[null,"St. Paul Composite - North",null,{"$f":"nextUnique($B$3:$B$1390,$D$3:D70)","v":"Eastview High School"},{"$f":"VLOOKUP(D71,Divisions!$P$4:$Q$95,2,FALSE)","v":2}]
[null,"Tioga Trailblazers",null,{"$f":"nextUnique($B$3:$B$1390,$D$3:D71)","v":"Minneapolis Southside Composite"},{"$f":"VLOOKUP(D72,Divisions!$P$4:$Q$95,2,FALSE)","v":2}]
[null,"St Cloud Area Composite",null,{"$f":"nextUnique($B$3:$B$1390,$D$3:D72)","v":"Kerkhoven Composite"},{"$f":"VLOOKUP(D73,Divisions!$P$4:$Q$95,2,FALSE)","v":2}]
[null,"St. Paul Composite - South",null,{"$f":"nextUnique($B$3:$B$1390,$D$3:D73)","v":"St Croix Composite"},{"$f":"VLOOKUP(D74,Divisions!$P$4:$Q$95,2,FALSE)","v":2}]
[null,"Burnsville High School",null,{"$f":"nextUnique($B$3:$B$1390,$D$3:D74)","v":"Mankato West High School"},{"$f":"VLOOKUP(D75,Divisions!$P$4:$Q$95,2,FALSE)","v":2}]
[null,"Cloquet-Esko-Carlton",null,{"$f":"nextUnique($B$3:$B$1390,$D$3:D75)","v":"Park High School"},{"$f":"VLOOKUP(D76,Divisions!$P$4:$Q$95,2,FALSE)","v":2}]
[null,"Maple Grove High School",null,{"$f":"nextUnique($B$3:$B$1390,$D$3:D76)","v":"North Dakota Composite"},{"$f":"VLOOKUP(D77,Divisions!$P$4:$Q$95,2,FALSE)","v":2}]
[null,"Minneapolis Southwest",null,{"$f":"nextUnique($B$3:$B$1390,$D$3:D77)","v":"Rochester Mayo"},{"$f":"VLOOKUP(D78,Divisions!$P$4:$Q$95,2,FALSE)","v":2}]
[null,"Rock Ridge Composite",null,{"$f":"nextUnique($B$3:$B$1390,$D$3:D78)","v":"Benilde St Margaret"},{"$f":"VLOOKUP(D79,Divisions!$P$4:$Q$95,2,FALSE)","v":2}]
[null,"Minneapolis Southwest",null,{"$f":"nextUnique($B$3:$B$1390,$D$3:D79)","v":"Apple Valley High School"},{"$f":"VLOOKUP(D80,Divisions!$P$4:$Q$95,2,FALSE)","v":2}]
[null,"Brainerd High School",null,{"$f":"nextUnique($B$3:$B$1390,$D$3:D80)","v":"Minneapolis Northside Composite"},{"$f":"VLOOKUP(D81,Divisions!$P$4:$Q$95,2,FALSE)","v":2}]
[null,"Elk River Composite",null,{"$f":"nextUnique($B$3:$B$1390,$D$3:D81)","v":"Minneapolis South High"},{"$f":"VLOOKUP(D82,Divisions!$P$4:$Q$95,2,FALSE)","v":2}]
[null,"Alexandria Area Youth Cycling",null,{"$f":"nextUnique($B$3:$B$1390,$D$3:D82)","v":"Lakeville South High School"},{"$f":"VLOOKUP(D83,Divisions!$P$4:$Q$95,2,FALSE)","v":2}]
[null,"Prior Lake High School",null,{"$f":"nextUnique($B$3:$B$1390,$D$3:D83)","v":"Duluth East High School"},{"$f":"VLOOKUP(D84,Divisions!$P$4:$Q$95,2,FALSE)","v":1}]
[null,"Minneapolis Southwest",null,{"$f":"nextUnique($B$3:$B$1390,$D$3:D84)","v":"Duluth Composite"},{"$f":"VLOOKUP(D85,Divisions!$P$4:$Q$95,2,FALSE)","v":2}]
[null,"Woodbury Composite",null,{"$f":"nextUnique($B$3:$B$1390,$D$3:D85)","v":"North Dakota Kindred Composite"},{"$f":"VLOOKUP(D86,Divisions!$P$4:$Q$95,2,FALSE)","v":2}]
[null,"Edina Cycling",null,{"$f":"nextUnique($B$3:$B$1390,$D$3:D86)","v":"Spectrum High School"},{"$f":"VLOOKUP(D87,Divisions!$P$4:$Q$95,2,FALSE)","v":2}]
[null,"Washburn High School",null,{"$f":"nextUnique($B$3:$B$1390,$D$3:D87)","v":"Bemidji Composite"},{"$f":"VLOOKUP(D88,Divisions!$P$4:$Q$95,2,FALSE)","v":2}]
[null,"Prior Lake High School",null,{"$f":"nextUnique($B$3:$B$1390,$D$3:D88)","v":"Minneapolis Henry High School"},{"$f":"VLOOKUP(D89,Divisions!$P$4:$Q$95,2,FALSE)","v":2}]
[null,"Cloquet-Esko-Carlton",null,{"$f":"nextUnique($B$3:$B$1390,$D$3:D89)","v":"Mankato Composite"},{"$f":"VLOOKUP(D90,Divisions!$P$4:$Q$95,2,FALSE)","v":2}]
[null,"Hastings Area Composite",null,{"$f":"nextUnique($B$3:$B$1390,$D$3:D90)","v":"Irondale High School"},2]
[null,"Burnsville High School"]
[null,"Borealis Composite"]
[null,"Roosevelt High School"]
[null,"River Falls High School"]
[null,"Elk River Composite"]
[null,"Tioga Trailblazers"]
[null,"Stillwater Mountain Bike"]
[null,"Minnetonka High School"]
[null,"Crosby-Ironton High School"]
[null,"Rock Ridge Composite"]
[null,"Hudson High School"]
[null,"Orono High School"]
[null,"River Falls High School"]
[null,"Hopkins High School"]
[null,"Stillwater Mountain Bike"]
[null,"Crosby-Ironton High School"]
[null,"Minnetonka High School"]
[null,"Brainerd High School"]
[null,"Crosby-Ironton High School"]
[null,"East Ridge High School"]
[null,"Wayzata Mountain Bike"]
[null,"Wayzata Mountain Bike"]
[null,"Washburn High School"]
[null,"New Prague Middle and High School"]
[null,"New Prague Middle and High School"]
[null,"Brainerd High School"]
[null,"Wayzata Mountain Bike"]
[null,"Brainerd High School"]
[null,"New Prague Middle and High School"]
[null,"Cloquet-Esko-Carlton"]
[null,"Cloquet-Esko-Carlton"]
[null,"Cloquet-Esko-Carlton"]
[null,"Chanhassen High School"]
[null,"Shakopee High School"]
[null,"Chaska High School"]
[null,"Cloquet-Esko-Carlton"]
[null,"Hopkins High School"]
[null,"Minnetonka High School"]
[null,"Brainerd High School"]
[null,"Hopkins High School"]
[null,"Shakopee High School"]
[null,"Cloquet-Esko-Carlton"]
[null,"Armstrong Cycle"]
[null,"Chanhassen High School"]
[null,"Champlin Park High School"]
[null,"Mounds View High School"]
[null,"Prior Lake High School"]
[null,"Wayzata Mountain Bike"]
[null,"Burnsville High School"]
[null,"Bloomington Jefferson"]
[null,"Shakopee High School"]
[null,"Minnetonka High School"]
[null,"Stillwater Mountain Bike"]
[null,"Minnetonka High School"]
[null,"Wayzata Mountain Bike"]
[null,"Crosby-Ironton High School"]
[null,"Brainerd High School"]
[null,"Hopkins High School"]
[null,"Minneapolis Southwest"]
[null,"Minneapolis Southwest"]
[null,"Chaska High School"]
[null,"Prior Lake High School"]
[null,"Wayzata Mountain Bike"]
[null,"Alexandria Area Youth Cycling"]
[null,"Shakopee High School"]
[null,"Mounds View High School"]
[null,"Alexandria Area Youth Cycling"]
[null,"Champlin Park High School"]
[null,"Stillwater Mountain Bike"]
[null,"Wayzata Mountain Bike"]
[null,"Wayzata Mountain Bike"]
[null,"Wayzata Mountain Bike"]
[null,"Hopkins High School"]
[null,"Rochester Century High School"]
[null,"Minneapolis Southwest"]
[null,"Mounds View High School"]
[null,"Minnetonka High School"]
[null,"Cloquet-Esko-Carlton"]
[null,"Bloomington Jefferson"]
[null,"New Prague Middle and High School"]
[null,"White Bear Lake High School"]
[null,"White Bear Lake High School"]
[null,"Stillwater Mountain Bike"]
[null,"Alexandria Area Youth Cycling"]
[null,"Washburn High School"]
[null,"Minnetonka High School"]
[null,"Alexandria Area Youth Cycling"]
[null,"Mounds View High School"]
[null,"Cloquet-Esko-Carlton"]
[null,"Winona"]
[null,"Shakopee High School"]
[null,"Stillwater Mountain Bike"]
[null,"Shakopee High School"]
[null,"Winona"]
[null,"Cloquet-Esko-Carlton"]
[null,"Washburn High School"]
[null,"Shakopee High School"]
[null,"Chisago Lakes Composite"]
[null,"St. Paul Composite - North"]
[null,"Rosemount High School"]
[null,"St Cloud Area Composite"]
[null,"St Michael / Albertville Composite"]
[null,"Roosevelt High School"]
[null,"St Paul Central"]
[null,"Eden Prairie High School"]
[null,"Northwest Composite"]
[null,"Hutchinson High School"]
[null,"Eagan High School"]
[null,"St Louis Park High School"]
[null,"Woodbury Composite"]
[null,"Roosevelt High School"]
[null,"Elk River Composite"]
[null,"St. Paul Composite - South"]
[null,"Rochester John Marshall"]
[null,"Hudson High School"]
[null,"St. Paul Composite - South"]
[null,"Tioga Trailblazers"]
[null,"Austin High School"]
[null,"Rosemount High School"]
[null,"Hudson High School"]
[null,"River Falls High School"]
[null,"River Falls High School"]
[null,"Tioga Trailblazers"]
[null,"Northwest Composite"]
[null,"Orono High School"]
[null,"Woodbury Composite"]
[null,"Northwest Composite"]
[null,"Tioga Trailblazers"]
[null,"Roseville Area Composite"]
[null,"West Range Composite"]
[null,"Cannon Valley Composite"]
[null,"Rochester Area Composite"]
[null,"Mound Westonka Composite"]
[null,"Rockford Composite"]
[null,"St Paul Central"]
[null,"St Louis Park High School"]
[null,"Roseville Area Composite"]
[null,"Orono High School"]
[null,"River Falls High School"]
[null,"Highland Park St Paul"]
[null,"West Fork"]
[null,"Hudson High School"]
[null,"Cannon Valley Composite"]
[null,"Bloomington Composite"]
[null,"Hermantown-Proctor"]
[null,"Elk River Composite"]
[null,"Rockford Composite"]
[null,"Eagan High School"]
[null,"Elk River Composite"]
[null,"Orono High School"]
[null,"St Paul Central"]
[null,"Austin High School"]
[null,"Orono High School"]
[null,"St Paul Central"]
[null,"Roseville Area Composite"]
[null,"Rockford Composite"]
[null,"River Falls High School"]
[null,"Mound Westonka Composite"]
[null,"Osseo"]
[null,"River Falls High School"]
[null,"St. Paul Composite - North"]
[null,"Roosevelt High School"]
[null,"New Prague Middle and High School"]
[null,"Eastview High School"]
[null,"Wayzata Mountain Bike"]
[null,"Crosby-Ironton High School"]
[null,"Prior Lake High School"]
[null,"Alexandria Area Youth Cycling"]
[null,"Edina Cycling"]
[null,"Hopkins High School"]
[null,"Stillwater Mountain Bike"]
[null,"River Falls High School"]
[null,"Winona"]
[null,"Crosby-Ironton High School"]
[null,"Lakeville North High School"]
[null,"Mounds View High School"]
[null,"Washburn High School"]
[null,"Maple Grove High School"]
[null,"Crosby-Ironton High School"]
[null,"East Ridge High School"]
[null,"Crosby-Ironton High School"]
[null,"Minnesota Valley Composite"]
[null,"Chaska High School"]
[null,"Minneapolis Southwest"]
[null,"Champlin Park High School"]
[null,"Roosevelt High School"]
[null,"Totino Grace High School"]
[null,"Minneapolis Southwest"]
[null,"Rochester Area Composite"]
[null,"Northwest Composite"]
[null,"Washburn High School"]
[null,"Champlin Park High School"]
[null,"New Prague Middle and High School"]
[null,"Prior Lake High School"]
[null,"Burnsville High School"]
[null,"Hudson High School"]
[null,"Minneapolis Southside Composite"]
[null,"Roseville Area Composite"]
[null,"Minnetonka High School"]
[null,"Mound Westonka Composite"]
[null,"Stillwater Mountain Bike"]
[null,"Osseo"]
[null,"Roseville Area Composite"]
[null,"Kerkhoven Composite"]
[null,"St Croix Composite"]
[null,"Shakopee High School"]
[null,"Hopkins High School"]
[null,"Mankato West High School"]
[null,"Armstrong Cycle"]
[null,"Stillwater Mountain Bike"]
[null,"Stillwater Mountain Bike"]
[null,"New Prague Middle and High School"]
[null,"Stillwater Mountain Bike"]
[null,"Mounds View High School"]
[null,"Cloquet-Esko-Carlton"]
[null,"Shakopee High School"]
[null,"Mounds View High School"]
[null,"Armstrong Cycle"]
[null,"New Prague Middle and High School"]
[null,"Wayzata Mountain Bike"]
[null,"Prior Lake High School"]
[null,"Burnsville High School"]
[null,"Chanhassen High School"]
[null,"Mounds View High School"]
[null,"Rock Ridge Composite"]
[null,"Stillwater Mountain Bike"]
[null,"Stillwater Mountain Bike"]
[null,"Crosby-Ironton High School"]
[null,"Hopkins High School"]
[null,"New Prague Middle and High School"]
[null,"Stillwater Mountain Bike"]
[null,"Minnetonka High School"]
[null,"Rochester Century High School"]
[null,"Prior Lake High School"]
[null,"Rock Ridge Composite"]
[null,"Chanhassen High School"]
[null,"Winona"]
[null,"Stillwater Mountain Bike"]
[null,"Washburn High School"]
[null,"Cloquet-Esko-Carlton"]
[null,"Alexandria Area Youth Cycling"]
[null,"Stillwater Mountain Bike"]
[null,"Chaska High School"]
[null,"Prior Lake High School"]
[null,"New Prague Middle and High School"]
[null,"New Prague Middle and High School"]
[null,"Brainerd High School"]
[null,"Burnsville High School"]
[null,"Alexandria Area Youth Cycling"]
[null,"Stillwater Mountain Bike"]
[null,"Prior Lake High School"]
[null,"Stillwater Mountain Bike"]
[null,"Prior Lake High School"]
[null,"Chaska High School"]
[null,"Cloquet-Esko-Carlton"]
[null,"Prior Lake High School"]
[null,"Alexandria Area Youth Cycling"]
[null,"Crosby-Ironton High School"]
[null,"Stillwater Mountain Bike"]
[null,"New Prague Middle and High School"]
[null,"Rock Ridge Composite"]
[null,"Winona"]
[null,"Alexandria Area Youth Cycling"]
[null,"Bloomington Jefferson"]
[null,"Stillwater Mountain Bike"]
[null,"Lakeville North High School"]
[null,"Shakopee High School"]
[null,"Edina Cycling"]
[null,"Washburn High School"]
[null,"Shakopee High School"]
[null,"Washburn High School"]
[null,"Champlin Park High School"]
[null,"White Bear Lake High School"]
[null,"East Ridge High School"]
[null,"Minnetonka High School"]
[null,"Minneapolis Southwest"]
[null,"Mounds View High School"]
[null,"Armstrong Cycle"]
[null,"Armstrong Cycle"]
[null,"Lakeville North High School"]
[null,"Minneapolis Southwest"]
[null,"Shakopee High School"]
[null,"Hopkins High School"]
[null,"Lakeville North High School"]
[null,"Stillwater Mountain Bike"]
[null,"Prior Lake High School"]
[null,"Edina Cycling"]
[null,"Stillwater Mountain Bike"]
[null,"White Bear Lake High School"]
[null,"White Bear Lake High School"]
[null,"Champlin Park High School"]
[null,"Lakeville North High School"]
[null,"Rochester Century High School"]
[null,"White Bear Lake High School"]
[null,"Armstrong Cycle"]
[null,"Brainerd High School"]
[null,"Winona"]
[null,"Shakopee High School"]
[null,"Winona"]
[null,"Stillwater Mountain Bike"]
[null,"Rock Ridge Composite"]
[null,"Shakopee High School"]
[null,"Elk River Composite"]
[null,"St Croix Composite"]
[null,"Rogers High School"]
[null,"Hudson High School"]
[null,"Eden Prairie High School"]
[null,"Hastings Area Composite"]
[null,"St Louis Park High School"]
[null,"St Michael / Albertville Composite"]
[null,"Northwest Composite"]
[null,"St Michael / Albertville Composite"]
[null,"St Croix Composite"]
[null,"Park High School"]
[null,"Hudson High School"]
[null,"St. Paul Composite - North"]
[null,"Mound Westonka Composite"]
[null,"St Michael / Albertville Composite"]
[null,"Cannon Valley Composite"]
[null,"North Dakota Composite"]
[null,"Rosemount High School"]
[null,"Eden Prairie High School"]
[null,"Hastings Area Composite"]
[null,"Eden Prairie High School"]
[null,"Osseo Composite"]
[null,"Borealis Composite"]
[null,"Austin High School"]
[null,"Tioga Trailblazers"]
[null,"Cannon Valley Composite"]
[null,"St Cloud Area Composite"]
[null,"Rochester Mayo"]
[null,"Austin High School"]
[null,"West Range Composite"]
[null,"River Falls High School"]
[null,"Benilde St Margaret"]
[null,"Elk River Composite"]
[null,"Elk River Composite"]
[null,"Mahtomedi High School"]
[null,"West Range Composite"]
[null,"Rochester Mayo"]
[null,"St Cloud Area Composite"]
[null,"Woodbury Composite"]
[null,"Woodbury Composite"]
[null,"River Falls High School"]
[null,"Osseo Composite"]
[null,"Borealis Composite"]
[null,"Elk River Composite"]
[null,"Apple Valley High School"]
[null,"Roosevelt High School"]
[null,"Tioga Trailblazers"]
[null,"St Michael / Albertville Composite"]
[null,"Maple Grove High School"]
[null,"Eden Prairie High School"]
[null,"Breck/Blake"]
[null,"Benilde St Margaret"]
[null,"Kerkhoven Composite"]
[null,"St Croix Composite"]
[null,"Roseville Area Composite"]
[null,"Minneapolis Northside Composite"]
[null,"Tioga Trailblazers"]
[null,"Rosemount High School"]
[null,"Bloomington Composite"]
[null,"Tioga Trailblazers"]
[null,"Kerkhoven Composite"]
[null,"Borealis Composite"]
[null,"Northwest Composite"]
[null,"St Michael / Albertville Composite"]
[null,"Eagan High School"]
[null,"Minneapolis South High"]
[null,"Rosemount High School"]
[null,"Rockford Composite"]
[null,"St Paul Central"]
[null,"Roseville Area Composite"]
[null,"Rockford Composite"]
[null,"St Michael / Albertville Composite"]
[null,"Tioga Trailblazers"]
[null,"St. Paul Composite - North"]
[null,"Rosemount High School"]
[null,"Woodbury Composite"]
[null,"Rockford Composite"]
[null,"Mahtomedi High School"]
[null,"Maple Grove High School"]
[null,"Cannon Valley Composite"]
[null,"St. Paul Composite - South"]
[null,"Tioga Trailblazers"]
[null,"Minnetonka High School"]
[null,"Highland Park St Paul"]
[null,"Minnetonka High School"]
[null,"Prior Lake High School"]
[null,"Brainerd High School"]
[null,"Rock Ridge Composite"]
[null,"Cloquet-Esko-Carlton"]
[null,"St Cloud Area Composite"]
[null,"Chanhassen High School"]
[null,"Hastings Area Composite"]
[null,"Austin High School"]
[null,"Osseo Composite"]
[null,"Hudson High School"]
[null,"St Cloud Area Composite"]
[null,"Hudson High School"]
[null,"Edina Cycling"]
[null,"Rochester Century High School"]
[null,"Cloquet-Esko-Carlton"]
[null,"Wayzata Mountain Bike"]
[null,"Hutchinson High School"]
[null,"Edina Cycling"]
[null,"Shakopee High School"]
[null,"St Croix Composite"]
[null,"Burnsville High School"]
[null,"Wayzata Mountain Bike"]
[null,"Lakeville South High School"]
[null,"Rock Ridge Composite"]
[null,"Northwest Composite"]
[null,"Winona"]
[null,"Breck/Blake"]
[null,"West Range Composite"]
[null,"Cloquet-Esko-Carlton"]
[null,"Orono High School"]
[null,"Bloomington Composite"]
[null,"Bloomington Jefferson"]
[null,"Rock Ridge Composite"]
[null,"East Ridge High School"]
[null,"Winona"]
[null,"Hopkins High School"]
[null,"Chaska High School"]
[null,"Hopkins High School"]
[null,"Crosby-Ironton High School"]
[null,"Edina Cycling"]
[null,"Shakopee High School"]
[null,"Crosby-Ironton High School"]
[null,"Shakopee High School"]
[null,"Lakeville North High School"]
[null,"East Ridge High School"]
[null,"Rochester Century High School"]
[null,"Mounds View High School"]
[null,"Crosby-Ironton High School"]
[null,"Bloomington Jefferson"]
[null,"Wayzata Mountain Bike"]
[null,"Shakopee High School"]
[null,"Edina Cycling"]
[null,"Cloquet-Esko-Carlton"]
[null,"Hopkins High School"]
[null,"Stillwater Mountain Bike"]
[null,"Stillwater Mountain Bike"]
[null,"New Prague Middle and High School"]
[null,"New Prague Middle and High School"]
[null,"Washburn High School"]
[null,"Wayzata Mountain Bike"]
[null,"Alexandria Area Youth Cycling"]
[null,"Edina Cycling"]
[null,"Champlin Park High School"]
[null,"Champlin Park High School"]
[null,"East Ridge High School"]
[null,"Minneapolis Southwest"]
[null,"New Prague Middle and High School"]
[null,"Edina Cycling"]
[null,"Edina Cycling"]
[null,"Minnetonka High School"]
[null,"Chaska High School"]
[null,"Cloquet-Esko-Carlton"]
[null,"Prior Lake High School"]
[null,"Rock Ridge Composite"]
[null,"Cloquet-Esko-Carlton"]
[null,"Stillwater Mountain Bike"]
[null,"Washburn High School"]
[null,"New Prague Middle and High School"]
[null,"Prior Lake High School"]
[null,"Champlin Park High School"]
[null,"Lakeville North High School"]
[null,"Shakopee High School"]
[null,"White Bear Lake High School"]
[null,"Wayzata Mountain Bike"]
[null,"Bloomington Jefferson"]
[null,"Stillwater Mountain Bike"]
[null,"Burnsville High School"]
[null,"Edina Cycling"]
[null,"Alexandria Area Youth Cycling"]
[null,"Brainerd High School"]
[null,"Edina Cycling"]
[null,"Rock Ridge Composite"]
[null,"Crosby-Ironton High School"]
[null,"Shakopee High School"]
[null,"Rock Ridge Composite"]
[null,"Chaska High School"]
[null,"Shakopee High School"]
[null,"East Ridge High School"]
[null,"Stillwater Mountain Bike"]
[null,"Minnetonka High School"]
[null,"Edina Cycling"]
[null,"Wayzata Mountain Bike"]
[null,"Prior Lake High School"]
[null,"Stillwater Mountain Bike"]
[null,"White Bear Lake High School"]
[null,"Burnsville High School"]
[null,"Lakeville North High School"]
[null,"Minneapolis Southwest"]
[null,"Edina Cycling"]
[null,"Alexandria Area Youth Cycling"]
[null,"East Ridge High School"]
[null,"Chanhassen High School"]
[null,"Duluth East High School"]
[null,"East Ridge High School"]
[null,"East Ridge High School"]
[null,"Alexandria Area Youth Cycling"]
[null,"East Ridge High School"]
[null,"Edina Cycling"]
[null,"Alexandria Area Youth Cycling"]
[null,"Hopkins High School"]
[null,"Shakopee High School"]
[null,"Minneapolis Southwest"]
[null,"Wayzata Mountain Bike"]
[null,"Minnetonka High School"]
[null,"Mounds View High School"]
[null,"Alexandria Area Youth Cycling"]
[null,"Wayzata Mountain Bike"]
[null,"Lakeville North High School"]
[null,"Champlin Park High School"]
[null,"Rock Ridge Composite"]
[null,"Washburn High School"]
[null,"White Bear Lake High School"]
[null,"Chanhassen High School"]
[null,"Shakopee High School"]
[null,"Rock Ridge Composite"]
[null,"Shakopee High School"]
[null,"Edina Cycling"]
[null,"White Bear Lake High School"]
[null,"Bloomington Jefferson"]
[null,"Minneapolis Southwest"]
[null,"Edina Cycling"]
[null,"White Bear Lake High School"]
[null,"Stillwater Mountain Bike"]
[null,"White Bear Lake High School"]
[null,"Stillwater Mountain Bike"]
[null,"Stillwater Mountain Bike"]
[null,"Edina Cycling"]
[null,"Minneapolis Southwest"]
[null,"Stillwater Mountain Bike"]
[null,"Brainerd High School"]
[null,"Minnetonka High School"]
[null,"Minneapolis Southwest"]
[null,"East Ridge High School"]
[null,"Champlin Park High School"]
[null,"Wayzata Mountain Bike"]
[null,"Alexandria Area Youth Cycling"]
[null,"Stillwater Mountain Bike"]
[null,"Chaska High School"]
[null,"Armstrong Cycle"]
[null,"White Bear Lake High School"]
[null,"Washburn High School"]
[null,"East Ridge High School"]
[null,"Winona"]
[null,"Duluth Composite"]
[null,"Eastview High School"]
[null,"Chisago Lakes Composite"]
[null,"Woodbury Composite"]
[null,"North Dakota Kindred Composite"]
[null,"Apple Valley High School"]
[null,"Benilde St Margaret"]
[null,"Minneapolis Southside Composite"]
[null,"Eastview High School"]
[null,"Minnesota Valley Composite"]
[null,"Rochester Area Composite"]
[null,"St. Paul Composite - South"]
[null,"Duluth Composite"]
[null,"Tioga Trailblazers"]
[null,"Tioga Trailblazers"]
[null,"North Dakota Composite"]
[null,"Duluth Composite"]
[null,"Tioga Trailblazers"]
[null,"Mound Westonka Composite"]
[null,"Mahtomedi High School"]
[null,"Minneapolis Southside Composite"]
[null,"Cannon Valley Composite"]
[null,"Minneapolis Southside Composite"]
[null,"Northwest Composite"]
[null,"Spectrum High School"]
[null,"Minneapolis Southside Composite"]
[null,"Minneapolis South High"]
[null,"Cannon Valley Composite"]
[null,"Eagan High School"]
[null,"Hutchinson High School"]
[null,"North Dakota Kindred Composite"]
[null,"Roosevelt High School"]
[null,"Park High School"]
[null,"Elk River Composite"]
[null,"Northwest Composite"]
[null,"Minneapolis Northside Composite"]
[null,"Rochester Area Composite"]
[null,"Rockford Composite"]
[null,"Tioga Trailblazers"]
[null,"Mound Westonka Composite"]
[null,"Benilde St Margaret"]
[null,"Duluth Composite"]
[null,"Tioga Trailblazers"]
[null,"Elk River Composite"]
[null,"Roosevelt High School"]
[null,"Tioga Trailblazers"]
[null,"Bemidji Composite"]
[null,"Woodbury Composite"]
[null,"Rochester Area Composite"]
[null,"Woodbury Composite"]
[null,"Roosevelt High School"]
[null,"St. Paul Composite - North"]
[null,"St Cloud Area Composite"]
[null,"West Range Composite"]
[null,"Eagan High School"]
[null,"Elk River Composite"]
[null,"Northwest Composite"]
[null,"Minnesota Valley Composite"]
[null,"Roseville Area Composite"]
[null,"Roseville Area Composite"]
[null,"Minneapolis South High"]
[null,"Lakeville South High School"]
[null,"Bemidji Composite"]
[null,"Eagan High School"]
[null,"Minneapolis Henry High School"]
[null,"North Dakota Composite"]
[null,"Highland Park St Paul"]
[null,"Orono High School"]
[null,"St Louis Park High School"]
[null,"Borealis Composite"]
[null,"Austin High School"]
[null,"Hutchinson High School"]
[null,"Chisago Lakes Composite"]
[null,"Woodbury Composite"]
[null,"Woodbury Composite"]
[null,"Minnesota Valley Composite"]
[null,"Roosevelt High School"]
[null,"Elk River Composite"]
[null,"Rockford Composite"]
[null,"Minneapolis Henry High School"]
[null,"Eden Prairie High School"]
[null,"Benilde St Margaret"]
[null,"Rockford Composite"]
[null,"Mankato West High School"]
[null,"Orono High School"]
[null,"Bemidji Composite"]
[null,"North Dakota Kindred Composite"]
[null,"Mankato Composite"]
[null,"Rochester John Marshall"]
[null,"St. Paul Composite - South"]
[null,"Woodbury Composite"]
[null,"Duluth Composite"]
[null,"Rochester Mayo"]
[null,"Roseville Area Composite"]
[null,"Roseville Area Composite"]
[null,"Bemidji Composite"]
[null,"Eastview High School"]
[null,"Minnetonka High School"]
[null,"Duluth East High School"]
[null,"Washburn High School"]
[null,"Hopkins High School"]
[null,"Hopkins High School"]
[null,"Wayzata Mountain Bike"]
[null,"Duluth Composite"]
[null,"Wayzata Mountain Bike"]
[null,"East Ridge High School"]
[null,"River Falls High School"]
[null,"Cannon Valley Composite"]
[null,"Stillwater Mountain Bike"]
[null,"Mounds View High School"]
[null,"Stillwater Mountain Bike"]
[null,"Burnsville High School"]
[null,"Duluth Composite"]
[null,"Champlin Park High School"]
[null,"Wayzata Mountain Bike"]
[null,"Duluth Composite"]
[null,"Hopkins High School"]
[null,"New Prague Middle and High School"]
[null,"Rock Ridge Composite"]
[null,"Minnetonka High School"]
[null,"Minneapolis Southwest"]
[null,"Shakopee High School"]
[null,"Alexandria Area Youth Cycling"]
[null,"Burnsville High School"]
[null,"Stillwater Mountain Bike"]
[null,"Mounds View High School"]
[null,"Wayzata Mountain Bike"]
[null,"Rock Ridge Composite"]
[null,"Washburn High School"]
[null,"Minneapolis Southside Composite"]
[null,"Brainerd High School"]
[null,"Duluth East High School"]
[null,"Washburn High School"]
[null,"Borealis Composite"]
[null,"Bemidji Composite"]
[null,"Bemidji Composite"]
[null,"Winona"]
[null,"Hudson High School"]
[null,"Duluth Composite"]
[null,"Minnetonka High School"]
[null,"White Bear Lake High School"]
[null,"Alexandria Area Youth Cycling"]
[null,"Prior Lake High School"]
[null,"Minnetonka High School"]
[null,"Lakeville North High School"]
[null,"Hopkins High School"]
[null,"Winona"]
[null,"Brainerd High School"]
[null,"Alexandria Area Youth Cycling"]
[null,"Brainerd High School"]
[null,"Rock Ridge Composite"]
[null,"Mounds View High School"]
[null,"Wayzata Mountain Bike"]
[null,"Washburn High School"]
[null,"Lakeville North High School"]
[null,"Alexandria Area Youth Cycling"]
[null,"Burnsville High School"]
[null,"Hopkins High School"]
[null,"Prior Lake High School"]
[null,"Prior Lake High School"]
[null,"Shakopee High School"]
[null,"Duluth East High School"]
[null,"Prior Lake High School"]
[null,"Wayzata Mountain Bike"]
[null,"Winona"]
[null,"White Bear Lake High School"]
[null,"Cloquet-Esko-Carlton"]
[null,"Hopkins High School"]
[null,"Winona"]
[null,"Wayzata Mountain Bike"]
[null,"Brainerd High School"]
[null,"Crosby-Ironton High School"]
[null,"Shakopee High School"]
[null,"Prior Lake High School"]
[null,"Minnetonka High School"]
[null,"White Bear Lake High School"]
[null,"Washburn High School"]
[null,"Alexandria Area Youth Cycling"]
[null,"Alexandria Area Youth Cycling"]
[null,"Hopkins High School"]
[null,"Brainerd High School"]
[null,"Hopkins High School"]
[null,"New Prague Middle and High School"]
[null,"Chanhassen High School"]
[null,"Armstrong Cycle"]
[null,"Mounds View High School"]
[null,"Shakopee High School"]
[null,"Crosby-Ironton High School"]
[null,"Washburn High School"]
[null,"Bloomington Jefferson"]
[null,"White Bear Lake High School"]
[null,"New Prague Middle and High School"]
[null,"Armstrong Cycle"]
[null,"Rock Ridge Composite"]
[null,"Rochester Century High School"]
[null,"Armstrong Cycle"]
[null,"Stillwater Mountain Bike"]
[null,"Shakopee High School"]
[null,"White Bear Lake High School"]
[null,"Champlin Park High School"]
[null,"Champlin Park High School"]
[null,"Wayzata Mountain Bike"]
[null,"Minnetonka High School"]
[null,"Rock Ridge Composite"]
[null,"Mounds View High School"]
[null,"Stillwater Mountain Bike"]
[null,"Mounds View High School"]
[null,"Stillwater Mountain Bike"]
[null,"Armstrong Cycle"]
[null,"Stillwater Mountain Bike"]
[null,"Bloomington Jefferson"]
[null,"Prior Lake High School"]
[null,"Stillwater Mountain Bike"]
[null,"Stillwater Mountain Bike"]
[null,"Stillwater Mountain Bike"]
[null,"Winona"]
[null,"Minnetonka High School"]
[null,"Prior Lake High School"]
[null,"Mounds View High School"]
[null,"Winona"]
[null,"Shakopee High School"]
[null,"Rochester Century High School"]
[null,"Prior Lake High School"]
[null,"Mounds View High School"]
[null,"Shakopee High School"]
[null,"Armstrong Cycle"]
[null,"Minnetonka High School"]
[null,"Prior Lake High School"]
[null,"Armstrong Cycle"]
[null,"Bloomington Jefferson"]
[null,"Prior Lake High School"]
[null,"Minnetonka High School"]
[null,"Lakeville North High School"]
[null,"Prior Lake High School"]
[null,"East Ridge High School"]
[null,"Minnetonka High School"]
[null,"Lakeville North High School"]
[null,"Chaska High School"]
[null,"Wayzata Mountain Bike"]
[null,"Minnetonka High School"]
[null,"Prior Lake High School"]
[null,"Wayzata Mountain Bike"]
[null,"Washburn High School"]
[null,"Armstrong Cycle"]
[null,"Rock Ridge Composite"]
[null,"Rochester Century High School"]
[null,"Chaska High School"]
[null,"Minnetonka High School"]
[null,"Wayzata Mountain Bike"]
[null,"Rock Ridge Composite"]
[null,"Minnetonka High School"]
[null,"Washburn High School"]
[null,"White Bear Lake High School"]
[null,"Mounds View High School"]
[null,"Stillwater Mountain Bike"]
[null,"Wayzata Mountain Bike"]
[null,"Shakopee High School"]
[null,"Minneapolis Southwest"]
[null,"Armstrong Cycle"]
[null,"Burnsville High School"]
[null,"Minneapolis Southwest"]
[null,"Stillwater Mountain Bike"]
[null,"Washburn High School"]
[null,"Washburn High School"]
[null,"New Prague Middle and High School"]
[null,"Lakeville North High School"]
[null,"Washburn High School"]
[null,"Stillwater Mountain Bike"]
[null,"Prior Lake High School"]
[null,"Washburn High School"]
[null,"Wayzata Mountain Bike"]
[null,"Winona"]
[null,"Prior Lake High School"]
[null,"Armstrong Cycle"]
[null,"Minnetonka High School"]
[null,"Alexandria Area Youth Cycling"]
[null,"Shakopee High School"]
[null,"Rock Ridge Composite"]
[null,"Chaska High School"]
[null,"Rock Ridge Composite"]
[null,"Wayzata Mountain Bike"]
[null,"Alexandria Area Youth Cycling"]
[null,"Chanhassen High School"]
[null,"Prior Lake High School"]
[null,"Prior Lake High School"]
[null,"Mounds View High School"]
[null,"Stillwater Mountain Bike"]
[null,"Bloomington Jefferson"]
[null,"Edina Cycling"]
[null,"Chanhassen High School"]
[null,"Prior Lake High School"]
[null,"Rogers High School"]
[null,"St Cloud Area Composite"]
[null,"St Paul Central"]
[null,"St. Paul Composite - North"]
[null,"Orono High School"]
[null,"Highland Park St Paul"]
[null,"North Dakota Composite"]
[null,"Lakeville South High School"]
[null,"Hudson High School"]
[null,"Mankato West High School"]
[null,"Chisago Lakes Composite"]
[null,"Minnesota Valley Composite"]
[null,"Mankato Composite"]
[null,"St. Paul Composite - North"]
[null,"St Michael / Albertville Composite"]
[null,"St. Paul Composite - North"]
[null,"St Paul Central"]
[null,"River Falls High School"]
[null,"Eden Prairie High School"]
[null,"Eden Prairie High School"]
[null,"Osseo Composite"]
[null,"Apple Valley High School"]
[null,"Minnesota Valley Composite"]
[null,"Mankato West High School"]
[null,"St Louis Park High School"]
[null,"St. Paul Composite - South"]
[null,"St. Paul Composite - South"]
[null,"North Dakota Kindred Composite"]
[null,"Elk River Composite"]
[null,"Elk River Composite"]
[null,"Cannon Valley Composite"]
[null,"Eastview High School"]
[null,"St Louis Park High School"]
[null,"Rochester Mayo"]
[null,"West Range Composite"]
[null,"Minneapolis Henry High School"]
[null,"West Range Composite"]
[null,"St Paul Central"]
[null,"Hutchinson High School"]
[null,"Mound Westonka Composite"]
[null,"Rockford Composite"]
[null,"Osseo"]
[null,"Osseo"]
[null,"St Paul Central"]
[null,"Lakeville South High School"]
[null,"Eagan High School"]
[null,"Osseo"]
[null,"Highland Park St Paul"]
[null,"Mound Westonka Composite"]
[null,"Austin High School"]
[null,"Rockford Composite"]
[null,"River Falls High School"]
[null,"St. Paul Composite - North"]
[null,"Chisago Lakes Composite"]
[null,"Rochester Area Composite"]
[null,"Eastview High School"]
[null,"Northwest Composite"]
[null,"Minneapolis South High"]
[null,"Mankato West High School"]
[null,"Chisago Lakes Composite"]
[null,"Northwest Composite"]
[null,"Roosevelt High School"]
[null,"Woodbury Composite"]
[null,"St Cloud Area Composite"]
[null,"Mankato West High School"]
[null,"Osseo"]
[null,"St Cloud Area Composite"]
[null,"Mankato West High School"]
[null,"Northwest Composite"]
[null,"Elk River Composite"]
[null,"Bloomington Composite"]
[null,"Rockford Composite"]
[null,"Mankato West High School"]
[null,"Eastview High School"]
[null,"Spectrum High School"]
[null,"Totino Grace High School"]
[null,"St Paul Central"]
[null,"St Michael / Albertville Composite"]
[null,"Spectrum High School"]
[null,"Minneapolis Northside Composite"]
[null,"Mankato West High School"]
[null,"Lakeville South High School"]
[null,"St Paul Central"]
[null,"St. Paul Composite - South"]
[null,"St. Paul Composite - South"]
[null,"Hutchinson High School"]
[null,"Woodbury Composite"]
[null,"Kerkhoven Composite"]
[null,"Highland Park St Paul"]
[null,"Maple Grove High School"]
[null,"Roosevelt High School"]
[null,"Hutchinson High School"]
[null,"Eastview High School"]
[null,"Eastview High School"]
[null,"Kerkhoven Composite"]
[null,"Mahtomedi High School"]
[null,"Eastview High School"]
[null,"Mound Westonka Composite"]
[null,"Minneapolis Southside Composite"]
[null,"Roseville Area Composite"]
[null,"Maple Grove High School"]
[null,"Austin High School"]
[null,"Hastings Area Composite"]
[null,"Bloomington Composite"]
[null,"Rochester Area Composite"]
[null,"Rochester Mayo"]
[null,"Woodbury Composite"]
[null,"Osseo"]
[null,"Rockford Composite"]
[null,"Rosemount High School"]
[null,"Tioga Trailblazers"]
[null,"Hastings Area Composite"]
[null,"Mankato Composite"]
[null,"Bloomington Composite"]
[null,"Orono High School"]
[null,"Cannon Valley Composite"]
[null,"Rockford Composite"]
[null,"Rochester Mayo"]
[null,"Roosevelt High School"]
[null,"Mahtomedi High School"]
[null,"Kerkhoven Composite"]
[null,"St Cloud Area Composite"]
[null,"Maple Grove High School"]
[null,"Austin High School"]
[null,"Hudson High School"]
[null,"Northwest Composite"]
[null,"Austin High School"]
[null,"Lakeville South High School"]
[null,"Orono High School"]
[null,"Rochester Area Composite"]
[null,"Rockford Composite"]
[null,"St Paul Central"]
[null,"Minneapolis Southside Composite"]
[null,"Hopkins High School"]
[null,"Minnetonka High School"]
[null,"Crosby-Ironton High School"]
[null,"Winona"]
[null,"Mounds View High School"]
[null,"Cloquet-Esko-Carlton"]
[null,"Stillwater Mountain Bike"]
[null,"Rock Ridge Composite"]
[null,"Minnesota Valley Composite"]
[null,"Stillwater Mountain Bike"]
[null,"Bemidji Composite"]
[null,"White Bear Lake High School"]
[null,"Cloquet-Esko-Carlton"]
[null,"Breck/Blake"]
[null,"White Bear Lake High School"]
[null,"Chanhassen High School"]
[null,"Mounds View High School"]
[null,"Brainerd High School"]
[null,"Minneapolis Henry High School"]
[null,"Minnetonka High School"]
[null,"Bloomington Composite"]
[null,"Duluth Composite"]
[null,"Minneapolis Southside Composite"]
[null,"Prior Lake High School"]
[null,"Minneapolis Henry High School"]
[null,"Prior Lake High School"]
[null,"Cloquet-Esko-Carlton"]
[null,"Borealis Composite"]
[null,"Mounds View High School"]
[null,"Rochester Area Composite"]
[null,"New Prague Middle and High School"]
[null,"Armstrong Cycle"]
[null,"Maple Grove High School"]
[null,"Duluth East High School"]
[null,"Stillwater Mountain Bike"]
[null,"Bloomington Jefferson"]
[null,"Austin High School"]
[null,"White Bear Lake High School"]
[null,"Armstrong Cycle"]
[null,"Hutchinson High School"]
[null,"Lakeville North High School"]
[null,"Maple Grove High School"]
[null,"Winona"]
[null,"Wayzata Mountain Bike"]
[null,"St Louis Park High School"]
[null,"Wayzata Mountain Bike"]
[null,"Rock Ridge Composite"]
[null,"Rock Ridge Composite"]
[null,"Armstrong Cycle"]
[null,"White Bear Lake High School"]
[null,"Bloomington Jefferson"]
[null,"Alexandria Area Youth Cycling"]
[null,"Minneapolis Southside Composite"]
[null,"Orono High School"]
[null,"Duluth Composite"]
[null,"Edina Cycling"]
[null,"Minneapolis Southwest"]
[null,"Cloquet-Esko-Carlton"]
[null,"Winona"]
[null,"Bemidji Composite"]
[null,"Eden Prairie High School"]
[null,"Edina Cycling"]
[null,"Shakopee High School"]
[null,"Stillwater Mountain Bike"]
[null,"Bloomington Jefferson"]
[null,"Cloquet-Esko-Carlton"]
[null,"North Dakota Kindred Composite"]
[null,"East Ridge High School"]
[null,"Crosby-Ironton High School"]
[null,"Cloquet-Esko-Carlton"]
[null,"Rochester Century High School"]
[null,"Apple Valley High School"]
[null,"Northwest Composite"]
[null,"Mounds View High School"]
[null,"Bemidji Composite"]
[null,"Duluth East High School"]
[null,"Crosby-Ironton High School"]
[null,"Rockford Composite"]
[null,"Spectrum High School"]
[null,"Elk River Composite"]
[null,"Cannon Valley Composite"]
[null,"Alexandria Area Youth Cycling"]
[null,"Cloquet-Esko-Carlton"]
[null,"Hopkins High School"]
[null,"Edina Cycling"]
[null,"Breck/Blake"]
[null,"Stillwater Mountain Bike"]
[null,"River Falls High School"]
[null,"Stillwater Mountain Bike"]
[null,"Cloquet-Esko-Carlton"]
[null,"Duluth East High School"]
[null,"Rogers High School"]
[null,"Minneapolis Southwest"]
[null,"North Dakota Composite"]
[null,"Crosby-Ironton High School"]
[null,"Washburn High School"]
[null,"Wayzata Mountain Bike"]
[null,"Alexandria Area Youth Cycling"]
[null,"Irondale High School"]
[null,"Prior Lake High School"]
[null,"Shakopee High School"]
[null,"Hutchinson High School"]
[null,"Prior Lake High School"]
[null,"Shakopee High School"]
[null,"Armstrong Cycle"]
[null,"Eastview High School"]
[null,"Rochester Century High School"]
[null,"Crosby-Ironton High School"]
[null,"Winona"]
[null,"Prior Lake High School"]
[null,"Hudson High School"]
[null,"Woodbury Composite"]
[null,"North Dakota Composite"]
[null,"Minnetonka High School"]
[null,"Minnetonka High School"]
[null,"Shakopee High School"]
[null,"Crosby-Ironton High School"]
[null,"Eden Prairie High School"]
[null,"Cannon Valley Composite"]
[null,"Chaska High School"]
[null,"Mahtomedi High School"]
[null,"Rochester Century High School"]
[null,"Bemidji Composite"]
[null,"Orono High School"]
[null,"Chaska High School"]
[null,"White Bear Lake High School"]
[null,"Alexandria Area Youth Cycling"]
[null,"Austin High School"]
[null,"Mankato Composite"]
[null,"Benilde St Margaret"]
[null,"Burnsville High School"]
[null,"Alexandria Area Youth Cycling"]
[null,"Stillwater Mountain Bike"]
[null,"Cloquet-Esko-Carlton"]
[null,"Lakeville North High School"]
[null,"Mound Westonka Composite"]
[null,"Burnsville High School"]
[null,"Champlin Park High School"]
[null,"Winona"]
[null,"Spectrum High School"]
[null,"New Prague Middle and High School"]
[null,"Minneapolis Southwest"]
[null,"Prior Lake High School"]
[null,"Roosevelt High School"]
[null,"Stillwater Mountain Bike"]
[null,"Chaska High School"]
[null,"Hopkins High School"]
[null,"Roosevelt High School"]
[null,"Armstrong Cycle"]
[null,"Osseo"]
[null,"Alexandria Area Youth Cycling"]
[null,"Park High School"]
[null,"River Falls High School"]
[null,"Minneapolis Southwest"]
[null,"Cloquet-Esko-Carlton"]
[null,"Hutchinson High School"]
[null,"Bemidji Composite"]
[null,"East Ridge High School"]
[null,"Winona"]
[null,"Eagan High School"]
[null,"Duluth Composite"]
[null,"Armstrong Cycle"]
[null,"River Falls High School"]
[null,"Austin High School"]
[null,"Washburn High School"]
[null,"Highland Park St Paul"]
[null,"Champlin Park High School"]
[null,"Minnetonka High School"]
[null,"Hutchinson High School"]
[null,"Mound Westonka Composite"]
[null,"Crosby-Ironton High School"]
[null,"Wayzata Mountain Bike"]
[null,"Prior Lake High School"]
[null,"Wayzata Mountain Bike"]
[null,"Winona"]
[null,"Wayzata Mountain Bike"]
[null,"Alexandria Area Youth Cycling"]
[null,"Armstrong Cycle"]
[null,"St. Paul Composite - North"]
[null,"River Falls High School"]
[null,"East Ridge High School"]
[null,"Armstrong Cycle"]
[null,"Edina Cycling"]
[null,"St Cloud Area Composite"]
[null,"Mankato West High School"]
[null,"St Cloud Area Composite"]
[null,"Armstrong Cycle"]
[null,"Bemidji Composite"]
[null,"Minneapolis Southwest"]
[null,"White Bear Lake High School"]
[null,"Mankato Composite"]
[null,"Rochester Area Composite"]
[null,"Park High School"]
[null,"Crosby-Ironton High School"]
[null,"Rochester John Marshall"]
[null,"Wayzata Mountain Bike"]
[null,"Wayzata Mountain Bike"]
[null,"Hudson High School"]
[null,"Maple Grove High School"]
[null,"Armstrong Cycle"]
[null,"St Paul Central"]
[null,"New Prague Middle and High School"]
[null,"Osseo Composite"]
[null,"Hudson High School"]
[null,"Champlin Park High School"]
[null,"Wayzata Mountain Bike"]
[null,"Rochester Century High School"]
[null,"Osseo Composite"]
[null,"Orono High School"]
[null,"Prior Lake High School"]
[null,"Osseo"]
[null,"Washburn High School"]
[null,"Rockford Composite"]
[null,"Stillwater Mountain Bike"]
[null,"Bemidji Composite"]
[null,"Duluth East High School"]
[null,"Stillwater Mountain Bike"]
[null,"Cannon Valley Composite"]
[null,"Stillwater Mountain Bike"]
[null,"Hopkins High School"]
[null,"Bloomington Jefferson"]
[null,"Alexandria Area Youth Cycling"]
[null,"Roosevelt High School"]
[null,"St Cloud Area Composite"]
[null,"Duluth East High School"]
[null,"Duluth East High School"]
[null,"St. Paul Composite - North"]
[null,"Mankato Composite"]
[null,"Tioga Trailblazers"]
[null,"Rochester Mayo"]
[null,"Eagan High School"]
[null,"Benilde St Margaret"]
[null,"North Dakota Composite"]
[null,"Maple Grove High School"]
[null,"Stillwater Mountain Bike"]
[null,"New Prague Middle and High School"]
[null,"Roseville Area Composite"]
[null,"Brainerd High School"]
[null,"Hutchinson High School"]
[null,"Elk River Composite"]
[null,"Duluth East High School"]
[null,"Rockford Composite"]
[null,"Prior Lake High School"]
[null,"Armstrong Cycle"]
[null,"Duluth East High School"]
[null,"Brainerd High School"]
[null,"Eden Prairie High School"]
[null,"East Ridge High School"]
[null,"Shakopee High School"]
[null,"East Ridge High School"]
[null,"Minneapolis Southwest"]
[null,"Washburn High School"]
[null,"Minneapolis Southwest"]
[null,"Stillwater Mountain Bike"]
[null,"Benilde St Margaret"]
[null,"Winona"]
[null,"Minnetonka High School"]
[null,"New Prague Middle and High School"]
[null,"Rochester Mayo"]
[null,"Lakeville North High School"]
[null,"Brainerd High School"]
[null,"Brainerd High School"]
[null,"Cloquet-Esko-Carlton"]
[null,"Washburn High School"]
[null,"Bloomington Jefferson"]
[null,"Benilde St Margaret"]
[null,"Bloomington Jefferson"]
[null,"Highland Park St Paul"]
[null,"Hudson High School"]
[null,"Stillwater Mountain Bike"]
[null,"Stillwater Mountain Bike"]
[null,"Duluth East High School"]
[null,"Edina Cycling"]
[null,"Burnsville High School"]
[null,"St. Paul Composite - South"]
[null,"Hopkins High School"]
[null,"Cloquet-Esko-Carlton"]
[null,"Rochester Mayo"]
[null,"Prior Lake High School"]
[null,"Stillwater Mountain Bike"]
[null,"Stillwater Mountain Bike"]
[null,"Burnsville High School"]
[null,"Prior Lake High School"]
[null,"St Michael / Albertville Composite"]
[null,"Minneapolis Southwest"]
[null,"Minneapolis South High"]
[null,"Minneapolis South High"]
[null,"Brainerd High School"]
[null,"Northwest Composite"]
[null,"Highland Park St Paul"]
[null,"Duluth East High School"]
[null,"Crosby-Ironton High School"]
[null,"St Croix Composite"]
[null,"Stillwater Mountain Bike"]
[null,"Minneapolis Southwest"]
[null,"Breck/Blake"]
[null,"Chanhassen High School"]
[null,"Lakeville North High School"]
[null,"Burnsville High School"]
[null,"Mankato West High School"]
[null,"New Prague Middle and High School"]
[null,"Minneapolis Southwest"]
[null,"Edina Cycling"]
[null,"Edina Cycling"]
[null,"Washburn High School"]
[null,"Northwest Composite"]
[null,"Totino Grace High School"]
[null,"Edina Cycling"]
[null,"Stillwater Mountain Bike"]
[null,"Edina Cycling"]
[null,"Duluth East High School"]
[null,"Cloquet-Esko-Carlton"]
[null,"Brainerd High School"]
[null,"Duluth East High School"]
[null,"Bloomington Jefferson"]
[null,"Minnetonka High School"]
[null,"Burnsville High School"]
[null,"Winona"]
[null,"Washburn High School"]
[null,"Chaska High School"]
[null,"Hudson High School"]
[null,"Burnsville High School"]
[null,"New Prague Middle and High School"]
[null,"Duluth East High School"]

{"sheet":"Team Scores Formatted","index":2,"n_rows":189,"n_cols":12,"rows_kept":189,"cut":false,"hidden":false,"merged":[[0,0,0,2],[31,0,31,2],[95,0,95,2],[126,0,126,2]]}
["Middle School D1"]
["Place","TEAM","Score",null,"Rider 1","Rider 2","Rider 3","Rider 4"]
[1,"Minnetonka High School",2147,null,"(G) STELLA SWANSON - [550]","(B) BENNO SASANFAR - [539]","(G) LANEY MILLER - [529]","(B) JACKSON RUNCK - [529]"]
[2,"Cloquet-Esko-Carlton",2071,null,"(B) DANIEL DEWEY - [550]","(G) CIERAH MCKIBBON - [519]","(B) CARTER OSVOLD - [510]","(G) AVA MCKIBBON - [492]"]
[3,"Stillwater Mountain Bike",2063,null,"(B) EMMETT VALLEY - [539]","(B) CHARLIE SANDERSON - [529]","(B) TEDDY SANDERSON - [519]","(G) MARG MINICH - [476]"]
[4,"Crosby-Ironton High School",2041,null,"(B) OWEN RITTER - [550]","(G) VANESSA RICKMEYER - [519]","(B) EZRA JACOBSON - [519]","(G) AVERY LONERGAN - [453]"]
[5,"New Prague Middle and High School",2013,null,"(G) ALEXIS RIDGEWAY - [550]","(B) HAYDEN BRAITH - [519]","(B) LINCOLN STUBER - [476]","(B) CASEY KELLY - [468]"]
[6,"Brainerd High School",1983,null,"(B) RYLAN O'HEARN - [529]","(G) ABIGAIL THOMES - [510]","(G) STELLA MUSEUS - [476]","(B) LANDON HAGEN - [468]"]
[7,"Wayzata Mountain Bike",1975,null,"(G) ABIGAIL BRITZ - [529]","(B) ROENEN KING-ELLISON - [501]","(B) RIGEL PRIOR - [492]","(B) ETHAN LI - [453]"]
[8,"Rock Ridge Composite",1951,null,"(B) GUS LAYMAN - [539]","(G) DALLAS LAYMAN - [501]","(G) SELAH BEUKEMA - [492]","(B) WYATT PETRACK - [419]"]
[9,"Prior Lake High School",1928,null,"(G) ARABELLA FRITZEN - [519]","(G) MILA OLSON - [510]","(G) PEYTON STAMSCHROR - [453]","(B) ELI CZAJKOWSKI - [446]"]
[10,"East Ridge High School",1916,null,"(B) NICK SHIELD - [510]","(B) LUCAS TRUCKENMILLER - [501]","(B) OWEN LAWSON - [492]","(G) QUINN VAN HEYST - [413]"]
[11,"Mounds View High School",1841,null,"(B) THOMAS QUACKENBUSH - [501]","(B) LAKEN BARTEL - [476]","(G) JADON CARLSON - [439]","(B) ANDY VIZECKY - [425]"]
[12,"Minneapolis Southwest",1815,null,"(G) NARA BLACK - [501]","(G) GRACE MAKOSKY - [484]","(G) LILY MAKOSKY - [446]","(B) THEODORE JUFFER - [384]"]
[13,"Burnsville High School",1794,null,"(G) ELLIOT LUNDE - [529]","(B) OWEN WATTERSON - [439]","(B) LEVI WILLIAMS - [425]","(G) ADELINE METZGER - [401]"]
[14,"Edina Cycling",1788,null,"(G) SYDNEY BULLARD - [492]","(B) DJ SEVERSON - [439]","(G) EVELYN HOPPE - [432]","(G) BEATRICE TOFTEY - [425]"]
[15,"Washburn High School",1695,null,"(B) STEFFAN DREKONJA - [484]","(G) MAEVE THATCHER - [432]","(G) LUCIA ARNESON - [425]","(G) BAYLY WASMER - [354]"]
[16,"Chanhassen High School",1680,null,"(G) MACKENZIE BURKE - [476]","(B) BRADYN RUPPERT - [432]","(B) MASON DEALWIS - [413]","(B) SYD KENNEDY - [359]"]
[17,"Shakopee High School",1654,null,"(B) AIDEN ZABEL - [484]","(B) TRUMAN DUEHR - [407]","(G) KIERA JAMIESON - [389]","(B) MAKAI LUND - [374]"]
[18,"Hopkins High School",1642,null,"(G) GRETA NYGREN - [484]","(B) NOLAN HAAR - [395]","(B) GRIFFIN WOESTE - [389]","(B) CHARLIE GRUHN - [374]"]
[19,"Alexandria Area Youth Cycling",1609,null,"(G) ADDISON SUCHY - [501]","(G) RYLIN CONVERSE - [460]","(B) BEN SCHOLTEN - [338]","(B) WILL NICHOLS - [310]"]
[20,"Chaska High School",1558,null,"(B) AUGUST MAYER - [432]","(B) LEIGHTON HINES - [401]","(G) MONIQUE KONOTOPKA - [395]","(B) NOLAN STONE - [330]"]
[21,"Champlin Park High School",1485,null,"(B) GRAHAM BERNU - [401]","(G) SIDSE SPROUT - [384]","(G) MORGAN ROTHER - [350]","(B) KAI NELSON - [350]"]
[22,"Winona",1451,null,"(G) SOPHIE GRICIUS - [460]","(G) LILLY HANSEN - [354]","(B) IAN HORECK - [354]","(B) BEN ALLINGTON - [283]"]
[23,"Lakeville North High School",1445,null,"(G) SOFIA HORSTMANN - [446]","(B) MYLES INGVALSON - [413]","(B) HUDSON HOLSTE - [307]","(B) BRAYDEN KREJCE - [279]"]
[24,"Armstrong Cycle",1407,null,"(B) ANDERS DECKER - [550]","(B) HENRY DIAZ - [468]","(B) TYLER HASSIS - [389]","()  - [0]"]
[25,"Rochester Century High School",1323,null,"(G) MILENA MEIER - [419]","(B) ROWAN EKHOLM - [374]","(B) AVERY STRUCKMANN - [278]","(B) KAI HILL - [252]"]
[26,"Bloomington Jefferson",1214,null,"(G) PIPPA BURRES - [330]","(B) DOMINICK JOHNSON - [330]","(B) FINN DOLMAR - [281]","(B) CARLO CALBONE - [273]"]
[27,"White Bear Lake High School",813,null,"(B) OLIN KNUTSON - [272]","(B) RYAN GLICK - [271]","(B) SETH VLIEGER - [270]","()  - [0]"]
[28,"Duluth East High School",0,null,"()  - [0]","()  - [0]","()  - [0]","()  - [0]"]
[]
["Middle School D2","Middle School D2"]
["Place","TEAM","SCORE",null,"Rider 1","Rider 2","Rider 3","Rider 4"]
[1,"St Cloud Area Composite",2103,null,"(G) PHOEBE HACKENSACK - [550]","(B) MAX LARSEN - [550]","(B) JACK LARSEN - [519]","(G) LILY WILCOX - [484]"]
[2,"Hudson High School",1912,null,"(B) RYAN KELLER - [519]","(B) HENRY STEPHENSON - [501]","(G) HAYDEN KOHN - [446]","(B) JOE STEPHENSON - [446]"]
[3,"Elk River Composite",1829,null,"(B) EDWARD FULL - [550]","(G) GEMMA BANKS - [468]","(B) TYLER HANSON - [432]","(G) NATALIE MCCORMACK - [379]"]
[4,"Hastings Area Composite",1771,null,"(B) JAMES MCNAMARA - [501]","(G) KATE NOWAK - [468]","(G) GRACEANN OLSON - [407]","(B) PAYTON OLSON - [395]"]
[5,"Roosevelt High School",1754,null,"(B) ELI MEISER - [501]","(B) BEN TESCH - [439]","(B) NICO MENDEZ - [425]","(G) GRACE BERSETH - [389]"]
[6,"St Croix Composite",1687,null,"(B) ERIC MOSS - [539]","(B) QUINN JUSTEN - [460]","(G) EVELYN BRUNS - [384]","(G) ADDISON WAKELING - [304]"]
[7,"Osseo Composite",1670,null,"(B) GARRETT NELSON - [529]","(G) BAILEY MORRISON - [453]","(B) EVERETT OLSON - [384]","(B) EUGENE NELSON - [304]"]
[8,"Northwest Composite",1667,null,"(B) ISAAC LEISETH - [476]","(B) HANK SCHLAUDERAFF - [468]","(B) IAN ARTLEY - [364]","(G) CLARA DAVIS - [359]"]
[9,"St. Paul Composite - South",1626,null,"(G) ELEANOR MEYER - [539]","(B) ZINABU PETERSEN - [425]","(B) CALVIN HOENISCH - [407]","(B) KAI WALKER - [255]"]
[10,"River Falls High School",1605,null,"(G) PIPER NICKLESKI - [468]","(G) AMELIA HALVORSON - [384]","(B) CLARK WERWIE - [379]","(B) CHRISTIAN HARSDORF - [374]"]
[11,"Orono High School",1582,null,"(B) JACK MCKEAND - [539]","(B) MIKHAIL LONG - [359]","(G) REESE JEREMIASON - [346]","(G) JILLIE SWENSON - [338]"]
[12,"Austin High School",1579,null,"(G) LEXI HELGESON - [460]","(B) LIAM LINNETT - [395]","(B) HUNTER PETERS - [374]","(B) BRAYDEN ANDREWS - [350]"]
[13,"Woodbury Composite",1552,null,"(B) EVERETT LEVANDER - [446]","(G) CLARA OACHS - [439]","(B) ETHAN CARLSON - [354]","(B) FINN O'REILLY - [313]"]
[14,"Borealis Composite",1528,null,"(B) GRADY ANDERSON - [453]","(G) ADDISON KANNAS - [395]","(B) WYATT TEDRICK - [379]","(B) GEORGE SPONHOLZ - [301]"]
[15,"Tioga Trailblazers",1513,null,"(B) LEVI GEISLER - [401]","(G) CORA METELAK - [374]","(B) BEN JOHNSON - [369]","(B) ERIC STANGEL - [369]"]
[16,"St Louis Park High School",1495,null,"(B) BENNY RUZEK - [519]","(B) AUSTIN KUEHL - [492]","(B) SHANER FITZPATRICK - [484]","()  - [0]"]
[17,"Maple Grove High School",1479,null,"(G) HANNAH MOORE - [510]","(G) HALEY HONMYHR - [425]","(B) WILLIAM BUTTKE - [287]","(B) DYLAN ENGSTROM - [257]"]
[18,"St Michael / Albertville Composite",1470,null,"(B) ALEX CHOUANARD - [510]","(B) COOPER ETNIER - [484]","(B) OWEN MOORMANN - [476]","()  - [0]"]
[19,"Eden Prairie High School",1395,null,"(B) MASON REINER - [510]","(B) ISAAC FOLEY - [484]","(B) AIDAN OLSTAD - [401]","()  - [0]"]
[20,"St. Paul Composite - North",1379,null,"(B) CHARLIE WILLIAMSON - [539]","(B) SEBASTIAN PURYEAR-JORDAN - [439]","(B) BAEK MARTIN-KOHLS - [401]","()  - [0]"]
[21,"Mound Westonka Composite",1353,null,"(B) HARRISON MERTEN - [432]","(B) ROBBIE CHILSON - [326]","(G) MAKENZIE REESE - [319]","(B) NOAH HILLEBERT - [276]"]
[22,"West Range Composite",1352,null,"(G) ELIZABETH HAUPT - [346]","(B) TUCKER CROWE - [346]","(B) MAC WALLI - [338]","(B) EMMETT LIND - [322]"]
[23,"Rosemount High School",1325,null,"(B) SAM ALLAN - [529]","(B) CALVIN CARPENTER - [407]","(B) FRITZ DIRKSEN - [389]","()  - [0]"]
[24,"St Paul Central",1321,null,"(B) HENRY MURPHY - [510]","(B) KHANH TRUONG - [492]","(B) TYLER HAYDEN - [319]","()  - [0]"]
[25,"Highland Park St Paul",1311,null,"(G) CORALIE JONES - [539]","(B) FRANKLIN MILLER - [468]","(B) COLIN BORGEN - [304]","()  - [0]"]
[26,"Minnesota Valley Composite",1306,null,"(B) CARTER BOLSTER - [492]","(B) XAVIER OLSON - [413]","(G) INGRID OLSON - [401]","()  - [0]"]
[27,"Roseville Area Composite",1291,null,"(B) BENNETT SCHMALTZ - [342]","(G) ALLISON CLAYDON - [326]","(B) HENRY LOE - [313]","(G) FERN SHAFFNER - [310]"]
[28,"Cannon Valley Composite",1117,null,"(B) BENJAMIN FUNKE - [419]","(B) LEO HERNANDEZ - [364]","(B) DREW PRIBYL - [334]","()  - [0]"]
[29,"Breck/Blake",1111,null,"(B) LANDON MAUL - [476]","(G) EMILIA COLIANNI - [350]","(B) OLIVER ENGEL - [285]","()  - [0]"]
[30,"Eagan High School",1017,null,"(B) CALEB LYON - [460]","(B) NICHOLAS MIZIORKO - [286]","(B) GRAHAM ROBERTS - [271]","()  - [0]"]
[31,"Mahtomedi High School",1003,null,"(B) PAUL GRZESIK - [419]","(B) MICAH HORSAGER - [326]","(B) HENRY HONMYHR - [258]","()  - [0]"]
[32,"Chisago Lakes Composite",982,null,"(B) REID HAMLIN - [550]","(B) EDWARD “EJ” NIELSEN - [432]","()  - [0]","()  - [0]"]
[33,"Rogers High School",936,null,"(B) MAX KLABUNDE - [529]","(B) WILLIAM PALUMBO - [407]","()  - [0]","()  - [0]"]
[34,"Bloomington Composite",904,null,"(G) REGAN ISAAC - [334]","(B) RYLAN MACADAMS - [293]","(B) BEN JONES - [277]","()  - [0]"]
[35,"Rockford Composite",887,null,"(B) JOSIAH CARLSON - [322]","(B) EVERETT SCHOTTMULLER - [287]","(B) ELIJAH WARD - [278]","()  - [0]"]
[36,"Hutchinson High School",869,null,"(B) FRANKLIN RECH - [468]","(G) CYBLI BUSSE - [401]","()  - [0]","()  - [0]"]
[37,"Kerkhoven Composite",865,null,"(G) HAILEY SOINE - [307]","(B) MICAH STRICKLAND - [283]","(B) JONNY BENSON - [275]","()  - [0]"]
[38,"Totino Grace High School",813,null,"(B) ALEXANDER MCNAMARA - [439]","(G) ADELE DENTON - [374]","()  - [0]","()  - [0]"]
[39,"Rochester Area Composite",694,null,"(G) IRENE PASTOR - [364]","(B) LUKE EAGLE - [330]","()  - [0]","()  - [0]"]
[40,"Rochester Mayo",673,null,"(B) ETHAN NELSON - [354]","(B) DEXTER WILLIAMS - [319]","()  - [0]","()  - [0]"]
[41,"Benilde St Margaret",622,null,"(B) GERIK NOWLIN - [338]","(B) RYAN LYNCH - [284]","()  - [0]","()  - [0]"]
[42,"Osseo",588,null,"(G) SOPHIA BEAUDIN - [313]","(B) OLIVER PILSNER - [275]","()  - [0]","()  - [0]"]
[43,"Eastview High School",539,null,"(G) MARGO BREMER - [539]","()  - [0]","()  - [0]","()  - [0]"]
[44,"Park High School",453,null,"(B) MAVERICK TILLER - [453]","()  - [0]","()  - [0]","()  - [0]"]
[45,"Rochester John Marshall",419,null,"(B) JACKSON TANK - [419]","()  - [0]","()  - [0]","()  - [0]"]
[46,"North Dakota Composite",413,null,"(B) DAVID ROBINSON - [413]","()  - [0]","()  - [0]","()  - [0]"]
[47,"Lakeville South High School",369,null,"(G) EVA GROTENHUIS - [369]","()  - [0]","()  - [0]","()  - [0]"]
[48,"Minneapolis Southside Composite",330,null,"(G) ISABELLA BERGMAN - [330]","()  - [0]","()  - [0]","()  - [0]"]
[49,"West Fork",301,null,"(B) JONAH ESPEY - [301]","()  - [0]","()  - [0]","()  - [0]"]
[50,"Apple Valley High School",295,null,"(B) HAYDEN HOFF - [295]","()  - [0]","()  - [0]","()  - [0]"]
[51,"Hermantown-Proctor",291,null,"(B) ALEX HANSON - [291]","()  - [0]","()  - [0]","()  - [0]"]
[52,"Minneapolis Northside Composite",280,null,"(B) FRANKIE ROQUE - [280]","()  - [0]","()  - [0]","()  - [0]"]
[53,"Minneapolis South High",270,null,"(B) HENRY HOLDSWORTH - [270]","()  - [0]","()  - [0]","()  - [0]"]
[54,"Bemidji Composite",0,null,"()  - [0]","()  - [0]","()  - [0]","()  - [0]"]
[55,"Duluth Composite",0,null,"()  - [0]","()  - [0]","()  - [0]","()  - [0]"]
[56,"Irondale High School",0,null,"()  - [0]","()  - [0]","()  - [0]","()  - [0]"]
[57,"Mankato Composite",0,null,"()  - [0]","()  - [0]","()  - [0]","()  - [0]"]
[58,"Mankato West High School",0,null,"()  - [0]","()  - [0]","()  - [0]","()  - [0]"]
[59,"Minneapolis Henry High School",0,null,"()  - [0]","()  - [0]","()  - [0]","()  - [0]"]
[60,"North Dakota Kindred Composite",0,null,"()  - [0]","()  - [0]","()  - [0]","()  - [0]"]
[61,"Spectrum High School",0,null,"()  - [0]","()  - [0]","()  - [0]","()  - [0]"]
[]
["High School D1","High School D1"]
["Place","TEAM","Score",null,"Rider 1","Rider 2","Rider 3","Rider 4","Rider 5","Rider 6","Rider 7","Rider 8"]
[1,"Stillwater Mountain Bike",4322,null,"(B) JOHN KUBIAK - [625]","(G) LILY WARD - [614]","(G) STELLA POWELL - [579]","(G) CATE KOELZER - [559]","(B) LIAM ADAMS - [494]","(B) JACK RALSTON - [488]","(G) GABI LEHMANN - [484]","(B) JAMES KALMON - [479]"]
[2,"Duluth East High School",4189,null,"(G) LEAH COLEMAN - [594]","(G) PHOEBE LEEGE - [590]","(G) THEA KRAMER - [567]","(G) JOSEPHINE RYAN - [539]","(G) COURTNEY HISLOP - [508]","(G) CHARLI WORCESTER - [500]","(B) CARL MORSE - [482]","(B) RYE TRUITT - [409]"]
[3,"Hopkins High School",4108,null,"(G) COURTNEY WEBER - [550]","(G) ISABELLE MAYER - [539]","(B) RAVONTE KRIEGLER - [529]","(G) STELLA HUSETH - [519]","(G) HAYDEN MIELKE - [510]","(B) SILAS JOHNSON - [510]","(B) TRISTAN SMITH - [492]","(B) OSCAR TIX - [459]"]
[4,"Minnetonka High School",4063,null,"(B) MORGAN HENDRICKS - [594]","(G) SHELBY STOBBE - [551]","(G) EVIE MALEC - [550]","(B) JACK MALEC - [550]","(G) BETHANY ANDERSON - [529]","(B) LUCAS SYLVESTER - [510]","(G) ADDISON ALEMAN - [395]","(G) LYDIA STEVENSON - [384]"]
[5,"Edina Cycling",4008,null,"(G) ELIN HARTMANN - [625]","(G) ISABELLA MAZION - [604]","(B) ISAAC BELL - [541]","(B) LIAM GARNER - [493]","(B) COOPER AUSTIN - [492]","(B) GRIFFIN NELSON - [476]","(B) GEORGE SILL - [407]","(B) ANDREW HARTMANN - [370]"]
[6,"Bloomington Jefferson",3951,null,"(B) MAX FAHRMANN - [590]","(G) CAROLINE HAAG - [559]","(G) MEGAN SCHROOTEN - [541]","(B) GAVIN MAYHEW - [528]","(B) NOAH GUINEE - [514]","(B) ETHAN ISHAUG - [472]","(B) MCKEAN PEDERSEN - [425]","(G) OLIVE BURRES - [322]"]
[7,"Cloquet-Esko-Carlton",3943,null,"(G) LAYLA HAGELIN - [585]","(B) EVAN ERSPAMER - [543]","(B) ETHAN LINDGREN - [524]","(G) ASPEN BERG - [492]","(B) MAX FOSTER - [465]","(B) JORDAN CHOPSKIE - [454]","(B) KAYLOR ADKINS - [441]","(G) ASHLEY SCHULTZ - [439]"]
[8,"Winona",3907,null,"(B) ISAAC ALLRED - [604]","(B) OWEN ALLRED - [539]","(G) NATALIE HORECK - [535]","(B) LUCAS WOODEN - [516]","(G) ALIYA GRICIUS - [510]","(B) MAX HORECK - [484]","(B) BENJAMIN WISNIEWSKI - [369]","(B) CHRISTIAN MUELLER - [350]"]
[9,"Brainerd High School",3858,null,"(G) ADDIE RYAN - [576]","(B) WILL THOMES - [559]","(B) HAYDEN HAGEN - [551]","(B) ARRON LOCKWOOD - [476]","(B) BISHOP NOETZEL - [460]","(G) STELLA HAGEN - [424]","(G) ISABELLE SMITH - [407]","(B) PARKER LINN - [405]"]
[10,"Alexandria Area Youth Cycling",3637,null,"(B) LUKE WALSH - [579]","(G) TIAHNA GOEKE - [532]","(B) PARKER CONVERSE - [529]","(B) SAWYER FILIPIAK - [468]","(B) TYLER SIIRA - [419]","(B) TYLER FATH - [382]","(G) LACEY SIIRA - [369]","(B) SULLIVAN ROONEY - [359]"]
[11,"Burnsville High School",3528,null,"(G) MAISY SCHEUNEMAN - [543]","(G) OLIVIA TILBURY - [507]","(B) AIDEN NICHOLAS - [470]","(G) ANNELISE METZGER - [432]","(B) WYATT PETERSON - [429]","(B) KADEN BOLDUC - [413]","(B) JOHN GOETTL - [370]","(G) GRETA DICKHAUSEN - [364]"]
[12,"Washburn High School",3432,null,"(B) ANDREAS DREKONJA - [535]","(G) CIARA THATCHER - [529]","(G) ASTRID MYHRE - [528]","(B) ALEXANDER PASDO - [432]","(B) HENRY HATHAWAY - [369]","(G) ARIANA KIMBALL - [362]","(G) IZZY GREENWIN - [342]","(B) FINN CHERVENY - [335]"]
[13,"New Prague Middle and High School",3376,null,"(B) AIDAN ROSEMEIER - [585]","(G) SELAH SCHERMAN - [500]","(G) SOPHIA METZDORFF - [435]","(G) ADDISON RIDGEWAY - [395]","(B) JEREMIAH STUBER - [379]","(B) GARRETT TOBIAS - [374]","(B) RILEY HUSEBY - [366]","(G) TEVA FEIT - [342]"]
[14,"Mounds View High School",3368,null,"(G) MADELINE DORNFELD - [501]","(G) ESME NEEDHAM - [446]","(B) ANDREW ROLOFF - [446]","(B) CORBAN CARLSON - [439]","(B) ANTONIN KOSTAL - [419]","(G) KATERINA KOSTAL - [413]","(G) KAMDYN KAREL - [354]","(G) PAULINA MCCULLOUGH - [350]"]
[15,"Wayzata Mountain Bike",3344,null,"(G) LEXI HALVORSON - [501]","(G) LILA GOLOMB - [484]","(B) CULLEN BRITZ - [439]","(B) SAM ANDERSON - [419]","(G) IZZY MORRIS - [413]","(B) RUKSHAN RAJAN - [374]","(B) WILL BREUING - [364]","(G) ELIZABETH FACKERT - [350]"]
[16,"Prior Lake High School",3336,null,"(B) BRADEN ERDAHL - [519]","(B) ALEX KRAWZA - [444]","(B) TEGAN MOORE - [425]","(B) MASON HORTER - [401]","(G) SARA CARLSON - [399]","(B) PETER MAES - [395]","(B) DECLAN FOLGER - [379]","(G) SARAH RICH - [374]"]
[17,"Shakopee High School",3322,null,"(B) WILLIAM PALMIERI - [486]","(B) CHARLIE CUTTS - [484]","(B) ISAIAH JOHNSON - [468]","(B) OWEN MARQUARDT - [413]","(B) PARKER BUTTERFASS - [389]","(G) ELLA BERG - [374]","(G) ANNIKA FROYUM - [374]","(B) JAMES FROYUM - [334]"]
[18,"East Ridge High School",3294,null,"(B) ERIC OIEN - [550]","(G) CLARA LANG - [476]","(B) IBAN DREVLOW - [453]","(B) POYRAZ OLGUN - [453]","(G) ELIN HARRISON - [378]","(G) ERIKA HARRISON - [370]","(B) JENS KULLMAN - [342]","(B) CRISTOBAL OSSANNA - [272]"]
[19,"Crosby-Ironton High School",3170,null,"(G) AVA JOHNSON - [519]","(B) OSKAR NELSON - [501]","(B) FINN NELSON - [476]","(B) SAMUEL COUGHLIN - [447]","(B) COOPER CRAINE - [432]","(B) OLIVER TOFTNESS - [404]","(B) BRADLEY HACHEY - [391]","()  - [0]"]
[20,"Minneapolis Southwest",3122,null,"(B) KADIN BLACK - [532]","(B) EMMETT KEPLER - [417]","(B) JOEL TIBBS - [382]","(G) ELLA MAKOSKY - [379]","(G) AVA WISE - [366]","(B) PARKER HUNT - [364]","(B) BEN MIMICK - [344]","(B) MASON EBERLY - [338]"]
[21,"White Bear Lake High School",3000,null,"(B) ISAAC LINDHOLM - [539]","(G) GRETCHEN BLANKENSHIP - [446]","(G) GRACE CONROY - [425]","(B) BLAKE ROLFER - [364]","(B) WALKER DIETZ - [322]","(G) KENNEDY LANGE - [316]","(B) DAMON GRAY - [301]","(B) JAMES WALLEK - [287]"]
[22,"Lakeville North High School",2925,null,"(B) ROWAN HALL - [567]","(B) EDWARD BROOKHART - [501]","(B) JACK JUFFER - [460]","(B) CARSON HALL - [425]","(B) HAYDEN ZOLL - [373]","(G) SOPHIA PEDERSEN - [307]","(B) KAMERON JAENICKE - [292]","()  - [0]"]
[23,"Rock Ridge Composite",2836,null,"(G) WRENNA GALLOWAY - [476]","(B) SAMUEL BEUKEMA - [453]","(G) SOPHIE ROARK - [389]","(G) SYLVIE GALLOWAY - [346]","(B) SILAS TODAY - [310]","(G) EVA ROARK - [291]","(G) NORAH KAINZ - [289]","(B) ALDEN KNUDSON - [282]"]
[24,"Chaska High School",2523,null,"(G) GRACE ATTERSON - [521]","(B) GRANT ATTERSON - [519]","(B) XAVIER DEMARRE - [319]","(B) NATHAN OMAN - [307]","(B) DYLAN HENDERSON - [302]","(B) EVAN REINSCH - [281]","(B) GRANT KERFOOT - [274]","()  - [0]"]
[25,"Armstrong Cycle",2512,null,"(G) ARYANNA SOMAIAH - [394]","(G) KYRA BEDNARZ - [338]","(B) KEEGAN GHANI - [322]","(G) CASSIDY SKARSTEN - [313]","(B) JUSTIN JOHNSON - [295]","(G) MEGAN SWANSON - [287]","(B) TRISTAN EHN - [283]","(B) KAI HAROLDSON - [280]"]
[26,"Champlin Park High School",2248,null,"(G) MARLIE RIETSCHEL - [419]","(B) DANE PAUL - [350]","(B) CARSON ANDERSON - [346]","(B) TREVOR EMERY - [293]","(B) COOPER HIGGINS - [289]","(B) GAVIN JOHNSON - [276]","(B) CHARLIE BLOCK - [275]","()  - [0]"]
[27,"Rochester Century High School",2041,null,"(B) BRENNAN WECKWERTH - [446]","(B) TYLER WETZSTEIN - [435]","(B) RYAN WETZSTEIN - [320]","(B) ARI WALKER - [305]","(B) ERIK HILL - [281]","(B) AARON MILLS - [254]","()  - [0]","()  - [0]"]
[28,"Chanhassen High School",1781,null,"(G) ZOE ANDERSON - [419]","(B) SETH KENNEDY - [376]","(B) CHARLES EVANGELISTA - [298]","(B) AYDEN FERREL - [258]","(B) MICAH SCHMIDT - [237]","(B) CHARLIE WENNERSTROM - [193]","()  - [0]","()  - [0]"]
[]
["High School D2","High School D2"]
["Place","TEAM","Score",null,"Rider 1","Rider 2","Rider 3","Rider 4"]
[1,"Benilde St Margaret",2086,null,"(B) TEAGUE JACKSON - [614]","(B) EVAN NOWLIN - [521]","(B) OWEN MARKS - [492]","(G) STELLA ORDAHL - [459]"]
[2,"Duluth Composite",2038,null,"(B) OWEN VANDAL - [550]","(B) BODEE MCFADDEN - [550]","(G) NATALIA KUNZE - [492]","(B) QUINN SPOHN - [446]"]
[3,"Minneapolis Southside Composite",1998,null,"(B) THOMAS AVRA - [569]","(G) INGA WING - [550]","(B) DOMINIC WOOD - [484]","(B) WILLIS HEIM - [395]"]
[4,"St. Paul Composite - North",1876,null,"(B) KEIGAN MCCARTY - [519]","(G) VERONICA JANZEN - [493]","(B) MATT BURI - [439]","(B) SHAWN THIERS - [425]"]
[5,"Rochester Mayo",1831,null,"(B) JACK MCCAULEY - [576]","(G) ELEANORA WILLIAMS - [472]","(B) PATRICK MCCAULEY - [449]","(B) JAMES NELSON - [334]"]
[6,"Hudson High School",1806,null,"(G) MAYSA BURNAM - [514]","(B) GRAEME PEARSON - [500]","(B) BRADY WAINIONPAA - [476]","(B) SCOTT STEPHENSON - [316]"]
[7,"Cannon Valley Composite",1804,null,"(G) KATE BITTENBENDER - [569]","(G) ELOISE DEBUS - [460]","(B) ANDY AMUNDSON - [389]","(B) BEN POWNELL - [386]"]
[8,"Minnesota Valley Composite",1773,null,"(G) CARISSA BOLSTER - [468]","(B) ODEN OLSON - [468]","(B) ZACH FAHEY - [453]","(B) SAWYER SCHETTL - [384]"]
[9,"Tioga Trailblazers",1763,null,"(G) SANNY GANGI - [479]","(B) MAX CONNELLY - [439]","(B) BREVIK BROWN - [432]","(B) ELI CHERNE - [413]"]
[10,"North Dakota Composite",1711,null,"(B) SETH HEIN - [492]","(G) JADAH KELLY - [453]","(B) BRODY PARMER - [425]","(B) LUKAS ROBINSON - [341]"]
[11,"Bemidji Composite",1694,null,"(B) REED KUZEL - [508]","(G) FAYE CALVERT - [453]","(B) LOUIS MORRISSEY - [414]","(G) JULIA CALVERT - [319]"]
[12,"Eden Prairie High School",1690,null,"(B) OWEN BRATTEBO - [500]","(B) CHARLIE STEFFEN - [407]","(B) LUKE WARZECHA - [401]","(G) ADA LARA - [382]"]
[13,"St Cloud Area Composite",1612,null,"(B) HOLDEN ZAK - [539]","(G) ELLA DOLS - [516]","(B) KAMERON MOSCHO - [284]","(B) ANDREW HACKENMUELLER - [273]"]
[14,"River Falls High School",1525,null,"(G) KATE NICKLESKI - [468]","(B) BRENNEN DADO - [413]","(B) ROMAN DAVENPORT - [359]","(B) DEVAN STRATTON - [285]"]
[15,"Elk River Composite",1508,null,"(G) AUDREY KEMPEL - [414]","(B) COLTON BANKS - [390]","(B) GRADY MAGRUDER - [354]","(B) BO JEFFERS - [350]"]
[16,"Mankato Composite",1479,null,"(G) ABBY SKANE - [486]","(B) LOGAN BARKE - [446]","(B) ISAAC SCHAFFER - [298]","(B) SIDNEY SHANAFELT - [249]"]
[17,"Roosevelt High School",1450,null,"(G) ANI MCQUILLEN - [524]","(B) LEVI LARSON - [342]","(B) OWEN HAIGHT - [298]","(B) RAY ROESNER - [286]"]
[18,"Rockford Composite",1432,null,"(G) HAEDYN BARKEIM - [404]","(B) EDDIE BINSFELD - [399]","(B) ADAM BOERBOOM - [319]","(B) JOEY KLAITH - [310]"]
[19,"Rochester Area Composite",1417,null,"(B) GAVIN HAUGEN - [460]","(G) CHLOE HARDTKE - [346]","(B) SAM EAGLE - [322]","(B) KYLER JOHNSON - [289]"]
[20,"Hutchinson High School",1410,null,"(G) MEARA BUSSE - [419]","(B) LEVI MOORE - [350]","(B) KENNEDY RECH - [325]","(B) SAMUEL REITER - [316]"]
[21,"Highland Park St Paul",1405,null,"(B) KARL HAALAND - [507]","(B) LIAM HEFFERAN - [501]","(B) TOBY MARTIN-KOHLS - [397]","()  - [0]"]
[22,"Eagan High School",1396,null,"(G) MEGAN WITT - [465]","(B) IVAN GRINBERG - [354]","(B) AARON HANSON - [295]","(B) JACK MOZEIKA - [282]"]
[23,"Orono High School",1372,null,"(B) WILLIAM BECK - [559]","(B) JOHNNY DIPRIMA - [510]","(B) WALTER HOLMES - [303]","()  - [0]"]
[24,"Minneapolis Henry High School",1368,null,"(G) JUNA KRIKAVA - [401]","(G) LELA SABIN - [369]","(B) HENRY MROTZ - [326]","(B) AMIN AIT BENHADDOU - [272]"]
[25,"Eastview High School",1357,null,"(B) MILES BREMER - [539]","(B) ISAAC POVOLNY - [476]","(B) LANDEN CRISP - [342]","()  - [0]"]
[26,"Maple Grove High School",1332,null,"(G) SAVANNAH KRULL - [447]","(G) SAMANTHA ALTMAN - [334]","(G) REGAN GROSS - [304]","(B) NOAH FOX - [247]"]
[27,"North Dakota Kindred Composite",1328,null,"(B) ISAAC SCHWARZ - [510]","(B) ELIJAH SCHWARZ - [459]","(B) NOAH SAUVAGEAU - [359]","()  - [0]"]
[28,"Apple Valley High School",1319,null,"(B) CODA NGUYEN - [501]","(B) MASON JOHNSON - [429]","(B) NATHAN LENZEN - [389]","()  - [0]"]
[29,"St. Paul Composite - South",1286,null,"(B) CHARLES MEYER - [464]","(B) COLIN SHEA - [453]","(B) MATTHIAS PASKE - [369]","()  - [0]"]
[30,"St Louis Park High School",1275,null,"(B) JAVIER SCHIMMING - [374]","(B) TOMMY KELLER - [338]","(G) ELIANA MONTERO-WARD - [295]","(B) JACK LARSON - [268]"]
[31,"Chisago Lakes Composite",1272,null,"(B) KYLE HAMLIN - [529]","(B) CARTER SCHILDGEN - [460]","(B) DALTON MULLIN - [283]","()  - [0]"]
[32,"St Paul Central",1267,null,"(B) FINN GARRY - [529]","(B) QUINN BECK - [419]","(B) STEFFEN MONTVILLE - [319]","()  - [0]"]
[33,"Roseville Area Composite",1227,null,"(G) SANDY FISH - [429]","(B) SIMON ENGLUND - [278]","(B) WILLEM NIBBELINK - [277]","(B) LUKAS SKINNER - [243]"]
[34,"Mankato West High School",1215,null,"(B) BRENDAN ISENBERG - [468]","(B) CALEB GRASSMANN - [379]","(B) WALTER MICHELS - [368]","()  - [0]"]
[35,"Northwest Composite",1204,null,"(B) HAYDEN LEISETH - [424]","(B) JACOB T OLSON - [401]","(B) GABE LINDSTROM - [379]","()  - [0]"]
[36,"Minneapolis South High",1186,null,"(B) JESSE HEIM - [413]","(B) THEO HOLDSWORTH - [409]","(B) ZAE ISENSEE - [364]","()  - [0]"]
[37,"Breck/Blake",1177,null,"(G) ALYSSA KRIG - [432]","(B) JOSH FRETT - [379]","(B) DUNCAN ARMOUR - [366]","()  - [0]"]
[38,"Austin High School",1171,null,"(G) CLAUDIA MCDONALD - [319]","(B) RORY POLLOCK - [299]","(B) ANDREW THOMPSON - [287]","(B) GAGE SOUCEK - [266]"]
[39,"Woodbury Composite",1125,null,"(B) RYLAN OACHS - [519]","(B) BENNETT LEVANDER - [315]","(B) TYLER DALAHUNT - [291]","()  - [0]"]
[40,"St Michael / Albertville Composite",1112,null,"(B) CLAYTON ETNIER - [432]","(B) GAVIN MOORMANN - [421]","(B) OWEN ANDERBERG - [259]","()  - [0]"]
[41,"Bloomington Composite",1111,null,"(G) MAGGIE WEISS - [389]","(B) MAX HARTMANN - [266]","(B) JACK SQUIRES - [233]","(B) BRADEN THORNBURG - [223]"]
[42,"Lakeville South High School",1057,null,"(B) COURTLAND BRAGG - [484]","(B) CARTER NESBITT - [298]","(B) ANDERS CLEMON - [275]","()  - [0]"]
[43,"Spectrum High School",1055,null,"(B) ANDREW BURQUEST - [394]","(B) GARRETT PETERSON - [374]","(B) MATTHEW BURQUEST - [287]","()  - [0]"]
[44,"Mound Westonka Composite",1033,null,"(B) COLIN PETERSON - [407]","(B) MAX BRYAN - [313]","(B) SAMUEL BURNS - [313]","()  - [0]"]
[45,"Mahtomedi High School",948,null,"(B) ETHAN ALBRECHT - [401]","(B) ISAIAH HORSAGER - [306]","(B) BRENDAN KENNEDY - [241]","()  - [0]"]
[46,"Borealis Composite",943,null,"(G) RENA JOHNSTON - [354]","(G) AILA HARDING - [322]","(B) BLAKE HEGFORS - [267]","()  - [0]"]
[47,"West Range Composite",935,null,"(B) HOWIE LIND - [330]","(B) REX WALLI - [322]","(B) KALUB BROWN - [283]","()  - [0]"]
[48,"Osseo",904,null,"(B) BENJAMIN PIPKIN - [307]","(B) SAM FRABEL - [304]","(B) JASON ANDERSEN - [293]","()  - [0]"]
[49,"Rogers High School",897,null,"(B) DOMENIC HEGMAN - [550]","(B) MATTHEW O'BRIEN - [347]","()  - [0]","()  - [0]"]
[50,"Park High School",847,null,"(B) NOLAN OTT - [338]","(B) JACK SCHWEIGERT - [275]","(B) LOGAN SCHWEIGERT - [234]","()  - [0]"]
[51,"Osseo Composite",838,null,"(B) ABE OLSON - [395]","(B) BEN HESLI - [224]","(B) ELLIOT ZIMPFER - [219]","()  - [0]"]
[52,"Kerkhoven Composite",707,null,"(B) JUSTIN ROSENBOOM - [249]","(B) BENJAMIN STRICKLAND - [242]","(B) CARL BENSON - [216]","()  - [0]"]
[53,"Minneapolis Northside Composite",583,null,"(B) AYDAN DARK - [326]","(B) FINNEGAN BENDER - [257]","()  - [0]","()  - [0]"]
[54,"Rochester John Marshall",480,null,"(B) LOGAN LANDON - [248]","(B) RILEY LANDON - [232]","()  - [0]","()  - [0]"]
[55,"Hastings Area Composite",459,null,"(B) IAN FERGUSON - [234]","(B) GRAYDON STRAND - [225]","()  - [0]","()  - [0]"]
[56,"St Croix Composite",388,null,"(B) BLAKE WAKELING - [388]","()  - [0]","()  - [0]","()  - [0]"]
[57,"Irondale High School",329,null,"(B) JAMES CHIRI - [329]","()  - [0]","()  - [0]","()  - [0]"]
[58,"Totino Grace High School",261,null,"(B) KYLE VOWELS - [261]","()  - [0]","()  - [0]","()  - [0]"]
[59,"Rosemount High School",227,null,"(B) JACK SHOEMAKER - [227]","()  - [0]","()  - [0]","()  - [0]"]
[60,"Hermantown-Proctor",0,null,"()  - [0]","()  - [0]","()  - [0]","()  - [0]"]
[61,"West Fork",0,null,"()  - [0]","()  - [0]","()  - [0]","()  - [0]"]

{"sheet":"Middle School D1","index":3,"n_rows":60,"n_cols":15,"rows_kept":60,"cut":false,"hidden":false,"merged":[]}
["#","TEAM","Score",null,null,"New Total Score","P1","P2","P3","P4",null,"Get Numeric","DC"]
[1,"Alexandria Area Youth Cycling",{"$f":"TeamScore(B2,\"M\",4,MN_7_REDHEAD!$F$4:$F$1391,MN_7_REDHEAD!$G$4:$G$1391,MN_7_REDHEAD!$C$4:$C$1391)","v":1609},null,null,{"$f":"TeamScoreWithPlayers($B2,\"M\",4,MN_7_REDHEAD!$F$4:$F$1391,MN_7_REDHEAD!$E$4:$E$1391,MN_7_REDHEAD!$G$4:$G$1391,MN_7_REDHEAD!$C$4:$C$1391,\"TS\")","v":1609},{"$f":"TeamScoreWithPlayers($B2,\"M\",4,MN_7_REDHEAD!$F$4:$F$1391,MN_7_REDHEAD!$E$4:$E$1391,MN_7_REDHEAD!$G$4:$G$1391,MN_7_REDHEAD!$C$4:$C$1391,\"P1\")","v":"(G) ADDISON SUCHY - [501]"},{"$f":"TeamScoreWithPlayers($B2,\"M\",4,MN_7_REDHEAD!$F$4:$F$1391,MN_7_REDHEAD!$E$4:$E$1391,MN_7_REDHEAD!$G$4:$G$1391,MN_7_REDHEAD!$C$4:$C$1391,\"P2\")","v":"(G) RYLIN CONVERSE - [460]"},{"$f":"TeamScoreWithPlayers($B2,\"M\",4,MN_7_REDHEAD!$F$4:$F$1391,MN_7_REDHEAD!$E$4:$E$1391,MN_7_REDHEAD!$G$4:$G$1391,MN_7_REDHEAD!$C$4:$C$1391,\"P3\")","v":"(B) BEN SCHOLTEN - [338]"},{"$f":"TeamScoreWithPlayers($B2,\"M\",4,MN_7_REDHEAD!$F$4:$F$1391,MN_7_REDHEAD!$E$4:$E$1391,MN_7_REDHEAD!$G$4:$G$1391,MN_7_REDHEAD!$C$4:$C$1391,\"P4\")","v":"(B) WILL NICHOLS - [310]"},null,{"$f":"getnumeric(G2)+getnumeric(H2)+getnumeric(I2)+getnumeric(J2)","v":1609},1609,null,{"$f":"ABS(C2-F2)+ABS(F2-L2)+ABS(L2-M2)","v":0}]
[{"$f":"+A2+1","v":2},"Armstrong Cycle",{"$f":"TeamScore(B3,\"M\",4,MN_7_REDHEAD!$F$4:$F$1391,MN_7_REDHEAD!$G$4:$G$1391,MN_7_REDHEAD!$C$4:$C$1391)","v":1407},null,null,{"$f":"TeamScoreWithPlayers($B3,\"M\",4,MN_7_REDHEAD!$F$4:$F$1391,MN_7_REDHEAD!$E$4:$E$1391,MN_7_REDHEAD!$G$4:$G$1391,MN_7_REDHEAD!$C$4:$C$1391,\"TS\")","v":1407},{"$f":"TeamScoreWithPlayers($B3,\"M\",4,MN_7_REDHEAD!$F$4:$F$1391,MN_7_REDHEAD!$E$4:$E$1391,MN_7_REDHEAD!$G$4:$G$1391,MN_7_REDHEAD!$C$4:$C$1391,\"P1\")","v":"(B) ANDERS DECKER - [550]"},{"$f":"TeamScoreWithPlayers($B3,\"M\",4,MN_7_REDHEAD!$F$4:$F$1391,MN_7_REDHEAD!$E$4:$E$1391,MN_7_REDHEAD!$G$4:$G$1391,MN_7_REDHEAD!$C$4:$C$1391,\"P2\")","v":"(B) HENRY DIAZ - [468]"},{"$f":"TeamScoreWithPlayers($B3,\"M\",4,MN_7_REDHEAD!$F$4:$F$1391,MN_7_REDHEAD!$E$4:$E$1391,MN_7_REDHEAD!$G$4:$G$1391,MN_7_REDHEAD!$C$4:$C$1391,\"P3\")","v":"(B) TYLER HASSIS - [389]"},{"$f":"TeamScoreWithPlayers($B3,\"M\",4,MN_7_REDHEAD!$F$4:$F$1391,MN_7_REDHEAD!$E$4:$E$1391,MN_7_REDHEAD!$G$4:$G$1391,MN_7_REDHEAD!$C$4:$C$1391,\"P4\")","v":"()  - [0]"},null,1407,1407,null,{"$f":"ABS(C3-F3)+ABS(F3-L3)+ABS(L3-M3)","v":0}]
[{"$f":"+A3+1","v":3},"Bloomington Jefferson",{"$f":"TeamScore(B4,\"M\",4,MN_7_REDHEAD!$F$4:$F$1391,MN_7_REDHEAD!$G$4:$G$1391,MN_7_REDHEAD!$C$4:$C$1391)","v":1214},null,null,{"$f":"TeamScoreWithPlayers($B4,\"M\",4,MN_7_REDHEAD!$F$4:$F$1391,MN_7_REDHEAD!$E$4:$E$1391,MN_7_REDHEAD!$G$4:$G$1391,MN_7_REDHEAD!$C$4:$C$1391,\"TS\")","v":1214},{"$f":"TeamScoreWithPlayers($B4,\"M\",4,MN_7_REDHEAD!$F$4:$F$1391,MN_7_REDHEAD!$E$4:$E$1391,MN_7_REDHEAD!$G$4:$G$1391,MN_7_REDHEAD!$C$4:$C$1391,\"P1\")","v":"(G) PIPPA BURRES - [330]"},{"$f":"TeamScoreWithPlayers($B4,\"M\",4,MN_7_REDHEAD!$F$4:$F$1391,MN_7_REDHEAD!$E$4:$E$1391,MN_7_REDHEAD!$G$4:$G$1391,MN_7_REDHEAD!$C$4:$C$1391,\"P2\")","v":"(B) DOMINICK JOHNSON - [330]"},{"$f":"TeamScoreWithPlayers($B4,\"M\",4,MN_7_REDHEAD!$F$4:$F$1391,MN_7_REDHEAD!$E$4:$E$1391,MN_7_REDHEAD!$G$4:$G$1391,MN_7_REDHEAD!$C$4:$C$1391,\"P3\")","v":"(B) FINN DOLMAR - [281]"},{"$f":"TeamScoreWithPlayers($B4,\"M\",4,MN_7_REDHEAD!$F$4:$F$1391,MN_7_REDHEAD!$E$4:$E$1391,MN_7_REDHEAD!$G$4:$G$1391,MN_7_REDHEAD!$C$4:$C$1391,\"P4\")","v":"(B) CARLO CALBONE - [273]"},null,1214,1214,null,0]
[4,"Brainerd High School",{"$f":"TeamScore(B5,\"M\",4,MN_7_REDHEAD!$F$4:$F$1391,MN_7_REDHEAD!$G$4:$G$1391,MN_7_REDHEAD!$C$4:$C$1391)","v":1983},null,null,{"$f":"TeamScoreWithPlayers($B5,\"M\",4,MN_7_REDHEAD!$F$4:$F$1391,MN_7_REDHEAD!$E$4:$E$1391,MN_7_REDHEAD!$G$4:$G$1391,MN_7_REDHEAD!$C$4:$C$1391,\"TS\")","v":1983},{"$f":"TeamScoreWithPlayers($B5,\"M\",4,MN_7_REDHEAD!$F$4:$F$1391,MN_7_REDHEAD!$E$4:$E$1391,MN_7_REDHEAD!$G$4:$G$1391,MN_7_REDHEAD!$C$4:$C$1391,\"P1\")","v":"(B) RYLAN O'HEARN - [529]"},{"$f":"TeamScoreWithPlayers($B5,\"M\",4,MN_7_REDHEAD!$F$4:$F$1391,MN_7_REDHEAD!$E$4:$E$1391,MN_7_REDHEAD!$G$4:$G$1391,MN_7_REDHEAD!$C$4:$C$1391,\"P2\")","v":"(G) ABIGAIL THOMES - [510]"},{"$f":"TeamScoreWithPlayers($B5,\"M\",4,MN_7_REDHEAD!$F$4:$F$1391,MN_7_REDHEAD!$E$4:$E$1391,MN_7_REDHEAD!$G$4:$G$1391,MN_7_REDHEAD!$C$4:$C$1391,\"P3\")","v":"(G) STELLA MUSEUS - [476]"},{"$f":"TeamScoreWithPlayers($B5,\"M\",4,MN_7_REDHEAD!$F$4:$F$1391,MN_7_REDHEAD!$E$4:$E$1391,MN_7_REDHEAD!$G$4:$G$1391,MN_7_REDHEAD!$C$4:$C$1391,\"P4\")","v":"(B) LANDON HAGEN - [468]"},null,1983,1983,null,0]
[5,"Burnsville High School",{"$f":"TeamScore(B6,\"M\",4,MN_7_REDHEAD!$F$4:$F$1391,MN_7_REDHEAD!$G$4:$G$1391,MN_7_REDHEAD!$C$4:$C$1391)","v":1794},null,null,{"$f":"TeamScoreWithPlayers($B6,\"M\",4,MN_7_REDHEAD!$F$4:$F$1391,MN_7_REDHEAD!$E$4:$E$1391,MN_7_REDHEAD!$G$4:$G$1391,MN_7_REDHEAD!$C$4:$C$1391,\"TS\")","v":1794},{"$f":"TeamScoreWithPlayers($B6,\"M\",4,MN_7_REDHEAD!$F$4:$F$1391,MN_7_REDHEAD!$E$4:$E$1391,MN_7_REDHEAD!$G$4:$G$1391,MN_7_REDHEAD!$C$4:$C$1391,\"P1\")","v":"(G) ELLIOT LUNDE - [529]"},{"$f":"TeamScoreWithPlayers($B6,\"M\",4,MN_7_REDHEAD!$F$4:$F$1391,MN_7_REDHEAD!$E$4:$E$1391,MN_7_REDHEAD!$G$4:$G$1391,MN_7_REDHEAD!$C$4:$C$1391,\"P2\")","v":"(B) OWEN WATTERSON - [439]"},{"$f":"TeamScoreWithPlayers($B6,\"M\",4,MN_7_REDHEAD!$F$4:$F$1391,MN_7_REDHEAD!$E$4:$E$1391,MN_7_REDHEAD!$G$4:$G$1391,MN_7_REDHEAD!$C$4:$C$1391,\"P3\")","v":"(B) LEVI WILLIAMS - [425]"},{"$f":"TeamScoreWithPlayers($B6,\"M\",4,MN_7_REDHEAD!$F$4:$F$1391,MN_7_REDHEAD!$E$4:$E$1391,MN_7_REDHEAD!$G$4:$G$1391,MN_7_REDHEAD!$C$4:$C$1391,\"P4\")","v":"(G) ADELINE METZGER - [401]"},null,1794,1794,null,0]
[6,"Champlin Park High School",{"$f":"TeamScore(B7,\"M\",4,MN_7_REDHEAD!$F$4:$F$1391,MN_7_REDHEAD!$G$4:$G$1391,MN_7_REDHEAD!$C$4:$C$1391)","v":1485},null,null,{"$f":"TeamScoreWithPlayers($B7,\"M\",4,MN_7_REDHEAD!$F$4:$F$1391,MN_7_REDHEAD!$E$4:$E$1391,MN_7_REDHEAD!$G$4:$G$1391,MN_7_REDHEAD!$C$4:$C$1391,\"TS\")","v":1485},{"$f":"TeamScoreWithPlayers($B7,\"M\",4,MN_7_REDHEAD!$F$4:$F$1391,MN_7_REDHEAD!$E$4:$E$1391,MN_7_REDHEAD!$G$4:$G$1391,MN_7_REDHEAD!$C$4:$C$1391,\"P1\")","v":"(B) GRAHAM BERNU - [401]"},{"$f":"TeamScoreWithPlayers($B7,\"M\",4,MN_7_REDHEAD!$F$4:$F$1391,MN_7_REDHEAD!$E$4:$E$1391,MN_7_REDHEAD!$G$4:$G$1391,MN_7_REDHEAD!$C$4:$C$1391,\"P2\")","v":"(G) SIDSE SPROUT - [384]"},{"$f":"TeamScoreWithPlayers($B7,\"M\",4,MN_7_REDHEAD!$F$4:$F$1391,MN_7_REDHEAD!$E$4:$E$1391,MN_7_REDHEAD!$G$4:$G$1391,MN_7_REDHEAD!$C$4:$C$1391,\"P3\")","v":"(G) MORGAN ROTHER - [350]"},{"$f":"TeamScoreWithPlayers($B7,\"M\",4,MN_7_REDHEAD!$F$4:$F$1391,MN_7_REDHEAD!$E$4:$E$1391,MN_7_REDHEAD!$G$4:$G$1391,MN_7_REDHEAD!$C$4:$C$1391,\"P4\")","v":"(B) KAI NELSON - [350]"},null,1485,1485,null,0]
[7,"Chanhassen High School",{"$f":"TeamScore(B8,\"M\",4,MN_7_REDHEAD!$F$4:$F$1391,MN_7_REDHEAD!$G$4:$G$1391,MN_7_REDHEAD!$C$4:$C$1391)","v":1680},null,null,{"$f":"TeamScoreWithPlayers($B8,\"M\",4,MN_7_REDHEAD!$F$4:$F$1391,MN_7_REDHEAD!$E$4:$E$1391,MN_7_REDHEAD!$G$4:$G$1391,MN_7_REDHEAD!$C$4:$C$1391,\"TS\")","v":1680},{"$f":"TeamScoreWithPlayers($B8,\"M\",4,MN_7_REDHEAD!$F$4:$F$1391,MN_7_REDHEAD!$E$4:$E$1391,MN_7_REDHEAD!$G$4:$G$1391,MN_7_REDHEAD!$C$4:$C$1391,\"P1\")","v":"(G) MACKENZIE BURKE - [476]"},{"$f":"TeamScoreWithPlayers($B8,\"M\",4,MN_7_REDHEAD!$F$4:$F$1391,MN_7_REDHEAD!$E$4:$E$1391,MN_7_REDHEAD!$G$4:$G$1391,MN_7_REDHEAD!$C$4:$C$1391,\"P2\")","v":"(B) BRADYN RUPPERT - [432]"},{"$f":"TeamScoreWithPlayers($B8,\"M\",4,MN_7_REDHEAD!$F$4:$F$1391,MN_7_REDHEAD!$E$4:$E$1391,MN_7_REDHEAD!$G$4:$G$1391,MN_7_REDHEAD!$C$4:$C$1391,\"P3\")","v":"(B) MASON DEALWIS - [413]"},{"$f":"TeamScoreWithPlayers($B8,\"M\",4,MN_7_REDHEAD!$F$4:$F$1391,MN_7_REDHEAD!$E$4:$E$1391,MN_7_REDHEAD!$G$4:$G$1391,MN_7_REDHEAD!$C$4:$C$1391,\"P4\")","v":"(B) SYD KENNEDY - [359]"},null,1680,1680,null,0]
[8,"Chaska High School",{"$f":"TeamScore(B9,\"M\",4,MN_7_REDHEAD!$F$4:$F$1391,MN_7_REDHEAD!$G$4:$G$1391,MN_7_REDHEAD!$C$4:$C$1391)","v":1558},null,null,{"$f":"TeamScoreWithPlayers($B9,\"M\",4,MN_7_REDHEAD!$F$4:$F$1391,MN_7_REDHEAD!$E$4:$E$1391,MN_7_REDHEAD!$G$4:$G$1391,MN_7_REDHEAD!$C$4:$C$1391,\"TS\")","v":1558},{"$f":"TeamScoreWithPlayers($B9,\"M\",4,MN_7_REDHEAD!$F$4:$F$1391,MN_7_REDHEAD!$E$4:$E$1391,MN_7_REDHEAD!$G$4:$G$1391,MN_7_REDHEAD!$C$4:$C$1391,\"P1\")","v":"(B) AUGUST MAYER - [432]"},{"$f":"TeamScoreWithPlayers($B9,\"M\",4,MN_7_REDHEAD!$F$4:$F$1391,MN_7_REDHEAD!$E$4:$E$1391,MN_7_REDHEAD!$G$4:$G$1391,MN_7_REDHEAD!$C$4:$C$1391,\"P2\")","v":"(B) LEIGHTON HINES - [401]"},{"$f":"TeamScoreWithPlayers($B9,\"M\",4,MN_7_REDHEAD!$F$4:$F$1391,MN_7_REDHEAD!$E$4:$E$1391,MN_7_REDHEAD!$G$4:$G$1391,MN_7_REDHEAD!$C$4:$C$1391,\"P3\")","v":"(G) MONIQUE KONOTOPKA - [395]"},{"$f":"TeamScoreWithPlayers($B9,\"M\",4,MN_7_REDHEAD!$F$4:$F$1391,MN_7_REDHEAD!$E$4:$E$1391,MN_7_REDHEAD!$G$4:$G$1391,MN_7_REDHEAD!$C$4:$C$1391,\"P4\")","v":"(B) NOLAN STONE - [330]"},null,1558,1558,null,0]
[9,"Cloquet-Esko-Carlton",{"$f":"TeamScore(B10,\"M\",4,MN_7_REDHEAD!$F$4:$F$1391,MN_7_REDHEAD!$G$4:$G$1391,MN_7_REDHEAD!$C$4:$C$1391)","v":2071},null,null,{"$f":"TeamScoreWithPlayers($B10,\"M\",4,MN_7_REDHEAD!$F$4:$F$1391,MN_7_REDHEAD!$E$4:$E$1391,MN_7_REDHEAD!$G$4:$G$1391,MN_7_REDHEAD!$C$4:$C$1391,\"TS\")","v":2071},{"$f":"TeamScoreWithPlayers($B10,\"M\",4,MN_7_REDHEAD!$F$4:$F$1391,MN_7_REDHEAD!$E$4:$E$1391,MN_7_REDHEAD!$G$4:$G$1391,MN_7_REDHEAD!$C$4:$C$1391,\"P1\")","v":"(B) DANIEL DEWEY - [550]"},{"$f":"TeamScoreWithPlayers($B10,\"M\",4,MN_7_REDHEAD!$F$4:$F$1391,MN_7_REDHEAD!$E$4:$E$1391,MN_7_REDHEAD!$G$4:$G$1391,MN_7_REDHEAD!$C$4:$C$1391,\"P2\")","v":"(G) CIERAH MCKIBBON - [519]"},{"$f":"TeamScoreWithPlayers($B10,\"M\",4,MN_7_REDHEAD!$F$4:$F$1391,MN_7_REDHEAD!$E$4:$E$1391,MN_7_REDHEAD!$G$4:$G$1391,MN_7_REDHEAD!$C$4:$C$1391,\"P3\")","v":"(B) CARTER OSVOLD - [510]"},{"$f":"TeamScoreWithPlayers($B10,\"M\",4,MN_7_REDHEAD!$F$4:$F$1391,MN_7_REDHEAD!$E$4:$E$1391,MN_7_REDHEAD!$G$4:$G$1391,MN_7_REDHEAD!$C$4:$C$1391,\"P4\")","v":"(G) AVA MCKIBBON - [492]"},null,2071,2071,null,0]
[10,"Crosby-Ironton High School",{"$f":"TeamScore(B11,\"M\",4,MN_7_REDHEAD!$F$4:$F$1391,MN_7_REDHEAD!$G$4:$G$1391,MN_7_REDHEAD!$C$4:$C$1391)","v":2041},null,null,{"$f":"TeamScoreWithPlayers($B11,\"M\",4,MN_7_REDHEAD!$F$4:$F$1391,MN_7_REDHEAD!$E$4:$E$1391,MN_7_REDHEAD!$G$4:$G$1391,MN_7_REDHEAD!$C$4:$C$1391,\"TS\")","v":2041},{"$f":"TeamScoreWithPlayers($B11,\"M\",4,MN_7_REDHEAD!$F$4:$F$1391,MN_7_REDHEAD!$E$4:$E$1391,MN_7_REDHEAD!$G$4:$G$1391,MN_7_REDHEAD!$C$4:$C$1391,\"P1\")","v":"(B) OWEN RITTER - [550]"},{"$f":"TeamScoreWithPlayers($B11,\"M\",4,MN_7_REDHEAD!$F$4:$F$1391,MN_7_REDHEAD!$E$4:$E$1391,MN_7_REDHEAD!$G$4:$G$1391,MN_7_REDHEAD!$C$4:$C$1391,\"P2\")","v":"(G) VANESSA RICKMEYER - [519]"},{"$f":"TeamScoreWithPlayers($B11,\"M\",4,MN_7_REDHEAD!$F$4:$F$1391,MN_7_REDHEAD!$E$4:$E$1391,MN_7_REDHEAD!$G$4:$G$1391,MN_7_REDHEAD!$C$4:$C$1391,\"P3\")","v":"(B) EZRA JACOBSON - [519]"},{"$f":"TeamScoreWithPlayers($B11,\"M\",4,MN_7_REDHEAD!$F$4:$F$1391,MN_7_REDHEAD!$E$4:$E$1391,MN_7_REDHEAD!$G$4:$G$1391,MN_7_REDHEAD!$C$4:$C$1391,\"P4\")","v":"(G) AVERY LONERGAN - [453]"},null,2041,2041,null,0]
[11,"Duluth East High School",{"$f":"TeamScore(B12,\"M\",4,MN_7_REDHEAD!$F$4:$F$1391,MN_7_REDHEAD!$G$4:$G$1391,MN_7_REDHEAD!$C$4:$C$1391)","v":0},null,null,{"$f":"TeamScoreWithPlayers($B12,\"M\",4,MN_7_REDHEAD!$F$4:$F$1391,MN_7_REDHEAD!$E$4:$E$1391,MN_7_REDHEAD!$G$4:$G$1391,MN_7_REDHEAD!$C$4:$C$1391,\"TS\")","v":0},{"$f":"TeamScoreWithPlayers($B12,\"M\",4,MN_7_REDHEAD!$F$4:$F$1391,MN_7_REDHEAD!$E$4:$E$1391,MN_7_REDHEAD!$G$4:$G$1391,MN_7_REDHEAD!$C$4:$C$1391,\"P1\")","v":"()  - [0]"},{"$f":"TeamScoreWithPlayers($B12,\"M\",4,MN_7_REDHEAD!$F$4:$F$1391,MN_7_REDHEAD!$E$4:$E$1391,MN_7_REDHEAD!$G$4:$G$1391,MN_7_REDHEAD!$C$4:$C$1391,\"P2\")","v":"()  - [0]"},{"$f":"TeamScoreWithPlayers($B12,\"M\",4,MN_7_REDHEAD!$F$4:$F$1391,MN_7_REDHEAD!$E$4:$E$1391,MN_7_REDHEAD!$G$4:$G$1391,MN_7_REDHEAD!$C$4:$C$1391,\"P3\")","v":"()  - [0]"},{"$f":"TeamScoreWithPlayers($B12,\"M\",4,MN_7_REDHEAD!$F$4:$F$1391,MN_7_REDHEAD!$E$4:$E$1391,MN_7_REDHEAD!$G$4:$G$1391,MN_7_REDHEAD!$C$4:$C$1391,\"P4\")","v":"()  - [0]"},null,0,0,null,0]
[12,"East Ridge High School",{"$f":"TeamScore(B13,\"M\",4,MN_7_REDHEAD!$F$4:$F$1391,MN_7_REDHEAD!$G$4:$G$1391,MN_7_REDHEAD!$C$4:$C$1391)","v":1916},null,null,{"$f":"TeamScoreWithPlayers($B13,\"M\",4,MN_7_REDHEAD!$F$4:$F$1391,MN_7_REDHEAD!$E$4:$E$1391,MN_7_REDHEAD!$G$4:$G$1391,MN_7_REDHEAD!$C$4:$C$1391,\"TS\")","v":1916},{"$f":"TeamScoreWithPlayers($B13,\"M\",4,MN_7_REDHEAD!$F$4:$F$1391,MN_7_REDHEAD!$E$4:$E$1391,MN_7_REDHEAD!$G$4:$G$1391,MN_7_REDHEAD!$C$4:$C$1391,\"P1\")","v":"(B) NICK SHIELD - [510]"},{"$f":"TeamScoreWithPlayers($B13,\"M\",4,MN_7_REDHEAD!$F$4:$F$1391,MN_7_REDHEAD!$E$4:$E$1391,MN_7_REDHEAD!$G$4:$G$1391,MN_7_REDHEAD!$C$4:$C$1391,\"P2\")","v":"(B) LUCAS TRUCKENMILLER - [501]"},{"$f":"TeamScoreWithPlayers($B13,\"M\",4,MN_7_REDHEAD!$F$4:$F$1391,MN_7_REDHEAD!$E$4:$E$1391,MN_7_REDHEAD!$G$4:$G$1391,MN_7_REDHEAD!$C$4:$C$1391,\"P3\")","v":"(B) OWEN LAWSON - [492]"},{"$f":"TeamScoreWithPlayers($B13,\"M\",4,MN_7_REDHEAD!$F$4:$F$1391,MN_7_REDHEAD!$E$4:$E$1391,MN_7_REDHEAD!$G$4:$G$1391,MN_7_REDHEAD!$C$4:$C$1391,\"P4\")","v":"(G) QUINN VAN HEYST - [413]"},null,1916,1916,null,0]
[13,"Edina Cycling",{"$f":"TeamScore(B14,\"M\",4,MN_7_REDHEAD!$F$4:$F$1391,MN_7_REDHEAD!$G$4:$G$1391,MN_7_REDHEAD!$C$4:$C$1391)","v":1788},null,null,{"$f":"TeamScoreWithPlayers($B14,\"M\",4,MN_7_REDHEAD!$F$4:$F$1391,MN_7_REDHEAD!$E$4:$E$1391,MN_7_REDHEAD!$G$4:$G$1391,MN_7_REDHEAD!$C$4:$C$1391,\"TS\")","v":1788},{"$f":"TeamScoreWithPlayers($B14,\"M\",4,MN_7_REDHEAD!$F$4:$F$1391,MN_7_REDHEAD!$E$4:$E$1391,MN_7_REDHEAD!$G$4:$G$1391,MN_7_REDHEAD!$C$4:$C$1391,\"P1\")","v":"(G) SYDNEY BULLARD - [492]"},{"$f":"TeamScoreWithPlayers($B14,\"M\",4,MN_7_REDHEAD!$F$4:$F$1391,MN_7_REDHEAD!$E$4:$E$1391,MN_7_REDHEAD!$G$4:$G$1391,MN_7_REDHEAD!$C$4:$C$1391,\"P2\")","v":"(B) DJ SEVERSON - [439]"},{"$f":"TeamScoreWithPlayers($B14,\"M\",4,MN_7_REDHEAD!$F$4:$F$1391,MN_7_REDHEAD!$E$4:$E$1391,MN_7_REDHEAD!$G$4:$G$1391,MN_7_REDHEAD!$C$4:$C$1391,\"P3\")","v":"(G) EVELYN HOPPE - [432]"},{"$f":"TeamScoreWithPlayers($B14,\"M\",4,MN_7_REDHEAD!$F$4:$F$1391,MN_7_REDHEAD!$E$4:$E$1391,MN_7_REDHEAD!$G$4:$G$1391,MN_7_REDHEAD!$C$4:$C$1391,\"P4\")","v":"(G) BEATRICE TOFTEY - [425]"},null,1788,1788,null,0]
[14,"Hopkins High School",{"$f":"TeamScore(B15,\"M\",4,MN_7_REDHEAD!$F$4:$F$1391,MN_7_REDHEAD!$G$4:$G$1391,MN_7_REDHEAD!$C$4:$C$1391)","v":1642},null,null,{"$f":"TeamScoreWithPlayers($B15,\"M\",4,MN_7_REDHEAD!$F$4:$F$1391,MN_7_REDHEAD!$E$4:$E$1391,MN_7_REDHEAD!$G$4:$G$1391,MN_7_REDHEAD!$C$4:$C$1391,\"TS\")","v":1642},{"$f":"TeamScoreWithPlayers($B15,\"M\",4,MN_7_REDHEAD!$F$4:$F$1391,MN_7_REDHEAD!$E$4:$E$1391,MN_7_REDHEAD!$G$4:$G$1391,MN_7_REDHEAD!$C$4:$C$1391,\"P1\")","v":"(G) GRETA NYGREN - [484]"},{"$f":"TeamScoreWithPlayers($B15,\"M\",4,MN_7_REDHEAD!$F$4:$F$1391,MN_7_REDHEAD!$E$4:$E$1391,MN_7_REDHEAD!$G$4:$G$1391,MN_7_REDHEAD!$C$4:$C$1391,\"P2\")","v":"(B) NOLAN HAAR - [395]"},{"$f":"TeamScoreWithPlayers($B15,\"M\",4,MN_7_REDHEAD!$F$4:$F$1391,MN_7_REDHEAD!$E$4:$E$1391,MN_7_REDHEAD!$G$4:$G$1391,MN_7_REDHEAD!$C$4:$C$1391,\"P3\")","v":"(B) GRIFFIN WOESTE - [389]"},{"$f":"TeamScoreWithPlayers($B15,\"M\",4,MN_7_REDHEAD!$F$4:$F$1391,MN_7_REDHEAD!$E$4:$E$1391,MN_7_REDHEAD!$G$4:$G$1391,MN_7_REDHEAD!$C$4:$C$1391,\"P4\")","v":"(B) CHARLIE GRUHN - [374]"},null,1642,1642,null,0]
[15,"Lakeville North High School",{"$f":"TeamScore(B16,\"M\",4,MN_7_REDHEAD!$F$4:$F$1391,MN_7_REDHEAD!$G$4:$G$1391,MN_7_REDHEAD!$C$4:$C$1391)","v":1445},null,null,{"$f":"TeamScoreWithPlayers($B16,\"M\",4,MN_7_REDHEAD!$F$4:$F$1391,MN_7_REDHEAD!$E$4:$E$1391,MN_7_REDHEAD!$G$4:$G$1391,MN_7_REDHEAD!$C$4:$C$1391,\"TS\")","v":1445},{"$f":"TeamScoreWithPlayers($B16,\"M\",4,MN_7_REDHEAD!$F$4:$F$1391,MN_7_REDHEAD!$E$4:$E$1391,MN_7_REDHEAD!$G$4:$G$1391,MN_7_REDHEAD!$C$4:$C$1391,\"P1\")","v":"(G) SOFIA HORSTMANN - [446]"},{"$f":"TeamScoreWithPlayers($B16,\"M\",4,MN_7_REDHEAD!$F$4:$F$1391,MN_7_REDHEAD!$E$4:$E$1391,MN_7_REDHEAD!$G$4:$G$1391,MN_7_REDHEAD!$C$4:$C$1391,\"P2\")","v":"(B) MYLES INGVALSON - [413]"},{"$f":"TeamScoreWithPlayers($B16,\"M\",4,MN_7_REDHEAD!$F$4:$F$1391,MN_7_REDHEAD!$E$4:$E$1391,MN_7_REDHEAD!$G$4:$G$1391,MN_7_REDHEAD!$C$4:$C$1391,\"P3\")","v":"(B) HUDSON HOLSTE - [307]"},{"$f":"TeamScoreWithPlayers($B16,\"M\",4,MN_7_REDHEAD!$F$4:$F$1391,MN_7_REDHEAD!$E$4:$E$1391,MN_7_REDHEAD!$G$4:$G$1391,MN_7_REDHEAD!$C$4:$C$1391,\"P4\")","v":"(B) BRAYDEN KREJCE - [279]"},null,1445,1445,null,0]
[16,"Minneapolis Southwest",{"$f":"TeamScore(B17,\"M\",4,MN_7_REDHEAD!$F$4:$F$1391,MN_7_REDHEAD!$G$4:$G$1391,MN_7_REDHEAD!$C$4:$C$1391)","v":1815},null,null,{"$f":"TeamScoreWithPlayers($B17,\"M\",4,MN_7_REDHEAD!$F$4:$F$1391,MN_7_REDHEAD!$E$4:$E$1391,MN_7_REDHEAD!$G$4:$G$1391,MN_7_REDHEAD!$C$4:$C$1391,\"TS\")","v":1815},{"$f":"TeamScoreWithPlayers($B17,\"M\",4,MN_7_REDHEAD!$F$4:$F$1391,MN_7_REDHEAD!$E$4:$E$1391,MN_7_REDHEAD!$G$4:$G$1391,MN_7_REDHEAD!$C$4:$C$1391,\"P1\")","v":"(G) NARA BLACK - [501]"},{"$f":"TeamScoreWithPlayers($B17,\"M\",4,MN_7_REDHEAD!$F$4:$F$1391,MN_7_REDHEAD!$E$4:$E$1391,MN_7_REDHEAD!$G$4:$G$1391,MN_7_REDHEAD!$C$4:$C$1391,\"P2\")","v":"(G) GRACE MAKOSKY - [484]"},{"$f":"TeamScoreWithPlayers($B17,\"M\",4,MN_7_REDHEAD!$F$4:$F$1391,MN_7_REDHEAD!$E$4:$E$1391,MN_7_REDHEAD!$G$4:$G$1391,MN_7_REDHEAD!$C$4:$C$1391,\"P3\")","v":"(G) LILY MAKOSKY - [446]"},{"$f":"TeamScoreWithPlayers($B17,\"M\",4,MN_7_REDHEAD!$F$4:$F$1391,MN_7_REDHEAD!$E$4:$E$1391,MN_7_REDHEAD!$G$4:$G$1391,MN_7_REDHEAD!$C$4:$C$1391,\"P4\")","v":"(B) THEODORE JUFFER - [384]"},null,1815,1815,null,0]
[17,"Minnetonka High School",{"$f":"TeamScore(B18,\"M\",4,MN_7_REDHEAD!$F$4:$F$1391,MN_7_REDHEAD!$G$4:$G$1391,MN_7_REDHEAD!$C$4:$C$1391)","v":2147},null,null,{"$f":"TeamScoreWithPlayers($B18,\"M\",4,MN_7_REDHEAD!$F$4:$F$1391,MN_7_REDHEAD!$E$4:$E$1391,MN_7_REDHEAD!$G$4:$G$1391,MN_7_REDHEAD!$C$4:$C$1391,\"TS\")","v":2147},{"$f":"TeamScoreWithPlayers($B18,\"M\",4,MN_7_REDHEAD!$F$4:$F$1391,MN_7_REDHEAD!$E$4:$E$1391,MN_7_REDHEAD!$G$4:$G$1391,MN_7_REDHEAD!$C$4:$C$1391,\"P1\")","v":"(G) STELLA SWANSON - [550]"},{"$f":"TeamScoreWithPlayers($B18,\"M\",4,MN_7_REDHEAD!$F$4:$F$1391,MN_7_REDHEAD!$E$4:$E$1391,MN_7_REDHEAD!$G$4:$G$1391,MN_7_REDHEAD!$C$4:$C$1391,\"P2\")","v":"(B) BENNO SASANFAR - [539]"},{"$f":"TeamScoreWithPlayers($B18,\"M\",4,MN_7_REDHEAD!$F$4:$F$1391,MN_7_REDHEAD!$E$4:$E$1391,MN_7_REDHEAD!$G$4:$G$1391,MN_7_REDHEAD!$C$4:$C$1391,\"P3\")","v":"(G) LANEY MILLER - [529]"},{"$f":"TeamScoreWithPlayers($B18,\"M\",4,MN_7_REDHEAD!$F$4:$F$1391,MN_7_REDHEAD!$E$4:$E$1391,MN_7_REDHEAD!$G$4:$G$1391,MN_7_REDHEAD!$C$4:$C$1391,\"P4\")","v":"(B) JACKSON RUNCK - [529]"},null,2147,2147,null,0]
[18,"Mounds View High School",{"$f":"TeamScore(B19,\"M\",4,MN_7_REDHEAD!$F$4:$F$1391,MN_7_REDHEAD!$G$4:$G$1391,MN_7_REDHEAD!$C$4:$C$1391)","v":1841},null,null,{"$f":"TeamScoreWithPlayers($B19,\"M\",4,MN_7_REDHEAD!$F$4:$F$1391,MN_7_REDHEAD!$E$4:$E$1391,MN_7_REDHEAD!$G$4:$G$1391,MN_7_REDHEAD!$C$4:$C$1391,\"TS\")","v":1841},{"$f":"TeamScoreWithPlayers($B19,\"M\",4,MN_7_REDHEAD!$F$4:$F$1391,MN_7_REDHEAD!$E$4:$E$1391,MN_7_REDHEAD!$G$4:$G$1391,MN_7_REDHEAD!$C$4:$C$1391,\"P1\")","v":"(B) THOMAS QUACKENBUSH - [501]"},{"$f":"TeamScoreWithPlayers($B19,\"M\",4,MN_7_REDHEAD!$F$4:$F$1391,MN_7_REDHEAD!$E$4:$E$1391,MN_7_REDHEAD!$G$4:$G$1391,MN_7_REDHEAD!$C$4:$C$1391,\"P2\")","v":"(B) LAKEN BARTEL - [476]"},{"$f":"TeamScoreWithPlayers($B19,\"M\",4,MN_7_REDHEAD!$F$4:$F$1391,MN_7_REDHEAD!$E$4:$E$1391,MN_7_REDHEAD!$G$4:$G$1391,MN_7_REDHEAD!$C$4:$C$1391,\"P3\")","v":"(G) JADON CARLSON - [439]"},{"$f":"TeamScoreWithPlayers($B19,\"M\",4,MN_7_REDHEAD!$F$4:$F$1391,MN_7_REDHEAD!$E$4:$E$1391,MN_7_REDHEAD!$G$4:$G$1391,MN_7_REDHEAD!$C$4:$C$1391,\"P4\")","v":"(B) ANDY VIZECKY - [425]"},null,1841,1841,null,0]
[19,"New Prague Middle and High School",{"$f":"TeamScore(B20,\"M\",4,MN_7_REDHEAD!$F$4:$F$1391,MN_7_REDHEAD!$G$4:$G$1391,MN_7_REDHEAD!$C$4:$C$1391)","v":2013},null,null,{"$f":"TeamScoreWithPlayers($B20,\"M\",4,MN_7_REDHEAD!$F$4:$F$1391,MN_7_REDHEAD!$E$4:$E$1391,MN_7_REDHEAD!$G$4:$G$1391,MN_7_REDHEAD!$C$4:$C$1391,\"TS\")","v":2013},{"$f":"TeamScoreWithPlayers($B20,\"M\",4,MN_7_REDHEAD!$F$4:$F$1391,MN_7_REDHEAD!$E$4:$E$1391,MN_7_REDHEAD!$G$4:$G$1391,MN_7_REDHEAD!$C$4:$C$1391,\"P1\")","v":"(G) ALEXIS RIDGEWAY - [550]"},{"$f":"TeamScoreWithPlayers($B20,\"M\",4,MN_7_REDHEAD!$F$4:$F$1391,MN_7_REDHEAD!$E$4:$E$1391,MN_7_REDHEAD!$G$4:$G$1391,MN_7_REDHEAD!$C$4:$C$1391,\"P2\")","v":"(B) HAYDEN BRAITH - [519]"},{"$f":"TeamScoreWithPlayers($B20,\"M\",4,MN_7_REDHEAD!$F$4:$F$1391,MN_7_REDHEAD!$E$4:$E$1391,MN_7_REDHEAD!$G$4:$G$1391,MN_7_REDHEAD!$C$4:$C$1391,\"P3\")","v":"(B) LINCOLN STUBER - [476]"},{"$f":"TeamScoreWithPlayers($B20,\"M\",4,MN_7_REDHEAD!$F$4:$F$1391,MN_7_REDHEAD!$E$4:$E$1391,MN_7_REDHEAD!$G$4:$G$1391,MN_7_REDHEAD!$C$4:$C$1391,\"P4\")","v":"(B) CASEY KELLY - [468]"},null,2013,2013,null,0]
[20,"Prior Lake High School",{"$f":"TeamScore(B21,\"M\",4,MN_7_REDHEAD!$F$4:$F$1391,MN_7_REDHEAD!$G$4:$G$1391,MN_7_REDHEAD!$C$4:$C$1391)","v":1928},null,null,{"$f":"TeamScoreWithPlayers($B21,\"M\",4,MN_7_REDHEAD!$F$4:$F$1391,MN_7_REDHEAD!$E$4:$E$1391,MN_7_REDHEAD!$G$4:$G$1391,MN_7_REDHEAD!$C$4:$C$1391,\"TS\")","v":1928},{"$f":"TeamScoreWithPlayers($B21,\"M\",4,MN_7_REDHEAD!$F$4:$F$1391,MN_7_REDHEAD!$E$4:$E$1391,MN_7_REDHEAD!$G$4:$G$1391,MN_7_REDHEAD!$C$4:$C$1391,\"P1\")","v":"(G) ARABELLA FRITZEN - [519]"},{"$f":"TeamScoreWithPlayers($B21,\"M\",4,MN_7_REDHEAD!$F$4:$F$1391,MN_7_REDHEAD!$E$4:$E$1391,MN_7_REDHEAD!$G$4:$G$1391,MN_7_REDHEAD!$C$4:$C$1391,\"P2\")","v":"(G) MILA OLSON - [510]"},{"$f":"TeamScoreWithPlayers($B21,\"M\",4,MN_7_REDHEAD!$F$4:$F$1391,MN_7_REDHEAD!$E$4:$E$1391,MN_7_REDHEAD!$G$4:$G$1391,MN_7_REDHEAD!$C$4:$C$1391,\"P3\")","v":"(G) PEYTON STAMSCHROR - [453]"},{"$f":"TeamScoreWithPlayers($B21,\"M\",4,MN_7_REDHEAD!$F$4:$F$1391,MN_7_REDHEAD!$E$4:$E$1391,MN_7_REDHEAD!$G$4:$G$1391,MN_7_REDHEAD!$C$4:$C$1391,\"P4\")","v":"(B) ELI CZAJKOWSKI - [446]"},null,1928,1928,null,0]
[21,"Rochester Century High School",{"$f":"TeamScore(B22,\"M\",4,MN_7_REDHEAD!$F$4:$F$1391,MN_7_REDHEAD!$G$4:$G$1391,MN_7_REDHEAD!$C$4:$C$1391)","v":1323},null,null,{"$f":"TeamScoreWithPlayers($B22,\"M\",4,MN_7_REDHEAD!$F$4:$F$1391,MN_7_REDHEAD!$E$4:$E$1391,MN_7_REDHEAD!$G$4:$G$1391,MN_7_REDHEAD!$C$4:$C$1391,\"TS\")","v":1323},{"$f":"TeamScoreWithPlayers($B22,\"M\",4,MN_7_REDHEAD!$F$4:$F$1391,MN_7_REDHEAD!$E$4:$E$1391,MN_7_REDHEAD!$G$4:$G$1391,MN_7_REDHEAD!$C$4:$C$1391,\"P1\")","v":"(G) MILENA MEIER - [419]"},{"$f":"TeamScoreWithPlayers($B22,\"M\",4,MN_7_REDHEAD!$F$4:$F$1391,MN_7_REDHEAD!$E$4:$E$1391,MN_7_REDHEAD!$G$4:$G$1391,MN_7_REDHEAD!$C$4:$C$1391,\"P2\")","v":"(B) ROWAN EKHOLM - [374]"},{"$f":"TeamScoreWithPlayers($B22,\"M\",4,MN_7_REDHEAD!$F$4:$F$1391,MN_7_REDHEAD!$E$4:$E$1391,MN_7_REDHEAD!$G$4:$G$1391,MN_7_REDHEAD!$C$4:$C$1391,\"P3\")","v":"(B) AVERY STRUCKMANN - [278]"},{"$f":"TeamScoreWithPlayers($B22,\"M\",4,MN_7_REDHEAD!$F$4:$F$1391,MN_7_REDHEAD!$E$4:$E$1391,MN_7_REDHEAD!$G$4:$G$1391,MN_7_REDHEAD!$C$4:$C$1391,\"P4\")","v":"(B) KAI HILL - [252]"},null,1323,1323,null,0]
[22,"Rock Ridge Composite",{"$f":"TeamScore(B23,\"M\",4,MN_7_REDHEAD!$F$4:$F$1391,MN_7_REDHEAD!$G$4:$G$1391,MN_7_REDHEAD!$C$4:$C$1391)","v":1951},null,null,{"$f":"TeamScoreWithPlayers($B23,\"M\",4,MN_7_REDHEAD!$F$4:$F$1391,MN_7_REDHEAD!$E$4:$E$1391,MN_7_REDHEAD!$G$4:$G$1391,MN_7_REDHEAD!$C$4:$C$1391,\"TS\")","v":1951},{"$f":"TeamScoreWithPlayers($B23,\"M\",4,MN_7_REDHEAD!$F$4:$F$1391,MN_7_REDHEAD!$E$4:$E$1391,MN_7_REDHEAD!$G$4:$G$1391,MN_7_REDHEAD!$C$4:$C$1391,\"P1\")","v":"(B) GUS LAYMAN - [539]"},{"$f":"TeamScoreWithPlayers($B23,\"M\",4,MN_7_REDHEAD!$F$4:$F$1391,MN_7_REDHEAD!$E$4:$E$1391,MN_7_REDHEAD!$G$4:$G$1391,MN_7_REDHEAD!$C$4:$C$1391,\"P2\")","v":"(G) DALLAS LAYMAN - [501]"},{"$f":"TeamScoreWithPlayers($B23,\"M\",4,MN_7_REDHEAD!$F$4:$F$1391,MN_7_REDHEAD!$E$4:$E$1391,MN_7_REDHEAD!$G$4:$G$1391,MN_7_REDHEAD!$C$4:$C$1391,\"P3\")","v":"(G) SELAH BEUKEMA - [492]"},{"$f":"TeamScoreWithPlayers($B23,\"M\",4,MN_7_REDHEAD!$F$4:$F$1391,MN_7_REDHEAD!$E$4:$E$1391,MN_7_REDHEAD!$G$4:$G$1391,MN_7_REDHEAD!$C$4:$C$1391,\"P4\")","v":"(B) WYATT PETRACK - [419]"},null,1951,1951,null,0]
[23,"Shakopee High School",{"$f":"TeamScore(B24,\"M\",4,MN_7_REDHEAD!$F$4:$F$1391,MN_7_REDHEAD!$G$4:$G$1391,MN_7_REDHEAD!$C$4:$C$1391)","v":1654},null,null,{"$f":"TeamScoreWithPlayers($B24,\"M\",4,MN_7_REDHEAD!$F$4:$F$1391,MN_7_REDHEAD!$E$4:$E$1391,MN_7_REDHEAD!$G$4:$G$1391,MN_7_REDHEAD!$C$4:$C$1391,\"TS\")","v":1654},{"$f":"TeamScoreWithPlayers($B24,\"M\",4,MN_7_REDHEAD!$F$4:$F$1391,MN_7_REDHEAD!$E$4:$E$1391,MN_7_REDHEAD!$G$4:$G$1391,MN_7_REDHEAD!$C$4:$C$1391,\"P1\")","v":"(B) AIDEN ZABEL - [484]"},{"$f":"TeamScoreWithPlayers($B24,\"M\",4,MN_7_REDHEAD!$F$4:$F$1391,MN_7_REDHEAD!$E$4:$E$1391,MN_7_REDHEAD!$G$4:$G$1391,MN_7_REDHEAD!$C$4:$C$1391,\"P2\")","v":"(B) TRUMAN DUEHR - [407]"},{"$f":"TeamScoreWithPlayers($B24,\"M\",4,MN_7_REDHEAD!$F$4:$F$1391,MN_7_REDHEAD!$E$4:$E$1391,MN_7_REDHEAD!$G$4:$G$1391,MN_7_REDHEAD!$C$4:$C$1391,\"P3\")","v":"(G) KIERA JAMIESON - [389]"},{"$f":"TeamScoreWithPlayers($B24,\"M\",4,MN_7_REDHEAD!$F$4:$F$1391,MN_7_REDHEAD!$E$4:$E$1391,MN_7_REDHEAD!$G$4:$G$1391,MN_7_REDHEAD!$C$4:$C$1391,\"P4\")","v":"(B) MAKAI LUND - [374]"},null,1654,1654,null,0]
[24,"Stillwater Mountain Bike",{"$f":"TeamScore(B25,\"M\",4,MN_7_REDHEAD!$F$4:$F$1391,MN_7_REDHEAD!$G$4:$G$1391,MN_7_REDHEAD!$C$4:$C$1391)","v":2063},null,null,{"$f":"TeamScoreWithPlayers($B25,\"M\",4,MN_7_REDHEAD!$F$4:$F$1391,MN_7_REDHEAD!$E$4:$E$1391,MN_7_REDHEAD!$G$4:$G$1391,MN_7_REDHEAD!$C$4:$C$1391,\"TS\")","v":2063},{"$f":"TeamScoreWithPlayers($B25,\"M\",4,MN_7_REDHEAD!$F$4:$F$1391,MN_7_REDHEAD!$E$4:$E$1391,MN_7_REDHEAD!$G$4:$G$1391,MN_7_REDHEAD!$C$4:$C$1391,\"P1\")","v":"(B) EMMETT VALLEY - [539]"},{"$f":"TeamScoreWithPlayers($B25,\"M\",4,MN_7_REDHEAD!$F$4:$F$1391,MN_7_REDHEAD!$E$4:$E$1391,MN_7_REDHEAD!$G$4:$G$1391,MN_7_REDHEAD!$C$4:$C$1391,\"P2\")","v":"(B) CHARLIE SANDERSON - [529]"},{"$f":"TeamScoreWithPlayers($B25,\"M\",4,MN_7_REDHEAD!$F$4:$F$1391,MN_7_REDHEAD!$E$4:$E$1391,MN_7_REDHEAD!$G$4:$G$1391,MN_7_REDHEAD!$C$4:$C$1391,\"P3\")","v":"(B) TEDDY SANDERSON - [519]"},{"$f":"TeamScoreWithPlayers($B25,\"M\",4,MN_7_REDHEAD!$F$4:$F$1391,MN_7_REDHEAD!$E$4:$E$1391,MN_7_REDHEAD!$G$4:$G$1391,MN_7_REDHEAD!$C$4:$C$1391,\"P4\")","v":"(G) MARG MINICH - [476]"},null,2063,2063,null,0]
[25,"Washburn High School",{"$f":"TeamScore(B26,\"M\",4,MN_7_REDHEAD!$F$4:$F$1391,MN_7_REDHEAD!$G$4:$G$1391,MN_7_REDHEAD!$C$4:$C$1391)","v":1695},null,null,{"$f":"TeamScoreWithPlayers($B26,\"M\",4,MN_7_REDHEAD!$F$4:$F$1391,MN_7_REDHEAD!$E$4:$E$1391,MN_7_REDHEAD!$G$4:$G$1391,MN_7_REDHEAD!$C$4:$C$1391,\"TS\")","v":1695},{"$f":"TeamScoreWithPlayers($B26,\"M\",4,MN_7_REDHEAD!$F$4:$F$1391,MN_7_REDHEAD!$E$4:$E$1391,MN_7_REDHEAD!$G$4:$G$1391,MN_7_REDHEAD!$C$4:$C$1391,\"P1\")","v":"(B) STEFFAN DREKONJA - [484]"},{"$f":"TeamScoreWithPlayers($B26,\"M\",4,MN_7_REDHEAD!$F$4:$F$1391,MN_7_REDHEAD!$E$4:$E$1391,MN_7_REDHEAD!$G$4:$G$1391,MN_7_REDHEAD!$C$4:$C$1391,\"P2\")","v":"(G) MAEVE THATCHER - [432]"},{"$f":"TeamScoreWithPlayers($B26,\"M\",4,MN_7_REDHEAD!$F$4:$F$1391,MN_7_REDHEAD!$E$4:$E$1391,MN_7_REDHEAD!$G$4:$G$1391,MN_7_REDHEAD!$C$4:$C$1391,\"P3\")","v":"(G) LUCIA ARNESON - [425]"},{"$f":"TeamScoreWithPlayers($B26,\"M\",4,MN_7_REDHEAD!$F$4:$F$1391,MN_7_REDHEAD!$E$4:$E$1391,MN_7_REDHEAD!$G$4:$G$1391,MN_7_REDHEAD!$C$4:$C$1391,\"P4\")","v":"(G) BAYLY WASMER - [354]"},null,1695,1695,null,0]
[26,"Wayzata Mountain Bike",{"$f":"TeamScore(B27,\"M\",4,MN_7_REDHEAD!$F$4:$F$1391,MN_7_REDHEAD!$G$4:$G$1391,MN_7_REDHEAD!$C$4:$C$1391)","v":1975},null,null,{"$f":"TeamScoreWithPlayers($B27,\"M\",4,MN_7_REDHEAD!$F$4:$F$1391,MN_7_REDHEAD!$E$4:$E$1391,MN_7_REDHEAD!$G$4:$G$1391,MN_7_REDHEAD!$C$4:$C$1391,\"TS\")","v":1975},{"$f":"TeamScoreWithPlayers($B27,\"M\",4,MN_7_REDHEAD!$F$4:$F$1391,MN_7_REDHEAD!$E$4:$E$1391,MN_7_REDHEAD!$G$4:$G$1391,MN_7_REDHEAD!$C$4:$C$1391,\"P1\")","v":"(G) ABIGAIL BRITZ - [529]"},{"$f":"TeamScoreWithPlayers($B27,\"M\",4,MN_7_REDHEAD!$F$4:$F$1391,MN_7_REDHEAD!$E$4:$E$1391,MN_7_REDHEAD!$G$4:$G$1391,MN_7_REDHEAD!$C$4:$C$1391,\"P2\")","v":"(B) ROENEN KING-ELLISON - [501]"},{"$f":"TeamScoreWithPlayers($B27,\"M\",4,MN_7_REDHEAD!$F$4:$F$1391,MN_7_REDHEAD!$E$4:$E$1391,MN_7_REDHEAD!$G$4:$G$1391,MN_7_REDHEAD!$C$4:$C$1391,\"P3\")","v":"(B) RIGEL PRIOR - [492]"},{"$f":"TeamScoreWithPlayers($B27,\"M\",4,MN_7_REDHEAD!$F$4:$F$1391,MN_7_REDHEAD!$E$4:$E$1391,MN_7_REDHEAD!$G$4:$G$1391,MN_7_REDHEAD!$C$4:$C$1391,\"P4\")","v":"(B) ETHAN LI - [453]"},null,1975,1975,null,0]
[27,"White Bear Lake High School",{"$f":"TeamScore(B28,\"M\",4,MN_7_REDHEAD!$F$4:$F$1391,MN_7_REDHEAD!$G$4:$G$1391,MN_7_REDHEAD!$C$4:$C$1391)","v":813},null,null,{"$f":"TeamScoreWithPlayers($B28,\"M\",4,MN_7_REDHEAD!$F$4:$F$1391,MN_7_REDHEAD!$E$4:$E$1391,MN_7_REDHEAD!$G$4:$G$1391,MN_7_REDHEAD!$C$4:$C$1391,\"TS\")","v":813},{"$f":"TeamScoreWithPlayers($B28,\"M\",4,MN_7_REDHEAD!$F$4:$F$1391,MN_7_REDHEAD!$E$4:$E$1391,MN_7_REDHEAD!$G$4:$G$1391,MN_7_REDHEAD!$C$4:$C$1391,\"P1\")","v":"(B) OLIN KNUTSON - [272]"},{"$f":"TeamScoreWithPlayers($B28,\"M\",4,MN_7_REDHEAD!$F$4:$F$1391,MN_7_REDHEAD!$E$4:$E$1391,MN_7_REDHEAD!$G$4:$G$1391,MN_7_REDHEAD!$C$4:$C$1391,\"P2\")","v":"(B) RYAN GLICK - [271]"},{"$f":"TeamScoreWithPlayers($B28,\"M\",4,MN_7_REDHEAD!$F$4:$F$1391,MN_7_REDHEAD!$E$4:$E$1391,MN_7_REDHEAD!$G$4:$G$1391,MN_7_REDHEAD!$C$4:$C$1391,\"P3\")","v":"(B) SETH VLIEGER - [270]"},{"$f":"TeamScoreWithPlayers($B28,\"M\",4,MN_7_REDHEAD!$F$4:$F$1391,MN_7_REDHEAD!$E$4:$E$1391,MN_7_REDHEAD!$G$4:$G$1391,MN_7_REDHEAD!$C$4:$C$1391,\"P4\")","v":"()  - [0]"},null,813,813,null,0]
[28,"Winona",{"$f":"TeamScore(B29,\"M\",4,MN_7_REDHEAD!$F$4:$F$1391,MN_7_REDHEAD!$G$4:$G$1391,MN_7_REDHEAD!$C$4:$C$1391)","v":1451},null,null,{"$f":"TeamScoreWithPlayers($B29,\"M\",4,MN_7_REDHEAD!$F$4:$F$1391,MN_7_REDHEAD!$E$4:$E$1391,MN_7_REDHEAD!$G$4:$G$1391,MN_7_REDHEAD!$C$4:$C$1391,\"TS\")","v":1451},{"$f":"TeamScoreWithPlayers($B29,\"M\",4,MN_7_REDHEAD!$F$4:$F$1391,MN_7_REDHEAD!$E$4:$E$1391,MN_7_REDHEAD!$G$4:$G$1391,MN_7_REDHEAD!$C$4:$C$1391,\"P1\")","v":"(G) SOPHIE GRICIUS - [460]"},{"$f":"TeamScoreWithPlayers($B29,\"M\",4,MN_7_REDHEAD!$F$4:$F$1391,MN_7_REDHEAD!$E$4:$E$1391,MN_7_REDHEAD!$G$4:$G$1391,MN_7_REDHEAD!$C$4:$C$1391,\"P2\")","v":"(G) LILLY HANSEN - [354]"},{"$f":"TeamScoreWithPlayers($B29,\"M\",4,MN_7_REDHEAD!$F$4:$F$1391,MN_7_REDHEAD!$E$4:$E$1391,MN_7_REDHEAD!$G$4:$G$1391,MN_7_REDHEAD!$C$4:$C$1391,\"P3\")","v":"(B) IAN HORECK - [354]"},{"$f":"TeamScoreWithPlayers($B29,\"M\",4,MN_7_REDHEAD!$F$4:$F$1391,MN_7_REDHEAD!$E$4:$E$1391,MN_7_REDHEAD!$G$4:$G$1391,MN_7_REDHEAD!$C$4:$C$1391,\"P4\")","v":"(B) BEN ALLINGTON - [283]"},null,1451,1451,null,0]
[]
[null,"Results sorted High to Low"]
["Place","TEAM","Score",null,null,"New Total Score","P1","P2","P3","P4"]
[1,"Minnetonka High School",2147,null,null,2147,"(G) STELLA SWANSON - [550]","(B) BENNO SASANFAR - [539]","(G) LANEY MILLER - [529]","(B) JACKSON RUNCK - [529]",null,{"$f":"getnumeric(G33)+getnumeric(H33)+getnumeric(I33)+getnumeric(J33)","v":2147},null,{"$f":"VLOOKUP(B33,Divisions!$P$4:$Q$95,2,FALSE)","v":1},{"$f":"C33-L33","v":0}]
[2,"Cloquet-Esko-Carlton",2071,null,null,2071,"(B) DANIEL DEWEY - [550]","(G) CIERAH MCKIBBON - [519]","(B) CARTER OSVOLD - [510]","(G) AVA MCKIBBON - [492]",null,2071,null,{"$f":"VLOOKUP(B34,Divisions!$P$4:$Q$95,2,FALSE)","v":1},{"$f":"C34-L34","v":0}]
[3,"Stillwater Mountain Bike",2063,null,null,2063,"(B) EMMETT VALLEY - [539]","(B) CHARLIE SANDERSON - [529]","(B) TEDDY SANDERSON - [519]","(G) MARG MINICH - [476]",null,2063,null,{"$f":"VLOOKUP(B35,Divisions!$P$4:$Q$95,2,FALSE)","v":1},0]
[4,"Crosby-Ironton High School",2041,null,null,2041,"(B) OWEN RITTER - [550]","(G) VANESSA RICKMEYER - [519]","(B) EZRA JACOBSON - [519]","(G) AVERY LONERGAN - [453]",null,2041,null,{"$f":"VLOOKUP(B36,Divisions!$P$4:$Q$95,2,FALSE)","v":1},0]
[5,"New Prague Middle and High School",2013,null,null,2013,"(G) ALEXIS RIDGEWAY - [550]","(B) HAYDEN BRAITH - [519]","(B) LINCOLN STUBER - [476]","(B) CASEY KELLY - [468]",null,2013,null,{"$f":"VLOOKUP(B37,Divisions!$P$4:$Q$95,2,FALSE)","v":1},0]
[6,"Brainerd High School",1983,null,null,1983,"(B) RYLAN O'HEARN - [529]","(G) ABIGAIL THOMES - [510]","(G) STELLA MUSEUS - [476]","(B) LANDON HAGEN - [468]",null,1983,null,{"$f":"VLOOKUP(B38,Divisions!$P$4:$Q$95,2,FALSE)","v":1},0]
[7,"Wayzata Mountain Bike",1975,null,null,1975,"(G) ABIGAIL BRITZ - [529]","(B) ROENEN KING-ELLISON - [501]","(B) RIGEL PRIOR - [492]","(B) ETHAN LI - [453]",null,1975,null,{"$f":"VLOOKUP(B39,Divisions!$P$4:$Q$95,2,FALSE)","v":1},0]
[8,"Rock Ridge Composite",1951,null,null,1951,"(B) GUS LAYMAN - [539]","(G) DALLAS LAYMAN - [501]","(G) SELAH BEUKEMA - [492]","(B) WYATT PETRACK - [419]",null,1951,null,{"$f":"VLOOKUP(B40,Divisions!$P$4:$Q$95,2,FALSE)","v":1},0]
[9,"Prior Lake High School",1928,null,null,1928,"(G) ARABELLA FRITZEN - [519]","(G) MILA OLSON - [510]","(G) PEYTON STAMSCHROR - [453]","(B) ELI CZAJKOWSKI - [446]",null,1928,null,{"$f":"VLOOKUP(B41,Divisions!$P$4:$Q$95,2,FALSE)","v":1},0]
[10,"East Ridge High School",1916,null,null,1916,"(B) NICK SHIELD - [510]","(B) LUCAS TRUCKENMILLER - [501]","(B) OWEN LAWSON - [492]","(G) QUINN VAN HEYST - [413]",null,1916,null,{"$f":"VLOOKUP(B42,Divisions!$P$4:$Q$95,2,FALSE)","v":1},0]
[11,"Mounds View High School",1841,null,null,1841,"(B) THOMAS QUACKENBUSH - [501]","(B) LAKEN BARTEL - [476]","(G) JADON CARLSON - [439]","(B) ANDY VIZECKY - [425]",null,1841,null,{"$f":"VLOOKUP(B43,Divisions!$P$4:$Q$95,2,FALSE)","v":1},0]
[12,"Minneapolis Southwest",1815,null,null,1815,"(G) NARA BLACK - [501]","(G) GRACE MAKOSKY - [484]","(G) LILY MAKOSKY - [446]","(B) THEODORE JUFFER - [384]",null,1815,null,{"$f":"VLOOKUP(B44,Divisions!$P$4:$Q$95,2,FALSE)","v":1},0]
[13,"Burnsville High School",1794,null,null,1794,"(G) ELLIOT LUNDE - [529]","(B) OWEN WATTERSON - [439]","(B) LEVI WILLIAMS - [425]","(G) ADELINE METZGER - [401]",null,1794,null,{"$f":"VLOOKUP(B45,Divisions!$P$4:$Q$95,2,FALSE)","v":1},0]
[14,"Edina Cycling",1788,null,null,1788,"(G) SYDNEY BULLARD - [492]","(B) DJ SEVERSON - [439]","(G) EVELYN HOPPE - [432]","(G) BEATRICE TOFTEY - [425]",null,1788,null,{"$f":"VLOOKUP(B46,Divisions!$P$4:$Q$95,2,FALSE)","v":1},0]
[15,"Washburn High School",1695,null,null,1695,"(B) STEFFAN DREKONJA - [484]","(G) MAEVE THATCHER - [432]","(G) LUCIA ARNESON - [425]","(G) BAYLY WASMER - [354]",null,1695,null,{"$f":"VLOOKUP(B47,Divisions!$P$4:$Q$95,2,FALSE)","v":1},0]
[16,"Chanhassen High School",1680,null,null,1680,"(G) MACKENZIE BURKE - [476]","(B) BRADYN RUPPERT - [432]","(B) MASON DEALWIS - [413]","(B) SYD KENNEDY - [359]",null,1680,null,{"$f":"VLOOKUP(B48,Divisions!$P$4:$Q$95,2,FALSE)","v":1},0]
[17,"Shakopee High School",1654,null,null,1654,"(B) AIDEN ZABEL - [484]","(B) TRUMAN DUEHR - [407]","(G) KIERA JAMIESON - [389]","(B) MAKAI LUND - [374]",null,1654,null,{"$f":"VLOOKUP(B49,Divisions!$P$4:$Q$95,2,FALSE)","v":1},0]
[18,"Hopkins High School",1642,null,null,1642,"(G) GRETA NYGREN - [484]","(B) NOLAN HAAR - [395]","(B) GRIFFIN WOESTE - [389]","(B) CHARLIE GRUHN - [374]",null,1642,null,{"$f":"VLOOKUP(B50,Divisions!$P$4:$Q$95,2,FALSE)","v":1},0]
[19,"Alexandria Area Youth Cycling",1609,null,null,1609,"(G) ADDISON SUCHY - [501]","(G) RYLIN CONVERSE - [460]","(B) BEN SCHOLTEN - [338]","(B) WILL NICHOLS - [310]",null,1609,null,{"$f":"VLOOKUP(B51,Divisions!$P$4:$Q$95,2,FALSE)","v":1},0]
[20,"Chaska High School",1558,null,null,1558,"(B) AUGUST MAYER - [432]","(B) LEIGHTON HINES - [401]","(G) MONIQUE KONOTOPKA - [395]","(B) NOLAN STONE - [330]",null,1558,null,{"$f":"VLOOKUP(B52,Divisions!$P$4:$Q$95,2,FALSE)","v":1},0]
[21,"Champlin Park High School",1485,null,null,1485,"(B) GRAHAM BERNU - [401]","(G) SIDSE SPROUT - [384]","(G) MORGAN ROTHER - [350]","(B) KAI NELSON - [350]",null,1485,null,{"$f":"VLOOKUP(B53,Divisions!$P$4:$Q$95,2,FALSE)","v":1},0]
[22,"Winona",1451,null,null,1451,"(G) SOPHIE GRICIUS - [460]","(G) LILLY HANSEN - [354]","(B) IAN HORECK - [354]","(B) BEN ALLINGTON - [283]",null,1451,null,{"$f":"VLOOKUP(B54,Divisions!$P$4:$Q$95,2,FALSE)","v":1},0]
[23,"Lakeville North High School",1445,null,null,1445,"(G) SOFIA HORSTMANN - [446]","(B) MYLES INGVALSON - [413]","(B) HUDSON HOLSTE - [307]","(B) BRAYDEN KREJCE - [279]",null,1445,null,{"$f":"VLOOKUP(B55,Divisions!$P$4:$Q$95,2,FALSE)","v":1},0]
[24,"Armstrong Cycle",1407,null,null,1407,"(B) ANDERS DECKER - [550]","(B) HENRY DIAZ - [468]","(B) TYLER HASSIS - [389]","()  - [0]",null,1407,null,{"$f":"VLOOKUP(B56,Divisions!$P$4:$Q$95,2,FALSE)","v":1},0]
[25,"Rochester Century High School",1323,null,null,1323,"(G) MILENA MEIER - [419]","(B) ROWAN EKHOLM - [374]","(B) AVERY STRUCKMANN - [278]","(B) KAI HILL - [252]",null,1323,null,{"$f":"VLOOKUP(B57,Divisions!$P$4:$Q$95,2,FALSE)","v":1},0]
[26,"Bloomington Jefferson",1214,null,null,1214,"(G) PIPPA BURRES - [330]","(B) DOMINICK JOHNSON - [330]","(B) FINN DOLMAR - [281]","(B) CARLO CALBONE - [273]",null,1214,null,{"$f":"VLOOKUP(B58,Divisions!$P$4:$Q$95,2,FALSE)","v":1},0]
[27,"White Bear Lake High School",813,null,null,813,"(B) OLIN KNUTSON - [272]","(B) RYAN GLICK - [271]","(B) SETH VLIEGER - [270]","()  - [0]",null,813,null,{"$f":"VLOOKUP(B59,Divisions!$P$4:$Q$95,2,FALSE)","v":1},0]
[28,"Duluth East High School",0,null,null,0,"()  - [0]","()  - [0]","()  - [0]","()  - [0]",null,0,null,{"$f":"VLOOKUP(B60,Divisions!$P$4:$Q$95,2,FALSE)","v":1},0]

{"sheet":"Middle School D2","index":4,"n_rows":127,"n_cols":15,"rows_kept":127,"cut":false,"hidden":false,"merged":[]}
["#","TEAM","Score",null,null,"New Total Score","P1","P2","P3","P4",null,"Get Numeric","DC"]
[1,"Apple Valley High School",{"$f":"TeamScore(B2,\"M\",4,MN_7_REDHEAD!$F$4:$F$1391,MN_7_REDHEAD!$G$4:$G$1391,MN_7_REDHEAD!$C$4:$C$1391)","v":295},null,null,{"$f":"TeamScoreWithPlayers($B2,\"M\",4,MN_7_REDHEAD!$F$4:$F$1391,MN_7_REDHEAD!$E$4:$E$1391,MN_7_REDHEAD!$G$4:$G$1391,MN_7_REDHEAD!$C$4:$C$1391,\"TS\")","v":295},{"$f":"TeamScoreWithPlayers($B2,\"M\",4,MN_7_REDHEAD!$F$4:$F$1391,MN_7_REDHEAD!$E$4:$E$1391,MN_7_REDHEAD!$G$4:$G$1391,MN_7_REDHEAD!$C$4:$C$1391,\"P1\")","v":"(B) HAYDEN HOFF - [295]"},{"$f":"TeamScoreWithPlayers($B2,\"M\",4,MN_7_REDHEAD!$F$4:$F$1391,MN_7_REDHEAD!$E$4:$E$1391,MN_7_REDHEAD!$G$4:$G$1391,MN_7_REDHEAD!$C$4:$C$1391,\"P2\")","v":"()  - [0]"},{"$f":"TeamScoreWithPlayers($B2,\"M\",4,MN_7_REDHEAD!$F$4:$F$1391,MN_7_REDHEAD!$E$4:$E$1391,MN_7_REDHEAD!$G$4:$G$1391,MN_7_REDHEAD!$C$4:$C$1391,\"P3\")","v":"()  - [0]"},{"$f":"TeamScoreWithPlayers($B2,\"M\",4,MN_7_REDHEAD!$F$4:$F$1391,MN_7_REDHEAD!$E$4:$E$1391,MN_7_REDHEAD!$G$4:$G$1391,MN_7_REDHEAD!$C$4:$C$1391,\"P4\")","v":"()  - [0]"},null,{"$f":"getnumeric(G2)+getnumeric(H2)+getnumeric(I2)+getnumeric(J2)","v":295},295,null,{"$f":"ABS(C2-F2)+ABS(F2-L2)+ABS(L2-M2)","v":0}]
[{"$f":"+A2+1","v":2},"Austin High School",{"$f":"TeamScore(B3,\"M\",4,MN_7_REDHEAD!$F$4:$F$1391,MN_7_REDHEAD!$G$4:$G$1391,MN_7_REDHEAD!$C$4:$C$1391)","v":1579},null,null,{"$f":"TeamScoreWithPlayers($B3,\"M\",4,MN_7_REDHEAD!$F$4:$F$1391,MN_7_REDHEAD!$E$4:$E$1391,MN_7_REDHEAD!$G$4:$G$1391,MN_7_REDHEAD!$C$4:$C$1391,\"TS\")","v":1579},{"$f":"TeamScoreWithPlayers($B3,\"M\",4,MN_7_REDHEAD!$F$4:$F$1391,MN_7_REDHEAD!$E$4:$E$1391,MN_7_REDHEAD!$G$4:$G$1391,MN_7_REDHEAD!$C$4:$C$1391,\"P1\")","v":"(G) LEXI HELGESON - [460]"},{"$f":"TeamScoreWithPlayers($B3,\"M\",4,MN_7_REDHEAD!$F$4:$F$1391,MN_7_REDHEAD!$E$4:$E$1391,MN_7_REDHEAD!$G$4:$G$1391,MN_7_REDHEAD!$C$4:$C$1391,\"P2\")","v":"(B) LIAM LINNETT - [395]"},{"$f":"TeamScoreWithPlayers($B3,\"M\",4,MN_7_REDHEAD!$F$4:$F$1391,MN_7_REDHEAD!$E$4:$E$1391,MN_7_REDHEAD!$G$4:$G$1391,MN_7_REDHEAD!$C$4:$C$1391,\"P3\")","v":"(B) HUNTER PETERS - [374]"},{"$f":"TeamScoreWithPlayers($B3,\"M\",4,MN_7_REDHEAD!$F$4:$F$1391,MN_7_REDHEAD!$E$4:$E$1391,MN_7_REDHEAD!$G$4:$G$1391,MN_7_REDHEAD!$C$4:$C$1391,\"P4\")","v":"(B) BRAYDEN ANDREWS - [350]"},null,1579,1579,null,{"$f":"ABS(C3-F3)+ABS(F3-L3)+ABS(L3-M3)","v":0}]
[{"$f":"+A3+1","v":3},"Bemidji Composite",{"$f":"TeamScore(B4,\"M\",4,MN_7_REDHEAD!$F$4:$F$1391,MN_7_REDHEAD!$G$4:$G$1391,MN_7_REDHEAD!$C$4:$C$1391)","v":0},null,null,{"$f":"TeamScoreWithPlayers($B4,\"M\",4,MN_7_REDHEAD!$F$4:$F$1391,MN_7_REDHEAD!$E$4:$E$1391,MN_7_REDHEAD!$G$4:$G$1391,MN_7_REDHEAD!$C$4:$C$1391,\"TS\")","v":0},{"$f":"TeamScoreWithPlayers($B4,\"M\",4,MN_7_REDHEAD!$F$4:$F$1391,MN_7_REDHEAD!$E$4:$E$1391,MN_7_REDHEAD!$G$4:$G$1391,MN_7_REDHEAD!$C$4:$C$1391,\"P1\")","v":"()  - [0]"},{"$f":"TeamScoreWithPlayers($B4,\"M\",4,MN_7_REDHEAD!$F$4:$F$1391,MN_7_REDHEAD!$E$4:$E$1391,MN_7_REDHEAD!$G$4:$G$1391,MN_7_REDHEAD!$C$4:$C$1391,\"P2\")","v":"()  - [0]"},{"$f":"TeamScoreWithPlayers($B4,\"M\",4,MN_7_REDHEAD!$F$4:$F$1391,MN_7_REDHEAD!$E$4:$E$1391,MN_7_REDHEAD!$G$4:$G$1391,MN_7_REDHEAD!$C$4:$C$1391,\"P3\")","v":"()  - [0]"},{"$f":"TeamScoreWithPlayers($B4,\"M\",4,MN_7_REDHEAD!$F$4:$F$1391,MN_7_REDHEAD!$E$4:$E$1391,MN_7_REDHEAD!$G$4:$G$1391,MN_7_REDHEAD!$C$4:$C$1391,\"P4\")","v":"()  - [0]"},null,0,0,null,0]
[4,"Benilde St Margaret",{"$f":"TeamScore(B5,\"M\",4,MN_7_REDHEAD!$F$4:$F$1391,MN_7_REDHEAD!$G$4:$G$1391,MN_7_REDHEAD!$C$4:$C$1391)","v":622},null,null,{"$f":"TeamScoreWithPlayers($B5,\"M\",4,MN_7_REDHEAD!$F$4:$F$1391,MN_7_REDHEAD!$E$4:$E$1391,MN_7_REDHEAD!$G$4:$G$1391,MN_7_REDHEAD!$C$4:$C$1391,\"TS\")","v":622},{"$f":"TeamScoreWithPlayers($B5,\"M\",4,MN_7_REDHEAD!$F$4:$F$1391,MN_7_REDHEAD!$E$4:$E$1391,MN_7_REDHEAD!$G$4:$G$1391,MN_7_REDHEAD!$C$4:$C$1391,\"P1\")","v":"(B) GERIK NOWLIN - [338]"},{"$f":"TeamScoreWithPlayers($B5,\"M\",4,MN_7_REDHEAD!$F$4:$F$1391,MN_7_REDHEAD!$E$4:$E$1391,MN_7_REDHEAD!$G$4:$G$1391,MN_7_REDHEAD!$C$4:$C$1391,\"P2\")","v":"(B) RYAN LYNCH - [284]"},{"$f":"TeamScoreWithPlayers($B5,\"M\",4,MN_7_REDHEAD!$F$4:$F$1391,MN_7_REDHEAD!$E$4:$E$1391,MN_7_REDHEAD!$G$4:$G$1391,MN_7_REDHEAD!$C$4:$C$1391,\"P3\")","v":"()  - [0]"},{"$f":"TeamScoreWithPlayers($B5,\"M\",4,MN_7_REDHEAD!$F$4:$F$1391,MN_7_REDHEAD!$E$4:$E$1391,MN_7_REDHEAD!$G$4:$G$1391,MN_7_REDHEAD!$C$4:$C$1391,\"P4\")","v":"()  - [0]"},null,622,622,null,0]
[5,"Bloomington Composite",{"$f":"TeamScore(B6,\"M\",4,MN_7_REDHEAD!$F$4:$F$1391,MN_7_REDHEAD!$G$4:$G$1391,MN_7_REDHEAD!$C$4:$C$1391)","v":904},null,null,{"$f":"TeamScoreWithPlayers($B6,\"M\",4,MN_7_REDHEAD!$F$4:$F$1391,MN_7_REDHEAD!$E$4:$E$1391,MN_7_REDHEAD!$G$4:$G$1391,MN_7_REDHEAD!$C$4:$C$1391,\"TS\")","v":904},{"$f":"TeamScoreWithPlayers($B6,\"M\",4,MN_7_REDHEAD!$F$4:$F$1391,MN_7_REDHEAD!$E$4:$E$1391,MN_7_REDHEAD!$G$4:$G$1391,MN_7_REDHEAD!$C$4:$C$1391,\"P1\")","v":"(G) REGAN ISAAC - [334]"},{"$f":"TeamScoreWithPlayers($B6,\"M\",4,MN_7_REDHEAD!$F$4:$F$1391,MN_7_REDHEAD!$E$4:$E$1391,MN_7_REDHEAD!$G$4:$G$1391,MN_7_REDHEAD!$C$4:$C$1391,\"P2\")","v":"(B) RYLAN MACADAMS - [293]"},{"$f":"TeamScoreWithPlayers($B6,\"M\",4,MN_7_REDHEAD!$F$4:$F$1391,MN_7_REDHEAD!$E$4:$E$1391,MN_7_REDHEAD!$G$4:$G$1391,MN_7_REDHEAD!$C$4:$C$1391,\"P3\")","v":"(B) BEN JONES - [277]"},{"$f":"TeamScoreWithPlayers($B6,\"M\",4,MN_7_REDHEAD!$F$4:$F$1391,MN_7_REDHEAD!$E$4:$E$1391,MN_7_REDHEAD!$G$4:$G$1391,MN_7_REDHEAD!$C$4:$C$1391,\"P4\")","v":"()  - [0]"},null,904,904,null,0]
[6,"Borealis Composite",{"$f":"TeamScore(B7,\"M\",4,MN_7_REDHEAD!$F$4:$F$1391,MN_7_REDHEAD!$G$4:$G$1391,MN_7_REDHEAD!$C$4:$C$1391)","v":1528},null,null,{"$f":"TeamScoreWithPlayers($B7,\"M\",4,MN_7_REDHEAD!$F$4:$F$1391,MN_7_REDHEAD!$E$4:$E$1391,MN_7_REDHEAD!$G$4:$G$1391,MN_7_REDHEAD!$C$4:$C$1391,\"TS\")","v":1528},{"$f":"TeamScoreWithPlayers($B7,\"M\",4,MN_7_REDHEAD!$F$4:$F$1391,MN_7_REDHEAD!$E$4:$E$1391,MN_7_REDHEAD!$G$4:$G$1391,MN_7_REDHEAD!$C$4:$C$1391,\"P1\")","v":"(B) GRADY ANDERSON - [453]"},{"$f":"TeamScoreWithPlayers($B7,\"M\",4,MN_7_REDHEAD!$F$4:$F$1391,MN_7_REDHEAD!$E$4:$E$1391,MN_7_REDHEAD!$G$4:$G$1391,MN_7_REDHEAD!$C$4:$C$1391,\"P2\")","v":"(G) ADDISON KANNAS - [395]"},{"$f":"TeamScoreWithPlayers($B7,\"M\",4,MN_7_REDHEAD!$F$4:$F$1391,MN_7_REDHEAD!$E$4:$E$1391,MN_7_REDHEAD!$G$4:$G$1391,MN_7_REDHEAD!$C$4:$C$1391,\"P3\")","v":"(B) WYATT TEDRICK - [379]"},{"$f":"TeamScoreWithPlayers($B7,\"M\",4,MN_7_REDHEAD!$F$4:$F$1391,MN_7_REDHEAD!$E$4:$E$1391,MN_7_REDHEAD!$G$4:$G$1391,MN_7_REDHEAD!$C$4:$C$1391,\"P4\")","v":"(B) GEORGE SPONHOLZ - [301]"},null,1528,1528,null,0]
[7,"Breck/Blake",{"$f":"TeamScore(B8,\"M\",4,MN_7_REDHEAD!$F$4:$F$1391,MN_7_REDHEAD!$G$4:$G$1391,MN_7_REDHEAD!$C$4:$C$1391)","v":1111},null,null,{"$f":"TeamScoreWithPlayers($B8,\"M\",4,MN_7_REDHEAD!$F$4:$F$1391,MN_7_REDHEAD!$E$4:$E$1391,MN_7_REDHEAD!$G$4:$G$1391,MN_7_REDHEAD!$C$4:$C$1391,\"TS\")","v":1111},{"$f":"TeamScoreWithPlayers($B8,\"M\",4,MN_7_REDHEAD!$F$4:$F$1391,MN_7_REDHEAD!$E$4:$E$1391,MN_7_REDHEAD!$G$4:$G$1391,MN_7_REDHEAD!$C$4:$C$1391,\"P1\")","v":"(B) LANDON MAUL - [476]"},{"$f":"TeamScoreWithPlayers($B8,\"M\",4,MN_7_REDHEAD!$F$4:$F$1391,MN_7_REDHEAD!$E$4:$E$1391,MN_7_REDHEAD!$G$4:$G$1391,MN_7_REDHEAD!$C$4:$C$1391,\"P2\")","v":"(G) EMILIA COLIANNI - [350]"},{"$f":"TeamScoreWithPlayers($B8,\"M\",4,MN_7_REDHEAD!$F$4:$F$1391,MN_7_REDHEAD!$E$4:$E$1391,MN_7_REDHEAD!$G$4:$G$1391,MN_7_REDHEAD!$C$4:$C$1391,\"P3\")","v":"(B) OLIVER ENGEL - [285]"},{"$f":"TeamScoreWithPlayers($B8,\"M\",4,MN_7_REDHEAD!$F$4:$F$1391,MN_7_REDHEAD!$E$4:$E$1391,MN_7_REDHEAD!$G$4:$G$1391,MN_7_REDHEAD!$C$4:$C$1391,\"P4\")","v":"()  - [0]"},null,1111,1111,null,0]
[8,"Cannon Valley Composite",{"$f":"TeamScore(B9,\"M\",4,MN_7_REDHEAD!$F$4:$F$1391,MN_7_REDHEAD!$G$4:$G$1391,MN_7_REDHEAD!$C$4:$C$1391)","v":1117},null,null,{"$f":"TeamScoreWithPlayers($B9,\"M\",4,MN_7_REDHEAD!$F$4:$F$1391,MN_7_REDHEAD!$E$4:$E$1391,MN_7_REDHEAD!$G$4:$G$1391,MN_7_REDHEAD!$C$4:$C$1391,\"TS\")","v":1117},{"$f":"TeamScoreWithPlayers($B9,\"M\",4,MN_7_REDHEAD!$F$4:$F$1391,MN_7_REDHEAD!$E$4:$E$1391,MN_7_REDHEAD!$G$4:$G$1391,MN_7_REDHEAD!$C$4:$C$1391,\"P1\")","v":"(B) BENJAMIN FUNKE - [419]"},{"$f":"TeamScoreWithPlayers($B9,\"M\",4,MN_7_REDHEAD!$F$4:$F$1391,MN_7_REDHEAD!$E$4:$E$1391,MN_7_REDHEAD!$G$4:$G$1391,MN_7_REDHEAD!$C$4:$C$1391,\"P2\")","v":"(B) LEO HERNANDEZ - [364]"},{"$f":"TeamScoreWithPlayers($B9,\"M\",4,MN_7_REDHEAD!$F$4:$F$1391,MN_7_REDHEAD!$E$4:$E$1391,MN_7_REDHEAD!$G$4:$G$1391,MN_7_REDHEAD!$C$4:$C$1391,\"P3\")","v":"(B) DREW PRIBYL - [334]"},{"$f":"TeamScoreWithPlayers($B9,\"M\",4,MN_7_REDHEAD!$F$4:$F$1391,MN_7_REDHEAD!$E$4:$E$1391,MN_7_REDHEAD!$G$4:$G$1391,MN_7_REDHEAD!$C$4:$C$1391,\"P4\")","v":"()  - [0]"},null,1117,1117,null,0]
[9,"Chisago Lakes Composite",{"$f":"TeamScore(B10,\"M\",4,MN_7_REDHEAD!$F$4:$F$1391,MN_7_REDHEAD!$G$4:$G$1391,MN_7_REDHEAD!$C$4:$C$1391)","v":982},null,null,{"$f":"TeamScoreWithPlayers($B10,\"M\",4,MN_7_REDHEAD!$F$4:$F$1391,MN_7_REDHEAD!$E$4:$E$1391,MN_7_REDHEAD!$G$4:$G$1391,MN_7_REDHEAD!$C$4:$C$1391,\"TS\")","v":982},{"$f":"TeamScoreWithPlayers($B10,\"M\",4,MN_7_REDHEAD!$F$4:$F$1391,MN_7_REDHEAD!$E$4:$E$1391,MN_7_REDHEAD!$G$4:$G$1391,MN_7_REDHEAD!$C$4:$C$1391,\"P1\")","v":"(B) REID HAMLIN - [550]"},{"$f":"TeamScoreWithPlayers($B10,\"M\",4,MN_7_REDHEAD!$F$4:$F$1391,MN_7_REDHEAD!$E$4:$E$1391,MN_7_REDHEAD!$G$4:$G$1391,MN_7_REDHEAD!$C$4:$C$1391,\"P2\")","v":"(B) EDWARD “EJ” NIELSEN - [432]"},{"$f":"TeamScoreWithPlayers($B10,\"M\",4,MN_7_REDHEAD!$F$4:$F$1391,MN_7_REDHEAD!$E$4:$E$1391,MN_7_REDHEAD!$G$4:$G$1391,MN_7_REDHEAD!$C$4:$C$1391,\"P3\")","v":"()  - [0]"},{"$f":"TeamScoreWithPlayers($B10,\"M\",4,MN_7_REDHEAD!$F$4:$F$1391,MN_7_REDHEAD!$E$4:$E$1391,MN_7_REDHEAD!$G$4:$G$1391,MN_7_REDHEAD!$C$4:$C$1391,\"P4\")","v":"()  - [0]"},null,982,982,null,0]
[10,"Duluth Composite",{"$f":"TeamScore(B11,\"M\",4,MN_7_REDHEAD!$F$4:$F$1391,MN_7_REDHEAD!$G$4:$G$1391,MN_7_REDHEAD!$C$4:$C$1391)","v":0},null,null,{"$f":"TeamScoreWithPlayers($B11,\"M\",4,MN_7_REDHEAD!$F$4:$F$1391,MN_7_REDHEAD!$E$4:$E$1391,MN_7_REDHEAD!$G$4:$G$1391,MN_7_REDHEAD!$C$4:$C$1391,\"TS\")","v":0},{"$f":"TeamScoreWithPlayers($B11,\"M\",4,MN_7_REDHEAD!$F$4:$F$1391,MN_7_REDHEAD!$E$4:$E$1391,MN_7_REDHEAD!$G$4:$G$1391,MN_7_REDHEAD!$C$4:$C$1391,\"P1\")","v":"()  - [0]"},{"$f":"TeamScoreWithPlayers($B11,\"M\",4,MN_7_REDHEAD!$F$4:$F$1391,MN_7_REDHEAD!$E$4:$E$1391,MN_7_REDHEAD!$G$4:$G$1391,MN_7_REDHEAD!$C$4:$C$1391,\"P2\")","v":"()  - [0]"},{"$f":"TeamScoreWithPlayers($B11,\"M\",4,MN_7_REDHEAD!$F$4:$F$1391,MN_7_REDHEAD!$E$4:$E$1391,MN_7_REDHEAD!$G$4:$G$1391,MN_7_REDHEAD!$C$4:$C$1391,\"P3\")","v":"()  - [0]"},{"$f":"TeamScoreWithPlayers($B11,\"M\",4,MN_7_REDHEAD!$F$4:$F$1391,MN_7_REDHEAD!$E$4:$E$1391,MN_7_REDHEAD!$G$4:$G$1391,MN_7_REDHEAD!$C$4:$C$1391,\"P4\")","v":"()  - [0]"},null,0,0,null,0]
[11,"Eagan High School",{"$f":"TeamScore(B12,\"M\",4,MN_7_REDHEAD!$F$4:$F$1391,MN_7_REDHEAD!$G$4:$G$1391,MN_7_REDHEAD!$C$4:$C$1391)","v":1017},null,null,{"$f":"TeamScoreWithPlayers($B12,\"M\",4,MN_7_REDHEAD!$F$4:$F$1391,MN_7_REDHEAD!$E$4:$E$1391,MN_7_REDHEAD!$G$4:$G$1391,MN_7_REDHEAD!$C$4:$C$1391,\"TS\")","v":1017},{"$f":"TeamScoreWithPlayers($B12,\"M\",4,MN_7_REDHEAD!$F$4:$F$1391,MN_7_REDHEAD!$E$4:$E$1391,MN_7_REDHEAD!$G$4:$G$1391,MN_7_REDHEAD!$C$4:$C$1391,\"P1\")","v":"(B) CALEB LYON - [460]"},{"$f":"TeamScoreWithPlayers($B12,\"M\",4,MN_7_REDHEAD!$F$4:$F$1391,MN_7_REDHEAD!$E$4:$E$1391,MN_7_REDHEAD!$G$4:$G$1391,MN_7_REDHEAD!$C$4:$C$1391,\"P2\")","v":"(B) NICHOLAS MIZIORKO - [286]"},{"$f":"TeamScoreWithPlayers($B12,\"M\",4,MN_7_REDHEAD!$F$4:$F$1391,MN_7_REDHEAD!$E$4:$E$1391,MN_7_REDHEAD!$G$4:$G$1391,MN_7_REDHEAD!$C$4:$C$1391,\"P3\")","v":"(B) GRAHAM ROBERTS - [271]"},{"$f":"TeamScoreWithPlayers($B12,\"M\",4,MN_7_REDHEAD!$F$4:$F$1391,MN_7_REDHEAD!$E$4:$E$1391,MN_7_REDHEAD!$G$4:$G$1391,MN_7_REDHEAD!$C$4:$C$1391,\"P4\")","v":"()  - [0]"},null,1017,1017,null,0]
[12,"Eastview High School",{"$f":"TeamScore(B13,\"M\",4,MN_7_REDHEAD!$F$4:$F$1391,MN_7_REDHEAD!$G$4:$G$1391,MN_7_REDHEAD!$C$4:$C$1391)","v":539},null,null,{"$f":"TeamScoreWithPlayers($B13,\"M\",4,MN_7_REDHEAD!$F$4:$F$1391,MN_7_REDHEAD!$E$4:$E$1391,MN_7_REDHEAD!$G$4:$G$1391,MN_7_REDHEAD!$C$4:$C$1391,\"TS\")","v":539},{"$f":"TeamScoreWithPlayers($B13,\"M\",4,MN_7_REDHEAD!$F$4:$F$1391,MN_7_REDHEAD!$E$4:$E$1391,MN_7_REDHEAD!$G$4:$G$1391,MN_7_REDHEAD!$C$4:$C$1391,\"P1\")","v":"(G) MARGO BREMER - [539]"},{"$f":"TeamScoreWithPlayers($B13,\"M\",4,MN_7_REDHEAD!$F$4:$F$1391,MN_7_REDHEAD!$E$4:$E$1391,MN_7_REDHEAD!$G$4:$G$1391,MN_7_REDHEAD!$C$4:$C$1391,\"P2\")","v":"()  - [0]"},{"$f":"TeamScoreWithPlayers($B13,\"M\",4,MN_7_REDHEAD!$F$4:$F$1391,MN_7_REDHEAD!$E$4:$E$1391,MN_7_REDHEAD!$G$4:$G$1391,MN_7_REDHEAD!$C$4:$C$1391,\"P3\")","v":"()  - [0]"},{"$f":"TeamScoreWithPlayers($B13,\"M\",4,MN_7_REDHEAD!$F$4:$F$1391,MN_7_REDHEAD!$E$4:$E$1391,MN_7_REDHEAD!$G$4:$G$1391,MN_7_REDHEAD!$C$4:$C$1391,\"P4\")","v":"()  - [0]"},null,539,539,null,0]
[13,"Eden Prairie High School",{"$f":"TeamScore(B14,\"M\",4,MN_7_REDHEAD!$F$4:$F$1391,MN_7_REDHEAD!$G$4:$G$1391,MN_7_REDHEAD!$C$4:$C$1391)","v":1395},null,null,{"$f":"TeamScoreWithPlayers($B14,\"M\",4,MN_7_REDHEAD!$F$4:$F$1391,MN_7_REDHEAD!$E$4:$E$1391,MN_7_REDHEAD!$G$4:$G$1391,MN_7_REDHEAD!$C$4:$C$1391,\"TS\")","v":1395},{"$f":"TeamScoreWithPlayers($B14,\"M\",4,MN_7_REDHEAD!$F$4:$F$1391,MN_7_REDHEAD!$E$4:$E$1391,MN_7_REDHEAD!$G$4:$G$1391,MN_7_REDHEAD!$C$4:$C$1391,\"P1\")","v":"(B) MASON REINER - [510]"},{"$f":"TeamScoreWithPlayers($B14,\"M\",4,MN_7_REDHEAD!$F$4:$F$1391,MN_7_REDHEAD!$E$4:$E$1391,MN_7_REDHEAD!$G$4:$G$1391,MN_7_REDHEAD!$C$4:$C$1391,\"P2\")","v":"(B) ISAAC FOLEY - [484]"},{"$f":"TeamScoreWithPlayers($B14,\"M\",4,MN_7_REDHEAD!$F$4:$F$1391,MN_7_REDHEAD!$E$4:$E$1391,MN_7_REDHEAD!$G$4:$G$1391,MN_7_REDHEAD!$C$4:$C$1391,\"P3\")","v":"(B) AIDAN OLSTAD - [401]"},{"$f":"TeamScoreWithPlayers($B14,\"M\",4,MN_7_REDHEAD!$F$4:$F$1391,MN_7_REDHEAD!$E$4:$E$1391,MN_7_REDHEAD!$G$4:$G$1391,MN_7_REDHEAD!$C$4:$C$1391,\"P4\")","v":"()  - [0]"},null,1395,1395,null,0]
[14,"Elk River Composite",{"$f":"TeamScore(B15,\"M\",4,MN_7_REDHEAD!$F$4:$F$1391,MN_7_REDHEAD!$G$4:$G$1391,MN_7_REDHEAD!$C$4:$C$1391)","v":1829},null,null,{"$f":"TeamScoreWithPlayers($B15,\"M\",4,MN_7_REDHEAD!$F$4:$F$1391,MN_7_REDHEAD!$E$4:$E$1391,MN_7_REDHEAD!$G$4:$G$1391,MN_7_REDHEAD!$C$4:$C$1391,\"TS\")","v":1829},{"$f":"TeamScoreWithPlayers($B15,\"M\",4,MN_7_REDHEAD!$F$4:$F$1391,MN_7_REDHEAD!$E$4:$E$1391,MN_7_REDHEAD!$G$4:$G$1391,MN_7_REDHEAD!$C$4:$C$1391,\"P1\")","v":"(B) EDWARD FULL - [550]"},{"$f":"TeamScoreWithPlayers($B15,\"M\",4,MN_7_REDHEAD!$F$4:$F$1391,MN_7_REDHEAD!$E$4:$E$1391,MN_7_REDHEAD!$G$4:$G$1391,MN_7_REDHEAD!$C$4:$C$1391,\"P2\")","v":"(G) GEMMA BANKS - [468]"},{"$f":"TeamScoreWithPlayers($B15,\"M\",4,MN_7_REDHEAD!$F$4:$F$1391,MN_7_REDHEAD!$E$4:$E$1391,MN_7_REDHEAD!$G$4:$G$1391,MN_7_REDHEAD!$C$4:$C$1391,\"P3\")","v":"(B) TYLER HANSON - [432]"},{"$f":"TeamScoreWithPlayers($B15,\"M\",4,MN_7_REDHEAD!$F$4:$F$1391,MN_7_REDHEAD!$E$4:$E$1391,MN_7_REDHEAD!$G$4:$G$1391,MN_7_REDHEAD!$C$4:$C$1391,\"P4\")","v":"(G) NATALIE MCCORMACK - [379]"},null,1829,1829,null,0]
[15,"Hastings Area Composite",{"$f":"TeamScore(B16,\"M\",4,MN_7_REDHEAD!$F$4:$F$1391,MN_7_REDHEAD!$G$4:$G$1391,MN_7_REDHEAD!$C$4:$C$1391)","v":1771},null,null,{"$f":"TeamScoreWithPlayers($B16,\"M\",4,MN_7_REDHEAD!$F$4:$F$1391,MN_7_REDHEAD!$E$4:$E$1391,MN_7_REDHEAD!$G$4:$G$1391,MN_7_REDHEAD!$C$4:$C$1391,\"TS\")","v":1771},{"$f":"TeamScoreWithPlayers($B16,\"M\",4,MN_7_REDHEAD!$F$4:$F$1391,MN_7_REDHEAD!$E$4:$E$1391,MN_7_REDHEAD!$G$4:$G$1391,MN_7_REDHEAD!$C$4:$C$1391,\"P1\")","v":"(B) JAMES MCNAMARA - [501]"},{"$f":"TeamScoreWithPlayers($B16,\"M\",4,MN_7_REDHEAD!$F$4:$F$1391,MN_7_REDHEAD!$E$4:$E$1391,MN_7_REDHEAD!$G$4:$G$1391,MN_7_REDHEAD!$C$4:$C$1391,\"P2\")","v":"(G) KATE NOWAK - [468]"},{"$f":"TeamScoreWithPlayers($B16,\"M\",4,MN_7_REDHEAD!$F$4:$F$1391,MN_7_REDHEAD!$E$4:$E$1391,MN_7_REDHEAD!$G$4:$G$1391,MN_7_REDHEAD!$C$4:$C$1391,\"P3\")","v":"(G) GRACEANN OLSON - [407]"},{"$f":"TeamScoreWithPlayers($B16,\"M\",4,MN_7_REDHEAD!$F$4:$F$1391,MN_7_REDHEAD!$E$4:$E$1391,MN_7_REDHEAD!$G$4:$G$1391,MN_7_REDHEAD!$C$4:$C$1391,\"P4\")","v":"(B) PAYTON OLSON - [395]"},null,1771,1771,null,0]
[16,"Hermantown-Proctor",{"$f":"TeamScore(B17,\"M\",4,MN_7_REDHEAD!$F$4:$F$1391,MN_7_REDHEAD!$G$4:$G$1391,MN_7_REDHEAD!$C$4:$C$1391)","v":291},null,null,{"$f":"TeamScoreWithPlayers($B17,\"M\",4,MN_7_REDHEAD!$F$4:$F$1391,MN_7_REDHEAD!$E$4:$E$1391,MN_7_REDHEAD!$G$4:$G$1391,MN_7_REDHEAD!$C$4:$C$1391,\"TS\")","v":291},{"$f":"TeamScoreWithPlayers($B17,\"M\",4,MN_7_REDHEAD!$F$4:$F$1391,MN_7_REDHEAD!$E$4:$E$1391,MN_7_REDHEAD!$G$4:$G$1391,MN_7_REDHEAD!$C$4:$C$1391,\"P1\")","v":"(B) ALEX HANSON - [291]"},{"$f":"TeamScoreWithPlayers($B17,\"M\",4,MN_7_REDHEAD!$F$4:$F$1391,MN_7_REDHEAD!$E$4:$E$1391,MN_7_REDHEAD!$G$4:$G$1391,MN_7_REDHEAD!$C$4:$C$1391,\"P2\")","v":"()  - [0]"},{"$f":"TeamScoreWithPlayers($B17,\"M\",4,MN_7_REDHEAD!$F$4:$F$1391,MN_7_REDHEAD!$E$4:$E$1391,MN_7_REDHEAD!$G$4:$G$1391,MN_7_REDHEAD!$C$4:$C$1391,\"P3\")","v":"()  - [0]"},{"$f":"TeamScoreWithPlayers($B17,\"M\",4,MN_7_REDHEAD!$F$4:$F$1391,MN_7_REDHEAD!$E$4:$E$1391,MN_7_REDHEAD!$G$4:$G$1391,MN_7_REDHEAD!$C$4:$C$1391,\"P4\")","v":"()  - [0]"},null,291,291,null,0]
[17,"Highland Park St Paul",{"$f":"TeamScore(B18,\"M\",4,MN_7_REDHEAD!$F$4:$F$1391,MN_7_REDHEAD!$G$4:$G$1391,MN_7_REDHEAD!$C$4:$C$1391)","v":1311},null,null,{"$f":"TeamScoreWithPlayers($B18,\"M\",4,MN_7_REDHEAD!$F$4:$F$1391,MN_7_REDHEAD!$E$4:$E$1391,MN_7_REDHEAD!$G$4:$G$1391,MN_7_REDHEAD!$C$4:$C$1391,\"TS\")","v":1311},{"$f":"TeamScoreWithPlayers($B18,\"M\",4,MN_7_REDHEAD!$F$4:$F$1391,MN_7_REDHEAD!$E$4:$E$1391,MN_7_REDHEAD!$G$4:$G$1391,MN_7_REDHEAD!$C$4:$C$1391,\"P1\")","v":"(G) CORALIE JONES - [539]"},{"$f":"TeamScoreWithPlayers($B18,\"M\",4,MN_7_REDHEAD!$F$4:$F$1391,MN_7_REDHEAD!$E$4:$E$1391,MN_7_REDHEAD!$G$4:$G$1391,MN_7_REDHEAD!$C$4:$C$1391,\"P2\")","v":"(B) FRANKLIN MILLER - [468]"},{"$f":"TeamScoreWithPlayers($B18,\"M\",4,MN_7_REDHEAD!$F$4:$F$1391,MN_7_REDHEAD!$E$4:$E$1391,MN_7_REDHEAD!$G$4:$G$1391,MN_7_REDHEAD!$C$4:$C$1391,\"P3\")","v":"(B) COLIN BORGEN - [304]"},{"$f":"TeamScoreWithPlayers($B18,\"M\",4,MN_7_REDHEAD!$F$4:$F$1391,MN_7_REDHEAD!$E$4:$E$1391,MN_7_REDHEAD!$G$4:$G$1391,MN_7_REDHEAD!$C$4:$C$1391,\"P4\")","v":"()  - [0]"},null,1311,1311,null,0]
[18,"Hudson High School",{"$f":"TeamScore(B19,\"M\",4,MN_7_REDHEAD!$F$4:$F$1391,MN_7_REDHEAD!$G$4:$G$1391,MN_7_REDHEAD!$C$4:$C$1391)","v":1912},null,null,{"$f":"TeamScoreWithPlayers($B19,\"M\",4,MN_7_REDHEAD!$F$4:$F$1391,MN_7_REDHEAD!$E$4:$E$1391,MN_7_REDHEAD!$G$4:$G$1391,MN_7_REDHEAD!$C$4:$C$1391,\"TS\")","v":1912},{"$f":"TeamScoreWithPlayers($B19,\"M\",4,MN_7_REDHEAD!$F$4:$F$1391,MN_7_REDHEAD!$E$4:$E$1391,MN_7_REDHEAD!$G$4:$G$1391,MN_7_REDHEAD!$C$4:$C$1391,\"P1\")","v":"(B) RYAN KELLER - [519]"},{"$f":"TeamScoreWithPlayers($B19,\"M\",4,MN_7_REDHEAD!$F$4:$F$1391,MN_7_REDHEAD!$E$4:$E$1391,MN_7_REDHEAD!$G$4:$G$1391,MN_7_REDHEAD!$C$4:$C$1391,\"P2\")","v":"(B) HENRY STEPHENSON - [501]"},{"$f":"TeamScoreWithPlayers($B19,\"M\",4,MN_7_REDHEAD!$F$4:$F$1391,MN_7_REDHEAD!$E$4:$E$1391,MN_7_REDHEAD!$G$4:$G$1391,MN_7_REDHEAD!$C$4:$C$1391,\"P3\")","v":"(G) HAYDEN KOHN - [446]"},{"$f":"TeamScoreWithPlayers($B19,\"M\",4,MN_7_REDHEAD!$F$4:$F$1391,MN_7_REDHEAD!$E$4:$E$1391,MN_7_REDHEAD!$G$4:$G$1391,MN_7_REDHEAD!$C$4:$C$1391,\"P4\")","v":"(B) JOE STEPHENSON - [446]"},null,1912,1912,null,0]
[19,"Hutchinson High School",{"$f":"TeamScore(B20,\"M\",4,MN_7_REDHEAD!$F$4:$F$1391,MN_7_REDHEAD!$G$4:$G$1391,MN_7_REDHEAD!$C$4:$C$1391)","v":869},null,null,{"$f":"TeamScoreWithPlayers($B20,\"M\",4,MN_7_REDHEAD!$F$4:$F$1391,MN_7_REDHEAD!$E$4:$E$1391,MN_7_REDHEAD!$G$4:$G$1391,MN_7_REDHEAD!$C$4:$C$1391,\"TS\")","v":869},{"$f":"TeamScoreWithPlayers($B20,\"M\",4,MN_7_REDHEAD!$F$4:$F$1391,MN_7_REDHEAD!$E$4:$E$1391,MN_7_REDHEAD!$G$4:$G$1391,MN_7_REDHEAD!$C$4:$C$1391,\"P1\")","v":"(B) FRANKLIN RECH - [468]"},{"$f":"TeamScoreWithPlayers($B20,\"M\",4,MN_7_REDHEAD!$F$4:$F$1391,MN_7_REDHEAD!$E$4:$E$1391,MN_7_REDHEAD!$G$4:$G$1391,MN_7_REDHEAD!$C$4:$C$1391,\"P2\")","v":"(G) CYBLI BUSSE - [401]"},{"$f":"TeamScoreWithPlayers($B20,\"M\",4,MN_7_REDHEAD!$F$4:$F$1391,MN_7_REDHEAD!$E$4:$E$1391,MN_7_REDHEAD!$G$4:$G$1391,MN_7_REDHEAD!$C$4:$C$1391,\"P3\")","v":"()  - [0]"},{"$f":"TeamScoreWithPlayers($B20,\"M\",4,MN_7_REDHEAD!$F$4:$F$1391,MN_7_REDHEAD!$E$4:$E$1391,MN_7_REDHEAD!$G$4:$G$1391,MN_7_REDHEAD!$C$4:$C$1391,\"P4\")","v":"()  - [0]"},null,869,869,null,0]
[20,"Irondale High School",{"$f":"TeamScore(B21,\"M\",4,MN_7_REDHEAD!$F$4:$F$1391,MN_7_REDHEAD!$G$4:$G$1391,MN_7_REDHEAD!$C$4:$C$1391)","v":0},null,null,{"$f":"TeamScoreWithPlayers($B21,\"M\",4,MN_7_REDHEAD!$F$4:$F$1391,MN_7_REDHEAD!$E$4:$E$1391,MN_7_REDHEAD!$G$4:$G$1391,MN_7_REDHEAD!$C$4:$C$1391,\"TS\")","v":0},{"$f":"TeamScoreWithPlayers($B21,\"M\",4,MN_7_REDHEAD!$F$4:$F$1391,MN_7_REDHEAD!$E$4:$E$1391,MN_7_REDHEAD!$G$4:$G$1391,MN_7_REDHEAD!$C$4:$C$1391,\"P1\")","v":"()  - [0]"},{"$f":"TeamScoreWithPlayers($B21,\"M\",4,MN_7_REDHEAD!$F$4:$F$1391,MN_7_REDHEAD!$E$4:$E$1391,MN_7_REDHEAD!$G$4:$G$1391,MN_7_REDHEAD!$C$4:$C$1391,\"P2\")","v":"()  - [0]"},{"$f":"TeamScoreWithPlayers($B21,\"M\",4,MN_7_REDHEAD!$F$4:$F$1391,MN_7_REDHEAD!$E$4:$E$1391,MN_7_REDHEAD!$G$4:$G$1391,MN_7_REDHEAD!$C$4:$C$1391,\"P3\")","v":"()  - [0]"},{"$f":"TeamScoreWithPlayers($B21,\"M\",4,MN_7_REDHEAD!$F$4:$F$1391,MN_7_REDHEAD!$E$4:$E$1391,MN_7_REDHEAD!$G$4:$G$1391,MN_7_REDHEAD!$C$4:$C$1391,\"P4\")","v":"()  - [0]"},null,0,0,null,0]
[21,"Kerkhoven Composite",{"$f":"TeamScore(B22,\"M\",4,MN_7_REDHEAD!$F$4:$F$1391,MN_7_REDHEAD!$G$4:$G$1391,MN_7_REDHEAD!$C$4:$C$1391)","v":865},null,null,{"$f":"TeamScoreWithPlayers($B22,\"M\",4,MN_7_REDHEAD!$F$4:$F$1391,MN_7_REDHEAD!$E$4:$E$1391,MN_7_REDHEAD!$G$4:$G$1391,MN_7_REDHEAD!$C$4:$C$1391,\"TS\")","v":865},{"$f":"TeamScoreWithPlayers($B22,\"M\",4,MN_7_REDHEAD!$F$4:$F$1391,MN_7_REDHEAD!$E$4:$E$1391,MN_7_REDHEAD!$G$4:$G$1391,MN_7_REDHEAD!$C$4:$C$1391,\"P1\")","v":"(G) HAILEY SOINE - [307]"},{"$f":"TeamScoreWithPlayers($B22,\"M\",4,MN_7_REDHEAD!$F$4:$F$1391,MN_7_REDHEAD!$E$4:$E$1391,MN_7_REDHEAD!$G$4:$G$1391,MN_7_REDHEAD!$C$4:$C$1391,\"P2\")","v":"(B) MICAH STRICKLAND - [283]"},{"$f":"TeamScoreWithPlayers($B22,\"M\",4,MN_7_REDHEAD!$F$4:$F$1391,MN_7_REDHEAD!$E$4:$E$1391,MN_7_REDHEAD!$G$4:$G$1391,MN_7_REDHEAD!$C$4:$C$1391,\"P3\")","v":"(B) JONNY BENSON - [275]"},{"$f":"TeamScoreWithPlayers($B22,\"M\",4,MN_7_REDHEAD!$F$4:$F$1391,MN_7_REDHEAD!$E$4:$E$1391,MN_7_REDHEAD!$G$4:$G$1391,MN_7_REDHEAD!$C$4:$C$1391,\"P4\")","v":"()  - [0]"},null,865,865,null,0]
[22,"Lakeville South High School",{"$f":"TeamScore(B23,\"M\",4,MN_7_REDHEAD!$F$4:$F$1391,MN_7_REDHEAD!$G$4:$G$1391,MN_7_REDHEAD!$C$4:$C$1391)","v":369},null,null,{"$f":"TeamScoreWithPlayers($B23,\"M\",4,MN_7_REDHEAD!$F$4:$F$1391,MN_7_REDHEAD!$E$4:$E$1391,MN_7_REDHEAD!$G$4:$G$1391,MN_7_REDHEAD!$C$4:$C$1391,\"TS\")","v":369},{"$f":"TeamScoreWithPlayers($B23,\"M\",4,MN_7_REDHEAD!$F$4:$F$1391,MN_7_REDHEAD!$E$4:$E$1391,MN_7_REDHEAD!$G$4:$G$1391,MN_7_REDHEAD!$C$4:$C$1391,\"P1\")","v":"(G) EVA GROTENHUIS - [369]"},{"$f":"TeamScoreWithPlayers($B23,\"M\",4,MN_7_REDHEAD!$F$4:$F$1391,MN_7_REDHEAD!$E$4:$E$1391,MN_7_REDHEAD!$G$4:$G$1391,MN_7_REDHEAD!$C$4:$C$1391,\"P2\")","v":"()  - [0]"},{"$f":"TeamScoreWithPlayers($B23,\"M\",4,MN_7_REDHEAD!$F$4:$F$1391,MN_7_REDHEAD!$E$4:$E$1391,MN_7_REDHEAD!$G$4:$G$1391,MN_7_REDHEAD!$C$4:$C$1391,\"P3\")","v":"()  - [0]"},{"$f":"TeamScoreWithPlayers($B23,\"M\",4,MN_7_REDHEAD!$F$4:$F$1391,MN_7_REDHEAD!$E$4:$E$1391,MN_7_REDHEAD!$G$4:$G$1391,MN_7_REDHEAD!$C$4:$C$1391,\"P4\")","v":"()  - [0]"},null,369,369,null,0]
[23,"Mahtomedi High School",{"$f":"TeamScore(B24,\"M\",4,MN_7_REDHEAD!$F$4:$F$1391,MN_7_REDHEAD!$G$4:$G$1391,MN_7_REDHEAD!$C$4:$C$1391)","v":1003},null,null,{"$f":"TeamScoreWithPlayers($B24,\"M\",4,MN_7_REDHEAD!$F$4:$F$1391,MN_7_REDHEAD!$E$4:$E$1391,MN_7_REDHEAD!$G$4:$G$1391,MN_7_REDHEAD!$C$4:$C$1391,\"TS\")","v":1003},{"$f":"TeamScoreWithPlayers($B24,\"M\",4,MN_7_REDHEAD!$F$4:$F$1391,MN_7_REDHEAD!$E$4:$E$1391,MN_7_REDHEAD!$G$4:$G$1391,MN_7_REDHEAD!$C$4:$C$1391,\"P1\")","v":"(B) PAUL GRZESIK - [419]"},{"$f":"TeamScoreWithPlayers($B24,\"M\",4,MN_7_REDHEAD!$F$4:$F$1391,MN_7_REDHEAD!$E$4:$E$1391,MN_7_REDHEAD!$G$4:$G$1391,MN_7_REDHEAD!$C$4:$C$1391,\"P2\")","v":"(B) MICAH HORSAGER - [326]"},{"$f":"TeamScoreWithPlayers($B24,\"M\",4,MN_7_REDHEAD!$F$4:$F$1391,MN_7_REDHEAD!$E$4:$E$1391,MN_7_REDHEAD!$G$4:$G$1391,MN_7_REDHEAD!$C$4:$C$1391,\"P3\")","v":"(B) HENRY HONMYHR - [258]"},{"$f":"TeamScoreWithPlayers($B24,\"M\",4,MN_7_REDHEAD!$F$4:$F$1391,MN_7_REDHEAD!$E$4:$E$1391,MN_7_REDHEAD!$G$4:$G$1391,MN_7_REDHEAD!$C$4:$C$1391,\"P4\")","v":"()  - [0]"},null,1003,1003,null,0]
[24,"Mankato Composite",{"$f":"TeamScore(B25,\"M\",4,MN_7_REDHEAD!$F$4:$F$1391,MN_7_REDHEAD!$G$4:$G$1391,MN_7_REDHEAD!$C$4:$C$1391)","v":0},null,null,{"$f":"TeamScoreWithPlayers($B25,\"M\",4,MN_7_REDHEAD!$F$4:$F$1391,MN_7_REDHEAD!$E$4:$E$1391,MN_7_REDHEAD!$G$4:$G$1391,MN_7_REDHEAD!$C$4:$C$1391,\"TS\")","v":0},{"$f":"TeamScoreWithPlayers($B25,\"M\",4,MN_7_REDHEAD!$F$4:$F$1391,MN_7_REDHEAD!$E$4:$E$1391,MN_7_REDHEAD!$G$4:$G$1391,MN_7_REDHEAD!$C$4:$C$1391,\"P1\")","v":"()  - [0]"},{"$f":"TeamScoreWithPlayers($B25,\"M\",4,MN_7_REDHEAD!$F$4:$F$1391,MN_7_REDHEAD!$E$4:$E$1391,MN_7_REDHEAD!$G$4:$G$1391,MN_7_REDHEAD!$C$4:$C$1391,\"P2\")","v":"()  - [0]"},{"$f":"TeamScoreWithPlayers($B25,\"M\",4,MN_7_REDHEAD!$F$4:$F$1391,MN_7_REDHEAD!$E$4:$E$1391,MN_7_REDHEAD!$G$4:$G$1391,MN_7_REDHEAD!$C$4:$C$1391,\"P3\")","v":"()  - [0]"},{"$f":"TeamScoreWithPlayers($B25,\"M\",4,MN_7_REDHEAD!$F$4:$F$1391,MN_7_REDHEAD!$E$4:$E$1391,MN_7_REDHEAD!$G$4:$G$1391,MN_7_REDHEAD!$C$4:$C$1391,\"P4\")","v":"()  - [0]"},null,0,0,null,0]
[25,"Mankato West High School",{"$f":"TeamScore(B26,\"M\",4,MN_7_REDHEAD!$F$4:$F$1391,MN_7_REDHEAD!$G$4:$G$1391,MN_7_REDHEAD!$C$4:$C$1391)","v":0},null,null,{"$f":"TeamScoreWithPlayers($B26,\"M\",4,MN_7_REDHEAD!$F$4:$F$1391,MN_7_REDHEAD!$E$4:$E$1391,MN_7_REDHEAD!$G$4:$G$1391,MN_7_REDHEAD!$C$4:$C$1391,\"TS\")","v":0},{"$f":"TeamScoreWithPlayers($B26,\"M\",4,MN_7_REDHEAD!$F$4:$F$1391,MN_7_REDHEAD!$E$4:$E$1391,MN_7_REDHEAD!$G$4:$G$1391,MN_7_REDHEAD!$C$4:$C$1391,\"P1\")","v":"()  - [0]"},{"$f":"TeamScoreWithPlayers($B26,\"M\",4,MN_7_REDHEAD!$F$4:$F$1391,MN_7_REDHEAD!$E$4:$E$1391,MN_7_REDHEAD!$G$4:$G$1391,MN_7_REDHEAD!$C$4:$C$1391,\"P2\")","v":"()  - [0]"},{"$f":"TeamScoreWithPlayers($B26,\"M\",4,MN_7_REDHEAD!$F$4:$F$1391,MN_7_REDHEAD!$E$4:$E$1391,MN_7_REDHEAD!$G$4:$G$1391,MN_7_REDHEAD!$C$4:$C$1391,\"P3\")","v":"()  - [0]"},{"$f":"TeamScoreWithPlayers($B26,\"M\",4,MN_7_REDHEAD!$F$4:$F$1391,MN_7_REDHEAD!$E$4:$E$1391,MN_7_REDHEAD!$G$4:$G$1391,MN_7_REDHEAD!$C$4:$C$1391,\"P4\")","v":"()  - [0]"},null,0,0,null,0]
[26,"Maple Grove High School",{"$f":"TeamScore(B27,\"M\",4,MN_7_REDHEAD!$F$4:$F$1391,MN_7_REDHEAD!$G$4:$G$1391,MN_7_REDHEAD!$C$4:$C$1391)","v":1479},null,null,{"$f":"TeamScoreWithPlayers($B27,\"M\",4,MN_7_REDHEAD!$F$4:$F$1391,MN_7_REDHEAD!$E$4:$E$1391,MN_7_REDHEAD!$G$4:$G$1391,MN_7_REDHEAD!$C$4:$C$1391,\"TS\")","v":1479},{"$f":"TeamScoreWithPlayers($B27,\"M\",4,MN_7_REDHEAD!$F$4:$F$1391,MN_7_REDHEAD!$E$4:$E$1391,MN_7_REDHEAD!$G$4:$G$1391,MN_7_REDHEAD!$C$4:$C$1391,\"P1\")","v":"(G) HANNAH MOORE - [510]"},{"$f":"TeamScoreWithPlayers($B27,\"M\",4,MN_7_REDHEAD!$F$4:$F$1391,MN_7_REDHEAD!$E$4:$E$1391,MN_7_REDHEAD!$G$4:$G$1391,MN_7_REDHEAD!$C$4:$C$1391,\"P2\")","v":"(G) HALEY HONMYHR - [425]"},{"$f":"TeamScoreWithPlayers($B27,\"M\",4,MN_7_REDHEAD!$F$4:$F$1391,MN_7_REDHEAD!$E$4:$E$1391,MN_7_REDHEAD!$G$4:$G$1391,MN_7_REDHEAD!$C$4:$C$1391,\"P3\")","v":"(B) WILLIAM BUTTKE - [287]"},{"$f":"TeamScoreWithPlayers($B27,\"M\",4,MN_7_REDHEAD!$F$4:$F$1391,MN_7_REDHEAD!$E$4:$E$1391,MN_7_REDHEAD!$G$4:$G$1391,MN_7_REDHEAD!$C$4:$C$1391,\"P4\")","v":"(B) DYLAN ENGSTROM - [257]"},null,1479,1479,null,0]
[27,"Minneapolis Henry High School",{"$f":"TeamScore(B28,\"M\",4,MN_7_REDHEAD!$F$4:$F$1391,MN_7_REDHEAD!$G$4:$G$1391,MN_7_REDHEAD!$C$4:$C$1391)","v":0},null,null,{"$f":"TeamScoreWithPlayers($B28,\"M\",4,MN_7_REDHEAD!$F$4:$F$1391,MN_7_REDHEAD!$E$4:$E$1391,MN_7_REDHEAD!$G$4:$G$1391,MN_7_REDHEAD!$C$4:$C$1391,\"TS\")","v":0},{"$f":"TeamScoreWithPlayers($B28,\"M\",4,MN_7_REDHEAD!$F$4:$F$1391,MN_7_REDHEAD!$E$4:$E$1391,MN_7_REDHEAD!$G$4:$G$1391,MN_7_REDHEAD!$C$4:$C$1391,\"P1\")","v":"()  - [0]"},{"$f":"TeamScoreWithPlayers($B28,\"M\",4,MN_7_REDHEAD!$F$4:$F$1391,MN_7_REDHEAD!$E$4:$E$1391,MN_7_REDHEAD!$G$4:$G$1391,MN_7_REDHEAD!$C$4:$C$1391,\"P2\")","v":"()  - [0]"},{"$f":"TeamScoreWithPlayers($B28,\"M\",4,MN_7_REDHEAD!$F$4:$F$1391,MN_7_REDHEAD!$E$4:$E$1391,MN_7_REDHEAD!$G$4:$G$1391,MN_7_REDHEAD!$C$4:$C$1391,\"P3\")","v":"()  - [0]"},{"$f":"TeamScoreWithPlayers($B28,\"M\",4,MN_7_REDHEAD!$F$4:$F$1391,MN_7_REDHEAD!$E$4:$E$1391,MN_7_REDHEAD!$G$4:$G$1391,MN_7_REDHEAD!$C$4:$C$1391,\"P4\")","v":"()  - [0]"},null,0,0,null,0]
[28,"Minneapolis Northside Composite",{"$f":"TeamScore(B29,\"M\",4,MN_7_REDHEAD!$F$4:$F$1391,MN_7_REDHEAD!$G$4:$G$1391,MN_7_REDHEAD!$C$4:$C$1391)","v":280},null,null,{"$f":"TeamScoreWithPlayers($B29,\"M\",4,MN_7_REDHEAD!$F$4:$F$1391,MN_7_REDHEAD!$E$4:$E$1391,MN_7_REDHEAD!$G$4:$G$1391,MN_7_REDHEAD!$C$4:$C$1391,\"TS\")","v":280},{"$f":"TeamScoreWithPlayers($B29,\"M\",4,MN_7_REDHEAD!$F$4:$F$1391,MN_7_REDHEAD!$E$4:$E$1391,MN_7_REDHEAD!$G$4:$G$1391,MN_7_REDHEAD!$C$4:$C$1391,\"P1\")","v":"(B) FRANKIE ROQUE - [280]"},{"$f":"TeamScoreWithPlayers($B29,\"M\",4,MN_7_REDHEAD!$F$4:$F$1391,MN_7_REDHEAD!$E$4:$E$1391,MN_7_REDHEAD!$G$4:$G$1391,MN_7_REDHEAD!$C$4:$C$1391,\"P2\")","v":"()  - [0]"},{"$f":"TeamScoreWithPlayers($B29,\"M\",4,MN_7_REDHEAD!$F$4:$F$1391,MN_7_REDHEAD!$E$4:$E$1391,MN_7_REDHEAD!$G$4:$G$1391,MN_7_REDHEAD!$C$4:$C$1391,\"P3\")","v":"()  - [0]"},{"$f":"TeamScoreWithPlayers($B29,\"M\",4,MN_7_REDHEAD!$F$4:$F$1391,MN_7_REDHEAD!$E$4:$E$1391,MN_7_REDHEAD!$G$4:$G$1391,MN_7_REDHEAD!$C$4:$C$1391,\"P4\")","v":"()  - [0]"},null,280,280,null,0]
[29,"Minneapolis South High",{"$f":"TeamScore(B30,\"M\",4,MN_7_REDHEAD!$F$4:$F$1391,MN_7_REDHEAD!$G$4:$G$1391,MN_7_REDHEAD!$C$4:$C$1391)","v":270},null,null,{"$f":"TeamScoreWithPlayers($B30,\"M\",4,MN_7_REDHEAD!$F$4:$F$1391,MN_7_REDHEAD!$E$4:$E$1391,MN_7_REDHEAD!$G$4:$G$1391,MN_7_REDHEAD!$C$4:$C$1391,\"TS\")","v":270},{"$f":"TeamScoreWithPlayers($B30,\"M\",4,MN_7_REDHEAD!$F$4:$F$1391,MN_7_REDHEAD!$E$4:$E$1391,MN_7_REDHEAD!$G$4:$G$1391,MN_7_REDHEAD!$C$4:$C$1391,\"P1\")","v":"(B) HENRY HOLDSWORTH - [270]"},{"$f":"TeamScoreWithPlayers($B30,\"M\",4,MN_7_REDHEAD!$F$4:$F$1391,MN_7_REDHEAD!$E$4:$E$1391,MN_7_REDHEAD!$G$4:$G$1391,MN_7_REDHEAD!$C$4:$C$1391,\"P2\")","v":"()  - [0]"},{"$f":"TeamScoreWithPlayers($B30,\"M\",4,MN_7_REDHEAD!$F$4:$F$1391,MN_7_REDHEAD!$E$4:$E$1391,MN_7_REDHEAD!$G$4:$G$1391,MN_7_REDHEAD!$C$4:$C$1391,\"P3\")","v":"()  - [0]"},{"$f":"TeamScoreWithPlayers($B30,\"M\",4,MN_7_REDHEAD!$F$4:$F$1391,MN_7_REDHEAD!$E$4:$E$1391,MN_7_REDHEAD!$G$4:$G$1391,MN_7_REDHEAD!$C$4:$C$1391,\"P4\")","v":"()  - [0]"},null,270,270,null,0]
[30,"Minneapolis Southside Composite",{"$f":"TeamScore(B31,\"M\",4,MN_7_REDHEAD!$F$4:$F$1391,MN_7_REDHEAD!$G$4:$G$1391,MN_7_REDHEAD!$C$4:$C$1391)","v":330},null,null,{"$f":"TeamScoreWithPlayers($B31,\"M\",4,MN_7_REDHEAD!$F$4:$F$1391,MN_7_REDHEAD!$E$4:$E$1391,MN_7_REDHEAD!$G$4:$G$1391,MN_7_REDHEAD!$C$4:$C$1391,\"TS\")","v":330},{"$f":"TeamScoreWithPlayers($B31,\"M\",4,MN_7_REDHEAD!$F$4:$F$1391,MN_7_REDHEAD!$E$4:$E$1391,MN_7_REDHEAD!$G$4:$G$1391,MN_7_REDHEAD!$C$4:$C$1391,\"P1\")","v":"(G) ISABELLA BERGMAN - [330]"},{"$f":"TeamScoreWithPlayers($B31,\"M\",4,MN_7_REDHEAD!$F$4:$F$1391,MN_7_REDHEAD!$E$4:$E$1391,MN_7_REDHEAD!$G$4:$G$1391,MN_7_REDHEAD!$C$4:$C$1391,\"P2\")","v":"()  - [0]"},{"$f":"TeamScoreWithPlayers($B31,\"M\",4,MN_7_REDHEAD!$F$4:$F$1391,MN_7_REDHEAD!$E$4:$E$1391,MN_7_REDHEAD!$G$4:$G$1391,MN_7_REDHEAD!$C$4:$C$1391,\"P3\")","v":"()  - [0]"},{"$f":"TeamScoreWithPlayers($B31,\"M\",4,MN_7_REDHEAD!$F$4:$F$1391,MN_7_REDHEAD!$E$4:$E$1391,MN_7_REDHEAD!$G$4:$G$1391,MN_7_REDHEAD!$C$4:$C$1391,\"P4\")","v":"()  - [0]"},null,330,330,null,0]
[31,"Minnesota Valley Composite",{"$f":"TeamScore(B32,\"M\",4,MN_7_REDHEAD!$F$4:$F$1391,MN_7_REDHEAD!$G$4:$G$1391,MN_7_REDHEAD!$C$4:$C$1391)","v":1306},null,null,{"$f":"TeamScoreWithPlayers($B32,\"M\",4,MN_7_REDHEAD!$F$4:$F$1391,MN_7_REDHEAD!$E$4:$E$1391,MN_7_REDHEAD!$G$4:$G$1391,MN_7_REDHEAD!$C$4:$C$1391,\"TS\")","v":1306},{"$f":"TeamScoreWithPlayers($B32,\"M\",4,MN_7_REDHEAD!$F$4:$F$1391,MN_7_REDHEAD!$E$4:$E$1391,MN_7_REDHEAD!$G$4:$G$1391,MN_7_REDHEAD!$C$4:$C$1391,\"P1\")","v":"(B) CARTER BOLSTER - [492]"},{"$f":"TeamScoreWithPlayers($B32,\"M\",4,MN_7_REDHEAD!$F$4:$F$1391,MN_7_REDHEAD!$E$4:$E$1391,MN_7_REDHEAD!$G$4:$G$1391,MN_7_REDHEAD!$C$4:$C$1391,\"P2\")","v":"(B) XAVIER OLSON - [413]"},{"$f":"TeamScoreWithPlayers($B32,\"M\",4,MN_7_REDHEAD!$F$4:$F$1391,MN_7_REDHEAD!$E$4:$E$1391,MN_7_REDHEAD!$G$4:$G$1391,MN_7_REDHEAD!$C$4:$C$1391,\"P3\")","v":"(G) INGRID OLSON - [401]"},{"$f":"TeamScoreWithPlayers($B32,\"M\",4,MN_7_REDHEAD!$F$4:$F$1391,MN_7_REDHEAD!$E$4:$E$1391,MN_7_REDHEAD!$G$4:$G$1391,MN_7_REDHEAD!$C$4:$C$1391,\"P4\")","v":"()  - [0]"},null,1306,1306,null,0]
[32,"Mound Westonka Composite",{"$f":"TeamScore(B33,\"M\",4,MN_7_REDHEAD!$F$4:$F$1391,MN_7_REDHEAD!$G$4:$G$1391,MN_7_REDHEAD!$C$4:$C$1391)","v":1353},null,null,{"$f":"TeamScoreWithPlayers($B33,\"M\",4,MN_7_REDHEAD!$F$4:$F$1391,MN_7_REDHEAD!$E$4:$E$1391,MN_7_REDHEAD!$G$4:$G$1391,MN_7_REDHEAD!$C$4:$C$1391,\"TS\")","v":1353},{"$f":"TeamScoreWithPlayers($B33,\"M\",4,MN_7_REDHEAD!$F$4:$F$1391,MN_7_REDHEAD!$E$4:$E$1391,MN_7_REDHEAD!$G$4:$G$1391,MN_7_REDHEAD!$C$4:$C$1391,\"P1\")","v":"(B) HARRISON MERTEN - [432]"},{"$f":"TeamScoreWithPlayers($B33,\"M\",4,MN_7_REDHEAD!$F$4:$F$1391,MN_7_REDHEAD!$E$4:$E$1391,MN_7_REDHEAD!$G$4:$G$1391,MN_7_REDHEAD!$C$4:$C$1391,\"P2\")","v":"(B) ROBBIE CHILSON - [326]"},{"$f":"TeamScoreWithPlayers($B33,\"M\",4,MN_7_REDHEAD!$F$4:$F$1391,MN_7_REDHEAD!$E$4:$E$1391,MN_7_REDHEAD!$G$4:$G$1391,MN_7_REDHEAD!$C$4:$C$1391,\"P3\")","v":"(G) MAKENZIE REESE - [319]"},{"$f":"TeamScoreWithPlayers($B33,\"M\",4,MN_7_REDHEAD!$F$4:$F$1391,MN_7_REDHEAD!$E$4:$E$1391,MN_7_REDHEAD!$G$4:$G$1391,MN_7_REDHEAD!$C$4:$C$1391,\"P4\")","v":"(B) NOAH HILLEBERT - [276]"},null,1353,1353,null,0]
[33,"North Dakota Composite",{"$f":"TeamScore(B34,\"M\",4,MN_7_REDHEAD!$F$4:$F$1391,MN_7_REDHEAD!$G$4:$G$1391,MN_7_REDHEAD!$C$4:$C$1391)","v":413},null,null,{"$f":"TeamScoreWithPlayers($B34,\"M\",4,MN_7_REDHEAD!$F$4:$F$1391,MN_7_REDHEAD!$E$4:$E$1391,MN_7_REDHEAD!$G$4:$G$1391,MN_7_REDHEAD!$C$4:$C$1391,\"TS\")","v":413},{"$f":"TeamScoreWithPlayers($B34,\"M\",4,MN_7_REDHEAD!$F$4:$F$1391,MN_7_REDHEAD!$E$4:$E$1391,MN_7_REDHEAD!$G$4:$G$1391,MN_7_REDHEAD!$C$4:$C$1391,\"P1\")","v":"(B) DAVID ROBINSON - [413]"},{"$f":"TeamScoreWithPlayers($B34,\"M\",4,MN_7_REDHEAD!$F$4:$F$1391,MN_7_REDHEAD!$E$4:$E$1391,MN_7_REDHEAD!$G$4:$G$1391,MN_7_REDHEAD!$C$4:$C$1391,\"P2\")","v":"()  - [0]"},{"$f":"TeamScoreWithPlayers($B34,\"M\",4,MN_7_REDHEAD!$F$4:$F$1391,MN_7_REDHEAD!$E$4:$E$1391,MN_7_REDHEAD!$G$4:$G$1391,MN_7_REDHEAD!$C$4:$C$1391,\"P3\")","v":"()  - [0]"},{"$f":"TeamScoreWithPlayers($B34,\"M\",4,MN_7_REDHEAD!$F$4:$F$1391,MN_7_REDHEAD!$E$4:$E$1391,MN_7_REDHEAD!$G$4:$G$1391,MN_7_REDHEAD!$C$4:$C$1391,\"P4\")","v":"()  - [0]"},null,413,413,null,0]
[34,"North Dakota Kindred Composite",{"$f":"TeamScore(B35,\"M\",4,MN_7_REDHEAD!$F$4:$F$1391,MN_7_REDHEAD!$G$4:$G$1391,MN_7_REDHEAD!$C$4:$C$1391)","v":0},null,null,{"$f":"TeamScoreWithPlayers($B35,\"M\",4,MN_7_REDHEAD!$F$4:$F$1391,MN_7_REDHEAD!$E$4:$E$1391,MN_7_REDHEAD!$G$4:$G$1391,MN_7_REDHEAD!$C$4:$C$1391,\"TS\")","v":0},{"$f":"TeamScoreWithPlayers($B35,\"M\",4,MN_7_REDHEAD!$F$4:$F$1391,MN_7_REDHEAD!$E$4:$E$1391,MN_7_REDHEAD!$G$4:$G$1391,MN_7_REDHEAD!$C$4:$C$1391,\"P1\")","v":"()  - [0]"},{"$f":"TeamScoreWithPlayers($B35,\"M\",4,MN_7_REDHEAD!$F$4:$F$1391,MN_7_REDHEAD!$E$4:$E$1391,MN_7_REDHEAD!$G$4:$G$1391,MN_7_REDHEAD!$C$4:$C$1391,\"P2\")","v":"()  - [0]"},{"$f":"TeamScoreWithPlayers($B35,\"M\",4,MN_7_REDHEAD!$F$4:$F$1391,MN_7_REDHEAD!$E$4:$E$1391,MN_7_REDHEAD!$G$4:$G$1391,MN_7_REDHEAD!$C$4:$C$1391,\"P3\")","v":"()  - [0]"},{"$f":"TeamScoreWithPlayers($B35,\"M\",4,MN_7_REDHEAD!$F$4:$F$1391,MN_7_REDHEAD!$E$4:$E$1391,MN_7_REDHEAD!$G$4:$G$1391,MN_7_REDHEAD!$C$4:$C$1391,\"P4\")","v":"()  - [0]"},null,0,0,null,0]
[35,"Northwest Composite",{"$f":"TeamScore(B36,\"M\",4,MN_7_REDHEAD!$F$4:$F$1391,MN_7_REDHEAD!$G$4:$G$1391,MN_7_REDHEAD!$C$4:$C$1391)","v":1667},null,null,{"$f":"TeamScoreWithPlayers($B36,\"M\",4,MN_7_REDHEAD!$F$4:$F$1391,MN_7_REDHEAD!$E$4:$E$1391,MN_7_REDHEAD!$G$4:$G$1391,MN_7_REDHEAD!$C$4:$C$1391,\"TS\")","v":1667},{"$f":"TeamScoreWithPlayers($B36,\"M\",4,MN_7_REDHEAD!$F$4:$F$1391,MN_7_REDHEAD!$E$4:$E$1391,MN_7_REDHEAD!$G$4:$G$1391,MN_7_REDHEAD!$C$4:$C$1391,\"P1\")","v":"(B) ISAAC LEISETH - [476]"},{"$f":"TeamScoreWithPlayers($B36,\"M\",4,MN_7_REDHEAD!$F$4:$F$1391,MN_7_REDHEAD!$E$4:$E$1391,MN_7_REDHEAD!$G$4:$G$1391,MN_7_REDHEAD!$C$4:$C$1391,\"P2\")","v":"(B) HANK SCHLAUDERAFF - [468]"},{"$f":"TeamScoreWithPlayers($B36,\"M\",4,MN_7_REDHEAD!$F$4:$F$1391,MN_7_REDHEAD!$E$4:$E$1391,MN_7_REDHEAD!$G$4:$G$1391,MN_7_REDHEAD!$C$4:$C$1391,\"P3\")","v":"(B) IAN ARTLEY - [364]"},{"$f":"TeamScoreWithPlayers($B36,\"M\",4,MN_7_REDHEAD!$F$4:$F$1391,MN_7_REDHEAD!$E$4:$E$1391,MN_7_REDHEAD!$G$4:$G$1391,MN_7_REDHEAD!$C$4:$C$1391,\"P4\")","v":"(G) CLARA DAVIS - [359]"},null,1667,1675,null,8]
[36,"Orono High School",{"$f":"TeamScore(B37,\"M\",4,MN_7_REDHEAD!$F$4:$F$1391,MN_7_REDHEAD!$G$4:$G$1391,MN_7_REDHEAD!$C$4:$C$1391)","v":1582},null,null,{"$f":"TeamScoreWithPlayers($B37,\"M\",4,MN_7_REDHEAD!$F$4:$F$1391,MN_7_REDHEAD!$E$4:$E$1391,MN_7_REDHEAD!$G$4:$G$1391,MN_7_REDHEAD!$C$4:$C$1391,\"TS\")","v":1582},{"$f":"TeamScoreWithPlayers($B37,\"M\",4,MN_7_REDHEAD!$F$4:$F$1391,MN_7_REDHEAD!$E$4:$E$1391,MN_7_REDHEAD!$G$4:$G$1391,MN_7_REDHEAD!$C$4:$C$1391,\"P1\")","v":"(B) JACK MCKEAND - [539]"},{"$f":"TeamScoreWithPlayers($B37,\"M\",4,MN_7_REDHEAD!$F$4:$F$1391,MN_7_REDHEAD!$E$4:$E$1391,MN_7_REDHEAD!$G$4:$G$1391,MN_7_REDHEAD!$C$4:$C$1391,\"P2\")","v":"(B) MIKHAIL LONG - [359]"},{"$f":"TeamScoreWithPlayers($B37,\"M\",4,MN_7_REDHEAD!$F$4:$F$1391,MN_7_REDHEAD!$E$4:$E$1391,MN_7_REDHEAD!$G$4:$G$1391,MN_7_REDHEAD!$C$4:$C$1391,\"P3\")","v":"(G) REESE JEREMIASON - [346]"},{"$f":"TeamScoreWithPlayers($B37,\"M\",4,MN_7_REDHEAD!$F$4:$F$1391,MN_7_REDHEAD!$E$4:$E$1391,MN_7_REDHEAD!$G$4:$G$1391,MN_7_REDHEAD!$C$4:$C$1391,\"P4\")","v":"(G) JILLIE SWENSON - [338]"},null,1582,1582,null,0]
[37,"Osseo",{"$f":"TeamScore(B38,\"M\",4,MN_7_REDHEAD!$F$4:$F$1391,MN_7_REDHEAD!$G$4:$G$1391,MN_7_REDHEAD!$C$4:$C$1391)","v":588},null,null,{"$f":"TeamScoreWithPlayers($B38,\"M\",4,MN_7_REDHEAD!$F$4:$F$1391,MN_7_REDHEAD!$E$4:$E$1391,MN_7_REDHEAD!$G$4:$G$1391,MN_7_REDHEAD!$C$4:$C$1391,\"TS\")","v":588},{"$f":"TeamScoreWithPlayers($B38,\"M\",4,MN_7_REDHEAD!$F$4:$F$1391,MN_7_REDHEAD!$E$4:$E$1391,MN_7_REDHEAD!$G$4:$G$1391,MN_7_REDHEAD!$C$4:$C$1391,\"P1\")","v":"(G) SOPHIA BEAUDIN - [313]"},{"$f":"TeamScoreWithPlayers($B38,\"M\",4,MN_7_REDHEAD!$F$4:$F$1391,MN_7_REDHEAD!$E$4:$E$1391,MN_7_REDHEAD!$G$4:$G$1391,MN_7_REDHEAD!$C$4:$C$1391,\"P2\")","v":"(B) OLIVER PILSNER - [275]"},{"$f":"TeamScoreWithPlayers($B38,\"M\",4,MN_7_REDHEAD!$F$4:$F$1391,MN_7_REDHEAD!$E$4:$E$1391,MN_7_REDHEAD!$G$4:$G$1391,MN_7_REDHEAD!$C$4:$C$1391,\"P3\")","v":"()  - [0]"},{"$f":"TeamScoreWithPlayers($B38,\"M\",4,MN_7_REDHEAD!$F$4:$F$1391,MN_7_REDHEAD!$E$4:$E$1391,MN_7_REDHEAD!$G$4:$G$1391,MN_7_REDHEAD!$C$4:$C$1391,\"P4\")","v":"()  - [0]"},null,588,588,null,0]
[38,"Osseo Composite",{"$f":"TeamScore(B39,\"M\",4,MN_7_REDHEAD!$F$4:$F$1391,MN_7_REDHEAD!$G$4:$G$1391,MN_7_REDHEAD!$C$4:$C$1391)","v":1670},null,null,{"$f":"TeamScoreWithPlayers($B39,\"M\",4,MN_7_REDHEAD!$F$4:$F$1391,MN_7_REDHEAD!$E$4:$E$1391,MN_7_REDHEAD!$G$4:$G$1391,MN_7_REDHEAD!$C$4:$C$1391,\"TS\")","v":1670},{"$f":"TeamScoreWithPlayers($B39,\"M\",4,MN_7_REDHEAD!$F$4:$F$1391,MN_7_REDHEAD!$E$4:$E$1391,MN_7_REDHEAD!$G$4:$G$1391,MN_7_REDHEAD!$C$4:$C$1391,\"P1\")","v":"(B) GARRETT NELSON - [529]"},{"$f":"TeamScoreWithPlayers($B39,\"M\",4,MN_7_REDHEAD!$F$4:$F$1391,MN_7_REDHEAD!$E$4:$E$1391,MN_7_REDHEAD!$G$4:$G$1391,MN_7_REDHEAD!$C$4:$C$1391,\"P2\")","v":"(G) BAILEY MORRISON - [453]"},{"$f":"TeamScoreWithPlayers($B39,\"M\",4,MN_7_REDHEAD!$F$4:$F$1391,MN_7_REDHEAD!$E$4:$E$1391,MN_7_REDHEAD!$G$4:$G$1391,MN_7_REDHEAD!$C$4:$C$1391,\"P3\")","v":"(B) EVERETT OLSON - [384]"},{"$f":"TeamScoreWithPlayers($B39,\"M\",4,MN_7_REDHEAD!$F$4:$F$1391,MN_7_REDHEAD!$E$4:$E$1391,MN_7_REDHEAD!$G$4:$G$1391,MN_7_REDHEAD!$C$4:$C$1391,\"P4\")","v":"(B) EUGENE NELSON - [304]"},null,1670,1670,null,0]
[39,"Park High School",{"$f":"TeamScore(B40,\"M\",4,MN_7_REDHEAD!$F$4:$F$1391,MN_7_REDHEAD!$G$4:$G$1391,MN_7_REDHEAD!$C$4:$C$1391)","v":453},null,null,{"$f":"TeamScoreWithPlayers($B40,\"M\",4,MN_7_REDHEAD!$F$4:$F$1391,MN_7_REDHEAD!$E$4:$E$1391,MN_7_REDHEAD!$G$4:$G$1391,MN_7_REDHEAD!$C$4:$C$1391,\"TS\")","v":453},{"$f":"TeamScoreWithPlayers($B40,\"M\",4,MN_7_REDHEAD!$F$4:$F$1391,MN_7_REDHEAD!$E$4:$E$1391,MN_7_REDHEAD!$G$4:$G$1391,MN_7_REDHEAD!$C$4:$C$1391,\"P1\")","v":"(B) MAVERICK TILLER - [453]"},{"$f":"TeamScoreWithPlayers($B40,\"M\",4,MN_7_REDHEAD!$F$4:$F$1391,MN_7_REDHEAD!$E$4:$E$1391,MN_7_REDHEAD!$G$4:$G$1391,MN_7_REDHEAD!$C$4:$C$1391,\"P2\")","v":"()  - [0]"},{"$f":"TeamScoreWithPlayers($B40,\"M\",4,MN_7_REDHEAD!$F$4:$F$1391,MN_7_REDHEAD!$E$4:$E$1391,MN_7_REDHEAD!$G$4:$G$1391,MN_7_REDHEAD!$C$4:$C$1391,\"P3\")","v":"()  - [0]"},{"$f":"TeamScoreWithPlayers($B40,\"M\",4,MN_7_REDHEAD!$F$4:$F$1391,MN_7_REDHEAD!$E$4:$E$1391,MN_7_REDHEAD!$G$4:$G$1391,MN_7_REDHEAD!$C$4:$C$1391,\"P4\")","v":"()  - [0]"},null,453,453,null,0]
[40,"River Falls High School",{"$f":"TeamScore(B41,\"M\",4,MN_7_REDHEAD!$F$4:$F$1391,MN_7_REDHEAD!$G$4:$G$1391,MN_7_REDHEAD!$C$4:$C$1391)","v":1605},null,null,{"$f":"TeamScoreWithPlayers($B41,\"M\",4,MN_7_REDHEAD!$F$4:$F$1391,MN_7_REDHEAD!$E$4:$E$1391,MN_7_REDHEAD!$G$4:$G$1391,MN_7_REDHEAD!$C$4:$C$1391,\"TS\")","v":1605},{"$f":"TeamScoreWithPlayers($B41,\"M\",4,MN_7_REDHEAD!$F$4:$F$1391,MN_7_REDHEAD!$E$4:$E$1391,MN_7_REDHEAD!$G$4:$G$1391,MN_7_REDHEAD!$C$4:$C$1391,\"P1\")","v":"(G) PIPER NICKLESKI - [468]"},{"$f":"TeamScoreWithPlayers($B41,\"M\",4,MN_7_REDHEAD!$F$4:$F$1391,MN_7_REDHEAD!$E$4:$E$1391,MN_7_REDHEAD!$G$4:$G$1391,MN_7_REDHEAD!$C$4:$C$1391,\"P2\")","v":"(G) AMELIA HALVORSON - [384]"},{"$f":"TeamScoreWithPlayers($B41,\"M\",4,MN_7_REDHEAD!$F$4:$F$1391,MN_7_REDHEAD!$E$4:$E$1391,MN_7_REDHEAD!$G$4:$G$1391,MN_7_REDHEAD!$C$4:$C$1391,\"P3\")","v":"(B) CLARK WERWIE - [379]"},{"$f":"TeamScoreWithPlayers($B41,\"M\",4,MN_7_REDHEAD!$F$4:$F$1391,MN_7_REDHEAD!$E$4:$E$1391,MN_7_REDHEAD!$G$4:$G$1391,MN_7_REDHEAD!$C$4:$C$1391,\"P4\")","v":"(B) CHRISTIAN HARSDORF - [374]"},null,1605,1605,null,0]
[41,"Rochester Area Composite",{"$f":"TeamScore(B42,\"M\",4,MN_7_REDHEAD!$F$4:$F$1391,MN_7_REDHEAD!$G$4:$G$1391,MN_7_REDHEAD!$C$4:$C$1391)","v":694},null,null,{"$f":"TeamScoreWithPlayers($B42,\"M\",4,MN_7_REDHEAD!$F$4:$F$1391,MN_7_REDHEAD!$E$4:$E$1391,MN_7_REDHEAD!$G$4:$G$1391,MN_7_REDHEAD!$C$4:$C$1391,\"TS\")","v":694},{"$f":"TeamScoreWithPlayers($B42,\"M\",4,MN_7_REDHEAD!$F$4:$F$1391,MN_7_REDHEAD!$E$4:$E$1391,MN_7_REDHEAD!$G$4:$G$1391,MN_7_REDHEAD!$C$4:$C$1391,\"P1\")","v":"(G) IRENE PASTOR - [364]"},{"$f":"TeamScoreWithPlayers($B42,\"M\",4,MN_7_REDHEAD!$F$4:$F$1391,MN_7_REDHEAD!$E$4:$E$1391,MN_7_REDHEAD!$G$4:$G$1391,MN_7_REDHEAD!$C$4:$C$1391,\"P2\")","v":"(B) LUKE EAGLE - [330]"},{"$f":"TeamScoreWithPlayers($B42,\"M\",4,MN_7_REDHEAD!$F$4:$F$1391,MN_7_REDHEAD!$E$4:$E$1391,MN_7_REDHEAD!$G$4:$G$1391,MN_7_REDHEAD!$C$4:$C$1391,\"P3\")","v":"()  - [0]"},{"$f":"TeamScoreWithPlayers($B42,\"M\",4,MN_7_REDHEAD!$F$4:$F$1391,MN_7_REDHEAD!$E$4:$E$1391,MN_7_REDHEAD!$G$4:$G$1391,MN_7_REDHEAD!$C$4:$C$1391,\"P4\")","v":"()  - [0]"},null,694,694,null,0]
[42,"Rochester John Marshall",{"$f":"TeamScore(B43,\"M\",4,MN_7_REDHEAD!$F$4:$F$1391,MN_7_REDHEAD!$G$4:$G$1391,MN_7_REDHEAD!$C$4:$C$1391)","v":419},null,null,{"$f":"TeamScoreWithPlayers($B43,\"M\",4,MN_7_REDHEAD!$F$4:$F$1391,MN_7_REDHEAD!$E$4:$E$1391,MN_7_REDHEAD!$G$4:$G$1391,MN_7_REDHEAD!$C$4:$C$1391,\"TS\")","v":419},{"$f":"TeamScoreWithPlayers($B43,\"M\",4,MN_7_REDHEAD!$F$4:$F$1391,MN_7_REDHEAD!$E$4:$E$1391,MN_7_REDHEAD!$G$4:$G$1391,MN_7_REDHEAD!$C$4:$C$1391,\"P1\")","v":"(B) JACKSON TANK - [419]"},{"$f":"TeamScoreWithPlayers($B43,\"M\",4,MN_7_REDHEAD!$F$4:$F$1391,MN_7_REDHEAD!$E$4:$E$1391,MN_7_REDHEAD!$G$4:$G$1391,MN_7_REDHEAD!$C$4:$C$1391,\"P2\")","v":"()  - [0]"},{"$f":"TeamScoreWithPlayers($B43,\"M\",4,MN_7_REDHEAD!$F$4:$F$1391,MN_7_REDHEAD!$E$4:$E$1391,MN_7_REDHEAD!$G$4:$G$1391,MN_7_REDHEAD!$C$4:$C$1391,\"P3\")","v":"()  - [0]"},{"$f":"TeamScoreWithPlayers($B43,\"M\",4,MN_7_REDHEAD!$F$4:$F$1391,MN_7_REDHEAD!$E$4:$E$1391,MN_7_REDHEAD!$G$4:$G$1391,MN_7_REDHEAD!$C$4:$C$1391,\"P4\")","v":"()  - [0]"},null,419,419,null,0]
[43,"Rochester Mayo",{"$f":"TeamScore(B44,\"M\",4,MN_7_REDHEAD!$F$4:$F$1391,MN_7_REDHEAD!$G$4:$G$1391,MN_7_REDHEAD!$C$4:$C$1391)","v":673},null,null,{"$f":"TeamScoreWithPlayers($B44,\"M\",4,MN_7_REDHEAD!$F$4:$F$1391,MN_7_REDHEAD!$E$4:$E$1391,MN_7_REDHEAD!$G$4:$G$1391,MN_7_REDHEAD!$C$4:$C$1391,\"TS\")","v":673},{"$f":"TeamScoreWithPlayers($B44,\"M\",4,MN_7_REDHEAD!$F$4:$F$1391,MN_7_REDHEAD!$E$4:$E$1391,MN_7_REDHEAD!$G$4:$G$1391,MN_7_REDHEAD!$C$4:$C$1391,\"P1\")","v":"(B) ETHAN NELSON - [354]"},{"$f":"TeamScoreWithPlayers($B44,\"M\",4,MN_7_REDHEAD!$F$4:$F$1391,MN_7_REDHEAD!$E$4:$E$1391,MN_7_REDHEAD!$G$4:$G$1391,MN_7_REDHEAD!$C$4:$C$1391,\"P2\")","v":"(B) DEXTER WILLIAMS - [319]"},{"$f":"TeamScoreWithPlayers($B44,\"M\",4,MN_7_REDHEAD!$F$4:$F$1391,MN_7_REDHEAD!$E$4:$E$1391,MN_7_REDHEAD!$G$4:$G$1391,MN_7_REDHEAD!$C$4:$C$1391,\"P3\")","v":"()  - [0]"},{"$f":"TeamScoreWithPlayers($B44,\"M\",4,MN_7_REDHEAD!$F$4:$F$1391,MN_7_REDHEAD!$E$4:$E$1391,MN_7_REDHEAD!$G$4:$G$1391,MN_7_REDHEAD!$C$4:$C$1391,\"P4\")","v":"()  - [0]"},null,673,673,null,0]
[44,"Rockford Composite",{"$f":"TeamScore(B45,\"M\",4,MN_7_REDHEAD!$F$4:$F$1391,MN_7_REDHEAD!$G$4:$G$1391,MN_7_REDHEAD!$C$4:$C$1391)","v":887},null,null,{"$f":"TeamScoreWithPlayers($B45,\"M\",4,MN_7_REDHEAD!$F$4:$F$1391,MN_7_REDHEAD!$E$4:$E$1391,MN_7_REDHEAD!$G$4:$G$1391,MN_7_REDHEAD!$C$4:$C$1391,\"TS\")","v":887},{"$f":"TeamScoreWithPlayers($B45,\"M\",4,MN_7_REDHEAD!$F$4:$F$1391,MN_7_REDHEAD!$E$4:$E$1391,MN_7_REDHEAD!$G$4:$G$1391,MN_7_REDHEAD!$C$4:$C$1391,\"P1\")","v":"(B) JOSIAH CARLSON - [322]"},{"$f":"TeamScoreWithPlayers($B45,\"M\",4,MN_7_REDHEAD!$F$4:$F$1391,MN_7_REDHEAD!$E$4:$E$1391,MN_7_REDHEAD!$G$4:$G$1391,MN_7_REDHEAD!$C$4:$C$1391,\"P2\")","v":"(B) EVERETT SCHOTTMULLER - [287]"},{"$f":"TeamScoreWithPlayers($B45,\"M\",4,MN_7_REDHEAD!$F$4:$F$1391,MN_7_REDHEAD!$E$4:$E$1391,MN_7_REDHEAD!$G$4:$G$1391,MN_7_REDHEAD!$C$4:$C$1391,\"P3\")","v":"(B) ELIJAH WARD - [278]"},{"$f":"TeamScoreWithPlayers($B45,\"M\",4,MN_7_REDHEAD!$F$4:$F$1391,MN_7_REDHEAD!$E$4:$E$1391,MN_7_REDHEAD!$G$4:$G$1391,MN_7_REDHEAD!$C$4:$C$1391,\"P4\")","v":"()  - [0]"},null,887,887,null,0]
[45,"Rogers High School",{"$f":"TeamScore(B46,\"M\",4,MN_7_REDHEAD!$F$4:$F$1391,MN_7_REDHEAD!$G$4:$G$1391,MN_7_REDHEAD!$C$4:$C$1391)","v":936},null,null,{"$f":"TeamScoreWithPlayers($B46,\"M\",4,MN_7_REDHEAD!$F$4:$F$1391,MN_7_REDHEAD!$E$4:$E$1391,MN_7_REDHEAD!$G$4:$G$1391,MN_7_REDHEAD!$C$4:$C$1391,\"TS\")","v":936},{"$f":"TeamScoreWithPlayers($B46,\"M\",4,MN_7_REDHEAD!$F$4:$F$1391,MN_7_REDHEAD!$E$4:$E$1391,MN_7_REDHEAD!$G$4:$G$1391,MN_7_REDHEAD!$C$4:$C$1391,\"P1\")","v":"(B) MAX KLABUNDE - [529]"},{"$f":"TeamScoreWithPlayers($B46,\"M\",4,MN_7_REDHEAD!$F$4:$F$1391,MN_7_REDHEAD!$E$4:$E$1391,MN_7_REDHEAD!$G$4:$G$1391,MN_7_REDHEAD!$C$4:$C$1391,\"P2\")","v":"(B) WILLIAM PALUMBO - [407]"},{"$f":"TeamScoreWithPlayers($B46,\"M\",4,MN_7_REDHEAD!$F$4:$F$1391,MN_7_REDHEAD!$E$4:$E$1391,MN_7_REDHEAD!$G$4:$G$1391,MN_7_REDHEAD!$C$4:$C$1391,\"P3\")","v":"()  - [0]"},{"$f":"TeamScoreWithPlayers($B46,\"M\",4,MN_7_REDHEAD!$F$4:$F$1391,MN_7_REDHEAD!$E$4:$E$1391,MN_7_REDHEAD!$G$4:$G$1391,MN_7_REDHEAD!$C$4:$C$1391,\"P4\")","v":"()  - [0]"},null,936,936,null,0]
[46,"Roosevelt High School",{"$f":"TeamScore(B47,\"M\",4,MN_7_REDHEAD!$F$4:$F$1391,MN_7_REDHEAD!$G$4:$G$1391,MN_7_REDHEAD!$C$4:$C$1391)","v":1754},null,null,{"$f":"TeamScoreWithPlayers($B47,\"M\",4,MN_7_REDHEAD!$F$4:$F$1391,MN_7_REDHEAD!$E$4:$E$1391,MN_7_REDHEAD!$G$4:$G$1391,MN_7_REDHEAD!$C$4:$C$1391,\"TS\")","v":1754},{"$f":"TeamScoreWithPlayers($B47,\"M\",4,MN_7_REDHEAD!$F$4:$F$1391,MN_7_REDHEAD!$E$4:$E$1391,MN_7_REDHEAD!$G$4:$G$1391,MN_7_REDHEAD!$C$4:$C$1391,\"P1\")","v":"(B) ELI MEISER - [501]"},{"$f":"TeamScoreWithPlayers($B47,\"M\",4,MN_7_REDHEAD!$F$4:$F$1391,MN_7_REDHEAD!$E$4:$E$1391,MN_7_REDHEAD!$G$4:$G$1391,MN_7_REDHEAD!$C$4:$C$1391,\"P2\")","v":"(B) BEN TESCH - [439]"},{"$f":"TeamScoreWithPlayers($B47,\"M\",4,MN_7_REDHEAD!$F$4:$F$1391,MN_7_REDHEAD!$E$4:$E$1391,MN_7_REDHEAD!$G$4:$G$1391,MN_7_REDHEAD!$C$4:$C$1391,\"P3\")","v":"(B) NICO MENDEZ - [425]"},{"$f":"TeamScoreWithPlayers($B47,\"M\",4,MN_7_REDHEAD!$F$4:$F$1391,MN_7_REDHEAD!$E$4:$E$1391,MN_7_REDHEAD!$G$4:$G$1391,MN_7_REDHEAD!$C$4:$C$1391,\"P4\")","v":"(G) GRACE BERSETH - [389]"},null,1754,1754,null,0]
[47,"Rosemount High School",{"$f":"TeamScore(B48,\"M\",4,MN_7_REDHEAD!$F$4:$F$1391,MN_7_REDHEAD!$G$4:$G$1391,MN_7_REDHEAD!$C$4:$C$1391)","v":1325},null,null,{"$f":"TeamScoreWithPlayers($B48,\"M\",4,MN_7_REDHEAD!$F$4:$F$1391,MN_7_REDHEAD!$E$4:$E$1391,MN_7_REDHEAD!$G$4:$G$1391,MN_7_REDHEAD!$C$4:$C$1391,\"TS\")","v":1325},{"$f":"TeamScoreWithPlayers($B48,\"M\",4,MN_7_REDHEAD!$F$4:$F$1391,MN_7_REDHEAD!$E$4:$E$1391,MN_7_REDHEAD!$G$4:$G$1391,MN_7_REDHEAD!$C$4:$C$1391,\"P1\")","v":"(B) SAM ALLAN - [529]"},{"$f":"TeamScoreWithPlayers($B48,\"M\",4,MN_7_REDHEAD!$F$4:$F$1391,MN_7_REDHEAD!$E$4:$E$1391,MN_7_REDHEAD!$G$4:$G$1391,MN_7_REDHEAD!$C$4:$C$1391,\"P2\")","v":"(B) CALVIN CARPENTER - [407]"},{"$f":"TeamScoreWithPlayers($B48,\"M\",4,MN_7_REDHEAD!$F$4:$F$1391,MN_7_REDHEAD!$E$4:$E$1391,MN_7_REDHEAD!$G$4:$G$1391,MN_7_REDHEAD!$C$4:$C$1391,\"P3\")","v":"(B) FRITZ DIRKSEN - [389]"},{"$f":"TeamScoreWithPlayers($B48,\"M\",4,MN_7_REDHEAD!$F$4:$F$1391,MN_7_REDHEAD!$E$4:$E$1391,MN_7_REDHEAD!$G$4:$G$1391,MN_7_REDHEAD!$C$4:$C$1391,\"P4\")","v":"()  - [0]"},null,1325,1325,null,0]
[48,"Roseville Area Composite",{"$f":"TeamScore(B49,\"M\",4,MN_7_REDHEAD!$F$4:$F$1391,MN_7_REDHEAD!$G$4:$G$1391,MN_7_REDHEAD!$C$4:$C$1391)","v":1291},null,null,{"$f":"TeamScoreWithPlayers($B49,\"M\",4,MN_7_REDHEAD!$F$4:$F$1391,MN_7_REDHEAD!$E$4:$E$1391,MN_7_REDHEAD!$G$4:$G$1391,MN_7_REDHEAD!$C$4:$C$1391,\"TS\")","v":1291},{"$f":"TeamScoreWithPlayers($B49,\"M\",4,MN_7_REDHEAD!$F$4:$F$1391,MN_7_REDHEAD!$E$4:$E$1391,MN_7_REDHEAD!$G$4:$G$1391,MN_7_REDHEAD!$C$4:$C$1391,\"P1\")","v":"(B) BENNETT SCHMALTZ - [342]"},{"$f":"TeamScoreWithPlayers($B49,\"M\",4,MN_7_REDHEAD!$F$4:$F$1391,MN_7_REDHEAD!$E$4:$E$1391,MN_7_REDHEAD!$G$4:$G$1391,MN_7_REDHEAD!$C$4:$C$1391,\"P2\")","v":"(G) ALLISON CLAYDON - [326]"},{"$f":"TeamScoreWithPlayers($B49,\"M\",4,MN_7_REDHEAD!$F$4:$F$1391,MN_7_REDHEAD!$E$4:$E$1391,MN_7_REDHEAD!$G$4:$G$1391,MN_7_REDHEAD!$C$4:$C$1391,\"P3\")","v":"(B) HENRY LOE - [313]"},{"$f":"TeamScoreWithPlayers($B49,\"M\",4,MN_7_REDHEAD!$F$4:$F$1391,MN_7_REDHEAD!$E$4:$E$1391,MN_7_REDHEAD!$G$4:$G$1391,MN_7_REDHEAD!$C$4:$C$1391,\"P4\")","v":"(G) FERN SHAFFNER - [310]"},null,1291,1291,null,0]
[49,"Spectrum High School",{"$f":"TeamScore(B50,\"M\",4,MN_7_REDHEAD!$F$4:$F$1391,MN_7_REDHEAD!$G$4:$G$1391,MN_7_REDHEAD!$C$4:$C$1391)","v":0},null,null,{"$f":"TeamScoreWithPlayers($B50,\"M\",4,MN_7_REDHEAD!$F$4:$F$1391,MN_7_REDHEAD!$E$4:$E$1391,MN_7_REDHEAD!$G$4:$G$1391,MN_7_REDHEAD!$C$4:$C$1391,\"TS\")","v":0},{"$f":"TeamScoreWithPlayers($B50,\"M\",4,MN_7_REDHEAD!$F$4:$F$1391,MN_7_REDHEAD!$E$4:$E$1391,MN_7_REDHEAD!$G$4:$G$1391,MN_7_REDHEAD!$C$4:$C$1391,\"P1\")","v":"()  - [0]"},{"$f":"TeamScoreWithPlayers($B50,\"M\",4,MN_7_REDHEAD!$F$4:$F$1391,MN_7_REDHEAD!$E$4:$E$1391,MN_7_REDHEAD!$G$4:$G$1391,MN_7_REDHEAD!$C$4:$C$1391,\"P2\")","v":"()  - [0]"},{"$f":"TeamScoreWithPlayers($B50,\"M\",4,MN_7_REDHEAD!$F$4:$F$1391,MN_7_REDHEAD!$E$4:$E$1391,MN_7_REDHEAD!$G$4:$G$1391,MN_7_REDHEAD!$C$4:$C$1391,\"P3\")","v":"()  - [0]"},{"$f":"TeamScoreWithPlayers($B50,\"M\",4,MN_7_REDHEAD!$F$4:$F$1391,MN_7_REDHEAD!$E$4:$E$1391,MN_7_REDHEAD!$G$4:$G$1391,MN_7_REDHEAD!$C$4:$C$1391,\"P4\")","v":"()  - [0]"},null,0,0,null,0]
[50,"St Cloud Area Composite",{"$f":"TeamScore(B51,\"M\",4,MN_7_REDHEAD!$F$4:$F$1391,MN_7_REDHEAD!$G$4:$G$1391,MN_7_REDHEAD!$C$4:$C$1391)","v":2103},null,null,{"$f":"TeamScoreWithPlayers($B51,\"M\",4,MN_7_REDHEAD!$F$4:$F$1391,MN_7_REDHEAD!$E$4:$E$1391,MN_7_REDHEAD!$G$4:$G$1391,MN_7_REDHEAD!$C$4:$C$1391,\"TS\")","v":2103},{"$f":"TeamScoreWithPlayers($B51,\"M\",4,MN_7_REDHEAD!$F$4:$F$1391,MN_7_REDHEAD!$E$4:$E$1391,MN_7_REDHEAD!$G$4:$G$1391,MN_7_REDHEAD!$C$4:$C$1391,\"P1\")","v":"(G) PHOEBE HACKENSACK - [550]"},{"$f":"TeamScoreWithPlayers($B51,\"M\",4,MN_7_REDHEAD!$F$4:$F$1391,MN_7_REDHEAD!$E$4:$E$1391,MN_7_REDHEAD!$G$4:$G$1391,MN_7_REDHEAD!$C$4:$C$1391,\"P2\")","v":"(B) MAX LARSEN - [550]"},{"$f":"TeamScoreWithPlayers($B51,\"M\",4,MN_7_REDHEAD!$F$4:$F$1391,MN_7_REDHEAD!$E$4:$E$1391,MN_7_REDHEAD!$G$4:$G$1391,MN_7_REDHEAD!$C$4:$C$1391,\"P3\")","v":"(B) JACK LARSEN - [519]"},{"$f":"TeamScoreWithPlayers($B51,\"M\",4,MN_7_REDHEAD!$F$4:$F$1391,MN_7_REDHEAD!$E$4:$E$1391,MN_7_REDHEAD!$G$4:$G$1391,MN_7_REDHEAD!$C$4:$C$1391,\"P4\")","v":"(G) LILY WILCOX - [484]"},null,2103,2103,null,0]
[51,"St Croix Composite",{"$f":"TeamScore(B52,\"M\",4,MN_7_REDHEAD!$F$4:$F$1391,MN_7_REDHEAD!$G$4:$G$1391,MN_7_REDHEAD!$C$4:$C$1391)","v":1687},null,null,{"$f":"TeamScoreWithPlayers($B52,\"M\",4,MN_7_REDHEAD!$F$4:$F$1391,MN_7_REDHEAD!$E$4:$E$1391,MN_7_REDHEAD!$G$4:$G$1391,MN_7_REDHEAD!$C$4:$C$1391,\"TS\")","v":1687},{"$f":"TeamScoreWithPlayers($B52,\"M\",4,MN_7_REDHEAD!$F$4:$F$1391,MN_7_REDHEAD!$E$4:$E$1391,MN_7_REDHEAD!$G$4:$G$1391,MN_7_REDHEAD!$C$4:$C$1391,\"P1\")","v":"(B) ERIC MOSS - [539]"},{"$f":"TeamScoreWithPlayers($B52,\"M\",4,MN_7_REDHEAD!$F$4:$F$1391,MN_7_REDHEAD!$E$4:$E$1391,MN_7_REDHEAD!$G$4:$G$1391,MN_7_REDHEAD!$C$4:$C$1391,\"P2\")","v":"(B) QUINN JUSTEN - [460]"},{"$f":"TeamScoreWithPlayers($B52,\"M\",4,MN_7_REDHEAD!$F$4:$F$1391,MN_7_REDHEAD!$E$4:$E$1391,MN_7_REDHEAD!$G$4:$G$1391,MN_7_REDHEAD!$C$4:$C$1391,\"P3\")","v":"(G) EVELYN BRUNS - [384]"},{"$f":"TeamScoreWithPlayers($B52,\"M\",4,MN_7_REDHEAD!$F$4:$F$1391,MN_7_REDHEAD!$E$4:$E$1391,MN_7_REDHEAD!$G$4:$G$1391,MN_7_REDHEAD!$C$4:$C$1391,\"P4\")","v":"(G) ADDISON WAKELING - [304]"},null,1687,1687,null,0]
[52,"St Louis Park High School",{"$f":"TeamScore(B53,\"M\",4,MN_7_REDHEAD!$F$4:$F$1391,MN_7_REDHEAD!$G$4:$G$1391,MN_7_REDHEAD!$C$4:$C$1391)","v":1495},null,null,{"$f":"TeamScoreWithPlayers($B53,\"M\",4,MN_7_REDHEAD!$F$4:$F$1391,MN_7_REDHEAD!$E$4:$E$1391,MN_7_REDHEAD!$G$4:$G$1391,MN_7_REDHEAD!$C$4:$C$1391,\"TS\")","v":1495},{"$f":"TeamScoreWithPlayers($B53,\"M\",4,MN_7_REDHEAD!$F$4:$F$1391,MN_7_REDHEAD!$E$4:$E$1391,MN_7_REDHEAD!$G$4:$G$1391,MN_7_REDHEAD!$C$4:$C$1391,\"P1\")","v":"(B) BENNY RUZEK - [519]"},{"$f":"TeamScoreWithPlayers($B53,\"M\",4,MN_7_REDHEAD!$F$4:$F$1391,MN_7_REDHEAD!$E$4:$E$1391,MN_7_REDHEAD!$G$4:$G$1391,MN_7_REDHEAD!$C$4:$C$1391,\"P2\")","v":"(B) AUSTIN KUEHL - [492]"},{"$f":"TeamScoreWithPlayers($B53,\"M\",4,MN_7_REDHEAD!$F$4:$F$1391,MN_7_REDHEAD!$E$4:$E$1391,MN_7_REDHEAD!$G$4:$G$1391,MN_7_REDHEAD!$C$4:$C$1391,\"P3\")","v":"(B) SHANER FITZPATRICK - [484]"},{"$f":"TeamScoreWithPlayers($B53,\"M\",4,MN_7_REDHEAD!$F$4:$F$1391,MN_7_REDHEAD!$E$4:$E$1391,MN_7_REDHEAD!$G$4:$G$1391,MN_7_REDHEAD!$C$4:$C$1391,\"P4\")","v":"()  - [0]"},null,1495,1495,null,0]
[53,"St Michael / Albertville Composite",{"$f":"TeamScore(B54,\"M\",4,MN_7_REDHEAD!$F$4:$F$1391,MN_7_REDHEAD!$G$4:$G$1391,MN_7_REDHEAD!$C$4:$C$1391)","v":1470},null,null,{"$f":"TeamScoreWithPlayers($B54,\"M\",4,MN_7_REDHEAD!$F$4:$F$1391,MN_7_REDHEAD!$E$4:$E$1391,MN_7_REDHEAD!$G$4:$G$1391,MN_7_REDHEAD!$C$4:$C$1391,\"TS\")","v":1470},{"$f":"TeamScoreWithPlayers($B54,\"M\",4,MN_7_REDHEAD!$F$4:$F$1391,MN_7_REDHEAD!$E$4:$E$1391,MN_7_REDHEAD!$G$4:$G$1391,MN_7_REDHEAD!$C$4:$C$1391,\"P1\")","v":"(B) ALEX CHOUANARD - [510]"},{"$f":"TeamScoreWithPlayers($B54,\"M\",4,MN_7_REDHEAD!$F$4:$F$1391,MN_7_REDHEAD!$E$4:$E$1391,MN_7_REDHEAD!$G$4:$G$1391,MN_7_REDHEAD!$C$4:$C$1391,\"P2\")","v":"(B) COOPER ETNIER - [484]"},{"$f":"TeamScoreWithPlayers($B54,\"M\",4,MN_7_REDHEAD!$F$4:$F$1391,MN_7_REDHEAD!$E$4:$E$1391,MN_7_REDHEAD!$G$4:$G$1391,MN_7_REDHEAD!$C$4:$C$1391,\"P3\")","v":"(B) OWEN MOORMANN - [476]"},{"$f":"TeamScoreWithPlayers($B54,\"M\",4,MN_7_REDHEAD!$F$4:$F$1391,MN_7_REDHEAD!$E$4:$E$1391,MN_7_REDHEAD!$G$4:$G$1391,MN_7_REDHEAD!$C$4:$C$1391,\"P4\")","v":"()  - [0]"},null,1470,1462,null,8]
[54,"St Paul Central",{"$f":"TeamScore(B55,\"M\",4,MN_7_REDHEAD!$F$4:$F$1391,MN_7_REDHEAD!$G$4:$G$1391,MN_7_REDHEAD!$C$4:$C$1391)","v":1321},null,null,{"$f":"TeamScoreWithPlayers($B55,\"M\",4,MN_7_REDHEAD!$F$4:$F$1391,MN_7_REDHEAD!$E$4:$E$1391,MN_7_REDHEAD!$G$4:$G$1391,MN_7_REDHEAD!$C$4:$C$1391,\"TS\")","v":1321},{"$f":"TeamScoreWithPlayers($B55,\"M\",4,MN_7_REDHEAD!$F$4:$F$1391,MN_7_REDHEAD!$E$4:$E$1391,MN_7_REDHEAD!$G$4:$G$1391,MN_7_REDHEAD!$C$4:$C$1391,\"P1\")","v":"(B) HENRY MURPHY - [510]"},{"$f":"TeamScoreWithPlayers($B55,\"M\",4,MN_7_REDHEAD!$F$4:$F$1391,MN_7_REDHEAD!$E$4:$E$1391,MN_7_REDHEAD!$G$4:$G$1391,MN_7_REDHEAD!$C$4:$C$1391,\"P2\")","v":"(B) KHANH TRUONG - [492]"},{"$f":"TeamScoreWithPlayers($B55,\"M\",4,MN_7_REDHEAD!$F$4:$F$1391,MN_7_REDHEAD!$E$4:$E$1391,MN_7_REDHEAD!$G$4:$G$1391,MN_7_REDHEAD!$C$4:$C$1391,\"P3\")","v":"(B) TYLER HAYDEN - [319]"},{"$f":"TeamScoreWithPlayers($B55,\"M\",4,MN_7_REDHEAD!$F$4:$F$1391,MN_7_REDHEAD!$E$4:$E$1391,MN_7_REDHEAD!$G$4:$G$1391,MN_7_REDHEAD!$C$4:$C$1391,\"P4\")","v":"()  - [0]"},null,1321,1321,null,0]
[55,"St. Paul Composite - North",{"$f":"TeamScore(B56,\"M\",4,MN_7_REDHEAD!$F$4:$F$1391,MN_7_REDHEAD!$G$4:$G$1391,MN_7_REDHEAD!$C$4:$C$1391)","v":1379},null,null,{"$f":"TeamScoreWithPlayers($B56,\"M\",4,MN_7_REDHEAD!$F$4:$F$1391,MN_7_REDHEAD!$E$4:$E$1391,MN_7_REDHEAD!$G$4:$G$1391,MN_7_REDHEAD!$C$4:$C$1391,\"TS\")","v":1379},{"$f":"TeamScoreWithPlayers($B56,\"M\",4,MN_7_REDHEAD!$F$4:$F$1391,MN_7_REDHEAD!$E$4:$E$1391,MN_7_REDHEAD!$G$4:$G$1391,MN_7_REDHEAD!$C$4:$C$1391,\"P1\")","v":"(B) CHARLIE WILLIAMSON - [539]"},{"$f":"TeamScoreWithPlayers($B56,\"M\",4,MN_7_REDHEAD!$F$4:$F$1391,MN_7_REDHEAD!$E$4:$E$1391,MN_7_REDHEAD!$G$4:$G$1391,MN_7_REDHEAD!$C$4:$C$1391,\"P2\")","v":"(B) SEBASTIAN PURYEAR-JORDAN - [439]"},{"$f":"TeamScoreWithPlayers($B56,\"M\",4,MN_7_REDHEAD!$F$4:$F$1391,MN_7_REDHEAD!$E$4:$E$1391,MN_7_REDHEAD!$G$4:$G$1391,MN_7_REDHEAD!$C$4:$C$1391,\"P3\")","v":"(B) BAEK MARTIN-KOHLS - [401]"},{"$f":"TeamScoreWithPlayers($B56,\"M\",4,MN_7_REDHEAD!$F$4:$F$1391,MN_7_REDHEAD!$E$4:$E$1391,MN_7_REDHEAD!$G$4:$G$1391,MN_7_REDHEAD!$C$4:$C$1391,\"P4\")","v":"()  - [0]"},null,1379,1379,null,0]
[56,"St. Paul Composite - South",{"$f":"TeamScore(B57,\"M\",4,MN_7_REDHEAD!$F$4:$F$1391,MN_7_REDHEAD!$G$4:$G$1391,MN_7_REDHEAD!$C$4:$C$1391)","v":1626},null,null,{"$f":"TeamScoreWithPlayers($B57,\"M\",4,MN_7_REDHEAD!$F$4:$F$1391,MN_7_REDHEAD!$E$4:$E$1391,MN_7_REDHEAD!$G$4:$G$1391,MN_7_REDHEAD!$C$4:$C$1391,\"TS\")","v":1626},{"$f":"TeamScoreWithPlayers($B57,\"M\",4,MN_7_REDHEAD!$F$4:$F$1391,MN_7_REDHEAD!$E$4:$E$1391,MN_7_REDHEAD!$G$4:$G$1391,MN_7_REDHEAD!$C$4:$C$1391,\"P1\")","v":"(G) ELEANOR MEYER - [539]"},{"$f":"TeamScoreWithPlayers($B57,\"M\",4,MN_7_REDHEAD!$F$4:$F$1391,MN_7_REDHEAD!$E$4:$E$1391,MN_7_REDHEAD!$G$4:$G$1391,MN_7_REDHEAD!$C$4:$C$1391,\"P2\")","v":"(B) ZINABU PETERSEN - [425]"},{"$f":"TeamScoreWithPlayers($B57,\"M\",4,MN_7_REDHEAD!$F$4:$F$1391,MN_7_REDHEAD!$E$4:$E$1391,MN_7_REDHEAD!$G$4:$G$1391,MN_7_REDHEAD!$C$4:$C$1391,\"P3\")","v":"(B) CALVIN HOENISCH - [407]"},{"$f":"TeamScoreWithPlayers($B57,\"M\",4,MN_7_REDHEAD!$F$4:$F$1391,MN_7_REDHEAD!$E$4:$E$1391,MN_7_REDHEAD!$G$4:$G$1391,MN_7_REDHEAD!$C$4:$C$1391,\"P4\")","v":"(B) KAI WALKER - [255]"},null,1626,1626,null,0]
[57,"Tioga Trailblazers",{"$f":"TeamScore(B58,\"M\",4,MN_7_REDHEAD!$F$4:$F$1391,MN_7_REDHEAD!$G$4:$G$1391,MN_7_REDHEAD!$C$4:$C$1391)","v":1513},null,null,{"$f":"TeamScoreWithPlayers($B58,\"M\",4,MN_7_REDHEAD!$F$4:$F$1391,MN_7_REDHEAD!$E$4:$E$1391,MN_7_REDHEAD!$G$4:$G$1391,MN_7_REDHEAD!$C$4:$C$1391,\"TS\")","v":1513},{"$f":"TeamScoreWithPlayers($B58,\"M\",4,MN_7_REDHEAD!$F$4:$F$1391,MN_7_REDHEAD!$E$4:$E$1391,MN_7_REDHEAD!$G$4:$G$1391,MN_7_REDHEAD!$C$4:$C$1391,\"P1\")","v":"(B) LEVI GEISLER - [401]"},{"$f":"TeamScoreWithPlayers($B58,\"M\",4,MN_7_REDHEAD!$F$4:$F$1391,MN_7_REDHEAD!$E$4:$E$1391,MN_7_REDHEAD!$G$4:$G$1391,MN_7_REDHEAD!$C$4:$C$1391,\"P2\")","v":"(G) CORA METELAK - [374]"},{"$f":"TeamScoreWithPlayers($B58,\"M\",4,MN_7_REDHEAD!$F$4:$F$1391,MN_7_REDHEAD!$E$4:$E$1391,MN_7_REDHEAD!$G$4:$G$1391,MN_7_REDHEAD!$C$4:$C$1391,\"P3\")","v":"(B) BEN JOHNSON - [369]"},{"$f":"TeamScoreWithPlayers($B58,\"M\",4,MN_7_REDHEAD!$F$4:$F$1391,MN_7_REDHEAD!$E$4:$E$1391,MN_7_REDHEAD!$G$4:$G$1391,MN_7_REDHEAD!$C$4:$C$1391,\"P4\")","v":"(B) ERIC STANGEL - [369]"},null,1513,1513,null,0]
[58,"Totino Grace High School",{"$f":"TeamScore(B59,\"M\",4,MN_7_REDHEAD!$F$4:$F$1391,MN_7_REDHEAD!$G$4:$G$1391,MN_7_REDHEAD!$C$4:$C$1391)","v":813},null,null,{"$f":"TeamScoreWithPlayers($B59,\"M\",4,MN_7_REDHEAD!$F$4:$F$1391,MN_7_REDHEAD!$E$4:$E$1391,MN_7_REDHEAD!$G$4:$G$1391,MN_7_REDHEAD!$C$4:$C$1391,\"TS\")","v":813},{"$f":"TeamScoreWithPlayers($B59,\"M\",4,MN_7_REDHEAD!$F$4:$F$1391,MN_7_REDHEAD!$E$4:$E$1391,MN_7_REDHEAD!$G$4:$G$1391,MN_7_REDHEAD!$C$4:$C$1391,\"P1\")","v":"(B) ALEXANDER MCNAMARA - [439]"},{"$f":"TeamScoreWithPlayers($B59,\"M\",4,MN_7_REDHEAD!$F$4:$F$1391,MN_7_REDHEAD!$E$4:$E$1391,MN_7_REDHEAD!$G$4:$G$1391,MN_7_REDHEAD!$C$4:$C$1391,\"P2\")","v":"(G) ADELE DENTON - [374]"},{"$f":"TeamScoreWithPlayers($B59,\"M\",4,MN_7_REDHEAD!$F$4:$F$1391,MN_7_REDHEAD!$E$4:$E$1391,MN_7_REDHEAD!$G$4:$G$1391,MN_7_REDHEAD!$C$4:$C$1391,\"P3\")","v":"()  - [0]"},{"$f":"TeamScoreWithPlayers($B59,\"M\",4,MN_7_REDHEAD!$F$4:$F$1391,MN_7_REDHEAD!$E$4:$E$1391,MN_7_REDHEAD!$G$4:$G$1391,MN_7_REDHEAD!$C$4:$C$1391,\"P4\")","v":"()  - [0]"},null,813,813,null,0]
[59,"West Fork",{"$f":"TeamScore(B60,\"M\",4,MN_7_REDHEAD!$F$4:$F$1391,MN_7_REDHEAD!$G$4:$G$1391,MN_7_REDHEAD!$C$4:$C$1391)","v":301},null,null,{"$f":"TeamScoreWithPlayers($B60,\"M\",4,MN_7_REDHEAD!$F$4:$F$1391,MN_7_REDHEAD!$E$4:$E$1391,MN_7_REDHEAD!$G$4:$G$1391,MN_7_REDHEAD!$C$4:$C$1391,\"TS\")","v":301},{"$f":"TeamScoreWithPlayers($B60,\"M\",4,MN_7_REDHEAD!$F$4:$F$1391,MN_7_REDHEAD!$E$4:$E$1391,MN_7_REDHEAD!$G$4:$G$1391,MN_7_REDHEAD!$C$4:$C$1391,\"P1\")","v":"(B) JONAH ESPEY - [301]"},{"$f":"TeamScoreWithPlayers($B60,\"M\",4,MN_7_REDHEAD!$F$4:$F$1391,MN_7_REDHEAD!$E$4:$E$1391,MN_7_REDHEAD!$G$4:$G$1391,MN_7_REDHEAD!$C$4:$C$1391,\"P2\")","v":"()  - [0]"},{"$f":"TeamScoreWithPlayers($B60,\"M\",4,MN_7_REDHEAD!$F$4:$F$1391,MN_7_REDHEAD!$E$4:$E$1391,MN_7_REDHEAD!$G$4:$G$1391,MN_7_REDHEAD!$C$4:$C$1391,\"P3\")","v":"()  - [0]"},{"$f":"TeamScoreWithPlayers($B60,\"M\",4,MN_7_REDHEAD!$F$4:$F$1391,MN_7_REDHEAD!$E$4:$E$1391,MN_7_REDHEAD!$G$4:$G$1391,MN_7_REDHEAD!$C$4:$C$1391,\"P4\")","v":"()  - [0]"},null,301,301,null,0]
[60,"West Range Composite",{"$f":"TeamScore(B61,\"M\",4,MN_7_REDHEAD!$F$4:$F$1391,MN_7_REDHEAD!$G$4:$G$1391,MN_7_REDHEAD!$C$4:$C$1391)","v":1352},null,null,{"$f":"TeamScoreWithPlayers($B61,\"M\",4,MN_7_REDHEAD!$F$4:$F$1391,MN_7_REDHEAD!$E$4:$E$1391,MN_7_REDHEAD!$G$4:$G$1391,MN_7_REDHEAD!$C$4:$C$1391,\"TS\")","v":1352},{"$f":"TeamScoreWithPlayers($B61,\"M\",4,MN_7_REDHEAD!$F$4:$F$1391,MN_7_REDHEAD!$E$4:$E$1391,MN_7_REDHEAD!$G$4:$G$1391,MN_7_REDHEAD!$C$4:$C$1391,\"P1\")","v":"(G) ELIZABETH HAUPT - [346]"},{"$f":"TeamScoreWithPlayers($B61,\"M\",4,MN_7_REDHEAD!$F$4:$F$1391,MN_7_REDHEAD!$E$4:$E$1391,MN_7_REDHEAD!$G$4:$G$1391,MN_7_REDHEAD!$C$4:$C$1391,\"P2\")","v":"(B) TUCKER CROWE - [346]"},{"$f":"TeamScoreWithPlayers($B61,\"M\",4,MN_7_REDHEAD!$F$4:$F$1391,MN_7_REDHEAD!$E$4:$E$1391,MN_7_REDHEAD!$G$4:$G$1391,MN_7_REDHEAD!$C$4:$C$1391,\"P3\")","v":"(B) MAC WALLI - [338]"},{"$f":"TeamScoreWithPlayers($B61,\"M\",4,MN_7_REDHEAD!$F$4:$F$1391,MN_7_REDHEAD!$E$4:$E$1391,MN_7_REDHEAD!$G$4:$G$1391,MN_7_REDHEAD!$C$4:$C$1391,\"P4\")","v":"(B) EMMETT LIND - [322]"},null,1352,1352,null,0]
[61,"Woodbury Composite",{"$f":"TeamScore(B62,\"M\",4,MN_7_REDHEAD!$F$4:$F$1391,MN_7_REDHEAD!$G$4:$G$1391,MN_7_REDHEAD!$C$4:$C$1391)","v":1552},null,null,{"$f":"TeamScoreWithPlayers($B62,\"M\",4,MN_7_REDHEAD!$F$4:$F$1391,MN_7_REDHEAD!$E$4:$E$1391,MN_7_REDHEAD!$G$4:$G$1391,MN_7_REDHEAD!$C$4:$C$1391,\"TS\")","v":1552},{"$f":"TeamScoreWithPlayers($B62,\"M\",4,MN_7_REDHEAD!$F$4:$F$1391,MN_7_REDHEAD!$E$4:$E$1391,MN_7_REDHEAD!$G$4:$G$1391,MN_7_REDHEAD!$C$4:$C$1391,\"P1\")","v":"(B) EVERETT LEVANDER - [446]"},{"$f":"TeamScoreWithPlayers($B62,\"M\",4,MN_7_REDHEAD!$F$4:$F$1391,MN_7_REDHEAD!$E$4:$E$1391,MN_7_REDHEAD!$G$4:$G$1391,MN_7_REDHEAD!$C$4:$C$1391,\"P2\")","v":"(G) CLARA OACHS - [439]"},{"$f":"TeamScoreWithPlayers($B62,\"M\",4,MN_7_REDHEAD!$F$4:$F$1391,MN_7_REDHEAD!$E$4:$E$1391,MN_7_REDHEAD!$G$4:$G$1391,MN_7_REDHEAD!$C$4:$C$1391,\"P3\")","v":"(B) ETHAN CARLSON - [354]"},{"$f":"TeamScoreWithPlayers($B62,\"M\",4,MN_7_REDHEAD!$F$4:$F$1391,MN_7_REDHEAD!$E$4:$E$1391,MN_7_REDHEAD!$G$4:$G$1391,MN_7_REDHEAD!$C$4:$C$1391,\"P4\")","v":"(B) FINN O'REILLY - [313]"},null,1552,1552,null,0]
[]
[]
[null,"Results sorted High to Low"]
["Place","TEAM","Score",null,null,"New Total Score","P1","P2","P3","P4"]
[1,"St Cloud Area Composite",2103,null,null,2103,"(G) PHOEBE HACKENSACK - [550]","(B) MAX LARSEN - [550]","(B) JACK LARSEN - [519]","(G) LILY WILCOX - [484]",null,{"$f":"getnumeric(G67)+getnumeric(H67)+getnumeric(I67)+getnumeric(J67)","v":2103},{"$f":"VLOOKUP(B67,Divisions!$P$4:$Q$95,2,FALSE)","v":2},null,{"$f":"C67-L67","v":0}]
[{"$f":"+A67+1","v":2},"Hudson High School",1912,null,null,1912,"(B) RYAN KELLER - [519]","(B) HENRY STEPHENSON - [501]","(G) HAYDEN KOHN - [446]","(B) JOE STEPHENSON - [446]",null,1912,{"$f":"VLOOKUP(B68,Divisions!$P$4:$Q$95,2,FALSE)","v":2},null,{"$f":"C68-L68","v":0}]
[{"$f":"+A68+1","v":3},"Elk River Composite",1829,null,null,1829,"(B) EDWARD FULL - [550]","(G) GEMMA BANKS - [468]","(B) TYLER HANSON - [432]","(G) NATALIE MCCORMACK - [379]",null,1829,{"$f":"VLOOKUP(B69,Divisions!$P$4:$Q$95,2,FALSE)","v":2},null,0]
[4,"Hastings Area Composite",1771,null,null,1771,"(B) JAMES MCNAMARA - [501]","(G) KATE NOWAK - [468]","(G) GRACEANN OLSON - [407]","(B) PAYTON OLSON - [395]",null,1771,{"$f":"VLOOKUP(B70,Divisions!$P$4:$Q$95,2,FALSE)","v":2},null,0]
[5,"Roosevelt High School",1754,null,null,1754,"(B) ELI MEISER - [501]","(B) BEN TESCH - [439]","(B) NICO MENDEZ - [425]","(G) GRACE BERSETH - [389]",null,1754,{"$f":"VLOOKUP(B71,Divisions!$P$4:$Q$95,2,FALSE)","v":2},null,0]
[6,"St Croix Composite",1687,null,null,1687,"(B) ERIC MOSS - [539]","(B) QUINN JUSTEN - [460]","(G) EVELYN BRUNS - [384]","(G) ADDISON WAKELING - [304]",null,1687,{"$f":"VLOOKUP(B72,Divisions!$P$4:$Q$95,2,FALSE)","v":2},null,0]
[7,"Osseo Composite",1670,null,null,1670,"(B) GARRETT NELSON - [529]","(G) BAILEY MORRISON - [453]","(B) EVERETT OLSON - [384]","(B) EUGENE NELSON - [304]",null,1670,{"$f":"VLOOKUP(B73,Divisions!$P$4:$Q$95,2,FALSE)","v":2},null,0]
[8,"Northwest Composite",1667,null,null,1667,"(B) ISAAC LEISETH - [476]","(B) HANK SCHLAUDERAFF - [468]","(B) IAN ARTLEY - [364]","(G) CLARA DAVIS - [359]",null,1667,{"$f":"VLOOKUP(B74,Divisions!$P$4:$Q$95,2,FALSE)","v":2},null,0]
[9,"St. Paul Composite - South",1626,null,null,1626,"(G) ELEANOR MEYER - [539]","(B) ZINABU PETERSEN - [425]","(B) CALVIN HOENISCH - [407]","(B) KAI WALKER - [255]",null,1626,{"$f":"VLOOKUP(B75,Divisions!$P$4:$Q$95,2,FALSE)","v":2},null,0]
[10,"River Falls High School",1605,null,null,1605,"(G) PIPER NICKLESKI - [468]","(G) AMELIA HALVORSON - [384]","(B) CLARK WERWIE - [379]","(B) CHRISTIAN HARSDORF - [374]",null,1605,{"$f":"VLOOKUP(B76,Divisions!$P$4:$Q$95,2,FALSE)","v":2},null,0]
[11,"Orono High School",1582,null,null,1582,"(B) JACK MCKEAND - [539]","(B) MIKHAIL LONG - [359]","(G) REESE JEREMIASON - [346]","(G) JILLIE SWENSON - [338]",null,1582,{"$f":"VLOOKUP(B77,Divisions!$P$4:$Q$95,2,FALSE)","v":2},null,0]
[12,"Austin High School",1579,null,null,1579,"(G) LEXI HELGESON - [460]","(B) LIAM LINNETT - [395]","(B) HUNTER PETERS - [374]","(B) BRAYDEN ANDREWS - [350]",null,1579,{"$f":"VLOOKUP(B78,Divisions!$P$4:$Q$95,2,FALSE)","v":2},null,0]
[13,"Woodbury Composite",1552,null,null,1552,"(B) EVERETT LEVANDER - [446]","(G) CLARA OACHS - [439]","(B) ETHAN CARLSON - [354]","(B) FINN O'REILLY - [313]",null,1552,{"$f":"VLOOKUP(B79,Divisions!$P$4:$Q$95,2,FALSE)","v":2},null,0]
[14,"Borealis Composite",1528,null,null,1528,"(B) GRADY ANDERSON - [453]","(G) ADDISON KANNAS - [395]","(B) WYATT TEDRICK - [379]","(B) GEORGE SPONHOLZ - [301]",null,1528,{"$f":"VLOOKUP(B80,Divisions!$P$4:$Q$95,2,FALSE)","v":2},null,0]
[15,"Tioga Trailblazers",1513,null,null,1513,"(B) LEVI GEISLER - [401]","(G) CORA METELAK - [374]","(B) BEN JOHNSON - [369]","(B) ERIC STANGEL - [369]",null,1513,{"$f":"VLOOKUP(B81,Divisions!$P$4:$Q$95,2,FALSE)","v":2},null,0]
[16,"St Louis Park High School",1495,null,null,1495,"(B) BENNY RUZEK - [519]","(B) AUSTIN KUEHL - [492]","(B) SHANER FITZPATRICK - [484]","()  - [0]",null,1495,{"$f":"VLOOKUP(B82,Divisions!$P$4:$Q$95,2,FALSE)","v":2},null,0]
[17,"Maple Grove High School",1479,null,null,1479,"(G) HANNAH MOORE - [510]","(G) HALEY HONMYHR - [425]","(B) WILLIAM BUTTKE - [287]","(B) DYLAN ENGSTROM - [257]",null,1479,{"$f":"VLOOKUP(B83,Divisions!$P$4:$Q$95,2,FALSE)","v":2},null,0]
[18,"St Michael / Albertville Composite",1470,null,null,1470,"(B) ALEX CHOUANARD - [510]","(B) COOPER ETNIER - [484]","(B) OWEN MOORMANN - [476]","()  - [0]",null,1470,{"$f":"VLOOKUP(B84,Divisions!$P$4:$Q$95,2,FALSE)","v":2},null,0]
[19,"Eden Prairie High School",1395,null,null,1395,"(B) MASON REINER - [510]","(B) ISAAC FOLEY - [484]","(B) AIDAN OLSTAD - [401]","()  - [0]",null,1395,{"$f":"VLOOKUP(B85,Divisions!$P$4:$Q$95,2,FALSE)","v":2},null,0]
[20,"St. Paul Composite - North",1379,null,null,1379,"(B) CHARLIE WILLIAMSON - [539]","(B) SEBASTIAN PURYEAR-JORDAN - [439]","(B) BAEK MARTIN-KOHLS - [401]","()  - [0]",null,1379,{"$f":"VLOOKUP(B86,Divisions!$P$4:$Q$95,2,FALSE)","v":2},null,0]
[21,"Mound Westonka Composite",1353,null,null,1353,"(B) HARRISON MERTEN - [432]","(B) ROBBIE CHILSON - [326]","(G) MAKENZIE REESE - [319]","(B) NOAH HILLEBERT - [276]",null,1353,{"$f":"VLOOKUP(B87,Divisions!$P$4:$Q$95,2,FALSE)","v":2},null,0]
[22,"West Range Composite",1352,null,null,1352,"(G) ELIZABETH HAUPT - [346]","(B) TUCKER CROWE - [346]","(B) MAC WALLI - [338]","(B) EMMETT LIND - [322]",null,1352,{"$f":"VLOOKUP(B88,Divisions!$P$4:$Q$95,2,FALSE)","v":{"$error":"#N/A"}},null,0]
[23,"Rosemount High School",1325,null,null,1325,"(B) SAM ALLAN - [529]","(B) CALVIN CARPENTER - [407]","(B) FRITZ DIRKSEN - [389]","()  - [0]",null,1325,{"$f":"VLOOKUP(B89,Divisions!$P$4:$Q$95,2,FALSE)","v":2},null,0]
[24,"St Paul Central",1321,null,null,1321,"(B) HENRY MURPHY - [510]","(B) KHANH TRUONG - [492]","(B) TYLER HAYDEN - [319]","()  - [0]",null,1321,{"$f":"VLOOKUP(B90,Divisions!$P$4:$Q$95,2,FALSE)","v":2},null,0]
[25,"Highland Park St Paul",1311,null,null,1311,"(G) CORALIE JONES - [539]","(B) FRANKLIN MILLER - [468]","(B) COLIN BORGEN - [304]","()  - [0]",null,1311,{"$f":"VLOOKUP(B91,Divisions!$P$4:$Q$95,2,FALSE)","v":2},null,0]
[26,"Minnesota Valley Composite",1306,null,null,1306,"(B) CARTER BOLSTER - [492]","(B) XAVIER OLSON - [413]","(G) INGRID OLSON - [401]","()  - [0]",null,1306,{"$f":"VLOOKUP(B92,Divisions!$P$4:$Q$95,2,FALSE)","v":2},null,0]
[27,"Roseville Area Composite",1291,null,null,1291,"(B) BENNETT SCHMALTZ - [342]","(G) ALLISON CLAYDON - [326]","(B) HENRY LOE - [313]","(G) FERN SHAFFNER - [310]",null,1291,{"$f":"VLOOKUP(B93,Divisions!$P$4:$Q$95,2,FALSE)","v":2},null,0]
[28,"Cannon Valley Composite",1117,null,null,1117,"(B) BENJAMIN FUNKE - [419]","(B) LEO HERNANDEZ - [364]","(B) DREW PRIBYL - [334]","()  - [0]",null,1117,{"$f":"VLOOKUP(B94,Divisions!$P$4:$Q$95,2,FALSE)","v":2},null,0]
[29,"Breck/Blake",1111,null,null,1111,"(B) LANDON MAUL - [476]","(G) EMILIA COLIANNI - [350]","(B) OLIVER ENGEL - [285]","()  - [0]",null,1111,{"$f":"VLOOKUP(B95,Divisions!$P$4:$Q$95,2,FALSE)","v":{"$error":"#N/A"}},null,0]
[30,"Eagan High School",1017,null,null,1017,"(B) CALEB LYON - [460]","(B) NICHOLAS MIZIORKO - [286]","(B) GRAHAM ROBERTS - [271]","()  - [0]",null,1017,{"$f":"VLOOKUP(B96,Divisions!$P$4:$Q$95,2,FALSE)","v":2},null,0]
[31,"Mahtomedi High School",1003,null,null,1003,"(B) PAUL GRZESIK - [419]","(B) MICAH HORSAGER - [326]","(B) HENRY HONMYHR - [258]","()  - [0]",null,1003,{"$f":"VLOOKUP(B97,Divisions!$P$4:$Q$95,2,FALSE)","v":2},null,0]
[32,"Chisago Lakes Composite",982,null,null,982,"(B) REID HAMLIN - [550]","(B) EDWARD “EJ” NIELSEN - [432]","()  - [0]","()  - [0]",null,982,{"$f":"VLOOKUP(B98,Divisions!$P$4:$Q$95,2,FALSE)","v":2},null,0]
[33,"Rogers High School",936,null,null,936,"(B) MAX KLABUNDE - [529]","(B) WILLIAM PALUMBO - [407]","()  - [0]","()  - [0]",null,936,{"$f":"VLOOKUP(B99,Divisions!$P$4:$Q$95,2,FALSE)","v":2},null,0]
[34,"Bloomington Composite",904,null,null,904,"(G) REGAN ISAAC - [334]","(B) RYLAN MACADAMS - [293]","(B) BEN JONES - [277]","()  - [0]",null,904,{"$f":"VLOOKUP(B100,Divisions!$P$4:$Q$95,2,FALSE)","v":2},null,0]
[35,"Rockford Composite",887,null,null,887,"(B) JOSIAH CARLSON - [322]","(B) EVERETT SCHOTTMULLER - [287]","(B) ELIJAH WARD - [278]","()  - [0]",null,887,{"$f":"VLOOKUP(B101,Divisions!$P$4:$Q$95,2,FALSE)","v":2},null,0]
[36,"Hutchinson High School",869,null,null,869,"(B) FRANKLIN RECH - [468]","(G) CYBLI BUSSE - [401]","()  - [0]","()  - [0]",null,869,{"$f":"VLOOKUP(B102,Divisions!$P$4:$Q$95,2,FALSE)","v":2},null,0]
[37,"Kerkhoven Composite",865,null,null,865,"(G) HAILEY SOINE - [307]","(B) MICAH STRICKLAND - [283]","(B) JONNY BENSON - [275]","()  - [0]",null,865,{"$f":"VLOOKUP(B103,Divisions!$P$4:$Q$95,2,FALSE)","v":2},null,0]
[38,"Totino Grace High School",813,null,null,813,"(B) ALEXANDER MCNAMARA - [439]","(G) ADELE DENTON - [374]","()  - [0]","()  - [0]",null,813,{"$f":"VLOOKUP(B104,Divisions!$P$4:$Q$95,2,FALSE)","v":2},null,0]
[39,"Rochester Area Composite",694,null,null,694,"(G) IRENE PASTOR - [364]","(B) LUKE EAGLE - [330]","()  - [0]","()  - [0]",null,694,{"$f":"VLOOKUP(B105,Divisions!$P$4:$Q$95,2,FALSE)","v":2},null,0]
[40,"Rochester Mayo",673,null,null,673,"(B) ETHAN NELSON - [354]","(B) DEXTER WILLIAMS - [319]","()  - [0]","()  - [0]",null,673,{"$f":"VLOOKUP(B106,Divisions!$P$4:$Q$95,2,FALSE)","v":2},null,0]
[41,"Benilde St Margaret",622,null,null,622,"(B) GERIK NOWLIN - [338]","(B) RYAN LYNCH - [284]","()  - [0]","()  - [0]",null,622,{"$f":"VLOOKUP(B107,Divisions!$P$4:$Q$95,2,FALSE)","v":2},null,0]
[42,"Osseo",588,null,null,588,"(G) SOPHIA BEAUDIN - [313]","(B) OLIVER PILSNER - [275]","()  - [0]","()  - [0]",null,588,{"$f":"VLOOKUP(B108,Divisions!$P$4:$Q$95,2,FALSE)","v":2},null,0]
[43,"Eastview High School",539,null,null,539,"(G) MARGO BREMER - [539]","()  - [0]","()  - [0]","()  - [0]",null,539,{"$f":"VLOOKUP(B109,Divisions!$P$4:$Q$95,2,FALSE)","v":2},null,0]
[44,"Park High School",453,null,null,453,"(B) MAVERICK TILLER - [453]","()  - [0]","()  - [0]","()  - [0]",null,453,{"$f":"VLOOKUP(B110,Divisions!$P$4:$Q$95,2,FALSE)","v":2},null,0]
[45,"Rochester John Marshall",419,null,null,419,"(B) JACKSON TANK - [419]","()  - [0]","()  - [0]","()  - [0]",null,419,{"$f":"VLOOKUP(B111,Divisions!$P$4:$Q$95,2,FALSE)","v":2},null,0]
[46,"North Dakota Composite",413,null,null,413,"(B) DAVID ROBINSON - [413]","()  - [0]","()  - [0]","()  - [0]",null,413,{"$f":"VLOOKUP(B112,Divisions!$P$4:$Q$95,2,FALSE)","v":2},null,0]
[47,"Lakeville South High School",369,null,null,369,"(G) EVA GROTENHUIS - [369]","()  - [0]","()  - [0]","()  - [0]",null,369,{"$f":"VLOOKUP(B113,Divisions!$P$4:$Q$95,2,FALSE)","v":2},null,0]
[48,"Minneapolis Southside Composite",330,null,null,330,"(G) ISABELLA BERGMAN - [330]","()  - [0]","()  - [0]","()  - [0]",null,330,{"$f":"VLOOKUP(B114,Divisions!$P$4:$Q$95,2,FALSE)","v":2},null,0]
[49,"West Fork",301,null,null,301,"(B) JONAH ESPEY - [301]","()  - [0]","()  - [0]","()  - [0]",null,301,{"$f":"VLOOKUP(B115,Divisions!$P$4:$Q$95,2,FALSE)","v":{"$error":"#N/A"}},null,0]
[50,"Apple Valley High School",295,null,null,295,"(B) HAYDEN HOFF - [295]","()  - [0]","()  - [0]","()  - [0]",null,295,{"$f":"VLOOKUP(B116,Divisions!$P$4:$Q$95,2,FALSE)","v":2},null,0]
[51,"Hermantown-Proctor",291,null,null,291,"(B) ALEX HANSON - [291]","()  - [0]","()  - [0]","()  - [0]",null,291,{"$f":"VLOOKUP(B117,Divisions!$P$4:$Q$95,2,FALSE)","v":2},null,0]
[52,"Minneapolis Northside Composite",280,null,null,280,"(B) FRANKIE ROQUE - [280]","()  - [0]","()  - [0]","()  - [0]",null,280,{"$f":"VLOOKUP(B118,Divisions!$P$4:$Q$95,2,FALSE)","v":2},null,0]
[53,"Minneapolis South High",270,null,null,270,"(B) HENRY HOLDSWORTH - [270]","()  - [0]","()  - [0]","()  - [0]",null,270,{"$f":"VLOOKUP(B119,Divisions!$P$4:$Q$95,2,FALSE)","v":2},null,0]
[54,"Bemidji Composite",0,null,null,0,"()  - [0]","()  - [0]","()  - [0]","()  - [0]",null,0,{"$f":"VLOOKUP(B120,Divisions!$P$4:$Q$95,2,FALSE)","v":2},null,0]
[55,"Duluth Composite",0,null,null,0,"()  - [0]","()  - [0]","()  - [0]","()  - [0]",null,0,{"$f":"VLOOKUP(B121,Divisions!$P$4:$Q$95,2,FALSE)","v":2},null,0]
[56,"Irondale High School",0,null,null,0,"()  - [0]","()  - [0]","()  - [0]","()  - [0]",null,0,{"$f":"VLOOKUP(B122,Divisions!$P$4:$Q$95,2,FALSE)","v":"NA2"},null,0]
[57,"Mankato Composite",0,null,null,0,"()  - [0]","()  - [0]","()  - [0]","()  - [0]",null,0,{"$f":"VLOOKUP(B123,Divisions!$P$4:$Q$95,2,FALSE)","v":2},null,0]
[58,"Mankato West High School",0,null,null,0,"()  - [0]","()  - [0]","()  - [0]","()  - [0]",null,0,{"$f":"VLOOKUP(B124,Divisions!$P$4:$Q$95,2,FALSE)","v":2},null,0]
[59,"Minneapolis Henry High School",0,null,null,0,"()  - [0]","()  - [0]","()  - [0]","()  - [0]",null,0,{"$f":"VLOOKUP(B125,Divisions!$P$4:$Q$95,2,FALSE)","v":2},null,0]
[60,"North Dakota Kindred Composite",0,null,null,0,"()  - [0]","()  - [0]","()  - [0]","()  - [0]",null,0,{"$f":"VLOOKUP(B126,Divisions!$P$4:$Q$95,2,FALSE)","v":2},null,0]
[61,"Spectrum High School",0,null,null,0,"()  - [0]","()  - [0]","()  - [0]","()  - [0]",null,0,{"$f":"VLOOKUP(B127,Divisions!$P$4:$Q$95,2,FALSE)","v":2},null,0]

{"sheet":"High School D1","index":5,"n_rows":60,"n_cols":19,"rows_kept":60,"cut":false,"hidden":false,"merged":[]}
["#","TEAM","Score",null,null,"New Total Score","P1","P2","P3","P4","P5","P6","P7","P8",null,"Get Numeric","DC"]
[1,"Alexandria Area Youth Cycling",{"$f":"TeamScore(B2,\"H\",8,MN_7_REDHEAD!$F$4:$F$1391,MN_7_REDHEAD!$G$4:$G$1391,MN_7_REDHEAD!$C$4:$C$1391)","v":3637},null,null,{"$f":"TeamScoreWithPlayers($B2,\"H\",8,MN_7_REDHEAD!$F$4:$F$1391,MN_7_REDHEAD!$E$4:$E$1391,MN_7_REDHEAD!$G$4:$G$1391,MN_7_REDHEAD!$C$4:$C$1391,\"TS\")","v":3637},{"$f":"TeamScoreWithPlayers($B2,\"H\",8,MN_7_REDHEAD!$F$4:$F$1391,MN_7_REDHEAD!$E$4:$E$1391,MN_7_REDHEAD!$G$4:$G$1391,MN_7_REDHEAD!$C$4:$C$1391,\"P1\")","v":"(B) LUKE WALSH - [579]"},{"$f":"TeamScoreWithPlayers($B2,\"H\",8,MN_7_REDHEAD!$F$4:$F$1391,MN_7_REDHEAD!$E$4:$E$1391,MN_7_REDHEAD!$G$4:$G$1391,MN_7_REDHEAD!$C$4:$C$1391,\"P2\")","v":"(G) TIAHNA GOEKE - [532]"},{"$f":"TeamScoreWithPlayers($B2,\"H\",8,MN_7_REDHEAD!$F$4:$F$1391,MN_7_REDHEAD!$E$4:$E$1391,MN_7_REDHEAD!$G$4:$G$1391,MN_7_REDHEAD!$C$4:$C$1391,\"P3\")","v":"(B) PARKER CONVERSE - [529]"},{"$f":"TeamScoreWithPlayers($B2,\"H\",8,MN_7_REDHEAD!$F$4:$F$1391,MN_7_REDHEAD!$E$4:$E$1391,MN_7_REDHEAD!$G$4:$G$1391,MN_7_REDHEAD!$C$4:$C$1391,\"P4\")","v":"(B) SAWYER FILIPIAK - [468]"},{"$f":"TeamScoreWithPlayers($B2,\"H\",8,MN_7_REDHEAD!$F$4:$F$1391,MN_7_REDHEAD!$E$4:$E$1391,MN_7_REDHEAD!$G$4:$G$1391,MN_7_REDHEAD!$C$4:$C$1391,\"P5\")","v":"(B) TYLER SIIRA - [419]"},{"$f":"TeamScoreWithPlayers($B2,\"H\",8,MN_7_REDHEAD!$F$4:$F$1391,MN_7_REDHEAD!$E$4:$E$1391,MN_7_REDHEAD!$G$4:$G$1391,MN_7_REDHEAD!$C$4:$C$1391,\"P6\")","v":"(B) TYLER FATH - [382]"},{"$f":"TeamScoreWithPlayers($B2,\"H\",8,MN_7_REDHEAD!$F$4:$F$1391,MN_7_REDHEAD!$E$4:$E$1391,MN_7_REDHEAD!$G$4:$G$1391,MN_7_REDHEAD!$C$4:$C$1391,\"P7\")","v":"(G) LACEY SIIRA - [369]"},{"$f":"TeamScoreWithPlayers($B2,\"H\",8,MN_7_REDHEAD!$F$4:$F$1391,MN_7_REDHEAD!$E$4:$E$1391,MN_7_REDHEAD!$G$4:$G$1391,MN_7_REDHEAD!$C$4:$C$1391,\"P8\")","v":"(B) SULLIVAN ROONEY - [359]"},null,{"$f":"getnumeric(G2)+getnumeric(H2)+getnumeric(I2)+getnumeric(J2)+getnumeric(K2)+getnumeric(L2)+getnumeric(M2)+getnumeric(N2)","v":3637},0,null,{"$f":"ABS(C2-F2)+ABS(F2-P2)+ABS(P2-Q2)","v":3637}]
[{"$f":"+A2+1","v":2},"Armstrong Cycle",{"$f":"TeamScore(B3,\"H\",8,MN_7_REDHEAD!$F$4:$F$1391,MN_7_REDHEAD!$G$4:$G$1391,MN_7_REDHEAD!$C$4:$C$1391)","v":2512},null,null,{"$f":"TeamScoreWithPlayers($B3,\"H\",8,MN_7_REDHEAD!$F$4:$F$1391,MN_7_REDHEAD!$E$4:$E$1391,MN_7_REDHEAD!$G$4:$G$1391,MN_7_REDHEAD!$C$4:$C$1391,\"TS\")","v":2512},{"$f":"TeamScoreWithPlayers($B3,\"H\",8,MN_7_REDHEAD!$F$4:$F$1391,MN_7_REDHEAD!$E$4:$E$1391,MN_7_REDHEAD!$G$4:$G$1391,MN_7_REDHEAD!$C$4:$C$1391,\"P1\")","v":"(G) ARYANNA SOMAIAH - [394]"},{"$f":"TeamScoreWithPlayers($B3,\"H\",8,MN_7_REDHEAD!$F$4:$F$1391,MN_7_REDHEAD!$E$4:$E$1391,MN_7_REDHEAD!$G$4:$G$1391,MN_7_REDHEAD!$C$4:$C$1391,\"P2\")","v":"(G) KYRA BEDNARZ - [338]"},{"$f":"TeamScoreWithPlayers($B3,\"H\",8,MN_7_REDHEAD!$F$4:$F$1391,MN_7_REDHEAD!$E$4:$E$1391,MN_7_REDHEAD!$G$4:$G$1391,MN_7_REDHEAD!$C$4:$C$1391,\"P3\")","v":"(B) KEEGAN GHANI - [322]"},{"$f":"TeamScoreWithPlayers($B3,\"H\",8,MN_7_REDHEAD!$F$4:$F$1391,MN_7_REDHEAD!$E$4:$E$1391,MN_7_REDHEAD!$G$4:$G$1391,MN_7_REDHEAD!$C$4:$C$1391,\"P4\")","v":"(G) CASSIDY SKARSTEN - [313]"},{"$f":"TeamScoreWithPlayers($B3,\"H\",8,MN_7_REDHEAD!$F$4:$F$1391,MN_7_REDHEAD!$E$4:$E$1391,MN_7_REDHEAD!$G$4:$G$1391,MN_7_REDHEAD!$C$4:$C$1391,\"P5\")","v":"(B) JUSTIN JOHNSON - [295]"},{"$f":"TeamScoreWithPlayers($B3,\"H\",8,MN_7_REDHEAD!$F$4:$F$1391,MN_7_REDHEAD!$E$4:$E$1391,MN_7_REDHEAD!$G$4:$G$1391,MN_7_REDHEAD!$C$4:$C$1391,\"P6\")","v":"(G) MEGAN SWANSON - [287]"},{"$f":"TeamScoreWithPlayers($B3,\"H\",8,MN_7_REDHEAD!$F$4:$F$1391,MN_7_REDHEAD!$E$4:$E$1391,MN_7_REDHEAD!$G$4:$G$1391,MN_7_REDHEAD!$C$4:$C$1391,\"P7\")","v":"(B) TRISTAN EHN - [283]"},{"$f":"TeamScoreWithPlayers($B3,\"H\",8,MN_7_REDHEAD!$F$4:$F$1391,MN_7_REDHEAD!$E$4:$E$1391,MN_7_REDHEAD!$G$4:$G$1391,MN_7_REDHEAD!$C$4:$C$1391,\"P8\")","v":"(B) KAI HAROLDSON - [280]"},null,2512,0,null,{"$f":"ABS(C3-F3)+ABS(F3-P3)+ABS(P3-Q3)","v":2512}]
[{"$f":"+A3+1","v":3},"Bloomington Jefferson",{"$f":"TeamScore(B4,\"H\",8,MN_7_REDHEAD!$F$4:$F$1391,MN_7_REDHEAD!$G$4:$G$1391,MN_7_REDHEAD!$C$4:$C$1391)","v":3951},null,null,{"$f":"TeamScoreWithPlayers($B4,\"H\",8,MN_7_REDHEAD!$F$4:$F$1391,MN_7_REDHEAD!$E$4:$E$1391,MN_7_REDHEAD!$G$4:$G$1391,MN_7_REDHEAD!$C$4:$C$1391,\"TS\")","v":3951},{"$f":"TeamScoreWithPlayers($B4,\"H\",8,MN_7_REDHEAD!$F$4:$F$1391,MN_7_REDHEAD!$E$4:$E$1391,MN_7_REDHEAD!$G$4:$G$1391,MN_7_REDHEAD!$C$4:$C$1391,\"P1\")","v":"(B) MAX FAHRMANN - [590]"},{"$f":"TeamScoreWithPlayers($B4,\"H\",8,MN_7_REDHEAD!$F$4:$F$1391,MN_7_REDHEAD!$E$4:$E$1391,MN_7_REDHEAD!$G$4:$G$1391,MN_7_REDHEAD!$C$4:$C$1391,\"P2\")","v":"(G) CAROLINE HAAG - [559]"},{"$f":"TeamScoreWithPlayers($B4,\"H\",8,MN_7_REDHEAD!$F$4:$F$1391,MN_7_REDHEAD!$E$4:$E$1391,MN_7_REDHEAD!$G$4:$G$1391,MN_7_REDHEAD!$C$4:$C$1391,\"P3\")","v":"(G) MEGAN SCHROOTEN - [541]"},{"$f":"TeamScoreWithPlayers($B4,\"H\",8,MN_7_REDHEAD!$F$4:$F$1391,MN_7_REDHEAD!$E$4:$E$1391,MN_7_REDHEAD!$G$4:$G$1391,MN_7_REDHEAD!$C$4:$C$1391,\"P4\")","v":"(B) GAVIN MAYHEW - [528]"},{"$f":"TeamScoreWithPlayers($B4,\"H\",8,MN_7_REDHEAD!$F$4:$F$1391,MN_7_REDHEAD!$E$4:$E$1391,MN_7_REDHEAD!$G$4:$G$1391,MN_7_REDHEAD!$C$4:$C$1391,\"P5\")","v":"(B) NOAH GUINEE - [514]"},{"$f":"TeamScoreWithPlayers($B4,\"H\",8,MN_7_REDHEAD!$F$4:$F$1391,MN_7_REDHEAD!$E$4:$E$1391,MN_7_REDHEAD!$G$4:$G$1391,MN_7_REDHEAD!$C$4:$C$1391,\"P6\")","v":"(B) ETHAN ISHAUG - [472]"},{"$f":"TeamScoreWithPlayers($B4,\"H\",8,MN_7_REDHEAD!$F$4:$F$1391,MN_7_REDHEAD!$E$4:$E$1391,MN_7_REDHEAD!$G$4:$G$1391,MN_7_REDHEAD!$C$4:$C$1391,\"P7\")","v":"(B) MCKEAN PEDERSEN - [425]"},{"$f":"TeamScoreWithPlayers($B4,\"H\",8,MN_7_REDHEAD!$F$4:$F$1391,MN_7_REDHEAD!$E$4:$E$1391,MN_7_REDHEAD!$G$4:$G$1391,MN_7_REDHEAD!$C$4:$C$1391,\"P8\")","v":"(G) OLIVE BURRES - [322]"},null,3951,0,null,3951]
[4,"Brainerd High School",{"$f":"TeamScore(B5,\"H\",8,MN_7_REDHEAD!$F$4:$F$1391,MN_7_REDHEAD!$G$4:$G$1391,MN_7_REDHEAD!$C$4:$C$1391)","v":3858},null,null,{"$f":"TeamScoreWithPlayers($B5,\"H\",8,MN_7_REDHEAD!$F$4:$F$1391,MN_7_REDHEAD!$E$4:$E$1391,MN_7_REDHEAD!$G$4:$G$1391,MN_7_REDHEAD!$C$4:$C$1391,\"TS\")","v":3858},{"$f":"TeamScoreWithPlayers($B5,\"H\",8,MN_7_REDHEAD!$F$4:$F$1391,MN_7_REDHEAD!$E$4:$E$1391,MN_7_REDHEAD!$G$4:$G$1391,MN_7_REDHEAD!$C$4:$C$1391,\"P1\")","v":"(G) ADDIE RYAN - [576]"},{"$f":"TeamScoreWithPlayers($B5,\"H\",8,MN_7_REDHEAD!$F$4:$F$1391,MN_7_REDHEAD!$E$4:$E$1391,MN_7_REDHEAD!$G$4:$G$1391,MN_7_REDHEAD!$C$4:$C$1391,\"P2\")","v":"(B) WILL THOMES - [559]"},{"$f":"TeamScoreWithPlayers($B5,\"H\",8,MN_7_REDHEAD!$F$4:$F$1391,MN_7_REDHEAD!$E$4:$E$1391,MN_7_REDHEAD!$G$4:$G$1391,MN_7_REDHEAD!$C$4:$C$1391,\"P3\")","v":"(B) HAYDEN HAGEN - [551]"},{"$f":"TeamScoreWithPlayers($B5,\"H\",8,MN_7_REDHEAD!$F$4:$F$1391,MN_7_REDHEAD!$E$4:$E$1391,MN_7_REDHEAD!$G$4:$G$1391,MN_7_REDHEAD!$C$4:$C$1391,\"P4\")","v":"(B) ARRON LOCKWOOD - [476]"},{"$f":"TeamScoreWithPlayers($B5,\"H\",8,MN_7_REDHEAD!$F$4:$F$1391,MN_7_REDHEAD!$E$4:$E$1391,MN_7_REDHEAD!$G$4:$G$1391,MN_7_REDHEAD!$C$4:$C$1391,\"P5\")","v":"(B) BISHOP NOETZEL - [460]"},{"$f":"TeamScoreWithPlayers($B5,\"H\",8,MN_7_REDHEAD!$F$4:$F$1391,MN_7_REDHEAD!$E$4:$E$1391,MN_7_REDHEAD!$G$4:$G$1391,MN_7_REDHEAD!$C$4:$C$1391,\"P6\")","v":"(G) STELLA HAGEN - [424]"},{"$f":"TeamScoreWithPlayers($B5,\"H\",8,MN_7_REDHEAD!$F$4:$F$1391,MN_7_REDHEAD!$E$4:$E$1391,MN_7_REDHEAD!$G$4:$G$1391,MN_7_REDHEAD!$C$4:$C$1391,\"P7\")","v":"(G) ISABELLE SMITH - [407]"},{"$f":"TeamScoreWithPlayers($B5,\"H\",8,MN_7_REDHEAD!$F$4:$F$1391,MN_7_REDHEAD!$E$4:$E$1391,MN_7_REDHEAD!$G$4:$G$1391,MN_7_REDHEAD!$C$4:$C$1391,\"P8\")","v":"(B) PARKER LINN - [405]"},null,3858,0,null,3858]
[5,"Burnsville High School",{"$f":"TeamScore(B6,\"H\",8,MN_7_REDHEAD!$F$4:$F$1391,MN_7_REDHEAD!$G$4:$G$1391,MN_7_REDHEAD!$C$4:$C$1391)","v":3528},null,null,{"$f":"TeamScoreWithPlayers($B6,\"H\",8,MN_7_REDHEAD!$F$4:$F$1391,MN_7_REDHEAD!$E$4:$E$1391,MN_7_REDHEAD!$G$4:$G$1391,MN_7_REDHEAD!$C$4:$C$1391,\"TS\")","v":3528},{"$f":"TeamScoreWithPlayers($B6,\"H\",8,MN_7_REDHEAD!$F$4:$F$1391,MN_7_REDHEAD!$E$4:$E$1391,MN_7_REDHEAD!$G$4:$G$1391,MN_7_REDHEAD!$C$4:$C$1391,\"P1\")","v":"(G) MAISY SCHEUNEMAN - [543]"},{"$f":"TeamScoreWithPlayers($B6,\"H\",8,MN_7_REDHEAD!$F$4:$F$1391,MN_7_REDHEAD!$E$4:$E$1391,MN_7_REDHEAD!$G$4:$G$1391,MN_7_REDHEAD!$C$4:$C$1391,\"P2\")","v":"(G) OLIVIA TILBURY - [507]"},{"$f":"TeamScoreWithPlayers($B6,\"H\",8,MN_7_REDHEAD!$F$4:$F$1391,MN_7_REDHEAD!$E$4:$E$1391,MN_7_REDHEAD!$G$4:$G$1391,MN_7_REDHEAD!$C$4:$C$1391,\"P3\")","v":"(B) AIDEN NICHOLAS - [470]"},{"$f":"TeamScoreWithPlayers($B6,\"H\",8,MN_7_REDHEAD!$F$4:$F$1391,MN_7_REDHEAD!$E$4:$E$1391,MN_7_REDHEAD!$G$4:$G$1391,MN_7_REDHEAD!$C$4:$C$1391,\"P4\")","v":"(G) ANNELISE METZGER - [432]"},{"$f":"TeamScoreWithPlayers($B6,\"H\",8,MN_7_REDHEAD!$F$4:$F$1391,MN_7_REDHEAD!$E$4:$E$1391,MN_7_REDHEAD!$G$4:$G$1391,MN_7_REDHEAD!$C$4:$C$1391,\"P5\")","v":"(B) WYATT PETERSON - [429]"},{"$f":"TeamScoreWithPlayers($B6,\"H\",8,MN_7_REDHEAD!$F$4:$F$1391,MN_7_REDHEAD!$E$4:$E$1391,MN_7_REDHEAD!$G$4:$G$1391,MN_7_REDHEAD!$C$4:$C$1391,\"P6\")","v":"(B) KADEN BOLDUC - [413]"},{"$f":"TeamScoreWithPlayers($B6,\"H\",8,MN_7_REDHEAD!$F$4:$F$1391,MN_7_REDHEAD!$E$4:$E$1391,MN_7_REDHEAD!$G$4:$G$1391,MN_7_REDHEAD!$C$4:$C$1391,\"P7\")","v":"(B) JOHN GOETTL - [370]"},{"$f":"TeamScoreWithPlayers($B6,\"H\",8,MN_7_REDHEAD!$F$4:$F$1391,MN_7_REDHEAD!$E$4:$E$1391,MN_7_REDHEAD!$G$4:$G$1391,MN_7_REDHEAD!$C$4:$C$1391,\"P8\")","v":"(G) GRETA DICKHAUSEN - [364]"},null,3528,0,null,3528]
[6,"Champlin Park High School",{"$f":"TeamScore(B7,\"H\",8,MN_7_REDHEAD!$F$4:$F$1391,MN_7_REDHEAD!$G$4:$G$1391,MN_7_REDHEAD!$C$4:$C$1391)","v":2248},null,null,{"$f":"TeamScoreWithPlayers($B7,\"H\",8,MN_7_REDHEAD!$F$4:$F$1391,MN_7_REDHEAD!$E$4:$E$1391,MN_7_REDHEAD!$G$4:$G$1391,MN_7_REDHEAD!$C$4:$C$1391,\"TS\")","v":2248},{"$f":"TeamScoreWithPlayers($B7,\"H\",8,MN_7_REDHEAD!$F$4:$F$1391,MN_7_REDHEAD!$E$4:$E$1391,MN_7_REDHEAD!$G$4:$G$1391,MN_7_REDHEAD!$C$4:$C$1391,\"P1\")","v":"(G) MARLIE RIETSCHEL - [419]"},{"$f":"TeamScoreWithPlayers($B7,\"H\",8,MN_7_REDHEAD!$F$4:$F$1391,MN_7_REDHEAD!$E$4:$E$1391,MN_7_REDHEAD!$G$4:$G$1391,MN_7_REDHEAD!$C$4:$C$1391,\"P2\")","v":"(B) DANE PAUL - [350]"},{"$f":"TeamScoreWithPlayers($B7,\"H\",8,MN_7_REDHEAD!$F$4:$F$1391,MN_7_REDHEAD!$E$4:$E$1391,MN_7_REDHEAD!$G$4:$G$1391,MN_7_REDHEAD!$C$4:$C$1391,\"P3\")","v":"(B) CARSON ANDERSON - [346]"},{"$f":"TeamScoreWithPlayers($B7,\"H\",8,MN_7_REDHEAD!$F$4:$F$1391,MN_7_REDHEAD!$E$4:$E$1391,MN_7_REDHEAD!$G$4:$G$1391,MN_7_REDHEAD!$C$4:$C$1391,\"P4\")","v":"(B) TREVOR EMERY - [293]"},{"$f":"TeamScoreWithPlayers($B7,\"H\",8,MN_7_REDHEAD!$F$4:$F$1391,MN_7_REDHEAD!$E$4:$E$1391,MN_7_REDHEAD!$G$4:$G$1391,MN_7_REDHEAD!$C$4:$C$1391,\"P5\")","v":"(B) COOPER HIGGINS - [289]"},{"$f":"TeamScoreWithPlayers($B7,\"H\",8,MN_7_REDHEAD!$F$4:$F$1391,MN_7_REDHEAD!$E$4:$E$1391,MN_7_REDHEAD!$G$4:$G$1391,MN_7_REDHEAD!$C$4:$C$1391,\"P6\")","v":"(B) GAVIN JOHNSON - [276]"},{"$f":"TeamScoreWithPlayers($B7,\"H\",8,MN_7_REDHEAD!$F$4:$F$1391,MN_7_REDHEAD!$E$4:$E$1391,MN_7_REDHEAD!$G$4:$G$1391,MN_7_REDHEAD!$C$4:$C$1391,\"P7\")","v":"(B) CHARLIE BLOCK - [275]"},{"$f":"TeamScoreWithPlayers($B7,\"H\",8,MN_7_REDHEAD!$F$4:$F$1391,MN_7_REDHEAD!$E$4:$E$1391,MN_7_REDHEAD!$G$4:$G$1391,MN_7_REDHEAD!$C$4:$C$1391,\"P8\")","v":"()  - [0]"},null,2248,0,null,2248]
[7,"Chanhassen High School",{"$f":"TeamScore(B8,\"H\",8,MN_7_REDHEAD!$F$4:$F$1391,MN_7_REDHEAD!$G$4:$G$1391,MN_7_REDHEAD!$C$4:$C$1391)","v":1781},null,null,{"$f":"TeamScoreWithPlayers($B8,\"H\",8,MN_7_REDHEAD!$F$4:$F$1391,MN_7_REDHEAD!$E$4:$E$1391,MN_7_REDHEAD!$G$4:$G$1391,MN_7_REDHEAD!$C$4:$C$1391,\"TS\")","v":1781},{"$f":"TeamScoreWithPlayers($B8,\"H\",8,MN_7_REDHEAD!$F$4:$F$1391,MN_7_REDHEAD!$E$4:$E$1391,MN_7_REDHEAD!$G$4:$G$1391,MN_7_REDHEAD!$C$4:$C$1391,\"P1\")","v":"(G) ZOE ANDERSON - [419]"},{"$f":"TeamScoreWithPlayers($B8,\"H\",8,MN_7_REDHEAD!$F$4:$F$1391,MN_7_REDHEAD!$E$4:$E$1391,MN_7_REDHEAD!$G$4:$G$1391,MN_7_REDHEAD!$C$4:$C$1391,\"P2\")","v":"(B) SETH KENNEDY - [376]"},{"$f":"TeamScoreWithPlayers($B8,\"H\",8,MN_7_REDHEAD!$F$4:$F$1391,MN_7_REDHEAD!$E$4:$E$1391,MN_7_REDHEAD!$G$4:$G$1391,MN_7_REDHEAD!$C$4:$C$1391,\"P3\")","v":"(B) CHARLES EVANGELISTA - [298]"},{"$f":"TeamScoreWithPlayers($B8,\"H\",8,MN_7_REDHEAD!$F$4:$F$1391,MN_7_REDHEAD!$E$4:$E$1391,MN_7_REDHEAD!$G$4:$G$1391,MN_7_REDHEAD!$C$4:$C$1391,\"P4\")","v":"(B) AYDEN FERREL - [258]"},{"$f":"TeamScoreWithPlayers($B8,\"H\",8,MN_7_REDHEAD!$F$4:$F$1391,MN_7_REDHEAD!$E$4:$E$1391,MN_7_REDHEAD!$G$4:$G$1391,MN_7_REDHEAD!$C$4:$C$1391,\"P5\")","v":"(B) MICAH SCHMIDT - [237]"},{"$f":"TeamScoreWithPlayers($B8,\"H\",8,MN_7_REDHEAD!$F$4:$F$1391,MN_7_REDHEAD!$E$4:$E$1391,MN_7_REDHEAD!$G$4:$G$1391,MN_7_REDHEAD!$C$4:$C$1391,\"P6\")","v":"(B) CHARLIE WENNERSTROM - [193]"},{"$f":"TeamScoreWithPlayers($B8,\"H\",8,MN_7_REDHEAD!$F$4:$F$1391,MN_7_REDHEAD!$E$4:$E$1391,MN_7_REDHEAD!$G$4:$G$1391,MN_7_REDHEAD!$C$4:$C$1391,\"P7\")","v":"()  - [0]"},{"$f":"TeamScoreWithPlayers($B8,\"H\",8,MN_7_REDHEAD!$F$4:$F$1391,MN_7_REDHEAD!$E$4:$E$1391,MN_7_REDHEAD!$G$4:$G$1391,MN_7_REDHEAD!$C$4:$C$1391,\"P8\")","v":"()  - [0]"},null,1781,0,null,1781]
[8,"Chaska High School",{"$f":"TeamScore(B9,\"H\",8,MN_7_REDHEAD!$F$4:$F$1391,MN_7_REDHEAD!$G$4:$G$1391,MN_7_REDHEAD!$C$4:$C$1391)","v":2523},null,null,{"$f":"TeamScoreWithPlayers($B9,\"H\",8,MN_7_REDHEAD!$F$4:$F$1391,MN_7_REDHEAD!$E$4:$E$1391,MN_7_REDHEAD!$G$4:$G$1391,MN_7_REDHEAD!$C$4:$C$1391,\"TS\")","v":2523},{"$f":"TeamScoreWithPlayers($B9,\"H\",8,MN_7_REDHEAD!$F$4:$F$1391,MN_7_REDHEAD!$E$4:$E$1391,MN_7_REDHEAD!$G$4:$G$1391,MN_7_REDHEAD!$C$4:$C$1391,\"P1\")","v":"(G) GRACE ATTERSON - [521]"},{"$f":"TeamScoreWithPlayers($B9,\"H\",8,MN_7_REDHEAD!$F$4:$F$1391,MN_7_REDHEAD!$E$4:$E$1391,MN_7_REDHEAD!$G$4:$G$1391,MN_7_REDHEAD!$C$4:$C$1391,\"P2\")","v":"(B) GRANT ATTERSON - [519]"},{"$f":"TeamScoreWithPlayers($B9,\"H\",8,MN_7_REDHEAD!$F$4:$F$1391,MN_7_REDHEAD!$E$4:$E$1391,MN_7_REDHEAD!$G$4:$G$1391,MN_7_REDHEAD!$C$4:$C$1391,\"P3\")","v":"(B) XAVIER DEMARRE - [319]"},{"$f":"TeamScoreWithPlayers($B9,\"H\",8,MN_7_REDHEAD!$F$4:$F$1391,MN_7_REDHEAD!$E$4:$E$1391,MN_7_REDHEAD!$G$4:$G$1391,MN_7_REDHEAD!$C$4:$C$1391,\"P4\")","v":"(B) NATHAN OMAN - [307]"},{"$f":"TeamScoreWithPlayers($B9,\"H\",8,MN_7_REDHEAD!$F$4:$F$1391,MN_7_REDHEAD!$E$4:$E$1391,MN_7_REDHEAD!$G$4:$G$1391,MN_7_REDHEAD!$C$4:$C$1391,\"P5\")","v":"(B) DYLAN HENDERSON - [302]"},{"$f":"TeamScoreWithPlayers($B9,\"H\",8,MN_7_REDHEAD!$F$4:$F$1391,MN_7_REDHEAD!$E$4:$E$1391,MN_7_REDHEAD!$G$4:$G$1391,MN_7_REDHEAD!$C$4:$C$1391,\"P6\")","v":"(B) EVAN REINSCH - [281]"},{"$f":"TeamScoreWithPlayers($B9,\"H\",8,MN_7_REDHEAD!$F$4:$F$1391,MN_7_REDHEAD!$E$4:$E$1391,MN_7_REDHEAD!$G$4:$G$1391,MN_7_REDHEAD!$C$4:$C$1391,\"P7\")","v":"(B) GRANT KERFOOT - [274]"},{"$f":"TeamScoreWithPlayers($B9,\"H\",8,MN_7_REDHEAD!$F$4:$F$1391,MN_7_REDHEAD!$E$4:$E$1391,MN_7_REDHEAD!$G$4:$G$1391,MN_7_REDHEAD!$C$4:$C$1391,\"P8\")","v":"()  - [0]"},null,2523,0,null,2523]
[9,"Cloquet-Esko-Carlton",{"$f":"TeamScore(B10,\"H\",8,MN_7_REDHEAD!$F$4:$F$1391,MN_7_REDHEAD!$G$4:$G$1391,MN_7_REDHEAD!$C$4:$C$1391)","v":3943},null,null,{"$f":"TeamScoreWithPlayers($B10,\"H\",8,MN_7_REDHEAD!$F$4:$F$1391,MN_7_REDHEAD!$E$4:$E$1391,MN_7_REDHEAD!$G$4:$G$1391,MN_7_REDHEAD!$C$4:$C$1391,\"TS\")","v":3943},{"$f":"TeamScoreWithPlayers($B10,\"H\",8,MN_7_REDHEAD!$F$4:$F$1391,MN_7_REDHEAD!$E$4:$E$1391,MN_7_REDHEAD!$G$4:$G$1391,MN_7_REDHEAD!$C$4:$C$1391,\"P1\")","v":"(G) LAYLA HAGELIN - [585]"},{"$f":"TeamScoreWithPlayers($B10,\"H\",8,MN_7_REDHEAD!$F$4:$F$1391,MN_7_REDHEAD!$E$4:$E$1391,MN_7_REDHEAD!$G$4:$G$1391,MN_7_REDHEAD!$C$4:$C$1391,\"P2\")","v":"(B) EVAN ERSPAMER - [543]"},{"$f":"TeamScoreWithPlayers($B10,\"H\",8,MN_7_REDHEAD!$F$4:$F$1391,MN_7_REDHEAD!$E$4:$E$1391,MN_7_REDHEAD!$G$4:$G$1391,MN_7_REDHEAD!$C$4:$C$1391,\"P3\")","v":"(B) ETHAN LINDGREN - [524]"},{"$f":"TeamScoreWithPlayers($B10,\"H\",8,MN_7_REDHEAD!$F$4:$F$1391,MN_7_REDHEAD!$E$4:$E$1391,MN_7_REDHEAD!$G$4:$G$1391,MN_7_REDHEAD!$C$4:$C$1391,\"P4\")","v":"(G) ASPEN BERG - [492]"},{"$f":"TeamScoreWithPlayers($B10,\"H\",8,MN_7_REDHEAD!$F$4:$F$1391,MN_7_REDHEAD!$E$4:$E$1391,MN_7_REDHEAD!$G$4:$G$1391,MN_7_REDHEAD!$C$4:$C$1391,\"P5\")","v":"(B) MAX FOSTER - [465]"},{"$f":"TeamScoreWithPlayers($B10,\"H\",8,MN_7_REDHEAD!$F$4:$F$1391,MN_7_REDHEAD!$E$4:$E$1391,MN_7_REDHEAD!$G$4:$G$1391,MN_7_REDHEAD!$C$4:$C$1391,\"P6\")","v":"(B) JORDAN CHOPSKIE - [454]"},{"$f":"TeamScoreWithPlayers($B10,\"H\",8,MN_7_REDHEAD!$F$4:$F$1391,MN_7_REDHEAD!$E$4:$E$1391,MN_7_REDHEAD!$G$4:$G$1391,MN_7_REDHEAD!$C$4:$C$1391,\"P7\")","v":"(B) KAYLOR ADKINS - [441]"},{"$f":"TeamScoreWithPlayers($B10,\"H\",8,MN_7_REDHEAD!$F$4:$F$1391,MN_7_REDHEAD!$E$4:$E$1391,MN_7_REDHEAD!$G$4:$G$1391,MN_7_REDHEAD!$C$4:$C$1391,\"P8\")","v":"(G) ASHLEY SCHULTZ - [439]"},null,3943,0,null,3943]
[10,"Crosby-Ironton High School",{"$f":"TeamScore(B11,\"H\",8,MN_7_REDHEAD!$F$4:$F$1391,MN_7_REDHEAD!$G$4:$G$1391,MN_7_REDHEAD!$C$4:$C$1391)","v":3170},null,null,{"$f":"TeamScoreWithPlayers($B11,\"H\",8,MN_7_REDHEAD!$F$4:$F$1391,MN_7_REDHEAD!$E$4:$E$1391,MN_7_REDHEAD!$G$4:$G$1391,MN_7_REDHEAD!$C$4:$C$1391,\"TS\")","v":3170},{"$f":"TeamScoreWithPlayers($B11,\"H\",8,MN_7_REDHEAD!$F$4:$F$1391,MN_7_REDHEAD!$E$4:$E$1391,MN_7_REDHEAD!$G$4:$G$1391,MN_7_REDHEAD!$C$4:$C$1391,\"P1\")","v":"(G) AVA JOHNSON - [519]"},{"$f":"TeamScoreWithPlayers($B11,\"H\",8,MN_7_REDHEAD!$F$4:$F$1391,MN_7_REDHEAD!$E$4:$E$1391,MN_7_REDHEAD!$G$4:$G$1391,MN_7_REDHEAD!$C$4:$C$1391,\"P2\")","v":"(B) OSKAR NELSON - [501]"},{"$f":"TeamScoreWithPlayers($B11,\"H\",8,MN_7_REDHEAD!$F$4:$F$1391,MN_7_REDHEAD!$E$4:$E$1391,MN_7_REDHEAD!$G$4:$G$1391,MN_7_REDHEAD!$C$4:$C$1391,\"P3\")","v":"(B) FINN NELSON - [476]"},{"$f":"TeamScoreWithPlayers($B11,\"H\",8,MN_7_REDHEAD!$F$4:$F$1391,MN_7_REDHEAD!$E$4:$E$1391,MN_7_REDHEAD!$G$4:$G$1391,MN_7_REDHEAD!$C$4:$C$1391,\"P4\")","v":"(B) SAMUEL COUGHLIN - [447]"},{"$f":"TeamScoreWithPlayers($B11,\"H\",8,MN_7_REDHEAD!$F$4:$F$1391,MN_7_REDHEAD!$E$4:$E$1391,MN_7_REDHEAD!$G$4:$G$1391,MN_7_REDHEAD!$C$4:$C$1391,\"P5\")","v":"(B) COOPER CRAINE - [432]"},{"$f":"TeamScoreWithPlayers($B11,\"H\",8,MN_7_REDHEAD!$F$4:$F$1391,MN_7_REDHEAD!$E$4:$E$1391,MN_7_REDHEAD!$G$4:$G$1391,MN_7_REDHEAD!$C$4:$C$1391,\"P6\")","v":"(B) OLIVER TOFTNESS - [404]"},{"$f":"TeamScoreWithPlayers($B11,\"H\",8,MN_7_REDHEAD!$F$4:$F$1391,MN_7_REDHEAD!$E$4:$E$1391,MN_7_REDHEAD!$G$4:$G$1391,MN_7_REDHEAD!$C$4:$C$1391,\"P7\")","v":"(B) BRADLEY HACHEY - [391]"},{"$f":"TeamScoreWithPlayers($B11,\"H\",8,MN_7_REDHEAD!$F$4:$F$1391,MN_7_REDHEAD!$E$4:$E$1391,MN_7_REDHEAD!$G$4:$G$1391,MN_7_REDHEAD!$C$4:$C$1391,\"P8\")","v":"()  - [0]"},null,3170,0,null,3170]
[11,"Duluth East High School",{"$f":"TeamScore(B12,\"H\",8,MN_7_REDHEAD!$F$4:$F$1391,MN_7_REDHEAD!$G$4:$G$1391,MN_7_REDHEAD!$C$4:$C$1391)","v":4189},null,null,{"$f":"TeamScoreWithPlayers($B12,\"H\",8,MN_7_REDHEAD!$F$4:$F$1391,MN_7_REDHEAD!$E$4:$E$1391,MN_7_REDHEAD!$G$4:$G$1391,MN_7_REDHEAD!$C$4:$C$1391,\"TS\")","v":4189},{"$f":"TeamScoreWithPlayers($B12,\"H\",8,MN_7_REDHEAD!$F$4:$F$1391,MN_7_REDHEAD!$E$4:$E$1391,MN_7_REDHEAD!$G$4:$G$1391,MN_7_REDHEAD!$C$4:$C$1391,\"P1\")","v":"(G) LEAH COLEMAN - [594]"},{"$f":"TeamScoreWithPlayers($B12,\"H\",8,MN_7_REDHEAD!$F$4:$F$1391,MN_7_REDHEAD!$E$4:$E$1391,MN_7_REDHEAD!$G$4:$G$1391,MN_7_REDHEAD!$C$4:$C$1391,\"P2\")","v":"(G) PHOEBE LEEGE - [590]"},{"$f":"TeamScoreWithPlayers($B12,\"H\",8,MN_7_REDHEAD!$F$4:$F$1391,MN_7_REDHEAD!$E$4:$E$1391,MN_7_REDHEAD!$G$4:$G$1391,MN_7_REDHEAD!$C$4:$C$1391,\"P3\")","v":"(G) THEA KRAMER - [567]"},{"$f":"TeamScoreWithPlayers($B12,\"H\",8,MN_7_REDHEAD!$F$4:$F$1391,MN_7_REDHEAD!$E$4:$E$1391,MN_7_REDHEAD!$G$4:$G$1391,MN_7_REDHEAD!$C$4:$C$1391,\"P4\")","v":"(G) JOSEPHINE RYAN - [539]"},{"$f":"TeamScoreWithPlayers($B12,\"H\",8,MN_7_REDHEAD!$F$4:$F$1391,MN_7_REDHEAD!$E$4:$E$1391,MN_7_REDHEAD!$G$4:$G$1391,MN_7_REDHEAD!$C$4:$C$1391,\"P5\")","v":"(G) COURTNEY HISLOP - [508]"},{"$f":"TeamScoreWithPlayers($B12,\"H\",8,MN_7_REDHEAD!$F$4:$F$1391,MN_7_REDHEAD!$E$4:$E$1391,MN_7_REDHEAD!$G$4:$G$1391,MN_7_REDHEAD!$C$4:$C$1391,\"P6\")","v":"(G) CHARLI WORCESTER - [500]"},{"$f":"TeamScoreWithPlayers($B12,\"H\",8,MN_7_REDHEAD!$F$4:$F$1391,MN_7_REDHEAD!$E$4:$E$1391,MN_7_REDHEAD!$G$4:$G$1391,MN_7_REDHEAD!$C$4:$C$1391,\"P7\")","v":"(B) CARL MORSE - [482]"},{"$f":"TeamScoreWithPlayers($B12,\"H\",8,MN_7_REDHEAD!$F$4:$F$1391,MN_7_REDHEAD!$E$4:$E$1391,MN_7_REDHEAD!$G$4:$G$1391,MN_7_REDHEAD!$C$4:$C$1391,\"P8\")","v":"(B) RYE TRUITT - [409]"},null,4189,0,null,4189]
[12,"East Ridge High School",{"$f":"TeamScore(B13,\"H\",8,MN_7_REDHEAD!$F$4:$F$1391,MN_7_REDHEAD!$G$4:$G$1391,MN_7_REDHEAD!$C$4:$C$1391)","v":3294},null,null,{"$f":"TeamScoreWithPlayers($B13,\"H\",8,MN_7_REDHEAD!$F$4:$F$1391,MN_7_REDHEAD!$E$4:$E$1391,MN_7_REDHEAD!$G$4:$G$1391,MN_7_REDHEAD!$C$4:$C$1391,\"TS\")","v":3294},{"$f":"TeamScoreWithPlayers($B13,\"H\",8,MN_7_REDHEAD!$F$4:$F$1391,MN_7_REDHEAD!$E$4:$E$1391,MN_7_REDHEAD!$G$4:$G$1391,MN_7_REDHEAD!$C$4:$C$1391,\"P1\")","v":"(B) ERIC OIEN - [550]"},{"$f":"TeamScoreWithPlayers($B13,\"H\",8,MN_7_REDHEAD!$F$4:$F$1391,MN_7_REDHEAD!$E$4:$E$1391,MN_7_REDHEAD!$G$4:$G$1391,MN_7_REDHEAD!$C$4:$C$1391,\"P2\")","v":"(G) CLARA LANG - [476]"},{"$f":"TeamScoreWithPlayers($B13,\"H\",8,MN_7_REDHEAD!$F$4:$F$1391,MN_7_REDHEAD!$E$4:$E$1391,MN_7_REDHEAD!$G$4:$G$1391,MN_7_REDHEAD!$C$4:$C$1391,\"P3\")","v":"(B) IBAN DREVLOW - [453]"},{"$f":"TeamScoreWithPlayers($B13,\"H\",8,MN_7_REDHEAD!$F$4:$F$1391,MN_7_REDHEAD!$E$4:$E$1391,MN_7_REDHEAD!$G$4:$G$1391,MN_7_REDHEAD!$C$4:$C$1391,\"P4\")","v":"(B) POYRAZ OLGUN - [453]"},{"$f":"TeamScoreWithPlayers($B13,\"H\",8,MN_7_REDHEAD!$F$4:$F$1391,MN_7_REDHEAD!$E$4:$E$1391,MN_7_REDHEAD!$G$4:$G$1391,MN_7_REDHEAD!$C$4:$C$1391,\"P5\")","v":"(G) ELIN HARRISON - [378]"},{"$f":"TeamScoreWithPlayers($B13,\"H\",8,MN_7_REDHEAD!$F$4:$F$1391,MN_7_REDHEAD!$E$4:$E$1391,MN_7_REDHEAD!$G$4:$G$1391,MN_7_REDHEAD!$C$4:$C$1391,\"P6\")","v":"(G) ERIKA HARRISON - [370]"},{"$f":"TeamScoreWithPlayers($B13,\"H\",8,MN_7_REDHEAD!$F$4:$F$1391,MN_7_REDHEAD!$E$4:$E$1391,MN_7_REDHEAD!$G$4:$G$1391,MN_7_REDHEAD!$C$4:$C$1391,\"P7\")","v":"(B) JENS KULLMAN - [342]"},{"$f":"TeamScoreWithPlayers($B13,\"H\",8,MN_7_REDHEAD!$F$4:$F$1391,MN_7_REDHEAD!$E$4:$E$1391,MN_7_REDHEAD!$G$4:$G$1391,MN_7_REDHEAD!$C$4:$C$1391,\"P8\")","v":"(B) CRISTOBAL OSSANNA - [272]"},null,3294,0,null,3294]
[13,"Edina Cycling",{"$f":"TeamScore(B14,\"H\",8,MN_7_REDHEAD!$F$4:$F$1391,MN_7_REDHEAD!$G$4:$G$1391,MN_7_REDHEAD!$C$4:$C$1391)","v":4008},null,null,{"$f":"TeamScoreWithPlayers($B14,\"H\",8,MN_7_REDHEAD!$F$4:$F$1391,MN_7_REDHEAD!$E$4:$E$1391,MN_7_REDHEAD!$G$4:$G$1391,MN_7_REDHEAD!$C$4:$C$1391,\"TS\")","v":4008},{"$f":"TeamScoreWithPlayers($B14,\"H\",8,MN_7_REDHEAD!$F$4:$F$1391,MN_7_REDHEAD!$E$4:$E$1391,MN_7_REDHEAD!$G$4:$G$1391,MN_7_REDHEAD!$C$4:$C$1391,\"P1\")","v":"(G) ELIN HARTMANN - [625]"},{"$f":"TeamScoreWithPlayers($B14,\"H\",8,MN_7_REDHEAD!$F$4:$F$1391,MN_7_REDHEAD!$E$4:$E$1391,MN_7_REDHEAD!$G$4:$G$1391,MN_7_REDHEAD!$C$4:$C$1391,\"P2\")","v":"(G) ISABELLA MAZION - [604]"},{"$f":"TeamScoreWithPlayers($B14,\"H\",8,MN_7_REDHEAD!$F$4:$F$1391,MN_7_REDHEAD!$E$4:$E$1391,MN_7_REDHEAD!$G$4:$G$1391,MN_7_REDHEAD!$C$4:$C$1391,\"P3\")","v":"(B) ISAAC BELL - [541]"},{"$f":"TeamScoreWithPlayers($B14,\"H\",8,MN_7_REDHEAD!$F$4:$F$1391,MN_7_REDHEAD!$E$4:$E$1391,MN_7_REDHEAD!$G$4:$G$1391,MN_7_REDHEAD!$C$4:$C$1391,\"P4\")","v":"(B) LIAM GARNER - [493]"},{"$f":"TeamScoreWithPlayers($B14,\"H\",8,MN_7_REDHEAD!$F$4:$F$1391,MN_7_REDHEAD!$E$4:$E$1391,MN_7_REDHEAD!$G$4:$G$1391,MN_7_REDHEAD!$C$4:$C$1391,\"P5\")","v":"(B) COOPER AUSTIN - [492]"},{"$f":"TeamScoreWithPlayers($B14,\"H\",8,MN_7_REDHEAD!$F$4:$F$1391,MN_7_REDHEAD!$E$4:$E$1391,MN_7_REDHEAD!$G$4:$G$1391,MN_7_REDHEAD!$C$4:$C$1391,\"P6\")","v":"(B) GRIFFIN NELSON - [476]"},{"$f":"TeamScoreWithPlayers($B14,\"H\",8,MN_7_REDHEAD!$F$4:$F$1391,MN_7_REDHEAD!$E$4:$E$1391,MN_7_REDHEAD!$G$4:$G$1391,MN_7_REDHEAD!$C$4:$C$1391,\"P7\")","v":"(B) GEORGE SILL - [407]"},{"$f":"TeamScoreWithPlayers($B14,\"H\",8,MN_7_REDHEAD!$F$4:$F$1391,MN_7_REDHEAD!$E$4:$E$1391,MN_7_REDHEAD!$G$4:$G$1391,MN_7_REDHEAD!$C$4:$C$1391,\"P8\")","v":"(B) ANDREW HARTMANN - [370]"},null,4008,0,null,4008]
[14,"Hopkins High School",{"$f":"TeamScore(B15,\"H\",8,MN_7_REDHEAD!$F$4:$F$1391,MN_7_REDHEAD!$G$4:$G$1391,MN_7_REDHEAD!$C$4:$C$1391)","v":4108},null,null,{"$f":"TeamScoreWithPlayers($B15,\"H\",8,MN_7_REDHEAD!$F$4:$F$1391,MN_7_REDHEAD!$E$4:$E$1391,MN_7_REDHEAD!$G$4:$G$1391,MN_7_REDHEAD!$C$4:$C$1391,\"TS\")","v":4108},{"$f":"TeamScoreWithPlayers($B15,\"H\",8,MN_7_REDHEAD!$F$4:$F$1391,MN_7_REDHEAD!$E$4:$E$1391,MN_7_REDHEAD!$G$4:$G$1391,MN_7_REDHEAD!$C$4:$C$1391,\"P1\")","v":"(G) COURTNEY WEBER - [550]"},{"$f":"TeamScoreWithPlayers($B15,\"H\",8,MN_7_REDHEAD!$F$4:$F$1391,MN_7_REDHEAD!$E$4:$E$1391,MN_7_REDHEAD!$G$4:$G$1391,MN_7_REDHEAD!$C$4:$C$1391,\"P2\")","v":"(G) ISABELLE MAYER - [539]"},{"$f":"TeamScoreWithPlayers($B15,\"H\",8,MN_7_REDHEAD!$F$4:$F$1391,MN_7_REDHEAD!$E$4:$E$1391,MN_7_REDHEAD!$G$4:$G$1391,MN_7_REDHEAD!$C$4:$C$1391,\"P3\")","v":"(B) RAVONTE KRIEGLER - [529]"},{"$f":"TeamScoreWithPlayers($B15,\"H\",8,MN_7_REDHEAD!$F$4:$F$1391,MN_7_REDHEAD!$E$4:$E$1391,MN_7_REDHEAD!$G$4:$G$1391,MN_7_REDHEAD!$C$4:$C$1391,\"P4\")","v":"(G) STELLA HUSETH - [519]"},{"$f":"TeamScoreWithPlayers($B15,\"H\",8,MN_7_REDHEAD!$F$4:$F$1391,MN_7_REDHEAD!$E$4:$E$1391,MN_7_REDHEAD!$G$4:$G$1391,MN_7_REDHEAD!$C$4:$C$1391,\"P5\")","v":"(G) HAYDEN MIELKE - [510]"},{"$f":"TeamScoreWithPlayers($B15,\"H\",8,MN_7_REDHEAD!$F$4:$F$1391,MN_7_REDHEAD!$E$4:$E$1391,MN_7_REDHEAD!$G$4:$G$1391,MN_7_REDHEAD!$C$4:$C$1391,\"P6\")","v":"(B) SILAS JOHNSON - [510]"},{"$f":"TeamScoreWithPlayers($B15,\"H\",8,MN_7_REDHEAD!$F$4:$F$1391,MN_7_REDHEAD!$E$4:$E$1391,MN_7_REDHEAD!$G$4:$G$1391,MN_7_REDHEAD!$C$4:$C$1391,\"P7\")","v":"(B) TRISTAN SMITH - [492]"},{"$f":"TeamScoreWithPlayers($B15,\"H\",8,MN_7_REDHEAD!$F$4:$F$1391,MN_7_REDHEAD!$E$4:$E$1391,MN_7_REDHEAD!$G$4:$G$1391,MN_7_REDHEAD!$C$4:$C$1391,\"P8\")","v":"(B) OSCAR TIX - [459]"},null,4108,0,null,4108]
[15,"Lakeville North High School",{"$f":"TeamScore(B16,\"H\",8,MN_7_REDHEAD!$F$4:$F$1391,MN_7_REDHEAD!$G$4:$G$1391,MN_7_REDHEAD!$C$4:$C$1391)","v":2925},null,null,{"$f":"TeamScoreWithPlayers($B16,\"H\",8,MN_7_REDHEAD!$F$4:$F$1391,MN_7_REDHEAD!$E$4:$E$1391,MN_7_REDHEAD!$G$4:$G$1391,MN_7_REDHEAD!$C$4:$C$1391,\"TS\")","v":2925},{"$f":"TeamScoreWithPlayers($B16,\"H\",8,MN_7_REDHEAD!$F$4:$F$1391,MN_7_REDHEAD!$E$4:$E$1391,MN_7_REDHEAD!$G$4:$G$1391,MN_7_REDHEAD!$C$4:$C$1391,\"P1\")","v":"(B) ROWAN HALL - [567]"},{"$f":"TeamScoreWithPlayers($B16,\"H\",8,MN_7_REDHEAD!$F$4:$F$1391,MN_7_REDHEAD!$E$4:$E$1391,MN_7_REDHEAD!$G$4:$G$1391,MN_7_REDHEAD!$C$4:$C$1391,\"P2\")","v":"(B) EDWARD BROOKHART - [501]"},{"$f":"TeamScoreWithPlayers($B16,\"H\",8,MN_7_REDHEAD!$F$4:$F$1391,MN_7_REDHEAD!$E$4:$E$1391,MN_7_REDHEAD!$G$4:$G$1391,MN_7_REDHEAD!$C$4:$C$1391,\"P3\")","v":"(B) JACK JUFFER - [460]"},{"$f":"TeamScoreWithPlayers($B16,\"H\",8,MN_7_REDHEAD!$F$4:$F$1391,MN_7_REDHEAD!$E$4:$E$1391,MN_7_REDHEAD!$G$4:$G$1391,MN_7_REDHEAD!$C$4:$C$1391,\"P4\")","v":"(B) CARSON HALL - [425]"},{"$f":"TeamScoreWithPlayers($B16,\"H\",8,MN_7_REDHEAD!$F$4:$F$1391,MN_7_REDHEAD!$E$4:$E$1391,MN_7_REDHEAD!$G$4:$G$1391,MN_7_REDHEAD!$C$4:$C$1391,\"P5\")","v":"(B) HAYDEN ZOLL - [373]"},{"$f":"TeamScoreWithPlayers($B16,\"H\",8,MN_7_REDHEAD!$F$4:$F$1391,MN_7_REDHEAD!$E$4:$E$1391,MN_7_REDHEAD!$G$4:$G$1391,MN_7_REDHEAD!$C$4:$C$1391,\"P6\")","v":"(G) SOPHIA PEDERSEN - [307]"},{"$f":"TeamScoreWithPlayers($B16,\"H\",8,MN_7_REDHEAD!$F$4:$F$1391,MN_7_REDHEAD!$E$4:$E$1391,MN_7_REDHEAD!$G$4:$G$1391,MN_7_REDHEAD!$C$4:$C$1391,\"P7\")","v":"(B) KAMERON JAENICKE - [292]"},{"$f":"TeamScoreWithPlayers($B16,\"H\",8,MN_7_REDHEAD!$F$4:$F$1391,MN_7_REDHEAD!$E$4:$E$1391,MN_7_REDHEAD!$G$4:$G$1391,MN_7_REDHEAD!$C$4:$C$1391,\"P8\")","v":"()  - [0]"},null,2925,0,null,2925]
[16,"Minneapolis Southwest",{"$f":"TeamScore(B17,\"H\",8,MN_7_REDHEAD!$F$4:$F$1391,MN_7_REDHEAD!$G$4:$G$1391,MN_7_REDHEAD!$C$4:$C$1391)","v":3122},null,null,{"$f":"TeamScoreWithPlayers($B17,\"H\",8,MN_7_REDHEAD!$F$4:$F$1391,MN_7_REDHEAD!$E$4:$E$1391,MN_7_REDHEAD!$G$4:$G$1391,MN_7_REDHEAD!$C$4:$C$1391,\"TS\")","v":3122},{"$f":"TeamScoreWithPlayers($B17,\"H\",8,MN_7_REDHEAD!$F$4:$F$1391,MN_7_REDHEAD!$E$4:$E$1391,MN_7_REDHEAD!$G$4:$G$1391,MN_7_REDHEAD!$C$4:$C$1391,\"P1\")","v":"(B) KADIN BLACK - [532]"},{"$f":"TeamScoreWithPlayers($B17,\"H\",8,MN_7_REDHEAD!$F$4:$F$1391,MN_7_REDHEAD!$E$4:$E$1391,MN_7_REDHEAD!$G$4:$G$1391,MN_7_REDHEAD!$C$4:$C$1391,\"P2\")","v":"(B) EMMETT KEPLER - [417]"},{"$f":"TeamScoreWithPlayers($B17,\"H\",8,MN_7_REDHEAD!$F$4:$F$1391,MN_7_REDHEAD!$E$4:$E$1391,MN_7_REDHEAD!$G$4:$G$1391,MN_7_REDHEAD!$C$4:$C$1391,\"P3\")","v":"(B) JOEL TIBBS - [382]"},{"$f":"TeamScoreWithPlayers($B17,\"H\",8,MN_7_REDHEAD!$F$4:$F$1391,MN_7_REDHEAD!$E$4:$E$1391,MN_7_REDHEAD!$G$4:$G$1391,MN_7_REDHEAD!$C$4:$C$1391,\"P4\")","v":"(G) ELLA MAKOSKY - [379]"},{"$f":"TeamScoreWithPlayers($B17,\"H\",8,MN_7_REDHEAD!$F$4:$F$1391,MN_7_REDHEAD!$E$4:$E$1391,MN_7_REDHEAD!$G$4:$G$1391,MN_7_REDHEAD!$C$4:$C$1391,\"P5\")","v":"(G) AVA WISE - [366]"},{"$f":"TeamScoreWithPlayers($B17,\"H\",8,MN_7_REDHEAD!$F$4:$F$1391,MN_7_REDHEAD!$E$4:$E$1391,MN_7_REDHEAD!$G$4:$G$1391,MN_7_REDHEAD!$C$4:$C$1391,\"P6\")","v":"(B) PARKER HUNT - [364]"},{"$f":"TeamScoreWithPlayers($B17,\"H\",8,MN_7_REDHEAD!$F$4:$F$1391,MN_7_REDHEAD!$E$4:$E$1391,MN_7_REDHEAD!$G$4:$G$1391,MN_7_REDHEAD!$C$4:$C$1391,\"P7\")","v":"(B) BEN MIMICK - [344]"},{"$f":"TeamScoreWithPlayers($B17,\"H\",8,MN_7_REDHEAD!$F$4:$F$1391,MN_7_REDHEAD!$E$4:$E$1391,MN_7_REDHEAD!$G$4:$G$1391,MN_7_REDHEAD!$C$4:$C$1391,\"P8\")","v":"(B) MASON EBERLY - [338]"},null,3122,0,null,3122]
[17,"Minnetonka High School",{"$f":"TeamScore(B18,\"H\",8,MN_7_REDHEAD!$F$4:$F$1391,MN_7_REDHEAD!$G$4:$G$1391,MN_7_REDHEAD!$C$4:$C$1391)","v":4063},null,null,{"$f":"TeamScoreWithPlayers($B18,\"H\",8,MN_7_REDHEAD!$F$4:$F$1391,MN_7_REDHEAD!$E$4:$E$1391,MN_7_REDHEAD!$G$4:$G$1391,MN_7_REDHEAD!$C$4:$C$1391,\"TS\")","v":4063},{"$f":"TeamScoreWithPlayers($B18,\"H\",8,MN_7_REDHEAD!$F$4:$F$1391,MN_7_REDHEAD!$E$4:$E$1391,MN_7_REDHEAD!$G$4:$G$1391,MN_7_REDHEAD!$C$4:$C$1391,\"P1\")","v":"(B) MORGAN HENDRICKS - [594]"},{"$f":"TeamScoreWithPlayers($B18,\"H\",8,MN_7_REDHEAD!$F$4:$F$1391,MN_7_REDHEAD!$E$4:$E$1391,MN_7_REDHEAD!$G$4:$G$1391,MN_7_REDHEAD!$C$4:$C$1391,\"P2\")","v":"(G) SHELBY STOBBE - [551]"},{"$f":"TeamScoreWithPlayers($B18,\"H\",8,MN_7_REDHEAD!$F$4:$F$1391,MN_7_REDHEAD!$E$4:$E$1391,MN_7_REDHEAD!$G$4:$G$1391,MN_7_REDHEAD!$C$4:$C$1391,\"P3\")","v":"(G) EVIE MALEC - [550]"},{"$f":"TeamScoreWithPlayers($B18,\"H\",8,MN_7_REDHEAD!$F$4:$F$1391,MN_7_REDHEAD!$E$4:$E$1391,MN_7_REDHEAD!$G$4:$G$1391,MN_7_REDHEAD!$C$4:$C$1391,\"P4\")","v":"(B) JACK MALEC - [550]"},{"$f":"TeamScoreWithPlayers($B18,\"H\",8,MN_7_REDHEAD!$F$4:$F$1391,MN_7_REDHEAD!$E$4:$E$1391,MN_7_REDHEAD!$G$4:$G$1391,MN_7_REDHEAD!$C$4:$C$1391,\"P5\")","v":"(G) BETHANY ANDERSON - [529]"},{"$f":"TeamScoreWithPlayers($B18,\"H\",8,MN_7_REDHEAD!$F$4:$F$1391,MN_7_REDHEAD!$E$4:$E$1391,MN_7_REDHEAD!$G$4:$G$1391,MN_7_REDHEAD!$C$4:$C$1391,\"P6\")","v":"(B) LUCAS SYLVESTER - [510]"},{"$f":"TeamScoreWithPlayers($B18,\"H\",8,MN_7_REDHEAD!$F$4:$F$1391,MN_7_REDHEAD!$E$4:$E$1391,MN_7_REDHEAD!$G$4:$G$1391,MN_7_REDHEAD!$C$4:$C$1391,\"P7\")","v":"(G) ADDISON ALEMAN - [395]"},{"$f":"TeamScoreWithPlayers($B18,\"H\",8,MN_7_REDHEAD!$F$4:$F$1391,MN_7_REDHEAD!$E$4:$E$1391,MN_7_REDHEAD!$G$4:$G$1391,MN_7_REDHEAD!$C$4:$C$1391,\"P8\")","v":"(G) LYDIA STEVENSON - [384]"},null,4063,0,null,4063]
[18,"Mounds View High School",{"$f":"TeamScore(B19,\"H\",8,MN_7_REDHEAD!$F$4:$F$1391,MN_7_REDHEAD!$G$4:$G$1391,MN_7_REDHEAD!$C$4:$C$1391)","v":3368},null,null,{"$f":"TeamScoreWithPlayers($B19,\"H\",8,MN_7_REDHEAD!$F$4:$F$1391,MN_7_REDHEAD!$E$4:$E$1391,MN_7_REDHEAD!$G$4:$G$1391,MN_7_REDHEAD!$C$4:$C$1391,\"TS\")","v":3368},{"$f":"TeamScoreWithPlayers($B19,\"H\",8,MN_7_REDHEAD!$F$4:$F$1391,MN_7_REDHEAD!$E$4:$E$1391,MN_7_REDHEAD!$G$4:$G$1391,MN_7_REDHEAD!$C$4:$C$1391,\"P1\")","v":"(G) MADELINE DORNFELD - [501]"},{"$f":"TeamScoreWithPlayers($B19,\"H\",8,MN_7_REDHEAD!$F$4:$F$1391,MN_7_REDHEAD!$E$4:$E$1391,MN_7_REDHEAD!$G$4:$G$1391,MN_7_REDHEAD!$C$4:$C$1391,\"P2\")","v":"(G) ESME NEEDHAM - [446]"},{"$f":"TeamScoreWithPlayers($B19,\"H\",8,MN_7_REDHEAD!$F$4:$F$1391,MN_7_REDHEAD!$E$4:$E$1391,MN_7_REDHEAD!$G$4:$G$1391,MN_7_REDHEAD!$C$4:$C$1391,\"P3\")","v":"(B) ANDREW ROLOFF - [446]"},{"$f":"TeamScoreWithPlayers($B19,\"H\",8,MN_7_REDHEAD!$F$4:$F$1391,MN_7_REDHEAD!$E$4:$E$1391,MN_7_REDHEAD!$G$4:$G$1391,MN_7_REDHEAD!$C$4:$C$1391,\"P4\")","v":"(B) CORBAN CARLSON - [439]"},{"$f":"TeamScoreWithPlayers($B19,\"H\",8,MN_7_REDHEAD!$F$4:$F$1391,MN_7_REDHEAD!$E$4:$E$1391,MN_7_REDHEAD!$G$4:$G$1391,MN_7_REDHEAD!$C$4:$C$1391,\"P5\")","v":"(B) ANTONIN KOSTAL - [419]"},{"$f":"TeamScoreWithPlayers($B19,\"H\",8,MN_7_REDHEAD!$F$4:$F$1391,MN_7_REDHEAD!$E$4:$E$1391,MN_7_REDHEAD!$G$4:$G$1391,MN_7_REDHEAD!$C$4:$C$1391,\"P6\")","v":"(G) KATERINA KOSTAL - [413]"},{"$f":"TeamScoreWithPlayers($B19,\"H\",8,MN_7_REDHEAD!$F$4:$F$1391,MN_7_REDHEAD!$E$4:$E$1391,MN_7_REDHEAD!$G$4:$G$1391,MN_7_REDHEAD!$C$4:$C$1391,\"P7\")","v":"(G) KAMDYN KAREL - [354]"},{"$f":"TeamScoreWithPlayers($B19,\"H\",8,MN_7_REDHEAD!$F$4:$F$1391,MN_7_REDHEAD!$E$4:$E$1391,MN_7_REDHEAD!$G$4:$G$1391,MN_7_REDHEAD!$C$4:$C$1391,\"P8\")","v":"(G) PAULINA MCCULLOUGH - [350]"},null,3368,0,null,3368]
[19,"New Prague Middle and High School",{"$f":"TeamScore(B20,\"H\",8,MN_7_REDHEAD!$F$4:$F$1391,MN_7_REDHEAD!$G$4:$G$1391,MN_7_REDHEAD!$C$4:$C$1391)","v":3376},null,null,{"$f":"TeamScoreWithPlayers($B20,\"H\",8,MN_7_REDHEAD!$F$4:$F$1391,MN_7_REDHEAD!$E$4:$E$1391,MN_7_REDHEAD!$G$4:$G$1391,MN_7_REDHEAD!$C$4:$C$1391,\"TS\")","v":3376},{"$f":"TeamScoreWithPlayers($B20,\"H\",8,MN_7_REDHEAD!$F$4:$F$1391,MN_7_REDHEAD!$E$4:$E$1391,MN_7_REDHEAD!$G$4:$G$1391,MN_7_REDHEAD!$C$4:$C$1391,\"P1\")","v":"(B) AIDAN ROSEMEIER - [585]"},{"$f":"TeamScoreWithPlayers($B20,\"H\",8,MN_7_REDHEAD!$F$4:$F$1391,MN_7_REDHEAD!$E$4:$E$1391,MN_7_REDHEAD!$G$4:$G$1391,MN_7_REDHEAD!$C$4:$C$1391,\"P2\")","v":"(G) SELAH SCHERMAN - [500]"},{"$f":"TeamScoreWithPlayers($B20,\"H\",8,MN_7_REDHEAD!$F$4:$F$1391,MN_7_REDHEAD!$E$4:$E$1391,MN_7_REDHEAD!$G$4:$G$1391,MN_7_REDHEAD!$C$4:$C$1391,\"P3\")","v":"(G) SOPHIA METZDORFF - [435]"},{"$f":"TeamScoreWithPlayers($B20,\"H\",8,MN_7_REDHEAD!$F$4:$F$1391,MN_7_REDHEAD!$E$4:$E$1391,MN_7_REDHEAD!$G$4:$G$1391,MN_7_REDHEAD!$C$4:$C$1391,\"P4\")","v":"(G) ADDISON RIDGEWAY - [395]"},{"$f":"TeamScoreWithPlayers($B20,\"H\",8,MN_7_REDHEAD!$F$4:$F$1391,MN_7_REDHEAD!$E$4:$E$1391,MN_7_REDHEAD!$G$4:$G$1391,MN_7_REDHEAD!$C$4:$C$1391,\"P5\")","v":"(B) JEREMIAH STUBER - [379]"},{"$f":"TeamScoreWithPlayers($B20,\"H\",8,MN_7_REDHEAD!$F$4:$F$1391,MN_7_REDHEAD!$E$4:$E$1391,MN_7_REDHEAD!$G$4:$G$1391,MN_7_REDHEAD!$C$4:$C$1391,\"P6\")","v":"(B) GARRETT TOBIAS - [374]"},{"$f":"TeamScoreWithPlayers($B20,\"H\",8,MN_7_REDHEAD!$F$4:$F$1391,MN_7_REDHEAD!$E$4:$E$1391,MN_7_REDHEAD!$G$4:$G$1391,MN_7_REDHEAD!$C$4:$C$1391,\"P7\")","v":"(B) RILEY HUSEBY - [366]"},{"$f":"TeamScoreWithPlayers($B20,\"H\",8,MN_7_REDHEAD!$F$4:$F$1391,MN_7_REDHEAD!$E$4:$E$1391,MN_7_REDHEAD!$G$4:$G$1391,MN_7_REDHEAD!$C$4:$C$1391,\"P8\")","v":"(G) TEVA FEIT - [342]"},null,3376,0,null,3376]
[20,"Prior Lake High School",{"$f":"TeamScore(B21,\"H\",8,MN_7_REDHEAD!$F$4:$F$1391,MN_7_REDHEAD!$G$4:$G$1391,MN_7_REDHEAD!$C$4:$C$1391)","v":3336},null,null,{"$f":"TeamScoreWithPlayers($B21,\"H\",8,MN_7_REDHEAD!$F$4:$F$1391,MN_7_REDHEAD!$E$4:$E$1391,MN_7_REDHEAD!$G$4:$G$1391,MN_7_REDHEAD!$C$4:$C$1391,\"TS\")","v":3336},{"$f":"TeamScoreWithPlayers($B21,\"H\",8,MN_7_REDHEAD!$F$4:$F$1391,MN_7_REDHEAD!$E$4:$E$1391,MN_7_REDHEAD!$G$4:$G$1391,MN_7_REDHEAD!$C$4:$C$1391,\"P1\")","v":"(B) BRADEN ERDAHL - [519]"},{"$f":"TeamScoreWithPlayers($B21,\"H\",8,MN_7_REDHEAD!$F$4:$F$1391,MN_7_REDHEAD!$E$4:$E$1391,MN_7_REDHEAD!$G$4:$G$1391,MN_7_REDHEAD!$C$4:$C$1391,\"P2\")","v":"(B) ALEX KRAWZA - [444]"},{"$f":"TeamScoreWithPlayers($B21,\"H\",8,MN_7_REDHEAD!$F$4:$F$1391,MN_7_REDHEAD!$E$4:$E$1391,MN_7_REDHEAD!$G$4:$G$1391,MN_7_REDHEAD!$C$4:$C$1391,\"P3\")","v":"(B) TEGAN MOORE - [425]"},{"$f":"TeamScoreWithPlayers($B21,\"H\",8,MN_7_REDHEAD!$F$4:$F$1391,MN_7_REDHEAD!$E$4:$E$1391,MN_7_REDHEAD!$G$4:$G$1391,MN_7_REDHEAD!$C$4:$C$1391,\"P4\")","v":"(B) MASON HORTER - [401]"},{"$f":"TeamScoreWithPlayers($B21,\"H\",8,MN_7_REDHEAD!$F$4:$F$1391,MN_7_REDHEAD!$E$4:$E$1391,MN_7_REDHEAD!$G$4:$G$1391,MN_7_REDHEAD!$C$4:$C$1391,\"P5\")","v":"(G) SARA CARLSON - [399]"},{"$f":"TeamScoreWithPlayers($B21,\"H\",8,MN_7_REDHEAD!$F$4:$F$1391,MN_7_REDHEAD!$E$4:$E$1391,MN_7_REDHEAD!$G$4:$G$1391,MN_7_REDHEAD!$C$4:$C$1391,\"P6\")","v":"(B) PETER MAES - [395]"},{"$f":"TeamScoreWithPlayers($B21,\"H\",8,MN_7_REDHEAD!$F$4:$F$1391,MN_7_REDHEAD!$E$4:$E$1391,MN_7_REDHEAD!$G$4:$G$1391,MN_7_REDHEAD!$C$4:$C$1391,\"P7\")","v":"(B) DECLAN FOLGER - [379]"},{"$f":"TeamScoreWithPlayers($B21,\"H\",8,MN_7_REDHEAD!$F$4:$F$1391,MN_7_REDHEAD!$E$4:$E$1391,MN_7_REDHEAD!$G$4:$G$1391,MN_7_REDHEAD!$C$4:$C$1391,\"P8\")","v":"(G) SARAH RICH - [374]"},null,3336,0,null,3336]
[21,"Rochester Century High School",{"$f":"TeamScore(B22,\"H\",8,MN_7_REDHEAD!$F$4:$F$1391,MN_7_REDHEAD!$G$4:$G$1391,MN_7_REDHEAD!$C$4:$C$1391)","v":2041},null,null,{"$f":"TeamScoreWithPlayers($B22,\"H\",8,MN_7_REDHEAD!$F$4:$F$1391,MN_7_REDHEAD!$E$4:$E$1391,MN_7_REDHEAD!$G$4:$G$1391,MN_7_REDHEAD!$C$4:$C$1391,\"TS\")","v":2041},{"$f":"TeamScoreWithPlayers($B22,\"H\",8,MN_7_REDHEAD!$F$4:$F$1391,MN_7_REDHEAD!$E$4:$E$1391,MN_7_REDHEAD!$G$4:$G$1391,MN_7_REDHEAD!$C$4:$C$1391,\"P1\")","v":"(B) BRENNAN WECKWERTH - [446]"},{"$f":"TeamScoreWithPlayers($B22,\"H\",8,MN_7_REDHEAD!$F$4:$F$1391,MN_7_REDHEAD!$E$4:$E$1391,MN_7_REDHEAD!$G$4:$G$1391,MN_7_REDHEAD!$C$4:$C$1391,\"P2\")","v":"(B) TYLER WETZSTEIN - [435]"},{"$f":"TeamScoreWithPlayers($B22,\"H\",8,MN_7_REDHEAD!$F$4:$F$1391,MN_7_REDHEAD!$E$4:$E$1391,MN_7_REDHEAD!$G$4:$G$1391,MN_7_REDHEAD!$C$4:$C$1391,\"P3\")","v":"(B) RYAN WETZSTEIN - [320]"},{"$f":"TeamScoreWithPlayers($B22,\"H\",8,MN_7_REDHEAD!$F$4:$F$1391,MN_7_REDHEAD!$E$4:$E$1391,MN_7_REDHEAD!$G$4:$G$1391,MN_7_REDHEAD!$C$4:$C$1391,\"P4\")","v":"(B) ARI WALKER - [305]"},{"$f":"TeamScoreWithPlayers($B22,\"H\",8,MN_7_REDHEAD!$F$4:$F$1391,MN_7_REDHEAD!$E$4:$E$1391,MN_7_REDHEAD!$G$4:$G$1391,MN_7_REDHEAD!$C$4:$C$1391,\"P5\")","v":"(B) ERIK HILL - [281]"},{"$f":"TeamScoreWithPlayers($B22,\"H\",8,MN_7_REDHEAD!$F$4:$F$1391,MN_7_REDHEAD!$E$4:$E$1391,MN_7_REDHEAD!$G$4:$G$1391,MN_7_REDHEAD!$C$4:$C$1391,\"P6\")","v":"(B) AARON MILLS - [254]"},{"$f":"TeamScoreWithPlayers($B22,\"H\",8,MN_7_REDHEAD!$F$4:$F$1391,MN_7_REDHEAD!$E$4:$E$1391,MN_7_REDHEAD!$G$4:$G$1391,MN_7_REDHEAD!$C$4:$C$1391,\"P7\")","v":"()  - [0]"},{"$f":"TeamScoreWithPlayers($B22,\"H\",8,MN_7_REDHEAD!$F$4:$F$1391,MN_7_REDHEAD!$E$4:$E$1391,MN_7_REDHEAD!$G$4:$G$1391,MN_7_REDHEAD!$C$4:$C$1391,\"P8\")","v":"()  - [0]"},null,2041,0,null,2041]
[22,"Rock Ridge Composite",{"$f":"TeamScore(B23,\"H\",8,MN_7_REDHEAD!$F$4:$F$1391,MN_7_REDHEAD!$G$4:$G$1391,MN_7_REDHEAD!$C$4:$C$1391)","v":2836},null,null,{"$f":"TeamScoreWithPlayers($B23,\"H\",8,MN_7_REDHEAD!$F$4:$F$1391,MN_7_REDHEAD!$E$4:$E$1391,MN_7_REDHEAD!$G$4:$G$1391,MN_7_REDHEAD!$C$4:$C$1391,\"TS\")","v":2836},{"$f":"TeamScoreWithPlayers($B23,\"H\",8,MN_7_REDHEAD!$F$4:$F$1391,MN_7_REDHEAD!$E$4:$E$1391,MN_7_REDHEAD!$G$4:$G$1391,MN_7_REDHEAD!$C$4:$C$1391,\"P1\")","v":"(G) WRENNA GALLOWAY - [476]"},{"$f":"TeamScoreWithPlayers($B23,\"H\",8,MN_7_REDHEAD!$F$4:$F$1391,MN_7_REDHEAD!$E$4:$E$1391,MN_7_REDHEAD!$G$4:$G$1391,MN_7_REDHEAD!$C$4:$C$1391,\"P2\")","v":"(B) SAMUEL BEUKEMA - [453]"},{"$f":"TeamScoreWithPlayers($B23,\"H\",8,MN_7_REDHEAD!$F$4:$F$1391,MN_7_REDHEAD!$E$4:$E$1391,MN_7_REDHEAD!$G$4:$G$1391,MN_7_REDHEAD!$C$4:$C$1391,\"P3\")","v":"(G) SOPHIE ROARK - [389]"},{"$f":"TeamScoreWithPlayers($B23,\"H\",8,MN_7_REDHEAD!$F$4:$F$1391,MN_7_REDHEAD!$E$4:$E$1391,MN_7_REDHEAD!$G$4:$G$1391,MN_7_REDHEAD!$C$4:$C$1391,\"P4\")","v":"(G) SYLVIE GALLOWAY - [346]"},{"$f":"TeamScoreWithPlayers($B23,\"H\",8,MN_7_REDHEAD!$F$4:$F$1391,MN_7_REDHEAD!$E$4:$E$1391,MN_7_REDHEAD!$G$4:$G$1391,MN_7_REDHEAD!$C$4:$C$1391,\"P5\")","v":"(B) SILAS TODAY - [310]"},{"$f":"TeamScoreWithPlayers($B23,\"H\",8,MN_7_REDHEAD!$F$4:$F$1391,MN_7_REDHEAD!$E$4:$E$1391,MN_7_REDHEAD!$G$4:$G$1391,MN_7_REDHEAD!$C$4:$C$1391,\"P6\")","v":"(G) EVA ROARK - [291]"},{"$f":"TeamScoreWithPlayers($B23,\"H\",8,MN_7_REDHEAD!$F$4:$F$1391,MN_7_REDHEAD!$E$4:$E$1391,MN_7_REDHEAD!$G$4:$G$1391,MN_7_REDHEAD!$C$4:$C$1391,\"P7\")","v":"(G) NORAH KAINZ - [289]"},{"$f":"TeamScoreWithPlayers($B23,\"H\",8,MN_7_REDHEAD!$F$4:$F$1391,MN_7_REDHEAD!$E$4:$E$1391,MN_7_REDHEAD!$G$4:$G$1391,MN_7_REDHEAD!$C$4:$C$1391,\"P8\")","v":"(B) ALDEN KNUDSON - [282]"},null,2836,0,null,2836]
[23,"Shakopee High School",{"$f":"TeamScore(B24,\"H\",8,MN_7_REDHEAD!$F$4:$F$1391,MN_7_REDHEAD!$G$4:$G$1391,MN_7_REDHEAD!$C$4:$C$1391)","v":3322},null,null,{"$f":"TeamScoreWithPlayers($B24,\"H\",8,MN_7_REDHEAD!$F$4:$F$1391,MN_7_REDHEAD!$E$4:$E$1391,MN_7_REDHEAD!$G$4:$G$1391,MN_7_REDHEAD!$C$4:$C$1391,\"TS\")","v":3322},{"$f":"TeamScoreWithPlayers($B24,\"H\",8,MN_7_REDHEAD!$F$4:$F$1391,MN_7_REDHEAD!$E$4:$E$1391,MN_7_REDHEAD!$G$4:$G$1391,MN_7_REDHEAD!$C$4:$C$1391,\"P1\")","v":"(B) WILLIAM PALMIERI - [486]"},{"$f":"TeamScoreWithPlayers($B24,\"H\",8,MN_7_REDHEAD!$F$4:$F$1391,MN_7_REDHEAD!$E$4:$E$1391,MN_7_REDHEAD!$G$4:$G$1391,MN_7_REDHEAD!$C$4:$C$1391,\"P2\")","v":"(B) CHARLIE CUTTS - [484]"},{"$f":"TeamScoreWithPlayers($B24,\"H\",8,MN_7_REDHEAD!$F$4:$F$1391,MN_7_REDHEAD!$E$4:$E$1391,MN_7_REDHEAD!$G$4:$G$1391,MN_7_REDHEAD!$C$4:$C$1391,\"P3\")","v":"(B) ISAIAH JOHNSON - [468]"},{"$f":"TeamScoreWithPlayers($B24,\"H\",8,MN_7_REDHEAD!$F$4:$F$1391,MN_7_REDHEAD!$E$4:$E$1391,MN_7_REDHEAD!$G$4:$G$1391,MN_7_REDHEAD!$C$4:$C$1391,\"P4\")","v":"(B) OWEN MARQUARDT - [413]"},{"$f":"TeamScoreWithPlayers($B24,\"H\",8,MN_7_REDHEAD!$F$4:$F$1391,MN_7_REDHEAD!$E$4:$E$1391,MN_7_REDHEAD!$G$4:$G$1391,MN_7_REDHEAD!$C$4:$C$1391,\"P5\")","v":"(B) PARKER BUTTERFASS - [389]"},{"$f":"TeamScoreWithPlayers($B24,\"H\",8,MN_7_REDHEAD!$F$4:$F$1391,MN_7_REDHEAD!$E$4:$E$1391,MN_7_REDHEAD!$G$4:$G$1391,MN_7_REDHEAD!$C$4:$C$1391,\"P6\")","v":"(G) ELLA BERG - [374]"},{"$f":"TeamScoreWithPlayers($B24,\"H\",8,MN_7_REDHEAD!$F$4:$F$1391,MN_7_REDHEAD!$E$4:$E$1391,MN_7_REDHEAD!$G$4:$G$1391,MN_7_REDHEAD!$C$4:$C$1391,\"P7\")","v":"(G) ANNIKA FROYUM - [374]"},{"$f":"TeamScoreWithPlayers($B24,\"H\",8,MN_7_REDHEAD!$F$4:$F$1391,MN_7_REDHEAD!$E$4:$E$1391,MN_7_REDHEAD!$G$4:$G$1391,MN_7_REDHEAD!$C$4:$C$1391,\"P8\")","v":"(B) JAMES FROYUM - [334]"},null,3322,0,null,3322]
[24,"Stillwater Mountain Bike",{"$f":"TeamScore(B25,\"H\",8,MN_7_REDHEAD!$F$4:$F$1391,MN_7_REDHEAD!$G$4:$G$1391,MN_7_REDHEAD!$C$4:$C$1391)","v":4322},null,null,{"$f":"TeamScoreWithPlayers($B25,\"H\",8,MN_7_REDHEAD!$F$4:$F$1391,MN_7_REDHEAD!$E$4:$E$1391,MN_7_REDHEAD!$G$4:$G$1391,MN_7_REDHEAD!$C$4:$C$1391,\"TS\")","v":4322},{"$f":"TeamScoreWithPlayers($B25,\"H\",8,MN_7_REDHEAD!$F$4:$F$1391,MN_7_REDHEAD!$E$4:$E$1391,MN_7_REDHEAD!$G$4:$G$1391,MN_7_REDHEAD!$C$4:$C$1391,\"P1\")","v":"(B) JOHN KUBIAK - [625]"},{"$f":"TeamScoreWithPlayers($B25,\"H\",8,MN_7_REDHEAD!$F$4:$F$1391,MN_7_REDHEAD!$E$4:$E$1391,MN_7_REDHEAD!$G$4:$G$1391,MN_7_REDHEAD!$C$4:$C$1391,\"P2\")","v":"(G) LILY WARD - [614]"},{"$f":"TeamScoreWithPlayers($B25,\"H\",8,MN_7_REDHEAD!$F$4:$F$1391,MN_7_REDHEAD!$E$4:$E$1391,MN_7_REDHEAD!$G$4:$G$1391,MN_7_REDHEAD!$C$4:$C$1391,\"P3\")","v":"(G) STELLA POWELL - [579]"},{"$f":"TeamScoreWithPlayers($B25,\"H\",8,MN_7_REDHEAD!$F$4:$F$1391,MN_7_REDHEAD!$E$4:$E$1391,MN_7_REDHEAD!$G$4:$G$1391,MN_7_REDHEAD!$C$4:$C$1391,\"P4\")","v":"(G) CATE KOELZER - [559]"},{"$f":"TeamScoreWithPlayers($B25,\"H\",8,MN_7_REDHEAD!$F$4:$F$1391,MN_7_REDHEAD!$E$4:$E$1391,MN_7_REDHEAD!$G$4:$G$1391,MN_7_REDHEAD!$C$4:$C$1391,\"P5\")","v":"(B) LIAM ADAMS - [494]"},{"$f":"TeamScoreWithPlayers($B25,\"H\",8,MN_7_REDHEAD!$F$4:$F$1391,MN_7_REDHEAD!$E$4:$E$1391,MN_7_REDHEAD!$G$4:$G$1391,MN_7_REDHEAD!$C$4:$C$1391,\"P6\")","v":"(B) JACK RALSTON - [488]"},{"$f":"TeamScoreWithPlayers($B25,\"H\",8,MN_7_REDHEAD!$F$4:$F$1391,MN_7_REDHEAD!$E$4:$E$1391,MN_7_REDHEAD!$G$4:$G$1391,MN_7_REDHEAD!$C$4:$C$1391,\"P7\")","v":"(G) GABI LEHMANN - [484]"},{"$f":"TeamScoreWithPlayers($B25,\"H\",8,MN_7_REDHEAD!$F$4:$F$1391,MN_7_REDHEAD!$E$4:$E$1391,MN_7_REDHEAD!$G$4:$G$1391,MN_7_REDHEAD!$C$4:$C$1391,\"P8\")","v":"(B) JAMES KALMON - [479]"},null,4322,0,null,4322]
[25,"Washburn High School",{"$f":"TeamScore(B26,\"H\",8,MN_7_REDHEAD!$F$4:$F$1391,MN_7_REDHEAD!$G$4:$G$1391,MN_7_REDHEAD!$C$4:$C$1391)","v":3432},null,null,{"$f":"TeamScoreWithPlayers($B26,\"H\",8,MN_7_REDHEAD!$F$4:$F$1391,MN_7_REDHEAD!$E$4:$E$1391,MN_7_REDHEAD!$G$4:$G$1391,MN_7_REDHEAD!$C$4:$C$1391,\"TS\")","v":3432},{"$f":"TeamScoreWithPlayers($B26,\"H\",8,MN_7_REDHEAD!$F$4:$F$1391,MN_7_REDHEAD!$E$4:$E$1391,MN_7_REDHEAD!$G$4:$G$1391,MN_7_REDHEAD!$C$4:$C$1391,\"P1\")","v":"(B) ANDREAS DREKONJA - [535]"},{"$f":"TeamScoreWithPlayers($B26,\"H\",8,MN_7_REDHEAD!$F$4:$F$1391,MN_7_REDHEAD!$E$4:$E$1391,MN_7_REDHEAD!$G$4:$G$1391,MN_7_REDHEAD!$C$4:$C$1391,\"P2\")","v":"(G) CIARA THATCHER - [529]"},{"$f":"TeamScoreWithPlayers($B26,\"H\",8,MN_7_REDHEAD!$F$4:$F$1391,MN_7_REDHEAD!$E$4:$E$1391,MN_7_REDHEAD!$G$4:$G$1391,MN_7_REDHEAD!$C$4:$C$1391,\"P3\")","v":"(G) ASTRID MYHRE - [528]"},{"$f":"TeamScoreWithPlayers($B26,\"H\",8,MN_7_REDHEAD!$F$4:$F$1391,MN_7_REDHEAD!$E$4:$E$1391,MN_7_REDHEAD!$G$4:$G$1391,MN_7_REDHEAD!$C$4:$C$1391,\"P4\")","v":"(B) ALEXANDER PASDO - [432]"},{"$f":"TeamScoreWithPlayers($B26,\"H\",8,MN_7_REDHEAD!$F$4:$F$1391,MN_7_REDHEAD!$E$4:$E$1391,MN_7_REDHEAD!$G$4:$G$1391,MN_7_REDHEAD!$C$4:$C$1391,\"P5\")","v":"(B) HENRY HATHAWAY - [369]"},{"$f":"TeamScoreWithPlayers($B26,\"H\",8,MN_7_REDHEAD!$F$4:$F$1391,MN_7_REDHEAD!$E$4:$E$1391,MN_7_REDHEAD!$G$4:$G$1391,MN_7_REDHEAD!$C$4:$C$1391,\"P6\")","v":"(G) ARIANA KIMBALL - [362]"},{"$f":"TeamScoreWithPlayers($B26,\"H\",8,MN_7_REDHEAD!$F$4:$F$1391,MN_7_REDHEAD!$E$4:$E$1391,MN_7_REDHEAD!$G$4:$G$1391,MN_7_REDHEAD!$C$4:$C$1391,\"P7\")","v":"(G) IZZY GREENWIN - [342]"},{"$f":"TeamScoreWithPlayers($B26,\"H\",8,MN_7_REDHEAD!$F$4:$F$1391,MN_7_REDHEAD!$E$4:$E$1391,MN_7_REDHEAD!$G$4:$G$1391,MN_7_REDHEAD!$C$4:$C$1391,\"P8\")","v":"(B) FINN CHERVENY - [335]"},null,3432,0,null,3432]
[26,"Wayzata Mountain Bike",{"$f":"TeamScore(B27,\"H\",8,MN_7_REDHEAD!$F$4:$F$1391,MN_7_REDHEAD!$G$4:$G$1391,MN_7_REDHEAD!$C$4:$C$1391)","v":3344},null,null,{"$f":"TeamScoreWithPlayers($B27,\"H\",8,MN_7_REDHEAD!$F$4:$F$1391,MN_7_REDHEAD!$E$4:$E$1391,MN_7_REDHEAD!$G$4:$G$1391,MN_7_REDHEAD!$C$4:$C$1391,\"TS\")","v":3344},{"$f":"TeamScoreWithPlayers($B27,\"H\",8,MN_7_REDHEAD!$F$4:$F$1391,MN_7_REDHEAD!$E$4:$E$1391,MN_7_REDHEAD!$G$4:$G$1391,MN_7_REDHEAD!$C$4:$C$1391,\"P1\")","v":"(G) LEXI HALVORSON - [501]"},{"$f":"TeamScoreWithPlayers($B27,\"H\",8,MN_7_REDHEAD!$F$4:$F$1391,MN_7_REDHEAD!$E$4:$E$1391,MN_7_REDHEAD!$G$4:$G$1391,MN_7_REDHEAD!$C$4:$C$1391,\"P2\")","v":"(G) LILA GOLOMB - [484]"},{"$f":"TeamScoreWithPlayers($B27,\"H\",8,MN_7_REDHEAD!$F$4:$F$1391,MN_7_REDHEAD!$E$4:$E$1391,MN_7_REDHEAD!$G$4:$G$1391,MN_7_REDHEAD!$C$4:$C$1391,\"P3\")","v":"(B) CULLEN BRITZ - [439]"},{"$f":"TeamScoreWithPlayers($B27,\"H\",8,MN_7_REDHEAD!$F$4:$F$1391,MN_7_REDHEAD!$E$4:$E$1391,MN_7_REDHEAD!$G$4:$G$1391,MN_7_REDHEAD!$C$4:$C$1391,\"P4\")","v":"(B) SAM ANDERSON - [419]"},{"$f":"TeamScoreWithPlayers($B27,\"H\",8,MN_7_REDHEAD!$F$4:$F$1391,MN_7_REDHEAD!$E$4:$E$1391,MN_7_REDHEAD!$G$4:$G$1391,MN_7_REDHEAD!$C$4:$C$1391,\"P5\")","v":"(G) IZZY MORRIS - [413]"},{"$f":"TeamScoreWithPlayers($B27,\"H\",8,MN_7_REDHEAD!$F$4:$F$1391,MN_7_REDHEAD!$E$4:$E$1391,MN_7_REDHEAD!$G$4:$G$1391,MN_7_REDHEAD!$C$4:$C$1391,\"P6\")","v":"(B) RUKSHAN RAJAN - [374]"},{"$f":"TeamScoreWithPlayers($B27,\"H\",8,MN_7_REDHEAD!$F$4:$F$1391,MN_7_REDHEAD!$E$4:$E$1391,MN_7_REDHEAD!$G$4:$G$1391,MN_7_REDHEAD!$C$4:$C$1391,\"P7\")","v":"(B) WILL BREUING - [364]"},{"$f":"TeamScoreWithPlayers($B27,\"H\",8,MN_7_REDHEAD!$F$4:$F$1391,MN_7_REDHEAD!$E$4:$E$1391,MN_7_REDHEAD!$G$4:$G$1391,MN_7_REDHEAD!$C$4:$C$1391,\"P8\")","v":"(G) ELIZABETH FACKERT - [350]"},null,3344,0,null,3344]
[27,"White Bear Lake High School",{"$f":"TeamScore(B28,\"H\",8,MN_7_REDHEAD!$F$4:$F$1391,MN_7_REDHEAD!$G$4:$G$1391,MN_7_REDHEAD!$C$4:$C$1391)","v":3000},null,null,{"$f":"TeamScoreWithPlayers($B28,\"H\",8,MN_7_REDHEAD!$F$4:$F$1391,MN_7_REDHEAD!$E$4:$E$1391,MN_7_REDHEAD!$G$4:$G$1391,MN_7_REDHEAD!$C$4:$C$1391,\"TS\")","v":3000},{"$f":"TeamScoreWithPlayers($B28,\"H\",8,MN_7_REDHEAD!$F$4:$F$1391,MN_7_REDHEAD!$E$4:$E$1391,MN_7_REDHEAD!$G$4:$G$1391,MN_7_REDHEAD!$C$4:$C$1391,\"P1\")","v":"(B) ISAAC LINDHOLM - [539]"},{"$f":"TeamScoreWithPlayers($B28,\"H\",8,MN_7_REDHEAD!$F$4:$F$1391,MN_7_REDHEAD!$E$4:$E$1391,MN_7_REDHEAD!$G$4:$G$1391,MN_7_REDHEAD!$C$4:$C$1391,\"P2\")","v":"(G) GRETCHEN BLANKENSHIP - [446]"},{"$f":"TeamScoreWithPlayers($B28,\"H\",8,MN_7_REDHEAD!$F$4:$F$1391,MN_7_REDHEAD!$E$4:$E$1391,MN_7_REDHEAD!$G$4:$G$1391,MN_7_REDHEAD!$C$4:$C$1391,\"P3\")","v":"(G) GRACE CONROY - [425]"},{"$f":"TeamScoreWithPlayers($B28,\"H\",8,MN_7_REDHEAD!$F$4:$F$1391,MN_7_REDHEAD!$E$4:$E$1391,MN_7_REDHEAD!$G$4:$G$1391,MN_7_REDHEAD!$C$4:$C$1391,\"P4\")","v":"(B) BLAKE ROLFER - [364]"},{"$f":"TeamScoreWithPlayers($B28,\"H\",8,MN_7_REDHEAD!$F$4:$F$1391,MN_7_REDHEAD!$E$4:$E$1391,MN_7_REDHEAD!$G$4:$G$1391,MN_7_REDHEAD!$C$4:$C$1391,\"P5\")","v":"(B) WALKER DIETZ - [322]"},{"$f":"TeamScoreWithPlayers($B28,\"H\",8,MN_7_REDHEAD!$F$4:$F$1391,MN_7_REDHEAD!$E$4:$E$1391,MN_7_REDHEAD!$G$4:$G$1391,MN_7_REDHEAD!$C$4:$C$1391,\"P6\")","v":"(G) KENNEDY LANGE - [316]"},{"$f":"TeamScoreWithPlayers($B28,\"H\",8,MN_7_REDHEAD!$F$4:$F$1391,MN_7_REDHEAD!$E$4:$E$1391,MN_7_REDHEAD!$G$4:$G$1391,MN_7_REDHEAD!$C$4:$C$1391,\"P7\")","v":"(B) DAMON GRAY - [301]"},{"$f":"TeamScoreWithPlayers($B28,\"H\",8,MN_7_REDHEAD!$F$4:$F$1391,MN_7_REDHEAD!$E$4:$E$1391,MN_7_REDHEAD!$G$4:$G$1391,MN_7_REDHEAD!$C$4:$C$1391,\"P8\")","v":"(B) JAMES WALLEK - [287]"},null,3000,0,null,3000]
[28,"Winona",{"$f":"TeamScore(B29,\"H\",8,MN_7_REDHEAD!$F$4:$F$1391,MN_7_REDHEAD!$G$4:$G$1391,MN_7_REDHEAD!$C$4:$C$1391)","v":3907},null,null,{"$f":"TeamScoreWithPlayers($B29,\"H\",8,MN_7_REDHEAD!$F$4:$F$1391,MN_7_REDHEAD!$E$4:$E$1391,MN_7_REDHEAD!$G$4:$G$1391,MN_7_REDHEAD!$C$4:$C$1391,\"TS\")","v":3907},{"$f":"TeamScoreWithPlayers($B29,\"H\",8,MN_7_REDHEAD!$F$4:$F$1391,MN_7_REDHEAD!$E$4:$E$1391,MN_7_REDHEAD!$G$4:$G$1391,MN_7_REDHEAD!$C$4:$C$1391,\"P1\")","v":"(B) ISAAC ALLRED - [604]"},{"$f":"TeamScoreWithPlayers($B29,\"H\",8,MN_7_REDHEAD!$F$4:$F$1391,MN_7_REDHEAD!$E$4:$E$1391,MN_7_REDHEAD!$G$4:$G$1391,MN_7_REDHEAD!$C$4:$C$1391,\"P2\")","v":"(B) OWEN ALLRED - [539]"},{"$f":"TeamScoreWithPlayers($B29,\"H\",8,MN_7_REDHEAD!$F$4:$F$1391,MN_7_REDHEAD!$E$4:$E$1391,MN_7_REDHEAD!$G$4:$G$1391,MN_7_REDHEAD!$C$4:$C$1391,\"P3\")","v":"(G) NATALIE HORECK - [535]"},{"$f":"TeamScoreWithPlayers($B29,\"H\",8,MN_7_REDHEAD!$F$4:$F$1391,MN_7_REDHEAD!$E$4:$E$1391,MN_7_REDHEAD!$G$4:$G$1391,MN_7_REDHEAD!$C$4:$C$1391,\"P4\")","v":"(B) LUCAS WOODEN - [516]"},{"$f":"TeamScoreWithPlayers($B29,\"H\",8,MN_7_REDHEAD!$F$4:$F$1391,MN_7_REDHEAD!$E$4:$E$1391,MN_7_REDHEAD!$G$4:$G$1391,MN_7_REDHEAD!$C$4:$C$1391,\"P5\")","v":"(G) ALIYA GRICIUS - [510]"},{"$f":"TeamScoreWithPlayers($B29,\"H\",8,MN_7_REDHEAD!$F$4:$F$1391,MN_7_REDHEAD!$E$4:$E$1391,MN_7_REDHEAD!$G$4:$G$1391,MN_7_REDHEAD!$C$4:$C$1391,\"P6\")","v":"(B) MAX HORECK - [484]"},{"$f":"TeamScoreWithPlayers($B29,\"H\",8,MN_7_REDHEAD!$F$4:$F$1391,MN_7_REDHEAD!$E$4:$E$1391,MN_7_REDHEAD!$G$4:$G$1391,MN_7_REDHEAD!$C$4:$C$1391,\"P7\")","v":"(B) BENJAMIN WISNIEWSKI - [369]"},{"$f":"TeamScoreWithPlayers($B29,\"H\",8,MN_7_REDHEAD!$F$4:$F$1391,MN_7_REDHEAD!$E$4:$E$1391,MN_7_REDHEAD!$G$4:$G$1391,MN_7_REDHEAD!$C$4:$C$1391,\"P8\")","v":"(B) CHRISTIAN MUELLER - [350]"},null,3907,0,null,3907]
[]
[null,"Results sorted High to Low"]
["Place","TEAM","Score",null,null,"New Total Score","P1","P2","P3","P4","P5","P6","P7","P8"]
[1,"Stillwater Mountain Bike",4322,null,null,4322,"(B) JOHN KUBIAK - [625]","(G) LILY WARD - [614]","(G) STELLA POWELL - [579]","(G) CATE KOELZER - [559]","(B) LIAM ADAMS - [494]","(B) JACK RALSTON - [488]","(G) GABI LEHMANN - [484]","(B) JAMES KALMON - [479]",null,{"$f":"getnumeric(G33)+getnumeric(H33)+getnumeric(I33)+getnumeric(J33)+getnumeric(K33)+getnumeric(L33)+getnumeric(M33)+getnumeric(N33)","v":4322},{"$f":"VLOOKUP(B33,Divisions!$P$4:$Q$95,2,FALSE)","v":1},null,{"$f":"P33-C33","v":0}]
[2,"Duluth East High School",4189,null,null,4189,"(G) LEAH COLEMAN - [594]","(G) PHOEBE LEEGE - [590]","(G) THEA KRAMER - [567]","(G) JOSEPHINE RYAN - [539]","(G) COURTNEY HISLOP - [508]","(G) CHARLI WORCESTER - [500]","(B) CARL MORSE - [482]","(B) RYE TRUITT - [409]",null,4189,{"$f":"VLOOKUP(B34,Divisions!$P$4:$Q$95,2,FALSE)","v":1},null,{"$f":"P34-C34","v":0}]
[3,"Hopkins High School",4108,null,null,4108,"(G) COURTNEY WEBER - [550]","(G) ISABELLE MAYER - [539]","(B) RAVONTE KRIEGLER - [529]","(G) STELLA HUSETH - [519]","(G) HAYDEN MIELKE - [510]","(B) SILAS JOHNSON - [510]","(B) TRISTAN SMITH - [492]","(B) OSCAR TIX - [459]",null,4108,{"$f":"VLOOKUP(B35,Divisions!$P$4:$Q$95,2,FALSE)","v":1},null,0]
[4,"Minnetonka High School",4063,null,null,4063,"(B) MORGAN HENDRICKS - [594]","(G) SHELBY STOBBE - [551]","(G) EVIE MALEC - [550]","(B) JACK MALEC - [550]","(G) BETHANY ANDERSON - [529]","(B) LUCAS SYLVESTER - [510]","(G) ADDISON ALEMAN - [395]","(G) LYDIA STEVENSON - [384]",null,4063,{"$f":"VLOOKUP(B36,Divisions!$P$4:$Q$95,2,FALSE)","v":1},null,0]
[5,"Edina Cycling",4008,null,null,4008,"(G) ELIN HARTMANN - [625]","(G) ISABELLA MAZION - [604]","(B) ISAAC BELL - [541]","(B) LIAM GARNER - [493]","(B) COOPER AUSTIN - [492]","(B) GRIFFIN NELSON - [476]","(B) GEORGE SILL - [407]","(B) ANDREW HARTMANN - [370]",null,4008,{"$f":"VLOOKUP(B37,Divisions!$P$4:$Q$95,2,FALSE)","v":1},null,0]
[6,"Bloomington Jefferson",3951,null,null,3951,"(B) MAX FAHRMANN - [590]","(G) CAROLINE HAAG - [559]","(G) MEGAN SCHROOTEN - [541]","(B) GAVIN MAYHEW - [528]","(B) NOAH GUINEE - [514]","(B) ETHAN ISHAUG - [472]","(B) MCKEAN PEDERSEN - [425]","(G) OLIVE BURRES - [322]",null,3951,{"$f":"VLOOKUP(B38,Divisions!$P$4:$Q$95,2,FALSE)","v":1},null,0]
[7,"Cloquet-Esko-Carlton",3943,null,null,3943,"(G) LAYLA HAGELIN - [585]","(B) EVAN ERSPAMER - [543]","(B) ETHAN LINDGREN - [524]","(G) ASPEN BERG - [492]","(B) MAX FOSTER - [465]","(B) JORDAN CHOPSKIE - [454]","(B) KAYLOR ADKINS - [441]","(G) ASHLEY SCHULTZ - [439]",null,3943,{"$f":"VLOOKUP(B39,Divisions!$P$4:$Q$95,2,FALSE)","v":1},null,0]
[8,"Winona",3907,null,null,3907,"(B) ISAAC ALLRED - [604]","(B) OWEN ALLRED - [539]","(G) NATALIE HORECK - [535]","(B) LUCAS WOODEN - [516]","(G) ALIYA GRICIUS - [510]","(B) MAX HORECK - [484]","(B) BENJAMIN WISNIEWSKI - [369]","(B) CHRISTIAN MUELLER - [350]",null,3907,{"$f":"VLOOKUP(B40,Divisions!$P$4:$Q$95,2,FALSE)","v":1},null,0]
[9,"Brainerd High School",3858,null,null,3858,"(G) ADDIE RYAN - [576]","(B) WILL THOMES - [559]","(B) HAYDEN HAGEN - [551]","(B) ARRON LOCKWOOD - [476]","(B) BISHOP NOETZEL - [460]","(G) STELLA HAGEN - [424]","(G) ISABELLE SMITH - [407]","(B) PARKER LINN - [405]",null,3858,{"$f":"VLOOKUP(B41,Divisions!$P$4:$Q$95,2,FALSE)","v":1},null,0]
[10,"Alexandria Area Youth Cycling",3637,null,null,3637,"(B) LUKE WALSH - [579]","(G) TIAHNA GOEKE - [532]","(B) PARKER CONVERSE - [529]","(B) SAWYER FILIPIAK - [468]","(B) TYLER SIIRA - [419]","(B) TYLER FATH - [382]","(G) LACEY SIIRA - [369]","(B) SULLIVAN ROONEY - [359]",null,3637,{"$f":"VLOOKUP(B42,Divisions!$P$4:$Q$95,2,FALSE)","v":1},null,0]
[11,"Burnsville High School",3528,null,null,3528,"(G) MAISY SCHEUNEMAN - [543]","(G) OLIVIA TILBURY - [507]","(B) AIDEN NICHOLAS - [470]","(G) ANNELISE METZGER - [432]","(B) WYATT PETERSON - [429]","(B) KADEN BOLDUC - [413]","(B) JOHN GOETTL - [370]","(G) GRETA DICKHAUSEN - [364]",null,3528,{"$f":"VLOOKUP(B43,Divisions!$P$4:$Q$95,2,FALSE)","v":1},null,0]
[12,"Washburn High School",3432,null,null,3432,"(B) ANDREAS DREKONJA - [535]","(G) CIARA THATCHER - [529]","(G) ASTRID MYHRE - [528]","(B) ALEXANDER PASDO - [432]","(B) HENRY HATHAWAY - [369]","(G) ARIANA KIMBALL - [362]","(G) IZZY GREENWIN - [342]","(B) FINN CHERVENY - [335]",null,3432,{"$f":"VLOOKUP(B44,Divisions!$P$4:$Q$95,2,FALSE)","v":1},null,0]
[13,"New Prague Middle and High School",3376,null,null,3376,"(B) AIDAN ROSEMEIER - [585]","(G) SELAH SCHERMAN - [500]","(G) SOPHIA METZDORFF - [435]","(G) ADDISON RIDGEWAY - [395]","(B) JEREMIAH STUBER - [379]","(B) GARRETT TOBIAS - [374]","(B) RILEY HUSEBY - [366]","(G) TEVA FEIT - [342]",null,3376,{"$f":"VLOOKUP(B45,Divisions!$P$4:$Q$95,2,FALSE)","v":1},null,0]
[14,"Mounds View High School",3368,null,null,3368,"(G) MADELINE DORNFELD - [501]","(G) ESME NEEDHAM - [446]","(B) ANDREW ROLOFF - [446]","(B) CORBAN CARLSON - [439]","(B) ANTONIN KOSTAL - [419]","(G) KATERINA KOSTAL - [413]","(G) KAMDYN KAREL - [354]","(G) PAULINA MCCULLOUGH - [350]",null,3368,{"$f":"VLOOKUP(B46,Divisions!$P$4:$Q$95,2,FALSE)","v":1},null,0]
[15,"Wayzata Mountain Bike",3344,null,null,3344,"(G) LEXI HALVORSON - [501]","(G) LILA GOLOMB - [484]","(B) CULLEN BRITZ - [439]","(B) SAM ANDERSON - [419]","(G) IZZY MORRIS - [413]","(B) RUKSHAN RAJAN - [374]","(B) WILL BREUING - [364]","(G) ELIZABETH FACKERT - [350]",null,3344,{"$f":"VLOOKUP(B47,Divisions!$P$4:$Q$95,2,FALSE)","v":1},null,0]
[16,"Prior Lake High School",3336,null,null,3336,"(B) BRADEN ERDAHL - [519]","(B) ALEX KRAWZA - [444]","(B) TEGAN MOORE - [425]","(B) MASON HORTER - [401]","(G) SARA CARLSON - [399]","(B) PETER MAES - [395]","(B) DECLAN FOLGER - [379]","(G) SARAH RICH - [374]",null,3336,{"$f":"VLOOKUP(B48,Divisions!$P$4:$Q$95,2,FALSE)","v":1},null,0]
[17,"Shakopee High School",3322,null,null,3322,"(B) WILLIAM PALMIERI - [486]","(B) CHARLIE CUTTS - [484]","(B) ISAIAH JOHNSON - [468]","(B) OWEN MARQUARDT - [413]","(B) PARKER BUTTERFASS - [389]","(G) ELLA BERG - [374]","(G) ANNIKA FROYUM - [374]","(B) JAMES FROYUM - [334]",null,3322,{"$f":"VLOOKUP(B49,Divisions!$P$4:$Q$95,2,FALSE)","v":1},null,0]
[18,"East Ridge High School",3294,null,null,3294,"(B) ERIC OIEN - [550]","(G) CLARA LANG - [476]","(B) IBAN DREVLOW - [453]","(B) POYRAZ OLGUN - [453]","(G) ELIN HARRISON - [378]","(G) ERIKA HARRISON - [370]","(B) JENS KULLMAN - [342]","(B) CRISTOBAL OSSANNA - [272]",null,3294,{"$f":"VLOOKUP(B50,Divisions!$P$4:$Q$95,2,FALSE)","v":1},null,0]
[19,"Crosby-Ironton High School",3170,null,null,3170,"(G) AVA JOHNSON - [519]","(B) OSKAR NELSON - [501]","(B) FINN NELSON - [476]","(B) SAMUEL COUGHLIN - [447]","(B) COOPER CRAINE - [432]","(B) OLIVER TOFTNESS - [404]","(B) BRADLEY HACHEY - [391]","()  - [0]",null,3170,{"$f":"VLOOKUP(B51,Divisions!$P$4:$Q$95,2,FALSE)","v":1},null,0]
[20,"Minneapolis Southwest",3122,null,null,3122,"(B) KADIN BLACK - [532]","(B) EMMETT KEPLER - [417]","(B) JOEL TIBBS - [382]","(G) ELLA MAKOSKY - [379]","(G) AVA WISE - [366]","(B) PARKER HUNT - [364]","(B) BEN MIMICK - [344]","(B) MASON EBERLY - [338]",null,3122,{"$f":"VLOOKUP(B52,Divisions!$P$4:$Q$95,2,FALSE)","v":1},null,0]
[21,"White Bear Lake High School",3000,null,null,3000,"(B) ISAAC LINDHOLM - [539]","(G) GRETCHEN BLANKENSHIP - [446]","(G) GRACE CONROY - [425]","(B) BLAKE ROLFER - [364]","(B) WALKER DIETZ - [322]","(G) KENNEDY LANGE - [316]","(B) DAMON GRAY - [301]","(B) JAMES WALLEK - [287]",null,3000,{"$f":"VLOOKUP(B53,Divisions!$P$4:$Q$95,2,FALSE)","v":1},null,0]
[22,"Lakeville North High School",2925,null,null,2925,"(B) ROWAN HALL - [567]","(B) EDWARD BROOKHART - [501]","(B) JACK JUFFER - [460]","(B) CARSON HALL - [425]","(B) HAYDEN ZOLL - [373]","(G) SOPHIA PEDERSEN - [307]","(B) KAMERON JAENICKE - [292]","()  - [0]",null,2925,{"$f":"VLOOKUP(B54,Divisions!$P$4:$Q$95,2,FALSE)","v":1},null,0]
[23,"Rock Ridge Composite",2836,null,null,2836,"(G) WRENNA GALLOWAY - [476]","(B) SAMUEL BEUKEMA - [453]","(G) SOPHIE ROARK - [389]","(G) SYLVIE GALLOWAY - [346]","(B) SILAS TODAY - [310]","(G) EVA ROARK - [291]","(G) NORAH KAINZ - [289]","(B) ALDEN KNUDSON - [282]",null,2836,{"$f":"VLOOKUP(B55,Divisions!$P$4:$Q$95,2,FALSE)","v":1},null,0]
[24,"Chaska High School",2523,null,null,2523,"(G) GRACE ATTERSON - [521]","(B) GRANT ATTERSON - [519]","(B) XAVIER DEMARRE - [319]","(B) NATHAN OMAN - [307]","(B) DYLAN HENDERSON - [302]","(B) EVAN REINSCH - [281]","(B) GRANT KERFOOT - [274]","()  - [0]",null,2523,{"$f":"VLOOKUP(B56,Divisions!$P$4:$Q$95,2,FALSE)","v":1},null,0]
[25,"Armstrong Cycle",2512,null,null,2512,"(G) ARYANNA SOMAIAH - [394]","(G) KYRA BEDNARZ - [338]","(B) KEEGAN GHANI - [322]","(G) CASSIDY SKARSTEN - [313]","(B) JUSTIN JOHNSON - [295]","(G) MEGAN SWANSON - [287]","(B) TRISTAN EHN - [283]","(B) KAI HAROLDSON - [280]",null,2512,{"$f":"VLOOKUP(B57,Divisions!$P$4:$Q$95,2,FALSE)","v":1},null,0]
[26,"Champlin Park High School",2248,null,null,2248,"(G) MARLIE RIETSCHEL - [419]","(B) DANE PAUL - [350]","(B) CARSON ANDERSON - [346]","(B) TREVOR EMERY - [293]","(B) COOPER HIGGINS - [289]","(B) GAVIN JOHNSON - [276]","(B) CHARLIE BLOCK - [275]","()  - [0]",null,2248,{"$f":"VLOOKUP(B58,Divisions!$P$4:$Q$95,2,FALSE)","v":1},null,0]
[27,"Rochester Century High School",2041,null,null,2041,"(B) BRENNAN WECKWERTH - [446]","(B) TYLER WETZSTEIN - [435]","(B) RYAN WETZSTEIN - [320]","(B) ARI WALKER - [305]","(B) ERIK HILL - [281]","(B) AARON MILLS - [254]","()  - [0]","()  - [0]",null,2041,{"$f":"VLOOKUP(B59,Divisions!$P$4:$Q$95,2,FALSE)","v":1},null,0]
[28,"Chanhassen High School",1781,null,null,1781,"(G) ZOE ANDERSON - [419]","(B) SETH KENNEDY - [376]","(B) CHARLES EVANGELISTA - [298]","(B) AYDEN FERREL - [258]","(B) MICAH SCHMIDT - [237]","(B) CHARLIE WENNERSTROM - [193]","()  - [0]","()  - [0]",null,1781,{"$f":"VLOOKUP(B60,Divisions!$P$4:$Q$95,2,FALSE)","v":1},null,0]

{"sheet":"High School D2","index":6,"n_rows":127,"n_cols":16,"rows_kept":127,"cut":false,"hidden":false,"merged":[]}
["#","TEAM","Score",null,null,"New Total Score","P1","P2","P3","P4",null,"Get Numeric","DC"]
[1,"Apple Valley High School",{"$f":"TeamScore(B2,\"H\",4,MN_7_REDHEAD!$F$4:$F$1391,MN_7_REDHEAD!$G$4:$G$1391,MN_7_REDHEAD!$C$4:$C$1391)","v":1319},null,null,{"$f":"TeamScoreWithPlayers($B2,\"H\",4,MN_7_REDHEAD!$F$4:$F$1391,MN_7_REDHEAD!$E$4:$E$1391,MN_7_REDHEAD!$G$4:$G$1391,MN_7_REDHEAD!$C$4:$C$1391,\"TS\")","v":1319},{"$f":"TeamScoreWithPlayers($B2,\"H\",4,MN_7_REDHEAD!$F$4:$F$1391,MN_7_REDHEAD!$E$4:$E$1391,MN_7_REDHEAD!$G$4:$G$1391,MN_7_REDHEAD!$C$4:$C$1391,\"P1\")","v":"(B) CODA NGUYEN - [501]"},{"$f":"TeamScoreWithPlayers($B2,\"H\",4,MN_7_REDHEAD!$F$4:$F$1391,MN_7_REDHEAD!$E$4:$E$1391,MN_7_REDHEAD!$G$4:$G$1391,MN_7_REDHEAD!$C$4:$C$1391,\"P2\")","v":"(B) MASON JOHNSON - [429]"},{"$f":"TeamScoreWithPlayers($B2,\"H\",4,MN_7_REDHEAD!$F$4:$F$1391,MN_7_REDHEAD!$E$4:$E$1391,MN_7_REDHEAD!$G$4:$G$1391,MN_7_REDHEAD!$C$4:$C$1391,\"P3\")","v":"(B) NATHAN LENZEN - [389]"},{"$f":"TeamScoreWithPlayers($B2,\"H\",4,MN_7_REDHEAD!$F$4:$F$1391,MN_7_REDHEAD!$E$4:$E$1391,MN_7_REDHEAD!$G$4:$G$1391,MN_7_REDHEAD!$C$4:$C$1391,\"P4\")","v":"()  - [0]"},null,{"$f":"getnumeric(G2)+getnumeric(H2)+getnumeric(I2)+getnumeric(J2)","v":1319},0,null,{"$f":"ABS(C2-F2)+ABS(F2-L2)+ABS(L2-M2)","v":1319}]
[{"$f":"+A2+1","v":2},"Austin High School",{"$f":"TeamScore(B3,\"H\",4,MN_7_REDHEAD!$F$4:$F$1391,MN_7_REDHEAD!$G$4:$G$1391,MN_7_REDHEAD!$C$4:$C$1391)","v":1171},null,null,{"$f":"TeamScoreWithPlayers($B3,\"H\",4,MN_7_REDHEAD!$F$4:$F$1391,MN_7_REDHEAD!$E$4:$E$1391,MN_7_REDHEAD!$G$4:$G$1391,MN_7_REDHEAD!$C$4:$C$1391,\"TS\")","v":1171},{"$f":"TeamScoreWithPlayers($B3,\"H\",4,MN_7_REDHEAD!$F$4:$F$1391,MN_7_REDHEAD!$E$4:$E$1391,MN_7_REDHEAD!$G$4:$G$1391,MN_7_REDHEAD!$C$4:$C$1391,\"P1\")","v":"(G) CLAUDIA MCDONALD - [319]"},{"$f":"TeamScoreWithPlayers($B3,\"H\",4,MN_7_REDHEAD!$F$4:$F$1391,MN_7_REDHEAD!$E$4:$E$1391,MN_7_REDHEAD!$G$4:$G$1391,MN_7_REDHEAD!$C$4:$C$1391,\"P2\")","v":"(B) RORY POLLOCK - [299]"},{"$f":"TeamScoreWithPlayers($B3,\"H\",4,MN_7_REDHEAD!$F$4:$F$1391,MN_7_REDHEAD!$E$4:$E$1391,MN_7_REDHEAD!$G$4:$G$1391,MN_7_REDHEAD!$C$4:$C$1391,\"P3\")","v":"(B) ANDREW THOMPSON - [287]"},{"$f":"TeamScoreWithPlayers($B3,\"H\",4,MN_7_REDHEAD!$F$4:$F$1391,MN_7_REDHEAD!$E$4:$E$1391,MN_7_REDHEAD!$G$4:$G$1391,MN_7_REDHEAD!$C$4:$C$1391,\"P4\")","v":"(B) GAGE SOUCEK - [266]"},null,1171,0,null,{"$f":"ABS(C3-F3)+ABS(F3-L3)+ABS(L3-M3)","v":1171}]
[{"$f":"+A3+1","v":3},"Bemidji Composite",{"$f":"TeamScore(B4,\"H\",4,MN_7_REDHEAD!$F$4:$F$1391,MN_7_REDHEAD!$G$4:$G$1391,MN_7_REDHEAD!$C$4:$C$1391)","v":1694},null,null,{"$f":"TeamScoreWithPlayers($B4,\"H\",4,MN_7_REDHEAD!$F$4:$F$1391,MN_7_REDHEAD!$E$4:$E$1391,MN_7_REDHEAD!$G$4:$G$1391,MN_7_REDHEAD!$C$4:$C$1391,\"TS\")","v":1694},{"$f":"TeamScoreWithPlayers($B4,\"H\",4,MN_7_REDHEAD!$F$4:$F$1391,MN_7_REDHEAD!$E$4:$E$1391,MN_7_REDHEAD!$G$4:$G$1391,MN_7_REDHEAD!$C$4:$C$1391,\"P1\")","v":"(B) REED KUZEL - [508]"},{"$f":"TeamScoreWithPlayers($B4,\"H\",4,MN_7_REDHEAD!$F$4:$F$1391,MN_7_REDHEAD!$E$4:$E$1391,MN_7_REDHEAD!$G$4:$G$1391,MN_7_REDHEAD!$C$4:$C$1391,\"P2\")","v":"(G) FAYE CALVERT - [453]"},{"$f":"TeamScoreWithPlayers($B4,\"H\",4,MN_7_REDHEAD!$F$4:$F$1391,MN_7_REDHEAD!$E$4:$E$1391,MN_7_REDHEAD!$G$4:$G$1391,MN_7_REDHEAD!$C$4:$C$1391,\"P3\")","v":"(B) LOUIS MORRISSEY - [414]"},{"$f":"TeamScoreWithPlayers($B4,\"H\",4,MN_7_REDHEAD!$F$4:$F$1391,MN_7_REDHEAD!$E$4:$E$1391,MN_7_REDHEAD!$G$4:$G$1391,MN_7_REDHEAD!$C$4:$C$1391,\"P4\")","v":"(G) JULIA CALVERT - [319]"},null,1694,0,null,1694]
[4,"Benilde St Margaret",{"$f":"TeamScore(B5,\"H\",4,MN_7_REDHEAD!$F$4:$F$1391,MN_7_REDHEAD!$G$4:$G$1391,MN_7_REDHEAD!$C$4:$C$1391)","v":2086},null,null,{"$f":"TeamScoreWithPlayers($B5,\"H\",4,MN_7_REDHEAD!$F$4:$F$1391,MN_7_REDHEAD!$E$4:$E$1391,MN_7_REDHEAD!$G$4:$G$1391,MN_7_REDHEAD!$C$4:$C$1391,\"TS\")","v":2086},{"$f":"TeamScoreWithPlayers($B5,\"H\",4,MN_7_REDHEAD!$F$4:$F$1391,MN_7_REDHEAD!$E$4:$E$1391,MN_7_REDHEAD!$G$4:$G$1391,MN_7_REDHEAD!$C$4:$C$1391,\"P1\")","v":"(B) TEAGUE JACKSON - [614]"},{"$f":"TeamScoreWithPlayers($B5,\"H\",4,MN_7_REDHEAD!$F$4:$F$1391,MN_7_REDHEAD!$E$4:$E$1391,MN_7_REDHEAD!$G$4:$G$1391,MN_7_REDHEAD!$C$4:$C$1391,\"P2\")","v":"(B) EVAN NOWLIN - [521]"},{"$f":"TeamScoreWithPlayers($B5,\"H\",4,MN_7_REDHEAD!$F$4:$F$1391,MN_7_REDHEAD!$E$4:$E$1391,MN_7_REDHEAD!$G$4:$G$1391,MN_7_REDHEAD!$C$4:$C$1391,\"P3\")","v":"(B) OWEN MARKS - [492]"},{"$f":"TeamScoreWithPlayers($B5,\"H\",4,MN_7_REDHEAD!$F$4:$F$1391,MN_7_REDHEAD!$E$4:$E$1391,MN_7_REDHEAD!$G$4:$G$1391,MN_7_REDHEAD!$C$4:$C$1391,\"P4\")","v":"(G) STELLA ORDAHL - [459]"},null,2086,0,null,2086]
[5,"Bloomington Composite",{"$f":"TeamScore(B6,\"H\",4,MN_7_REDHEAD!$F$4:$F$1391,MN_7_REDHEAD!$G$4:$G$1391,MN_7_REDHEAD!$C$4:$C$1391)","v":1111},null,null,{"$f":"TeamScoreWithPlayers($B6,\"H\",4,MN_7_REDHEAD!$F$4:$F$1391,MN_7_REDHEAD!$E$4:$E$1391,MN_7_REDHEAD!$G$4:$G$1391,MN_7_REDHEAD!$C$4:$C$1391,\"TS\")","v":1111},{"$f":"TeamScoreWithPlayers($B6,\"H\",4,MN_7_REDHEAD!$F$4:$F$1391,MN_7_REDHEAD!$E$4:$E$1391,MN_7_REDHEAD!$G$4:$G$1391,MN_7_REDHEAD!$C$4:$C$1391,\"P1\")","v":"(G) MAGGIE WEISS - [389]"},{"$f":"TeamScoreWithPlayers($B6,\"H\",4,MN_7_REDHEAD!$F$4:$F$1391,MN_7_REDHEAD!$E$4:$E$1391,MN_7_REDHEAD!$G$4:$G$1391,MN_7_REDHEAD!$C$4:$C$1391,\"P2\")","v":"(B) MAX HARTMANN - [266]"},{"$f":"TeamScoreWithPlayers($B6,\"H\",4,MN_7_REDHEAD!$F$4:$F$1391,MN_7_REDHEAD!$E$4:$E$1391,MN_7_REDHEAD!$G$4:$G$1391,MN_7_REDHEAD!$C$4:$C$1391,\"P3\")","v":"(B) JACK SQUIRES - [233]"},{"$f":"TeamScoreWithPlayers($B6,\"H\",4,MN_7_REDHEAD!$F$4:$F$1391,MN_7_REDHEAD!$E$4:$E$1391,MN_7_REDHEAD!$G$4:$G$1391,MN_7_REDHEAD!$C$4:$C$1391,\"P4\")","v":"(B) BRADEN THORNBURG - [223]"},null,1111,0,null,1111]
[6,"Borealis Composite",{"$f":"TeamScore(B7,\"H\",4,MN_7_REDHEAD!$F$4:$F$1391,MN_7_REDHEAD!$G$4:$G$1391,MN_7_REDHEAD!$C$4:$C$1391)","v":943},null,null,{"$f":"TeamScoreWithPlayers($B7,\"H\",4,MN_7_REDHEAD!$F$4:$F$1391,MN_7_REDHEAD!$E$4:$E$1391,MN_7_REDHEAD!$G$4:$G$1391,MN_7_REDHEAD!$C$4:$C$1391,\"TS\")","v":943},{"$f":"TeamScoreWithPlayers($B7,\"H\",4,MN_7_REDHEAD!$F$4:$F$1391,MN_7_REDHEAD!$E$4:$E$1391,MN_7_REDHEAD!$G$4:$G$1391,MN_7_REDHEAD!$C$4:$C$1391,\"P1\")","v":"(G) RENA JOHNSTON - [354]"},{"$f":"TeamScoreWithPlayers($B7,\"H\",4,MN_7_REDHEAD!$F$4:$F$1391,MN_7_REDHEAD!$E$4:$E$1391,MN_7_REDHEAD!$G$4:$G$1391,MN_7_REDHEAD!$C$4:$C$1391,\"P2\")","v":"(G) AILA HARDING - [322]"},{"$f":"TeamScoreWithPlayers($B7,\"H\",4,MN_7_REDHEAD!$F$4:$F$1391,MN_7_REDHEAD!$E$4:$E$1391,MN_7_REDHEAD!$G$4:$G$1391,MN_7_REDHEAD!$C$4:$C$1391,\"P3\")","v":"(B) BLAKE HEGFORS - [267]"},{"$f":"TeamScoreWithPlayers($B7,\"H\",4,MN_7_REDHEAD!$F$4:$F$1391,MN_7_REDHEAD!$E$4:$E$1391,MN_7_REDHEAD!$G$4:$G$1391,MN_7_REDHEAD!$C$4:$C$1391,\"P4\")","v":"()  - [0]"},null,943,0,null,943]
[7,"Breck/Blake",{"$f":"TeamScore(B8,\"H\",4,MN_7_REDHEAD!$F$4:$F$1391,MN_7_REDHEAD!$G$4:$G$1391,MN_7_REDHEAD!$C$4:$C$1391)","v":1177},null,null,{"$f":"TeamScoreWithPlayers($B8,\"H\",4,MN_7_REDHEAD!$F$4:$F$1391,MN_7_REDHEAD!$E$4:$E$1391,MN_7_REDHEAD!$G$4:$G$1391,MN_7_REDHEAD!$C$4:$C$1391,\"TS\")","v":1177},{"$f":"TeamScoreWithPlayers($B8,\"H\",4,MN_7_REDHEAD!$F$4:$F$1391,MN_7_REDHEAD!$E$4:$E$1391,MN_7_REDHEAD!$G$4:$G$1391,MN_7_REDHEAD!$C$4:$C$1391,\"P1\")","v":"(G) ALYSSA KRIG - [432]"},{"$f":"TeamScoreWithPlayers($B8,\"H\",4,MN_7_REDHEAD!$F$4:$F$1391,MN_7_REDHEAD!$E$4:$E$1391,MN_7_REDHEAD!$G$4:$G$1391,MN_7_REDHEAD!$C$4:$C$1391,\"P2\")","v":"(B) JOSH FRETT - [379]"},{"$f":"TeamScoreWithPlayers($B8,\"H\",4,MN_7_REDHEAD!$F$4:$F$1391,MN_7_REDHEAD!$E$4:$E$1391,MN_7_REDHEAD!$G$4:$G$1391,MN_7_REDHEAD!$C$4:$C$1391,\"P3\")","v":"(B) DUNCAN ARMOUR - [366]"},{"$f":"TeamScoreWithPlayers($B8,\"H\",4,MN_7_REDHEAD!$F$4:$F$1391,MN_7_REDHEAD!$E$4:$E$1391,MN_7_REDHEAD!$G$4:$G$1391,MN_7_REDHEAD!$C$4:$C$1391,\"P4\")","v":"()  - [0]"},null,1177,0,null,1177]
[8,"Cannon Valley Composite",{"$f":"TeamScore(B9,\"H\",4,MN_7_REDHEAD!$F$4:$F$1391,MN_7_REDHEAD!$G$4:$G$1391,MN_7_REDHEAD!$C$4:$C$1391)","v":1804},null,null,{"$f":"TeamScoreWithPlayers($B9,\"H\",4,MN_7_REDHEAD!$F$4:$F$1391,MN_7_REDHEAD!$E$4:$E$1391,MN_7_REDHEAD!$G$4:$G$1391,MN_7_REDHEAD!$C$4:$C$1391,\"TS\")","v":1804},{"$f":"TeamScoreWithPlayers($B9,\"H\",4,MN_7_REDHEAD!$F$4:$F$1391,MN_7_REDHEAD!$E$4:$E$1391,MN_7_REDHEAD!$G$4:$G$1391,MN_7_REDHEAD!$C$4:$C$1391,\"P1\")","v":"(G) KATE BITTENBENDER - [569]"},{"$f":"TeamScoreWithPlayers($B9,\"H\",4,MN_7_REDHEAD!$F$4:$F$1391,MN_7_REDHEAD!$E$4:$E$1391,MN_7_REDHEAD!$G$4:$G$1391,MN_7_REDHEAD!$C$4:$C$1391,\"P2\")","v":"(G) ELOISE DEBUS - [460]"},{"$f":"TeamScoreWithPlayers($B9,\"H\",4,MN_7_REDHEAD!$F$4:$F$1391,MN_7_REDHEAD!$E$4:$E$1391,MN_7_REDHEAD!$G$4:$G$1391,MN_7_REDHEAD!$C$4:$C$1391,\"P3\")","v":"(B) ANDY AMUNDSON - [389]"},{"$f":"TeamScoreWithPlayers($B9,\"H\",4,MN_7_REDHEAD!$F$4:$F$1391,MN_7_REDHEAD!$E$4:$E$1391,MN_7_REDHEAD!$G$4:$G$1391,MN_7_REDHEAD!$C$4:$C$1391,\"P4\")","v":"(B) BEN POWNELL - [386]"},null,1804,0,null,1804]
[9,"Chisago Lakes Composite",{"$f":"TeamScore(B10,\"H\",4,MN_7_REDHEAD!$F$4:$F$1391,MN_7_REDHEAD!$G$4:$G$1391,MN_7_REDHEAD!$C$4:$C$1391)","v":1272},null,null,{"$f":"TeamScoreWithPlayers($B10,\"H\",4,MN_7_REDHEAD!$F$4:$F$1391,MN_7_REDHEAD!$E$4:$E$1391,MN_7_REDHEAD!$G$4:$G$1391,MN_7_REDHEAD!$C$4:$C$1391,\"TS\")","v":1272},{"$f":"TeamScoreWithPlayers($B10,\"H\",4,MN_7_REDHEAD!$F$4:$F$1391,MN_7_REDHEAD!$E$4:$E$1391,MN_7_REDHEAD!$G$4:$G$1391,MN_7_REDHEAD!$C$4:$C$1391,\"P1\")","v":"(B) KYLE HAMLIN - [529]"},{"$f":"TeamScoreWithPlayers($B10,\"H\",4,MN_7_REDHEAD!$F$4:$F$1391,MN_7_REDHEAD!$E$4:$E$1391,MN_7_REDHEAD!$G$4:$G$1391,MN_7_REDHEAD!$C$4:$C$1391,\"P2\")","v":"(B) CARTER SCHILDGEN - [460]"},{"$f":"TeamScoreWithPlayers($B10,\"H\",4,MN_7_REDHEAD!$F$4:$F$1391,MN_7_REDHEAD!$E$4:$E$1391,MN_7_REDHEAD!$G$4:$G$1391,MN_7_REDHEAD!$C$4:$C$1391,\"P3\")","v":"(B) DALTON MULLIN - [283]"},{"$f":"TeamScoreWithPlayers($B10,\"H\",4,MN_7_REDHEAD!$F$4:$F$1391,MN_7_REDHEAD!$E$4:$E$1391,MN_7_REDHEAD!$G$4:$G$1391,MN_7_REDHEAD!$C$4:$C$1391,\"P4\")","v":"()  - [0]"},null,1272,0,null,1272]
[10,"Duluth Composite",{"$f":"TeamScore(B11,\"H\",4,MN_7_REDHEAD!$F$4:$F$1391,MN_7_REDHEAD!$G$4:$G$1391,MN_7_REDHEAD!$C$4:$C$1391)","v":2038},null,null,{"$f":"TeamScoreWithPlayers($B11,\"H\",4,MN_7_REDHEAD!$F$4:$F$1391,MN_7_REDHEAD!$E$4:$E$1391,MN_7_REDHEAD!$G$4:$G$1391,MN_7_REDHEAD!$C$4:$C$1391,\"TS\")","v":2038},{"$f":"TeamScoreWithPlayers($B11,\"H\",4,MN_7_REDHEAD!$F$4:$F$1391,MN_7_REDHEAD!$E$4:$E$1391,MN_7_REDHEAD!$G$4:$G$1391,MN_7_REDHEAD!$C$4:$C$1391,\"P1\")","v":"(B) OWEN VANDAL - [550]"},{"$f":"TeamScoreWithPlayers($B11,\"H\",4,MN_7_REDHEAD!$F$4:$F$1391,MN_7_REDHEAD!$E$4:$E$1391,MN_7_REDHEAD!$G$4:$G$1391,MN_7_REDHEAD!$C$4:$C$1391,\"P2\")","v":"(B) BODEE MCFADDEN - [550]"},{"$f":"TeamScoreWithPlayers($B11,\"H\",4,MN_7_REDHEAD!$F$4:$F$1391,MN_7_REDHEAD!$E$4:$E$1391,MN_7_REDHEAD!$G$4:$G$1391,MN_7_REDHEAD!$C$4:$C$1391,\"P3\")","v":"(G) NATALIA KUNZE - [492]"},{"$f":"TeamScoreWithPlayers($B11,\"H\",4,MN_7_REDHEAD!$F$4:$F$1391,MN_7_REDHEAD!$E$4:$E$1391,MN_7_REDHEAD!$G$4:$G$1391,MN_7_REDHEAD!$C$4:$C$1391,\"P4\")","v":"(B) QUINN SPOHN - [446]"},null,2038,0,null,2038]
[11,"Eagan High School",{"$f":"TeamScore(B12,\"H\",4,MN_7_REDHEAD!$F$4:$F$1391,MN_7_REDHEAD!$G$4:$G$1391,MN_7_REDHEAD!$C$4:$C$1391)","v":1396},null,null,{"$f":"TeamScoreWithPlayers($B12,\"H\",4,MN_7_REDHEAD!$F$4:$F$1391,MN_7_REDHEAD!$E$4:$E$1391,MN_7_REDHEAD!$G$4:$G$1391,MN_7_REDHEAD!$C$4:$C$1391,\"TS\")","v":1396},{"$f":"TeamScoreWithPlayers($B12,\"H\",4,MN_7_REDHEAD!$F$4:$F$1391,MN_7_REDHEAD!$E$4:$E$1391,MN_7_REDHEAD!$G$4:$G$1391,MN_7_REDHEAD!$C$4:$C$1391,\"P1\")","v":"(G) MEGAN WITT - [465]"},{"$f":"TeamScoreWithPlayers($B12,\"H\",4,MN_7_REDHEAD!$F$4:$F$1391,MN_7_REDHEAD!$E$4:$E$1391,MN_7_REDHEAD!$G$4:$G$1391,MN_7_REDHEAD!$C$4:$C$1391,\"P2\")","v":"(B) IVAN GRINBERG - [354]"},{"$f":"TeamScoreWithPlayers($B12,\"H\",4,MN_7_REDHEAD!$F$4:$F$1391,MN_7_REDHEAD!$E$4:$E$1391,MN_7_REDHEAD!$G$4:$G$1391,MN_7_REDHEAD!$C$4:$C$1391,\"P3\")","v":"(B) AARON HANSON - [295]"},{"$f":"TeamScoreWithPlayers($B12,\"H\",4,MN_7_REDHEAD!$F$4:$F$1391,MN_7_REDHEAD!$E$4:$E$1391,MN_7_REDHEAD!$G$4:$G$1391,MN_7_REDHEAD!$C$4:$C$1391,\"P4\")","v":"(B) JACK MOZEIKA - [282]"},null,1396,0,null,1396]
[12,"Eastview High School",{"$f":"TeamScore(B13,\"H\",4,MN_7_REDHEAD!$F$4:$F$1391,MN_7_REDHEAD!$G$4:$G$1391,MN_7_REDHEAD!$C$4:$C$1391)","v":1357},null,null,{"$f":"TeamScoreWithPlayers($B13,\"H\",4,MN_7_REDHEAD!$F$4:$F$1391,MN_7_REDHEAD!$E$4:$E$1391,MN_7_REDHEAD!$G$4:$G$1391,MN_7_REDHEAD!$C$4:$C$1391,\"TS\")","v":1357},{"$f":"TeamScoreWithPlayers($B13,\"H\",4,MN_7_REDHEAD!$F$4:$F$1391,MN_7_REDHEAD!$E$4:$E$1391,MN_7_REDHEAD!$G$4:$G$1391,MN_7_REDHEAD!$C$4:$C$1391,\"P1\")","v":"(B) MILES BREMER - [539]"},{"$f":"TeamScoreWithPlayers($B13,\"H\",4,MN_7_REDHEAD!$F$4:$F$1391,MN_7_REDHEAD!$E$4:$E$1391,MN_7_REDHEAD!$G$4:$G$1391,MN_7_REDHEAD!$C$4:$C$1391,\"P2\")","v":"(B) ISAAC POVOLNY - [476]"},{"$f":"TeamScoreWithPlayers($B13,\"H\",4,MN_7_REDHEAD!$F$4:$F$1391,MN_7_REDHEAD!$E$4:$E$1391,MN_7_REDHEAD!$G$4:$G$1391,MN_7_REDHEAD!$C$4:$C$1391,\"P3\")","v":"(B) LANDEN CRISP - [342]"},{"$f":"TeamScoreWithPlayers($B13,\"H\",4,MN_7_REDHEAD!$F$4:$F$1391,MN_7_REDHEAD!$E$4:$E$1391,MN_7_REDHEAD!$G$4:$G$1391,MN_7_REDHEAD!$C$4:$C$1391,\"P4\")","v":"()  - [0]"},null,1357,0,null,1357]
[13,"Eden Prairie High School",{"$f":"TeamScore(B14,\"H\",4,MN_7_REDHEAD!$F$4:$F$1391,MN_7_REDHEAD!$G$4:$G$1391,MN_7_REDHEAD!$C$4:$C$1391)","v":1690},null,null,{"$f":"TeamScoreWithPlayers($B14,\"H\",4,MN_7_REDHEAD!$F$4:$F$1391,MN_7_REDHEAD!$E$4:$E$1391,MN_7_REDHEAD!$G$4:$G$1391,MN_7_REDHEAD!$C$4:$C$1391,\"TS\")","v":1690},{"$f":"TeamScoreWithPlayers($B14,\"H\",4,MN_7_REDHEAD!$F$4:$F$1391,MN_7_REDHEAD!$E$4:$E$1391,MN_7_REDHEAD!$G$4:$G$1391,MN_7_REDHEAD!$C$4:$C$1391,\"P1\")","v":"(B) OWEN BRATTEBO - [500]"},{"$f":"TeamScoreWithPlayers($B14,\"H\",4,MN_7_REDHEAD!$F$4:$F$1391,MN_7_REDHEAD!$E$4:$E$1391,MN_7_REDHEAD!$G$4:$G$1391,MN_7_REDHEAD!$C$4:$C$1391,\"P2\")","v":"(B) CHARLIE STEFFEN - [407]"},{"$f":"TeamScoreWithPlayers($B14,\"H\",4,MN_7_REDHEAD!$F$4:$F$1391,MN_7_REDHEAD!$E$4:$E$1391,MN_7_REDHEAD!$G$4:$G$1391,MN_7_REDHEAD!$C$4:$C$1391,\"P3\")","v":"(B) LUKE WARZECHA - [401]"},{"$f":"TeamScoreWithPlayers($B14,\"H\",4,MN_7_REDHEAD!$F$4:$F$1391,MN_7_REDHEAD!$E$4:$E$1391,MN_7_REDHEAD!$G$4:$G$1391,MN_7_REDHEAD!$C$4:$C$1391,\"P4\")","v":"(G) ADA LARA - [382]"},null,1690,0,null,1690]
[14,"Elk River Composite",{"$f":"TeamScore(B15,\"H\",4,MN_7_REDHEAD!$F$4:$F$1391,MN_7_REDHEAD!$G$4:$G$1391,MN_7_REDHEAD!$C$4:$C$1391)","v":1508},null,null,{"$f":"TeamScoreWithPlayers($B15,\"H\",4,MN_7_REDHEAD!$F$4:$F$1391,MN_7_REDHEAD!$E$4:$E$1391,MN_7_REDHEAD!$G$4:$G$1391,MN_7_REDHEAD!$C$4:$C$1391,\"TS\")","v":1508},{"$f":"TeamScoreWithPlayers($B15,\"H\",4,MN_7_REDHEAD!$F$4:$F$1391,MN_7_REDHEAD!$E$4:$E$1391,MN_7_REDHEAD!$G$4:$G$1391,MN_7_REDHEAD!$C$4:$C$1391,\"P1\")","v":"(G) AUDREY KEMPEL - [414]"},{"$f":"TeamScoreWithPlayers($B15,\"H\",4,MN_7_REDHEAD!$F$4:$F$1391,MN_7_REDHEAD!$E$4:$E$1391,MN_7_REDHEAD!$G$4:$G$1391,MN_7_REDHEAD!$C$4:$C$1391,\"P2\")","v":"(B) COLTON BANKS - [390]"},{"$f":"TeamScoreWithPlayers($B15,\"H\",4,MN_7_REDHEAD!$F$4:$F$1391,MN_7_REDHEAD!$E$4:$E$1391,MN_7_REDHEAD!$G$4:$G$1391,MN_7_REDHEAD!$C$4:$C$1391,\"P3\")","v":"(B) GRADY MAGRUDER - [354]"},{"$f":"TeamScoreWithPlayers($B15,\"H\",4,MN_7_REDHEAD!$F$4:$F$1391,MN_7_REDHEAD!$E$4:$E$1391,MN_7_REDHEAD!$G$4:$G$1391,MN_7_REDHEAD!$C$4:$C$1391,\"P4\")","v":"(B) BO JEFFERS - [350]"},null,1508,0,null,1508]
[15,"Hastings Area Composite",{"$f":"TeamScore(B16,\"H\",4,MN_7_REDHEAD!$F$4:$F$1391,MN_7_REDHEAD!$G$4:$G$1391,MN_7_REDHEAD!$C$4:$C$1391)","v":459},null,null,{"$f":"TeamScoreWithPlayers($B16,\"H\",4,MN_7_REDHEAD!$F$4:$F$1391,MN_7_REDHEAD!$E$4:$E$1391,MN_7_REDHEAD!$G$4:$G$1391,MN_7_REDHEAD!$C$4:$C$1391,\"TS\")","v":459},{"$f":"TeamScoreWithPlayers($B16,\"H\",4,MN_7_REDHEAD!$F$4:$F$1391,MN_7_REDHEAD!$E$4:$E$1391,MN_7_REDHEAD!$G$4:$G$1391,MN_7_REDHEAD!$C$4:$C$1391,\"P1\")","v":"(B) IAN FERGUSON - [234]"},{"$f":"TeamScoreWithPlayers($B16,\"H\",4,MN_7_REDHEAD!$F$4:$F$1391,MN_7_REDHEAD!$E$4:$E$1391,MN_7_REDHEAD!$G$4:$G$1391,MN_7_REDHEAD!$C$4:$C$1391,\"P2\")","v":"(B) GRAYDON STRAND - [225]"},{"$f":"TeamScoreWithPlayers($B16,\"H\",4,MN_7_REDHEAD!$F$4:$F$1391,MN_7_REDHEAD!$E$4:$E$1391,MN_7_REDHEAD!$G$4:$G$1391,MN_7_REDHEAD!$C$4:$C$1391,\"P3\")","v":"()  - [0]"},{"$f":"TeamScoreWithPlayers($B16,\"H\",4,MN_7_REDHEAD!$F$4:$F$1391,MN_7_REDHEAD!$E$4:$E$1391,MN_7_REDHEAD!$G$4:$G$1391,MN_7_REDHEAD!$C$4:$C$1391,\"P4\")","v":"()  - [0]"},null,459,0,null,459]
[16,"Hermantown-Proctor",{"$f":"TeamScore(B17,\"H\",4,MN_7_REDHEAD!$F$4:$F$1391,MN_7_REDHEAD!$G$4:$G$1391,MN_7_REDHEAD!$C$4:$C$1391)","v":0},null,null,{"$f":"TeamScoreWithPlayers($B17,\"H\",4,MN_7_REDHEAD!$F$4:$F$1391,MN_7_REDHEAD!$E$4:$E$1391,MN_7_REDHEAD!$G$4:$G$1391,MN_7_REDHEAD!$C$4:$C$1391,\"TS\")","v":0},{"$f":"TeamScoreWithPlayers($B17,\"H\",4,MN_7_REDHEAD!$F$4:$F$1391,MN_7_REDHEAD!$E$4:$E$1391,MN_7_REDHEAD!$G$4:$G$1391,MN_7_REDHEAD!$C$4:$C$1391,\"P1\")","v":"()  - [0]"},{"$f":"TeamScoreWithPlayers($B17,\"H\",4,MN_7_REDHEAD!$F$4:$F$1391,MN_7_REDHEAD!$E$4:$E$1391,MN_7_REDHEAD!$G$4:$G$1391,MN_7_REDHEAD!$C$4:$C$1391,\"P2\")","v":"()  - [0]"},{"$f":"TeamScoreWithPlayers($B17,\"H\",4,MN_7_REDHEAD!$F$4:$F$1391,MN_7_REDHEAD!$E$4:$E$1391,MN_7_REDHEAD!$G$4:$G$1391,MN_7_REDHEAD!$C$4:$C$1391,\"P3\")","v":"()  - [0]"},{"$f":"TeamScoreWithPlayers($B17,\"H\",4,MN_7_REDHEAD!$F$4:$F$1391,MN_7_REDHEAD!$E$4:$E$1391,MN_7_REDHEAD!$G$4:$G$1391,MN_7_REDHEAD!$C$4:$C$1391,\"P4\")","v":"()  - [0]"},null,0,0,null,0]
[17,"Highland Park St Paul",{"$f":"TeamScore(B18,\"H\",4,MN_7_REDHEAD!$F$4:$F$1391,MN_7_REDHEAD!$G$4:$G$1391,MN_7_REDHEAD!$C$4:$C$1391)","v":1405},null,null,{"$f":"TeamScoreWithPlayers($B18,\"H\",4,MN_7_REDHEAD!$F$4:$F$1391,MN_7_REDHEAD!$E$4:$E$1391,MN_7_REDHEAD!$G$4:$G$1391,MN_7_REDHEAD!$C$4:$C$1391,\"TS\")","v":1405},{"$f":"TeamScoreWithPlayers($B18,\"H\",4,MN_7_REDHEAD!$F$4:$F$1391,MN_7_REDHEAD!$E$4:$E$1391,MN_7_REDHEAD!$G$4:$G$1391,MN_7_REDHEAD!$C$4:$C$1391,\"P1\")","v":"(B) KARL HAALAND - [507]"},{"$f":"TeamScoreWithPlayers($B18,\"H\",4,MN_7_REDHEAD!$F$4:$F$1391,MN_7_REDHEAD!$E$4:$E$1391,MN_7_REDHEAD!$G$4:$G$1391,MN_7_REDHEAD!$C$4:$C$1391,\"P2\")","v":"(B) LIAM HEFFERAN - [501]"},{"$f":"TeamScoreWithPlayers($B18,\"H\",4,MN_7_REDHEAD!$F$4:$F$1391,MN_7_REDHEAD!$E$4:$E$1391,MN_7_REDHEAD!$G$4:$G$1391,MN_7_REDHEAD!$C$4:$C$1391,\"P3\")","v":"(B) TOBY MARTIN-KOHLS - [397]"},{"$f":"TeamScoreWithPlayers($B18,\"H\",4,MN_7_REDHEAD!$F$4:$F$1391,MN_7_REDHEAD!$E$4:$E$1391,MN_7_REDHEAD!$G$4:$G$1391,MN_7_REDHEAD!$C$4:$C$1391,\"P4\")","v":"()  - [0]"},null,1405,0,null,1405]
[18,"Hudson High School",{"$f":"TeamScore(B19,\"H\",4,MN_7_REDHEAD!$F$4:$F$1391,MN_7_REDHEAD!$G$4:$G$1391,MN_7_REDHEAD!$C$4:$C$1391)","v":1806},null,null,{"$f":"TeamScoreWithPlayers($B19,\"H\",4,MN_7_REDHEAD!$F$4:$F$1391,MN_7_REDHEAD!$E$4:$E$1391,MN_7_REDHEAD!$G$4:$G$1391,MN_7_REDHEAD!$C$4:$C$1391,\"TS\")","v":1806},{"$f":"TeamScoreWithPlayers($B19,\"H\",4,MN_7_REDHEAD!$F$4:$F$1391,MN_7_REDHEAD!$E$4:$E$1391,MN_7_REDHEAD!$G$4:$G$1391,MN_7_REDHEAD!$C$4:$C$1391,\"P1\")","v":"(G) MAYSA BURNAM - [514]"},{"$f":"TeamScoreWithPlayers($B19,\"H\",4,MN_7_REDHEAD!$F$4:$F$1391,MN_7_REDHEAD!$E$4:$E$1391,MN_7_REDHEAD!$G$4:$G$1391,MN_7_REDHEAD!$C$4:$C$1391,\"P2\")","v":"(B) GRAEME PEARSON - [500]"},{"$f":"TeamScoreWithPlayers($B19,\"H\",4,MN_7_REDHEAD!$F$4:$F$1391,MN_7_REDHEAD!$E$4:$E$1391,MN_7_REDHEAD!$G$4:$G$1391,MN_7_REDHEAD!$C$4:$C$1391,\"P3\")","v":"(B) BRADY WAINIONPAA - [476]"},{"$f":"TeamScoreWithPlayers($B19,\"H\",4,MN_7_REDHEAD!$F$4:$F$1391,MN_7_REDHEAD!$E$4:$E$1391,MN_7_REDHEAD!$G$4:$G$1391,MN_7_REDHEAD!$C$4:$C$1391,\"P4\")","v":"(B) SCOTT STEPHENSON - [316]"},null,1806,0,null,1806]
[19,"Hutchinson High School",{"$f":"TeamScore(B20,\"H\",4,MN_7_REDHEAD!$F$4:$F$1391,MN_7_REDHEAD!$G$4:$G$1391,MN_7_REDHEAD!$C$4:$C$1391)","v":1410},null,null,{"$f":"TeamScoreWithPlayers($B20,\"H\",4,MN_7_REDHEAD!$F$4:$F$1391,MN_7_REDHEAD!$E$4:$E$1391,MN_7_REDHEAD!$G$4:$G$1391,MN_7_REDHEAD!$C$4:$C$1391,\"TS\")","v":1410},{"$f":"TeamScoreWithPlayers($B20,\"H\",4,MN_7_REDHEAD!$F$4:$F$1391,MN_7_REDHEAD!$E$4:$E$1391,MN_7_REDHEAD!$G$4:$G$1391,MN_7_REDHEAD!$C$4:$C$1391,\"P1\")","v":"(G) MEARA BUSSE - [419]"},{"$f":"TeamScoreWithPlayers($B20,\"H\",4,MN_7_REDHEAD!$F$4:$F$1391,MN_7_REDHEAD!$E$4:$E$1391,MN_7_REDHEAD!$G$4:$G$1391,MN_7_REDHEAD!$C$4:$C$1391,\"P2\")","v":"(B) LEVI MOORE - [350]"},{"$f":"TeamScoreWithPlayers($B20,\"H\",4,MN_7_REDHEAD!$F$4:$F$1391,MN_7_REDHEAD!$E$4:$E$1391,MN_7_REDHEAD!$G$4:$G$1391,MN_7_REDHEAD!$C$4:$C$1391,\"P3\")","v":"(B) KENNEDY RECH - [325]"},{"$f":"TeamScoreWithPlayers($B20,\"H\",4,MN_7_REDHEAD!$F$4:$F$1391,MN_7_REDHEAD!$E$4:$E$1391,MN_7_REDHEAD!$G$4:$G$1391,MN_7_REDHEAD!$C$4:$C$1391,\"P4\")","v":"(B) SAMUEL REITER - [316]"},null,1410,0,null,1410]
[20,"Irondale High School",{"$f":"TeamScore(B21,\"H\",4,MN_7_REDHEAD!$F$4:$F$1391,MN_7_REDHEAD!$G$4:$G$1391,MN_7_REDHEAD!$C$4:$C$1391)","v":329},null,null,{"$f":"TeamScoreWithPlayers($B21,\"H\",4,MN_7_REDHEAD!$F$4:$F$1391,MN_7_REDHEAD!$E$4:$E$1391,MN_7_REDHEAD!$G$4:$G$1391,MN_7_REDHEAD!$C$4:$C$1391,\"TS\")","v":329},{"$f":"TeamScoreWithPlayers($B21,\"H\",4,MN_7_REDHEAD!$F$4:$F$1391,MN_7_REDHEAD!$E$4:$E$1391,MN_7_REDHEAD!$G$4:$G$1391,MN_7_REDHEAD!$C$4:$C$1391,\"P1\")","v":"(B) JAMES CHIRI - [329]"},{"$f":"TeamScoreWithPlayers($B21,\"H\",4,MN_7_REDHEAD!$F$4:$F$1391,MN_7_REDHEAD!$E$4:$E$1391,MN_7_REDHEAD!$G$4:$G$1391,MN_7_REDHEAD!$C$4:$C$1391,\"P2\")","v":"()  - [0]"},{"$f":"TeamScoreWithPlayers($B21,\"H\",4,MN_7_REDHEAD!$F$4:$F$1391,MN_7_REDHEAD!$E$4:$E$1391,MN_7_REDHEAD!$G$4:$G$1391,MN_7_REDHEAD!$C$4:$C$1391,\"P3\")","v":"()  - [0]"},{"$f":"TeamScoreWithPlayers($B21,\"H\",4,MN_7_REDHEAD!$F$4:$F$1391,MN_7_REDHEAD!$E$4:$E$1391,MN_7_REDHEAD!$G$4:$G$1391,MN_7_REDHEAD!$C$4:$C$1391,\"P4\")","v":"()  - [0]"},null,329,0,null,329]
[21,"Kerkhoven Composite",{"$f":"TeamScore(B22,\"H\",4,MN_7_REDHEAD!$F$4:$F$1391,MN_7_REDHEAD!$G$4:$G$1391,MN_7_REDHEAD!$C$4:$C$1391)","v":707},null,null,{"$f":"TeamScoreWithPlayers($B22,\"H\",4,MN_7_REDHEAD!$F$4:$F$1391,MN_7_REDHEAD!$E$4:$E$1391,MN_7_REDHEAD!$G$4:$G$1391,MN_7_REDHEAD!$C$4:$C$1391,\"TS\")","v":707},{"$f":"TeamScoreWithPlayers($B22,\"H\",4,MN_7_REDHEAD!$F$4:$F$1391,MN_7_REDHEAD!$E$4:$E$1391,MN_7_REDHEAD!$G$4:$G$1391,MN_7_REDHEAD!$C$4:$C$1391,\"P1\")","v":"(B) JUSTIN ROSENBOOM - [249]"},{"$f":"TeamScoreWithPlayers($B22,\"H\",4,MN_7_REDHEAD!$F$4:$F$1391,MN_7_REDHEAD!$E$4:$E$1391,MN_7_REDHEAD!$G$4:$G$1391,MN_7_REDHEAD!$C$4:$C$1391,\"P2\")","v":"(B) BENJAMIN STRICKLAND - [242]"},{"$f":"TeamScoreWithPlayers($B22,\"H\",4,MN_7_REDHEAD!$F$4:$F$1391,MN_7_REDHEAD!$E$4:$E$1391,MN_7_REDHEAD!$G$4:$G$1391,MN_7_REDHEAD!$C$4:$C$1391,\"P3\")","v":"(B) CARL BENSON - [216]"},{"$f":"TeamScoreWithPlayers($B22,\"H\",4,MN_7_REDHEAD!$F$4:$F$1391,MN_7_REDHEAD!$E$4:$E$1391,MN_7_REDHEAD!$G$4:$G$1391,MN_7_REDHEAD!$C$4:$C$1391,\"P4\")","v":"()  - [0]"},null,707,0,null,707]
[22,"Lakeville South High School",{"$f":"TeamScore(B23,\"H\",4,MN_7_REDHEAD!$F$4:$F$1391,MN_7_REDHEAD!$G$4:$G$1391,MN_7_REDHEAD!$C$4:$C$1391)","v":1057},null,null,{"$f":"TeamScoreWithPlayers($B23,\"H\",4,MN_7_REDHEAD!$F$4:$F$1391,MN_7_REDHEAD!$E$4:$E$1391,MN_7_REDHEAD!$G$4:$G$1391,MN_7_REDHEAD!$C$4:$C$1391,\"TS\")","v":1057},{"$f":"TeamScoreWithPlayers($B23,\"H\",4,MN_7_REDHEAD!$F$4:$F$1391,MN_7_REDHEAD!$E$4:$E$1391,MN_7_REDHEAD!$G$4:$G$1391,MN_7_REDHEAD!$C$4:$C$1391,\"P1\")","v":"(B) COURTLAND BRAGG - [484]"},{"$f":"TeamScoreWithPlayers($B23,\"H\",4,MN_7_REDHEAD!$F$4:$F$1391,MN_7_REDHEAD!$E$4:$E$1391,MN_7_REDHEAD!$G$4:$G$1391,MN_7_REDHEAD!$C$4:$C$1391,\"P2\")","v":"(B) CARTER NESBITT - [298]"},{"$f":"TeamScoreWithPlayers($B23,\"H\",4,MN_7_REDHEAD!$F$4:$F$1391,MN_7_REDHEAD!$E$4:$E$1391,MN_7_REDHEAD!$G$4:$G$1391,MN_7_REDHEAD!$C$4:$C$1391,\"P3\")","v":"(B) ANDERS CLEMON - [275]"},{"$f":"TeamScoreWithPlayers($B23,\"H\",4,MN_7_REDHEAD!$F$4:$F$1391,MN_7_REDHEAD!$E$4:$E$1391,MN_7_REDHEAD!$G$4:$G$1391,MN_7_REDHEAD!$C$4:$C$1391,\"P4\")","v":"()  - [0]"},null,1057,0,null,1057]
[23,"Mahtomedi High School",{"$f":"TeamScore(B24,\"H\",4,MN_7_REDHEAD!$F$4:$F$1391,MN_7_REDHEAD!$G$4:$G$1391,MN_7_REDHEAD!$C$4:$C$1391)","v":948},null,null,{"$f":"TeamScoreWithPlayers($B24,\"H\",4,MN_7_REDHEAD!$F$4:$F$1391,MN_7_REDHEAD!$E$4:$E$1391,MN_7_REDHEAD!$G$4:$G$1391,MN_7_REDHEAD!$C$4:$C$1391,\"TS\")","v":948},{"$f":"TeamScoreWithPlayers($B24,\"H\",4,MN_7_REDHEAD!$F$4:$F$1391,MN_7_REDHEAD!$E$4:$E$1391,MN_7_REDHEAD!$G$4:$G$1391,MN_7_REDHEAD!$C$4:$C$1391,\"P1\")","v":"(B) ETHAN ALBRECHT - [401]"},{"$f":"TeamScoreWithPlayers($B24,\"H\",4,MN_7_REDHEAD!$F$4:$F$1391,MN_7_REDHEAD!$E$4:$E$1391,MN_7_REDHEAD!$G$4:$G$1391,MN_7_REDHEAD!$C$4:$C$1391,\"P2\")","v":"(B) ISAIAH HORSAGER - [306]"},{"$f":"TeamScoreWithPlayers($B24,\"H\",4,MN_7_REDHEAD!$F$4:$F$1391,MN_7_REDHEAD!$E$4:$E$1391,MN_7_REDHEAD!$G$4:$G$1391,MN_7_REDHEAD!$C$4:$C$1391,\"P3\")","v":"(B) BRENDAN KENNEDY - [241]"},{"$f":"TeamScoreWithPlayers($B24,\"H\",4,MN_7_REDHEAD!$F$4:$F$1391,MN_7_REDHEAD!$E$4:$E$1391,MN_7_REDHEAD!$G$4:$G$1391,MN_7_REDHEAD!$C$4:$C$1391,\"P4\")","v":"()  - [0]"},null,948,0,null,948]
[24,"Mankato Composite",{"$f":"TeamScore(B25,\"H\",4,MN_7_REDHEAD!$F$4:$F$1391,MN_7_REDHEAD!$G$4:$G$1391,MN_7_REDHEAD!$C$4:$C$1391)","v":1479},null,null,{"$f":"TeamScoreWithPlayers($B25,\"H\",4,MN_7_REDHEAD!$F$4:$F$1391,MN_7_REDHEAD!$E$4:$E$1391,MN_7_REDHEAD!$G$4:$G$1391,MN_7_REDHEAD!$C$4:$C$1391,\"TS\")","v":1479},{"$f":"TeamScoreWithPlayers($B25,\"H\",4,MN_7_REDHEAD!$F$4:$F$1391,MN_7_REDHEAD!$E$4:$E$1391,MN_7_REDHEAD!$G$4:$G$1391,MN_7_REDHEAD!$C$4:$C$1391,\"P1\")","v":"(G) ABBY SKANE - [486]"},{"$f":"TeamScoreWithPlayers($B25,\"H\",4,MN_7_REDHEAD!$F$4:$F$1391,MN_7_REDHEAD!$E$4:$E$1391,MN_7_REDHEAD!$G$4:$G$1391,MN_7_REDHEAD!$C$4:$C$1391,\"P2\")","v":"(B) LOGAN BARKE - [446]"},{"$f":"TeamScoreWithPlayers($B25,\"H\",4,MN_7_REDHEAD!$F$4:$F$1391,MN_7_REDHEAD!$E$4:$E$1391,MN_7_REDHEAD!$G$4:$G$1391,MN_7_REDHEAD!$C$4:$C$1391,\"P3\")","v":"(B) ISAAC SCHAFFER - [298]"},{"$f":"TeamScoreWithPlayers($B25,\"H\",4,MN_7_REDHEAD!$F$4:$F$1391,MN_7_REDHEAD!$E$4:$E$1391,MN_7_REDHEAD!$G$4:$G$1391,MN_7_REDHEAD!$C$4:$C$1391,\"P4\")","v":"(B) SIDNEY SHANAFELT - [249]"},null,1479,0,null,1479]
[25,"Mankato West High School",{"$f":"TeamScore(B26,\"H\",4,MN_7_REDHEAD!$F$4:$F$1391,MN_7_REDHEAD!$G$4:$G$1391,MN_7_REDHEAD!$C$4:$C$1391)","v":1215},null,null,{"$f":"TeamScoreWithPlayers($B26,\"H\",4,MN_7_REDHEAD!$F$4:$F$1391,MN_7_REDHEAD!$E$4:$E$1391,MN_7_REDHEAD!$G$4:$G$1391,MN_7_REDHEAD!$C$4:$C$1391,\"TS\")","v":1215},{"$f":"TeamScoreWithPlayers($B26,\"H\",4,MN_7_REDHEAD!$F$4:$F$1391,MN_7_REDHEAD!$E$4:$E$1391,MN_7_REDHEAD!$G$4:$G$1391,MN_7_REDHEAD!$C$4:$C$1391,\"P1\")","v":"(B) BRENDAN ISENBERG - [468]"},{"$f":"TeamScoreWithPlayers($B26,\"H\",4,MN_7_REDHEAD!$F$4:$F$1391,MN_7_REDHEAD!$E$4:$E$1391,MN_7_REDHEAD!$G$4:$G$1391,MN_7_REDHEAD!$C$4:$C$1391,\"P2\")","v":"(B) CALEB GRASSMANN - [379]"},{"$f":"TeamScoreWithPlayers($B26,\"H\",4,MN_7_REDHEAD!$F$4:$F$1391,MN_7_REDHEAD!$E$4:$E$1391,MN_7_REDHEAD!$G$4:$G$1391,MN_7_REDHEAD!$C$4:$C$1391,\"P3\")","v":"(B) WALTER MICHELS - [368]"},{"$f":"TeamScoreWithPlayers($B26,\"H\",4,MN_7_REDHEAD!$F$4:$F$1391,MN_7_REDHEAD!$E$4:$E$1391,MN_7_REDHEAD!$G$4:$G$1391,MN_7_REDHEAD!$C$4:$C$1391,\"P4\")","v":"()  - [0]"},null,1215,0,null,1215]
[26,"Maple Grove High School",{"$f":"TeamScore(B27,\"H\",4,MN_7_REDHEAD!$F$4:$F$1391,MN_7_REDHEAD!$G$4:$G$1391,MN_7_REDHEAD!$C$4:$C$1391)","v":1332},null,null,{"$f":"TeamScoreWithPlayers($B27,\"H\",4,MN_7_REDHEAD!$F$4:$F$1391,MN_7_REDHEAD!$E$4:$E$1391,MN_7_REDHEAD!$G$4:$G$1391,MN_7_REDHEAD!$C$4:$C$1391,\"TS\")","v":1332},{"$f":"TeamScoreWithPlayers($B27,\"H\",4,MN_7_REDHEAD!$F$4:$F$1391,MN_7_REDHEAD!$E$4:$E$1391,MN_7_REDHEAD!$G$4:$G$1391,MN_7_REDHEAD!$C$4:$C$1391,\"P1\")","v":"(G) SAVANNAH KRULL - [447]"},{"$f":"TeamScoreWithPlayers($B27,\"H\",4,MN_7_REDHEAD!$F$4:$F$1391,MN_7_REDHEAD!$E$4:$E$1391,MN_7_REDHEAD!$G$4:$G$1391,MN_7_REDHEAD!$C$4:$C$1391,\"P2\")","v":"(G) SAMANTHA ALTMAN - [334]"},{"$f":"TeamScoreWithPlayers($B27,\"H\",4,MN_7_REDHEAD!$F$4:$F$1391,MN_7_REDHEAD!$E$4:$E$1391,MN_7_REDHEAD!$G$4:$G$1391,MN_7_REDHEAD!$C$4:$C$1391,\"P3\")","v":"(G) REGAN GROSS - [304]"},{"$f":"TeamScoreWithPlayers($B27,\"H\",4,MN_7_REDHEAD!$F$4:$F$1391,MN_7_REDHEAD!$E$4:$E$1391,MN_7_REDHEAD!$G$4:$G$1391,MN_7_REDHEAD!$C$4:$C$1391,\"P4\")","v":"(B) NOAH FOX - [247]"},null,1332,0,null,1332]
[27,"Minneapolis Henry High School",{"$f":"TeamScore(B28,\"H\",4,MN_7_REDHEAD!$F$4:$F$1391,MN_7_REDHEAD!$G$4:$G$1391,MN_7_REDHEAD!$C$4:$C$1391)","v":1368},null,null,{"$f":"TeamScoreWithPlayers($B28,\"H\",4,MN_7_REDHEAD!$F$4:$F$1391,MN_7_REDHEAD!$E$4:$E$1391,MN_7_REDHEAD!$G$4:$G$1391,MN_7_REDHEAD!$C$4:$C$1391,\"TS\")","v":1368},{"$f":"TeamScoreWithPlayers($B28,\"H\",4,MN_7_REDHEAD!$F$4:$F$1391,MN_7_REDHEAD!$E$4:$E$1391,MN_7_REDHEAD!$G$4:$G$1391,MN_7_REDHEAD!$C$4:$C$1391,\"P1\")","v":"(G) JUNA KRIKAVA - [401]"},{"$f":"TeamScoreWithPlayers($B28,\"H\",4,MN_7_REDHEAD!$F$4:$F$1391,MN_7_REDHEAD!$E$4:$E$1391,MN_7_REDHEAD!$G$4:$G$1391,MN_7_REDHEAD!$C$4:$C$1391,\"P2\")","v":"(G) LELA SABIN - [369]"},{"$f":"TeamScoreWithPlayers($B28,\"H\",4,MN_7_REDHEAD!$F$4:$F$1391,MN_7_REDHEAD!$E$4:$E$1391,MN_7_REDHEAD!$G$4:$G$1391,MN_7_REDHEAD!$C$4:$C$1391,\"P3\")","v":"(B) HENRY MROTZ - [326]"},{"$f":"TeamScoreWithPlayers($B28,\"H\",4,MN_7_REDHEAD!$F$4:$F$1391,MN_7_REDHEAD!$E$4:$E$1391,MN_7_REDHEAD!$G$4:$G$1391,MN_7_REDHEAD!$C$4:$C$1391,\"P4\")","v":"(B) AMIN AIT BENHADDOU - [272]"},null,1368,0,null,1368]
[28,"Minneapolis Northside Composite",{"$f":"TeamScore(B29,\"H\",4,MN_7_REDHEAD!$F$4:$F$1391,MN_7_REDHEAD!$G$4:$G$1391,MN_7_REDHEAD!$C$4:$C$1391)","v":583},null,null,{"$f":"TeamScoreWithPlayers($B29,\"H\",4,MN_7_REDHEAD!$F$4:$F$1391,MN_7_REDHEAD!$E$4:$E$1391,MN_7_REDHEAD!$G$4:$G$1391,MN_7_REDHEAD!$C$4:$C$1391,\"TS\")","v":583},{"$f":"TeamScoreWithPlayers($B29,\"H\",4,MN_7_REDHEAD!$F$4:$F$1391,MN_7_REDHEAD!$E$4:$E$1391,MN_7_REDHEAD!$G$4:$G$1391,MN_7_REDHEAD!$C$4:$C$1391,\"P1\")","v":"(B) AYDAN DARK - [326]"},{"$f":"TeamScoreWithPlayers($B29,\"H\",4,MN_7_REDHEAD!$F$4:$F$1391,MN_7_REDHEAD!$E$4:$E$1391,MN_7_REDHEAD!$G$4:$G$1391,MN_7_REDHEAD!$C$4:$C$1391,\"P2\")","v":"(B) FINNEGAN BENDER - [257]"},{"$f":"TeamScoreWithPlayers($B29,\"H\",4,MN_7_REDHEAD!$F$4:$F$1391,MN_7_REDHEAD!$E$4:$E$1391,MN_7_REDHEAD!$G$4:$G$1391,MN_7_REDHEAD!$C$4:$C$1391,\"P3\")","v":"()  - [0]"},{"$f":"TeamScoreWithPlayers($B29,\"H\",4,MN_7_REDHEAD!$F$4:$F$1391,MN_7_REDHEAD!$E$4:$E$1391,MN_7_REDHEAD!$G$4:$G$1391,MN_7_REDHEAD!$C$4:$C$1391,\"P4\")","v":"()  - [0]"},null,583,0,null,583]
[29,"Minneapolis South High",{"$f":"TeamScore(B30,\"H\",4,MN_7_REDHEAD!$F$4:$F$1391,MN_7_REDHEAD!$G$4:$G$1391,MN_7_REDHEAD!$C$4:$C$1391)","v":1186},null,null,{"$f":"TeamScoreWithPlayers($B30,\"H\",4,MN_7_REDHEAD!$F$4:$F$1391,MN_7_REDHEAD!$E$4:$E$1391,MN_7_REDHEAD!$G$4:$G$1391,MN_7_REDHEAD!$C$4:$C$1391,\"TS\")","v":1186},{"$f":"TeamScoreWithPlayers($B30,\"H\",4,MN_7_REDHEAD!$F$4:$F$1391,MN_7_REDHEAD!$E$4:$E$1391,MN_7_REDHEAD!$G$4:$G$1391,MN_7_REDHEAD!$C$4:$C$1391,\"P1\")","v":"(B) JESSE HEIM - [413]"},{"$f":"TeamScoreWithPlayers($B30,\"H\",4,MN_7_REDHEAD!$F$4:$F$1391,MN_7_REDHEAD!$E$4:$E$1391,MN_7_REDHEAD!$G$4:$G$1391,MN_7_REDHEAD!$C$4:$C$1391,\"P2\")","v":"(B) THEO HOLDSWORTH - [409]"},{"$f":"TeamScoreWithPlayers($B30,\"H\",4,MN_7_REDHEAD!$F$4:$F$1391,MN_7_REDHEAD!$E$4:$E$1391,MN_7_REDHEAD!$G$4:$G$1391,MN_7_REDHEAD!$C$4:$C$1391,\"P3\")","v":"(B) ZAE ISENSEE - [364]"},{"$f":"TeamScoreWithPlayers($B30,\"H\",4,MN_7_REDHEAD!$F$4:$F$1391,MN_7_REDHEAD!$E$4:$E$1391,MN_7_REDHEAD!$G$4:$G$1391,MN_7_REDHEAD!$C$4:$C$1391,\"P4\")","v":"()  - [0]"},null,1186,0,null,1186]
[30,"Minneapolis Southside Composite",{"$f":"TeamScore(B31,\"H\",4,MN_7_REDHEAD!$F$4:$F$1391,MN_7_REDHEAD!$G$4:$G$1391,MN_7_REDHEAD!$C$4:$C$1391)","v":1998},null,null,{"$f":"TeamScoreWithPlayers($B31,\"H\",4,MN_7_REDHEAD!$F$4:$F$1391,MN_7_REDHEAD!$E$4:$E$1391,MN_7_REDHEAD!$G$4:$G$1391,MN_7_REDHEAD!$C$4:$C$1391,\"TS\")","v":1998},{"$f":"TeamScoreWithPlayers($B31,\"H\",4,MN_7_REDHEAD!$F$4:$F$1391,MN_7_REDHEAD!$E$4:$E$1391,MN_7_REDHEAD!$G$4:$G$1391,MN_7_REDHEAD!$C$4:$C$1391,\"P1\")","v":"(B) THOMAS AVRA - [569]"},{"$f":"TeamScoreWithPlayers($B31,\"H\",4,MN_7_REDHEAD!$F$4:$F$1391,MN_7_REDHEAD!$E$4:$E$1391,MN_7_REDHEAD!$G$4:$G$1391,MN_7_REDHEAD!$C$4:$C$1391,\"P2\")","v":"(G) INGA WING - [550]"},{"$f":"TeamScoreWithPlayers($B31,\"H\",4,MN_7_REDHEAD!$F$4:$F$1391,MN_7_REDHEAD!$E$4:$E$1391,MN_7_REDHEAD!$G$4:$G$1391,MN_7_REDHEAD!$C$4:$C$1391,\"P3\")","v":"(B) DOMINIC WOOD - [484]"},{"$f":"TeamScoreWithPlayers($B31,\"H\",4,MN_7_REDHEAD!$F$4:$F$1391,MN_7_REDHEAD!$E$4:$E$1391,MN_7_REDHEAD!$G$4:$G$1391,MN_7_REDHEAD!$C$4:$C$1391,\"P4\")","v":"(B) WILLIS HEIM - [395]"},null,1998,0,null,1998]
[31,"Minnesota Valley Composite",{"$f":"TeamScore(B32,\"H\",4,MN_7_REDHEAD!$F$4:$F$1391,MN_7_REDHEAD!$G$4:$G$1391,MN_7_REDHEAD!$C$4:$C$1391)","v":1773},null,null,{"$f":"TeamScoreWithPlayers($B32,\"H\",4,MN_7_REDHEAD!$F$4:$F$1391,MN_7_REDHEAD!$E$4:$E$1391,MN_7_REDHEAD!$G$4:$G$1391,MN_7_REDHEAD!$C$4:$C$1391,\"TS\")","v":1773},{"$f":"TeamScoreWithPlayers($B32,\"H\",4,MN_7_REDHEAD!$F$4:$F$1391,MN_7_REDHEAD!$E$4:$E$1391,MN_7_REDHEAD!$G$4:$G$1391,MN_7_REDHEAD!$C$4:$C$1391,\"P1\")","v":"(G) CARISSA BOLSTER - [468]"},{"$f":"TeamScoreWithPlayers($B32,\"H\",4,MN_7_REDHEAD!$F$4:$F$1391,MN_7_REDHEAD!$E$4:$E$1391,MN_7_REDHEAD!$G$4:$G$1391,MN_7_REDHEAD!$C$4:$C$1391,\"P2\")","v":"(B) ODEN OLSON - [468]"},{"$f":"TeamScoreWithPlayers($B32,\"H\",4,MN_7_REDHEAD!$F$4:$F$1391,MN_7_REDHEAD!$E$4:$E$1391,MN_7_REDHEAD!$G$4:$G$1391,MN_7_REDHEAD!$C$4:$C$1391,\"P3\")","v":"(B) ZACH FAHEY - [453]"},{"$f":"TeamScoreWithPlayers($B32,\"H\",4,MN_7_REDHEAD!$F$4:$F$1391,MN_7_REDHEAD!$E$4:$E$1391,MN_7_REDHEAD!$G$4:$G$1391,MN_7_REDHEAD!$C$4:$C$1391,\"P4\")","v":"(B) SAWYER SCHETTL - [384]"},null,1773,0,null,1773]
[32,"Mound Westonka Composite",{"$f":"TeamScore(B33,\"H\",4,MN_7_REDHEAD!$F$4:$F$1391,MN_7_REDHEAD!$G$4:$G$1391,MN_7_REDHEAD!$C$4:$C$1391)","v":1033},null,null,{"$f":"TeamScoreWithPlayers($B33,\"H\",4,MN_7_REDHEAD!$F$4:$F$1391,MN_7_REDHEAD!$E$4:$E$1391,MN_7_REDHEAD!$G$4:$G$1391,MN_7_REDHEAD!$C$4:$C$1391,\"TS\")","v":1033},{"$f":"TeamScoreWithPlayers($B33,\"H\",4,MN_7_REDHEAD!$F$4:$F$1391,MN_7_REDHEAD!$E$4:$E$1391,MN_7_REDHEAD!$G$4:$G$1391,MN_7_REDHEAD!$C$4:$C$1391,\"P1\")","v":"(B) COLIN PETERSON - [407]"},{"$f":"TeamScoreWithPlayers($B33,\"H\",4,MN_7_REDHEAD!$F$4:$F$1391,MN_7_REDHEAD!$E$4:$E$1391,MN_7_REDHEAD!$G$4:$G$1391,MN_7_REDHEAD!$C$4:$C$1391,\"P2\")","v":"(B) MAX BRYAN - [313]"},{"$f":"TeamScoreWithPlayers($B33,\"H\",4,MN_7_REDHEAD!$F$4:$F$1391,MN_7_REDHEAD!$E$4:$E$1391,MN_7_REDHEAD!$G$4:$G$1391,MN_7_REDHEAD!$C$4:$C$1391,\"P3\")","v":"(B) SAMUEL BURNS - [313]"},{"$f":"TeamScoreWithPlayers($B33,\"H\",4,MN_7_REDHEAD!$F$4:$F$1391,MN_7_REDHEAD!$E$4:$E$1391,MN_7_REDHEAD!$G$4:$G$1391,MN_7_REDHEAD!$C$4:$C$1391,\"P4\")","v":"()  - [0]"},null,1033,0,null,1033]
[33,"North Dakota Composite",{"$f":"TeamScore(B34,\"H\",4,MN_7_REDHEAD!$F$4:$F$1391,MN_7_REDHEAD!$G$4:$G$1391,MN_7_REDHEAD!$C$4:$C$1391)","v":1711},null,null,{"$f":"TeamScoreWithPlayers($B34,\"H\",4,MN_7_REDHEAD!$F$4:$F$1391,MN_7_REDHEAD!$E$4:$E$1391,MN_7_REDHEAD!$G$4:$G$1391,MN_7_REDHEAD!$C$4:$C$1391,\"TS\")","v":1711},{"$f":"TeamScoreWithPlayers($B34,\"H\",4,MN_7_REDHEAD!$F$4:$F$1391,MN_7_REDHEAD!$E$4:$E$1391,MN_7_REDHEAD!$G$4:$G$1391,MN_7_REDHEAD!$C$4:$C$1391,\"P1\")","v":"(B) SETH HEIN - [492]"},{"$f":"TeamScoreWithPlayers($B34,\"H\",4,MN_7_REDHEAD!$F$4:$F$1391,MN_7_REDHEAD!$E$4:$E$1391,MN_7_REDHEAD!$G$4:$G$1391,MN_7_REDHEAD!$C$4:$C$1391,\"P2\")","v":"(G) JADAH KELLY - [453]"},{"$f":"TeamScoreWithPlayers($B34,\"H\",4,MN_7_REDHEAD!$F$4:$F$1391,MN_7_REDHEAD!$E$4:$E$1391,MN_7_REDHEAD!$G$4:$G$1391,MN_7_REDHEAD!$C$4:$C$1391,\"P3\")","v":"(B) BRODY PARMER - [425]"},{"$f":"TeamScoreWithPlayers($B34,\"H\",4,MN_7_REDHEAD!$F$4:$F$1391,MN_7_REDHEAD!$E$4:$E$1391,MN_7_REDHEAD!$G$4:$G$1391,MN_7_REDHEAD!$C$4:$C$1391,\"P4\")","v":"(B) LUKAS ROBINSON - [341]"},null,1711,0,null,1711]
[34,"North Dakota Kindred Composite",{"$f":"TeamScore(B35,\"H\",4,MN_7_REDHEAD!$F$4:$F$1391,MN_7_REDHEAD!$G$4:$G$1391,MN_7_REDHEAD!$C$4:$C$1391)","v":1328},null,null,{"$f":"TeamScoreWithPlayers($B35,\"H\",4,MN_7_REDHEAD!$F$4:$F$1391,MN_7_REDHEAD!$E$4:$E$1391,MN_7_REDHEAD!$G$4:$G$1391,MN_7_REDHEAD!$C$4:$C$1391,\"TS\")","v":1328},{"$f":"TeamScoreWithPlayers($B35,\"H\",4,MN_7_REDHEAD!$F$4:$F$1391,MN_7_REDHEAD!$E$4:$E$1391,MN_7_REDHEAD!$G$4:$G$1391,MN_7_REDHEAD!$C$4:$C$1391,\"P1\")","v":"(B) ISAAC SCHWARZ - [510]"},{"$f":"TeamScoreWithPlayers($B35,\"H\",4,MN_7_REDHEAD!$F$4:$F$1391,MN_7_REDHEAD!$E$4:$E$1391,MN_7_REDHEAD!$G$4:$G$1391,MN_7_REDHEAD!$C$4:$C$1391,\"P2\")","v":"(B) ELIJAH SCHWARZ - [459]"},{"$f":"TeamScoreWithPlayers($B35,\"H\",4,MN_7_REDHEAD!$F$4:$F$1391,MN_7_REDHEAD!$E$4:$E$1391,MN_7_REDHEAD!$G$4:$G$1391,MN_7_REDHEAD!$C$4:$C$1391,\"P3\")","v":"(B) NOAH SAUVAGEAU - [359]"},{"$f":"TeamScoreWithPlayers($B35,\"H\",4,MN_7_REDHEAD!$F$4:$F$1391,MN_7_REDHEAD!$E$4:$E$1391,MN_7_REDHEAD!$G$4:$G$1391,MN_7_REDHEAD!$C$4:$C$1391,\"P4\")","v":"()  - [0]"},null,1328,0,null,1328]
[35,"Northwest Composite",{"$f":"TeamScore(B36,\"H\",4,MN_7_REDHEAD!$F$4:$F$1391,MN_7_REDHEAD!$G$4:$G$1391,MN_7_REDHEAD!$C$4:$C$1391)","v":1204},null,null,{"$f":"TeamScoreWithPlayers($B36,\"H\",4,MN_7_REDHEAD!$F$4:$F$1391,MN_7_REDHEAD!$E$4:$E$1391,MN_7_REDHEAD!$G$4:$G$1391,MN_7_REDHEAD!$C$4:$C$1391,\"TS\")","v":1204},{"$f":"TeamScoreWithPlayers($B36,\"H\",4,MN_7_REDHEAD!$F$4:$F$1391,MN_7_REDHEAD!$E$4:$E$1391,MN_7_REDHEAD!$G$4:$G$1391,MN_7_REDHEAD!$C$4:$C$1391,\"P1\")","v":"(B) HAYDEN LEISETH - [424]"},{"$f":"TeamScoreWithPlayers($B36,\"H\",4,MN_7_REDHEAD!$F$4:$F$1391,MN_7_REDHEAD!$E$4:$E$1391,MN_7_REDHEAD!$G$4:$G$1391,MN_7_REDHEAD!$C$4:$C$1391,\"P2\")","v":"(B) JACOB T OLSON - [401]"},{"$f":"TeamScoreWithPlayers($B36,\"H\",4,MN_7_REDHEAD!$F$4:$F$1391,MN_7_REDHEAD!$E$4:$E$1391,MN_7_REDHEAD!$G$4:$G$1391,MN_7_REDHEAD!$C$4:$C$1391,\"P3\")","v":"(B) GABE LINDSTROM - [379]"},{"$f":"TeamScoreWithPlayers($B36,\"H\",4,MN_7_REDHEAD!$F$4:$F$1391,MN_7_REDHEAD!$E$4:$E$1391,MN_7_REDHEAD!$G$4:$G$1391,MN_7_REDHEAD!$C$4:$C$1391,\"P4\")","v":"()  - [0]"},null,1204,0,null,1204]
[36,"Orono High School",{"$f":"TeamScore(B37,\"H\",4,MN_7_REDHEAD!$F$4:$F$1391,MN_7_REDHEAD!$G$4:$G$1391,MN_7_REDHEAD!$C$4:$C$1391)","v":1372},null,null,{"$f":"TeamScoreWithPlayers($B37,\"H\",4,MN_7_REDHEAD!$F$4:$F$1391,MN_7_REDHEAD!$E$4:$E$1391,MN_7_REDHEAD!$G$4:$G$1391,MN_7_REDHEAD!$C$4:$C$1391,\"TS\")","v":1372},{"$f":"TeamScoreWithPlayers($B37,\"H\",4,MN_7_REDHEAD!$F$4:$F$1391,MN_7_REDHEAD!$E$4:$E$1391,MN_7_REDHEAD!$G$4:$G$1391,MN_7_REDHEAD!$C$4:$C$1391,\"P1\")","v":"(B) WILLIAM BECK - [559]"},{"$f":"TeamScoreWithPlayers($B37,\"H\",4,MN_7_REDHEAD!$F$4:$F$1391,MN_7_REDHEAD!$E$4:$E$1391,MN_7_REDHEAD!$G$4:$G$1391,MN_7_REDHEAD!$C$4:$C$1391,\"P2\")","v":"(B) JOHNNY DIPRIMA - [510]"},{"$f":"TeamScoreWithPlayers($B37,\"H\",4,MN_7_REDHEAD!$F$4:$F$1391,MN_7_REDHEAD!$E$4:$E$1391,MN_7_REDHEAD!$G$4:$G$1391,MN_7_REDHEAD!$C$4:$C$1391,\"P3\")","v":"(B) WALTER HOLMES - [303]"},{"$f":"TeamScoreWithPlayers($B37,\"H\",4,MN_7_REDHEAD!$F$4:$F$1391,MN_7_REDHEAD!$E$4:$E$1391,MN_7_REDHEAD!$G$4:$G$1391,MN_7_REDHEAD!$C$4:$C$1391,\"P4\")","v":"()  - [0]"},null,1372,0,null,1372]
[37,"Osseo",{"$f":"TeamScore(B38,\"H\",4,MN_7_REDHEAD!$F$4:$F$1391,MN_7_REDHEAD!$G$4:$G$1391,MN_7_REDHEAD!$C$4:$C$1391)","v":904},null,null,{"$f":"TeamScoreWithPlayers($B38,\"H\",4,MN_7_REDHEAD!$F$4:$F$1391,MN_7_REDHEAD!$E$4:$E$1391,MN_7_REDHEAD!$G$4:$G$1391,MN_7_REDHEAD!$C$4:$C$1391,\"TS\")","v":904},{"$f":"TeamScoreWithPlayers($B38,\"H\",4,MN_7_REDHEAD!$F$4:$F$1391,MN_7_REDHEAD!$E$4:$E$1391,MN_7_REDHEAD!$G$4:$G$1391,MN_7_REDHEAD!$C$4:$C$1391,\"P1\")","v":"(B) BENJAMIN PIPKIN - [307]"},{"$f":"TeamScoreWithPlayers($B38,\"H\",4,MN_7_REDHEAD!$F$4:$F$1391,MN_7_REDHEAD!$E$4:$E$1391,MN_7_REDHEAD!$G$4:$G$1391,MN_7_REDHEAD!$C$4:$C$1391,\"P2\")","v":"(B) SAM FRABEL - [304]"},{"$f":"TeamScoreWithPlayers($B38,\"H\",4,MN_7_REDHEAD!$F$4:$F$1391,MN_7_REDHEAD!$E$4:$E$1391,MN_7_REDHEAD!$G$4:$G$1391,MN_7_REDHEAD!$C$4:$C$1391,\"P3\")","v":"(B) JASON ANDERSEN - [293]"},{"$f":"TeamScoreWithPlayers($B38,\"H\",4,MN_7_REDHEAD!$F$4:$F$1391,MN_7_REDHEAD!$E$4:$E$1391,MN_7_REDHEAD!$G$4:$G$1391,MN_7_REDHEAD!$C$4:$C$1391,\"P4\")","v":"()  - [0]"},null,904,0,null,904]
[38,"Osseo Composite",{"$f":"TeamScore(B39,\"H\",4,MN_7_REDHEAD!$F$4:$F$1391,MN_7_REDHEAD!$G$4:$G$1391,MN_7_REDHEAD!$C$4:$C$1391)","v":838},null,null,{"$f":"TeamScoreWithPlayers($B39,\"H\",4,MN_7_REDHEAD!$F$4:$F$1391,MN_7_REDHEAD!$E$4:$E$1391,MN_7_REDHEAD!$G$4:$G$1391,MN_7_REDHEAD!$C$4:$C$1391,\"TS\")","v":838},{"$f":"TeamScoreWithPlayers($B39,\"H\",4,MN_7_REDHEAD!$F$4:$F$1391,MN_7_REDHEAD!$E$4:$E$1391,MN_7_REDHEAD!$G$4:$G$1391,MN_7_REDHEAD!$C$4:$C$1391,\"P1\")","v":"(B) ABE OLSON - [395]"},{"$f":"TeamScoreWithPlayers($B39,\"H\",4,MN_7_REDHEAD!$F$4:$F$1391,MN_7_REDHEAD!$E$4:$E$1391,MN_7_REDHEAD!$G$4:$G$1391,MN_7_REDHEAD!$C$4:$C$1391,\"P2\")","v":"(B) BEN HESLI - [224]"},{"$f":"TeamScoreWithPlayers($B39,\"H\",4,MN_7_REDHEAD!$F$4:$F$1391,MN_7_REDHEAD!$E$4:$E$1391,MN_7_REDHEAD!$G$4:$G$1391,MN_7_REDHEAD!$C$4:$C$1391,\"P3\")","v":"(B) ELLIOT ZIMPFER - [219]"},{"$f":"TeamScoreWithPlayers($B39,\"H\",4,MN_7_REDHEAD!$F$4:$F$1391,MN_7_REDHEAD!$E$4:$E$1391,MN_7_REDHEAD!$G$4:$G$1391,MN_7_REDHEAD!$C$4:$C$1391,\"P4\")","v":"()  - [0]"},null,838,0,null,838]
[39,"Park High School",{"$f":"TeamScore(B40,\"H\",4,MN_7_REDHEAD!$F$4:$F$1391,MN_7_REDHEAD!$G$4:$G$1391,MN_7_REDHEAD!$C$4:$C$1391)","v":847},null,null,{"$f":"TeamScoreWithPlayers($B40,\"H\",4,MN_7_REDHEAD!$F$4:$F$1391,MN_7_REDHEAD!$E$4:$E$1391,MN_7_REDHEAD!$G$4:$G$1391,MN_7_REDHEAD!$C$4:$C$1391,\"TS\")","v":847},{"$f":"TeamScoreWithPlayers($B40,\"H\",4,MN_7_REDHEAD!$F$4:$F$1391,MN_7_REDHEAD!$E$4:$E$1391,MN_7_REDHEAD!$G$4:$G$1391,MN_7_REDHEAD!$C$4:$C$1391,\"P1\")","v":"(B) NOLAN OTT - [338]"},{"$f":"TeamScoreWithPlayers($B40,\"H\",4,MN_7_REDHEAD!$F$4:$F$1391,MN_7_REDHEAD!$E$4:$E$1391,MN_7_REDHEAD!$G$4:$G$1391,MN_7_REDHEAD!$C$4:$C$1391,\"P2\")","v":"(B) JACK SCHWEIGERT - [275]"},{"$f":"TeamScoreWithPlayers($B40,\"H\",4,MN_7_REDHEAD!$F$4:$F$1391,MN_7_REDHEAD!$E$4:$E$1391,MN_7_REDHEAD!$G$4:$G$1391,MN_7_REDHEAD!$C$4:$C$1391,\"P3\")","v":"(B) LOGAN SCHWEIGERT - [234]"},{"$f":"TeamScoreWithPlayers($B40,\"H\",4,MN_7_REDHEAD!$F$4:$F$1391,MN_7_REDHEAD!$E$4:$E$1391,MN_7_REDHEAD!$G$4:$G$1391,MN_7_REDHEAD!$C$4:$C$1391,\"P4\")","v":"()  - [0]"},null,847,0,null,847]
[40,"River Falls High School",{"$f":"TeamScore(B41,\"H\",4,MN_7_REDHEAD!$F$4:$F$1391,MN_7_REDHEAD!$G$4:$G$1391,MN_7_REDHEAD!$C$4:$C$1391)","v":1525},null,null,{"$f":"TeamScoreWithPlayers($B41,\"H\",4,MN_7_REDHEAD!$F$4:$F$1391,MN_7_REDHEAD!$E$4:$E$1391,MN_7_REDHEAD!$G$4:$G$1391,MN_7_REDHEAD!$C$4:$C$1391,\"TS\")","v":1525},{"$f":"TeamScoreWithPlayers($B41,\"H\",4,MN_7_REDHEAD!$F$4:$F$1391,MN_7_REDHEAD!$E$4:$E$1391,MN_7_REDHEAD!$G$4:$G$1391,MN_7_REDHEAD!$C$4:$C$1391,\"P1\")","v":"(G) KATE NICKLESKI - [468]"},{"$f":"TeamScoreWithPlayers($B41,\"H\",4,MN_7_REDHEAD!$F$4:$F$1391,MN_7_REDHEAD!$E$4:$E$1391,MN_7_REDHEAD!$G$4:$G$1391,MN_7_REDHEAD!$C$4:$C$1391,\"P2\")","v":"(B) BRENNEN DADO - [413]"},{"$f":"TeamScoreWithPlayers($B41,\"H\",4,MN_7_REDHEAD!$F$4:$F$1391,MN_7_REDHEAD!$E$4:$E$1391,MN_7_REDHEAD!$G$4:$G$1391,MN_7_REDHEAD!$C$4:$C$1391,\"P3\")","v":"(B) ROMAN DAVENPORT - [359]"},{"$f":"TeamScoreWithPlayers($B41,\"H\",4,MN_7_REDHEAD!$F$4:$F$1391,MN_7_REDHEAD!$E$4:$E$1391,MN_7_REDHEAD!$G$4:$G$1391,MN_7_REDHEAD!$C$4:$C$1391,\"P4\")","v":"(B) DEVAN STRATTON - [285]"},null,1525,0,null,1525]
[41,"Rochester Area Composite",{"$f":"TeamScore(B42,\"H\",4,MN_7_REDHEAD!$F$4:$F$1391,MN_7_REDHEAD!$G$4:$G$1391,MN_7_REDHEAD!$C$4:$C$1391)","v":1417},null,null,{"$f":"TeamScoreWithPlayers($B42,\"H\",4,MN_7_REDHEAD!$F$4:$F$1391,MN_7_REDHEAD!$E$4:$E$1391,MN_7_REDHEAD!$G$4:$G$1391,MN_7_REDHEAD!$C$4:$C$1391,\"TS\")","v":1417},{"$f":"TeamScoreWithPlayers($B42,\"H\",4,MN_7_REDHEAD!$F$4:$F$1391,MN_7_REDHEAD!$E$4:$E$1391,MN_7_REDHEAD!$G$4:$G$1391,MN_7_REDHEAD!$C$4:$C$1391,\"P1\")","v":"(B) GAVIN HAUGEN - [460]"},{"$f":"TeamScoreWithPlayers($B42,\"H\",4,MN_7_REDHEAD!$F$4:$F$1391,MN_7_REDHEAD!$E$4:$E$1391,MN_7_REDHEAD!$G$4:$G$1391,MN_7_REDHEAD!$C$4:$C$1391,\"P2\")","v":"(G) CHLOE HARDTKE - [346]"},{"$f":"TeamScoreWithPlayers($B42,\"H\",4,MN_7_REDHEAD!$F$4:$F$1391,MN_7_REDHEAD!$E$4:$E$1391,MN_7_REDHEAD!$G$4:$G$1391,MN_7_REDHEAD!$C$4:$C$1391,\"P3\")","v":"(B) SAM EAGLE - [322]"},{"$f":"TeamScoreWithPlayers($B42,\"H\",4,MN_7_REDHEAD!$F$4:$F$1391,MN_7_REDHEAD!$E$4:$E$1391,MN_7_REDHEAD!$G$4:$G$1391,MN_7_REDHEAD!$C$4:$C$1391,\"P4\")","v":"(B) KYLER JOHNSON - [289]"},null,1417,0,null,1417]
[42,"Rochester John Marshall",{"$f":"TeamScore(B43,\"H\",4,MN_7_REDHEAD!$F$4:$F$1391,MN_7_REDHEAD!$G$4:$G$1391,MN_7_REDHEAD!$C$4:$C$1391)","v":480},null,null,{"$f":"TeamScoreWithPlayers($B43,\"H\",4,MN_7_REDHEAD!$F$4:$F$1391,MN_7_REDHEAD!$E$4:$E$1391,MN_7_REDHEAD!$G$4:$G$1391,MN_7_REDHEAD!$C$4:$C$1391,\"TS\")","v":480},{"$f":"TeamScoreWithPlayers($B43,\"H\",4,MN_7_REDHEAD!$F$4:$F$1391,MN_7_REDHEAD!$E$4:$E$1391,MN_7_REDHEAD!$G$4:$G$1391,MN_7_REDHEAD!$C$4:$C$1391,\"P1\")","v":"(B) LOGAN LANDON - [248]"},{"$f":"TeamScoreWithPlayers($B43,\"H\",4,MN_7_REDHEAD!$F$4:$F$1391,MN_7_REDHEAD!$E$4:$E$1391,MN_7_REDHEAD!$G$4:$G$1391,MN_7_REDHEAD!$C$4:$C$1391,\"P2\")","v":"(B) RILEY LANDON - [232]"},{"$f":"TeamScoreWithPlayers($B43,\"H\",4,MN_7_REDHEAD!$F$4:$F$1391,MN_7_REDHEAD!$E$4:$E$1391,MN_7_REDHEAD!$G$4:$G$1391,MN_7_REDHEAD!$C$4:$C$1391,\"P3\")","v":"()  - [0]"},{"$f":"TeamScoreWithPlayers($B43,\"H\",4,MN_7_REDHEAD!$F$4:$F$1391,MN_7_REDHEAD!$E$4:$E$1391,MN_7_REDHEAD!$G$4:$G$1391,MN_7_REDHEAD!$C$4:$C$1391,\"P4\")","v":"()  - [0]"},null,480,0,null,480]
[43,"Rochester Mayo",{"$f":"TeamScore(B44,\"H\",4,MN_7_REDHEAD!$F$4:$F$1391,MN_7_REDHEAD!$G$4:$G$1391,MN_7_REDHEAD!$C$4:$C$1391)","v":1831},null,null,{"$f":"TeamScoreWithPlayers($B44,\"H\",4,MN_7_REDHEAD!$F$4:$F$1391,MN_7_REDHEAD!$E$4:$E$1391,MN_7_REDHEAD!$G$4:$G$1391,MN_7_REDHEAD!$C$4:$C$1391,\"TS\")","v":1831},{"$f":"TeamScoreWithPlayers($B44,\"H\",4,MN_7_REDHEAD!$F$4:$F$1391,MN_7_REDHEAD!$E$4:$E$1391,MN_7_REDHEAD!$G$4:$G$1391,MN_7_REDHEAD!$C$4:$C$1391,\"P1\")","v":"(B) JACK MCCAULEY - [576]"},{"$f":"TeamScoreWithPlayers($B44,\"H\",4,MN_7_REDHEAD!$F$4:$F$1391,MN_7_REDHEAD!$E$4:$E$1391,MN_7_REDHEAD!$G$4:$G$1391,MN_7_REDHEAD!$C$4:$C$1391,\"P2\")","v":"(G) ELEANORA WILLIAMS - [472]"},{"$f":"TeamScoreWithPlayers($B44,\"H\",4,MN_7_REDHEAD!$F$4:$F$1391,MN_7_REDHEAD!$E$4:$E$1391,MN_7_REDHEAD!$G$4:$G$1391,MN_7_REDHEAD!$C$4:$C$1391,\"P3\")","v":"(B) PATRICK MCCAULEY - [449]"},{"$f":"TeamScoreWithPlayers($B44,\"H\",4,MN_7_REDHEAD!$F$4:$F$1391,MN_7_REDHEAD!$E$4:$E$1391,MN_7_REDHEAD!$G$4:$G$1391,MN_7_REDHEAD!$C$4:$C$1391,\"P4\")","v":"(B) JAMES NELSON - [334]"},null,1831,0,null,1831]
[44,"Rockford Composite",{"$f":"TeamScore(B45,\"H\",4,MN_7_REDHEAD!$F$4:$F$1391,MN_7_REDHEAD!$G$4:$G$1391,MN_7_REDHEAD!$C$4:$C$1391)","v":1432},null,null,{"$f":"TeamScoreWithPlayers($B45,\"H\",4,MN_7_REDHEAD!$F$4:$F$1391,MN_7_REDHEAD!$E$4:$E$1391,MN_7_REDHEAD!$G$4:$G$1391,MN_7_REDHEAD!$C$4:$C$1391,\"TS\")","v":1432},{"$f":"TeamScoreWithPlayers($B45,\"H\",4,MN_7_REDHEAD!$F$4:$F$1391,MN_7_REDHEAD!$E$4:$E$1391,MN_7_REDHEAD!$G$4:$G$1391,MN_7_REDHEAD!$C$4:$C$1391,\"P1\")","v":"(G) HAEDYN BARKEIM - [404]"},{"$f":"TeamScoreWithPlayers($B45,\"H\",4,MN_7_REDHEAD!$F$4:$F$1391,MN_7_REDHEAD!$E$4:$E$1391,MN_7_REDHEAD!$G$4:$G$1391,MN_7_REDHEAD!$C$4:$C$1391,\"P2\")","v":"(B) EDDIE BINSFELD - [399]"},{"$f":"TeamScoreWithPlayers($B45,\"H\",4,MN_7_REDHEAD!$F$4:$F$1391,MN_7_REDHEAD!$E$4:$E$1391,MN_7_REDHEAD!$G$4:$G$1391,MN_7_REDHEAD!$C$4:$C$1391,\"P3\")","v":"(B) ADAM BOERBOOM - [319]"},{"$f":"TeamScoreWithPlayers($B45,\"H\",4,MN_7_REDHEAD!$F$4:$F$1391,MN_7_REDHEAD!$E$4:$E$1391,MN_7_REDHEAD!$G$4:$G$1391,MN_7_REDHEAD!$C$4:$C$1391,\"P4\")","v":"(B) JOEY KLAITH - [310]"},null,1432,0,null,1432]
[45,"Rogers High School",{"$f":"TeamScore(B46,\"H\",4,MN_7_REDHEAD!$F$4:$F$1391,MN_7_REDHEAD!$G$4:$G$1391,MN_7_REDHEAD!$C$4:$C$1391)","v":897},null,null,{"$f":"TeamScoreWithPlayers($B46,\"H\",4,MN_7_REDHEAD!$F$4:$F$1391,MN_7_REDHEAD!$E$4:$E$1391,MN_7_REDHEAD!$G$4:$G$1391,MN_7_REDHEAD!$C$4:$C$1391,\"TS\")","v":897},{"$f":"TeamScoreWithPlayers($B46,\"H\",4,MN_7_REDHEAD!$F$4:$F$1391,MN_7_REDHEAD!$E$4:$E$1391,MN_7_REDHEAD!$G$4:$G$1391,MN_7_REDHEAD!$C$4:$C$1391,\"P1\")","v":"(B) DOMENIC HEGMAN - [550]"},{"$f":"TeamScoreWithPlayers($B46,\"H\",4,MN_7_REDHEAD!$F$4:$F$1391,MN_7_REDHEAD!$E$4:$E$1391,MN_7_REDHEAD!$G$4:$G$1391,MN_7_REDHEAD!$C$4:$C$1391,\"P2\")","v":"(B) MATTHEW O'BRIEN - [347]"},{"$f":"TeamScoreWithPlayers($B46,\"H\",4,MN_7_REDHEAD!$F$4:$F$1391,MN_7_REDHEAD!$E$4:$E$1391,MN_7_REDHEAD!$G$4:$G$1391,MN_7_REDHEAD!$C$4:$C$1391,\"P3\")","v":"()  - [0]"},{"$f":"TeamScoreWithPlayers($B46,\"H\",4,MN_7_REDHEAD!$F$4:$F$1391,MN_7_REDHEAD!$E$4:$E$1391,MN_7_REDHEAD!$G$4:$G$1391,MN_7_REDHEAD!$C$4:$C$1391,\"P4\")","v":"()  - [0]"},null,897,0,null,897]
[46,"Roosevelt High School",{"$f":"TeamScore(B47,\"H\",4,MN_7_REDHEAD!$F$4:$F$1391,MN_7_REDHEAD!$G$4:$G$1391,MN_7_REDHEAD!$C$4:$C$1391)","v":1450},null,null,{"$f":"TeamScoreWithPlayers($B47,\"H\",4,MN_7_REDHEAD!$F$4:$F$1391,MN_7_REDHEAD!$E$4:$E$1391,MN_7_REDHEAD!$G$4:$G$1391,MN_7_REDHEAD!$C$4:$C$1391,\"TS\")","v":1450},{"$f":"TeamScoreWithPlayers($B47,\"H\",4,MN_7_REDHEAD!$F$4:$F$1391,MN_7_REDHEAD!$E$4:$E$1391,MN_7_REDHEAD!$G$4:$G$1391,MN_7_REDHEAD!$C$4:$C$1391,\"P1\")","v":"(G) ANI MCQUILLEN - [524]"},{"$f":"TeamScoreWithPlayers($B47,\"H\",4,MN_7_REDHEAD!$F$4:$F$1391,MN_7_REDHEAD!$E$4:$E$1391,MN_7_REDHEAD!$G$4:$G$1391,MN_7_REDHEAD!$C$4:$C$1391,\"P2\")","v":"(B) LEVI LARSON - [342]"},{"$f":"TeamScoreWithPlayers($B47,\"H\",4,MN_7_REDHEAD!$F$4:$F$1391,MN_7_REDHEAD!$E$4:$E$1391,MN_7_REDHEAD!$G$4:$G$1391,MN_7_REDHEAD!$C$4:$C$1391,\"P3\")","v":"(B) OWEN HAIGHT - [298]"},{"$f":"TeamScoreWithPlayers($B47,\"H\",4,MN_7_REDHEAD!$F$4:$F$1391,MN_7_REDHEAD!$E$4:$E$1391,MN_7_REDHEAD!$G$4:$G$1391,MN_7_REDHEAD!$C$4:$C$1391,\"P4\")","v":"(B) RAY ROESNER - [286]"},null,1450,0,null,1450]
[47,"Rosemount High School",{"$f":"TeamScore(B48,\"H\",4,MN_7_REDHEAD!$F$4:$F$1391,MN_7_REDHEAD!$G$4:$G$1391,MN_7_REDHEAD!$C$4:$C$1391)","v":227},null,null,{"$f":"TeamScoreWithPlayers($B48,\"H\",4,MN_7_REDHEAD!$F$4:$F$1391,MN_7_REDHEAD!$E$4:$E$1391,MN_7_REDHEAD!$G$4:$G$1391,MN_7_REDHEAD!$C$4:$C$1391,\"TS\")","v":227},{"$f":"TeamScoreWithPlayers($B48,\"H\",4,MN_7_REDHEAD!$F$4:$F$1391,MN_7_REDHEAD!$E$4:$E$1391,MN_7_REDHEAD!$G$4:$G$1391,MN_7_REDHEAD!$C$4:$C$1391,\"P1\")","v":"(B) JACK SHOEMAKER - [227]"},{"$f":"TeamScoreWithPlayers($B48,\"H\",4,MN_7_REDHEAD!$F$4:$F$1391,MN_7_REDHEAD!$E$4:$E$1391,MN_7_REDHEAD!$G$4:$G$1391,MN_7_REDHEAD!$C$4:$C$1391,\"P2\")","v":"()  - [0]"},{"$f":"TeamScoreWithPlayers($B48,\"H\",4,MN_7_REDHEAD!$F$4:$F$1391,MN_7_REDHEAD!$E$4:$E$1391,MN_7_REDHEAD!$G$4:$G$1391,MN_7_REDHEAD!$C$4:$C$1391,\"P3\")","v":"()  - [0]"},{"$f":"TeamScoreWithPlayers($B48,\"H\",4,MN_7_REDHEAD!$F$4:$F$1391,MN_7_REDHEAD!$E$4:$E$1391,MN_7_REDHEAD!$G$4:$G$1391,MN_7_REDHEAD!$C$4:$C$1391,\"P4\")","v":"()  - [0]"},null,227,0,null,227]
[48,"Roseville Area Composite",{"$f":"TeamScore(B49,\"H\",4,MN_7_REDHEAD!$F$4:$F$1391,MN_7_REDHEAD!$G$4:$G$1391,MN_7_REDHEAD!$C$4:$C$1391)","v":1227},null,null,{"$f":"TeamScoreWithPlayers($B49,\"H\",4,MN_7_REDHEAD!$F$4:$F$1391,MN_7_REDHEAD!$E$4:$E$1391,MN_7_REDHEAD!$G$4:$G$1391,MN_7_REDHEAD!$C$4:$C$1391,\"TS\")","v":1227},{"$f":"TeamScoreWithPlayers($B49,\"H\",4,MN_7_REDHEAD!$F$4:$F$1391,MN_7_REDHEAD!$E$4:$E$1391,MN_7_REDHEAD!$G$4:$G$1391,MN_7_REDHEAD!$C$4:$C$1391,\"P1\")","v":"(G) SANDY FISH - [429]"},{"$f":"TeamScoreWithPlayers($B49,\"H\",4,MN_7_REDHEAD!$F$4:$F$1391,MN_7_REDHEAD!$E$4:$E$1391,MN_7_REDHEAD!$G$4:$G$1391,MN_7_REDHEAD!$C$4:$C$1391,\"P2\")","v":"(B) SIMON ENGLUND - [278]"},{"$f":"TeamScoreWithPlayers($B49,\"H\",4,MN_7_REDHEAD!$F$4:$F$1391,MN_7_REDHEAD!$E$4:$E$1391,MN_7_REDHEAD!$G$4:$G$1391,MN_7_REDHEAD!$C$4:$C$1391,\"P3\")","v":"(B) WILLEM NIBBELINK - [277]"},{"$f":"TeamScoreWithPlayers($B49,\"H\",4,MN_7_REDHEAD!$F$4:$F$1391,MN_7_REDHEAD!$E$4:$E$1391,MN_7_REDHEAD!$G$4:$G$1391,MN_7_REDHEAD!$C$4:$C$1391,\"P4\")","v":"(B) LUKAS SKINNER - [243]"},null,1227,0,null,1227]
[49,"Spectrum High School",{"$f":"TeamScore(B50,\"H\",4,MN_7_REDHEAD!$F$4:$F$1391,MN_7_REDHEAD!$G$4:$G$1391,MN_7_REDHEAD!$C$4:$C$1391)","v":1055},null,null,{"$f":"TeamScoreWithPlayers($B50,\"H\",4,MN_7_REDHEAD!$F$4:$F$1391,MN_7_REDHEAD!$E$4:$E$1391,MN_7_REDHEAD!$G$4:$G$1391,MN_7_REDHEAD!$C$4:$C$1391,\"TS\")","v":1055},{"$f":"TeamScoreWithPlayers($B50,\"H\",4,MN_7_REDHEAD!$F$4:$F$1391,MN_7_REDHEAD!$E$4:$E$1391,MN_7_REDHEAD!$G$4:$G$1391,MN_7_REDHEAD!$C$4:$C$1391,\"P1\")","v":"(B) ANDREW BURQUEST - [394]"},{"$f":"TeamScoreWithPlayers($B50,\"H\",4,MN_7_REDHEAD!$F$4:$F$1391,MN_7_REDHEAD!$E$4:$E$1391,MN_7_REDHEAD!$G$4:$G$1391,MN_7_REDHEAD!$C$4:$C$1391,\"P2\")","v":"(B) GARRETT PETERSON - [374]"},{"$f":"TeamScoreWithPlayers($B50,\"H\",4,MN_7_REDHEAD!$F$4:$F$1391,MN_7_REDHEAD!$E$4:$E$1391,MN_7_REDHEAD!$G$4:$G$1391,MN_7_REDHEAD!$C$4:$C$1391,\"P3\")","v":"(B) MATTHEW BURQUEST - [287]"},{"$f":"TeamScoreWithPlayers($B50,\"H\",4,MN_7_REDHEAD!$F$4:$F$1391,MN_7_REDHEAD!$E$4:$E$1391,MN_7_REDHEAD!$G$4:$G$1391,MN_7_REDHEAD!$C$4:$C$1391,\"P4\")","v":"()  - [0]"},null,1055,0,null,1055]
[50,"St Cloud Area Composite",{"$f":"TeamScore(B51,\"H\",4,MN_7_REDHEAD!$F$4:$F$1391,MN_7_REDHEAD!$G$4:$G$1391,MN_7_REDHEAD!$C$4:$C$1391)","v":1612},null,null,{"$f":"TeamScoreWithPlayers($B51,\"H\",4,MN_7_REDHEAD!$F$4:$F$1391,MN_7_REDHEAD!$E$4:$E$1391,MN_7_REDHEAD!$G$4:$G$1391,MN_7_REDHEAD!$C$4:$C$1391,\"TS\")","v":1612},{"$f":"TeamScoreWithPlayers($B51,\"H\",4,MN_7_REDHEAD!$F$4:$F$1391,MN_7_REDHEAD!$E$4:$E$1391,MN_7_REDHEAD!$G$4:$G$1391,MN_7_REDHEAD!$C$4:$C$1391,\"P1\")","v":"(B) HOLDEN ZAK - [539]"},{"$f":"TeamScoreWithPlayers($B51,\"H\",4,MN_7_REDHEAD!$F$4:$F$1391,MN_7_REDHEAD!$E$4:$E$1391,MN_7_REDHEAD!$G$4:$G$1391,MN_7_REDHEAD!$C$4:$C$1391,\"P2\")","v":"(G) ELLA DOLS - [516]"},{"$f":"TeamScoreWithPlayers($B51,\"H\",4,MN_7_REDHEAD!$F$4:$F$1391,MN_7_REDHEAD!$E$4:$E$1391,MN_7_REDHEAD!$G$4:$G$1391,MN_7_REDHEAD!$C$4:$C$1391,\"P3\")","v":"(B) KAMERON MOSCHO - [284]"},{"$f":"TeamScoreWithPlayers($B51,\"H\",4,MN_7_REDHEAD!$F$4:$F$1391,MN_7_REDHEAD!$E$4:$E$1391,MN_7_REDHEAD!$G$4:$G$1391,MN_7_REDHEAD!$C$4:$C$1391,\"P4\")","v":"(B) ANDREW HACKENMUELLER - [273]"},null,1612,0,null,1612]
[51,"St Croix Composite",{"$f":"TeamScore(B52,\"H\",4,MN_7_REDHEAD!$F$4:$F$1391,MN_7_REDHEAD!$G$4:$G$1391,MN_7_REDHEAD!$C$4:$C$1391)","v":388},null,null,{"$f":"TeamScoreWithPlayers($B52,\"H\",4,MN_7_REDHEAD!$F$4:$F$1391,MN_7_REDHEAD!$E$4:$E$1391,MN_7_REDHEAD!$G$4:$G$1391,MN_7_REDHEAD!$C$4:$C$1391,\"TS\")","v":388},{"$f":"TeamScoreWithPlayers($B52,\"H\",4,MN_7_REDHEAD!$F$4:$F$1391,MN_7_REDHEAD!$E$4:$E$1391,MN_7_REDHEAD!$G$4:$G$1391,MN_7_REDHEAD!$C$4:$C$1391,\"P1\")","v":"(B) BLAKE WAKELING - [388]"},{"$f":"TeamScoreWithPlayers($B52,\"H\",4,MN_7_REDHEAD!$F$4:$F$1391,MN_7_REDHEAD!$E$4:$E$1391,MN_7_REDHEAD!$G$4:$G$1391,MN_7_REDHEAD!$C$4:$C$1391,\"P2\")","v":"()  - [0]"},{"$f":"TeamScoreWithPlayers($B52,\"H\",4,MN_7_REDHEAD!$F$4:$F$1391,MN_7_REDHEAD!$E$4:$E$1391,MN_7_REDHEAD!$G$4:$G$1391,MN_7_REDHEAD!$C$4:$C$1391,\"P3\")","v":"()  - [0]"},{"$f":"TeamScoreWithPlayers($B52,\"H\",4,MN_7_REDHEAD!$F$4:$F$1391,MN_7_REDHEAD!$E$4:$E$1391,MN_7_REDHEAD!$G$4:$G$1391,MN_7_REDHEAD!$C$4:$C$1391,\"P4\")","v":"()  - [0]"},null,388,0,null,388]
[52,"St Louis Park High School",{"$f":"TeamScore(B53,\"H\",4,MN_7_REDHEAD!$F$4:$F$1391,MN_7_REDHEAD!$G$4:$G$1391,MN_7_REDHEAD!$C$4:$C$1391)","v":1275},null,null,{"$f":"TeamScoreWithPlayers($B53,\"H\",4,MN_7_REDHEAD!$F$4:$F$1391,MN_7_REDHEAD!$E$4:$E$1391,MN_7_REDHEAD!$G$4:$G$1391,MN_7_REDHEAD!$C$4:$C$1391,\"TS\")","v":1275},{"$f":"TeamScoreWithPlayers($B53,\"H\",4,MN_7_REDHEAD!$F$4:$F$1391,MN_7_REDHEAD!$E$4:$E$1391,MN_7_REDHEAD!$G$4:$G$1391,MN_7_REDHEAD!$C$4:$C$1391,\"P1\")","v":"(B) JAVIER SCHIMMING - [374]"},{"$f":"TeamScoreWithPlayers($B53,\"H\",4,MN_7_REDHEAD!$F$4:$F$1391,MN_7_REDHEAD!$E$4:$E$1391,MN_7_REDHEAD!$G$4:$G$1391,MN_7_REDHEAD!$C$4:$C$1391,\"P2\")","v":"(B) TOMMY KELLER - [338]"},{"$f":"TeamScoreWithPlayers($B53,\"H\",4,MN_7_REDHEAD!$F$4:$F$1391,MN_7_REDHEAD!$E$4:$E$1391,MN_7_REDHEAD!$G$4:$G$1391,MN_7_REDHEAD!$C$4:$C$1391,\"P3\")","v":"(G) ELIANA MONTERO-WARD - [295]"},{"$f":"TeamScoreWithPlayers($B53,\"H\",4,MN_7_REDHEAD!$F$4:$F$1391,MN_7_REDHEAD!$E$4:$E$1391,MN_7_REDHEAD!$G$4:$G$1391,MN_7_REDHEAD!$C$4:$C$1391,\"P4\")","v":"(B) JACK LARSON - [268]"},null,1275,0,null,1275]
[53,"St Michael / Albertville Composite",{"$f":"TeamScore(B54,\"H\",4,MN_7_REDHEAD!$F$4:$F$1391,MN_7_REDHEAD!$G$4:$G$1391,MN_7_REDHEAD!$C$4:$C$1391)","v":1112},null,null,{"$f":"TeamScoreWithPlayers($B54,\"H\",4,MN_7_REDHEAD!$F$4:$F$1391,MN_7_REDHEAD!$E$4:$E$1391,MN_7_REDHEAD!$G$4:$G$1391,MN_7_REDHEAD!$C$4:$C$1391,\"TS\")","v":1112},{"$f":"TeamScoreWithPlayers($B54,\"H\",4,MN_7_REDHEAD!$F$4:$F$1391,MN_7_REDHEAD!$E$4:$E$1391,MN_7_REDHEAD!$G$4:$G$1391,MN_7_REDHEAD!$C$4:$C$1391,\"P1\")","v":"(B) CLAYTON ETNIER - [432]"},{"$f":"TeamScoreWithPlayers($B54,\"H\",4,MN_7_REDHEAD!$F$4:$F$1391,MN_7_REDHEAD!$E$4:$E$1391,MN_7_REDHEAD!$G$4:$G$1391,MN_7_REDHEAD!$C$4:$C$1391,\"P2\")","v":"(B) GAVIN MOORMANN - [421]"},{"$f":"TeamScoreWithPlayers($B54,\"H\",4,MN_7_REDHEAD!$F$4:$F$1391,MN_7_REDHEAD!$E$4:$E$1391,MN_7_REDHEAD!$G$4:$G$1391,MN_7_REDHEAD!$C$4:$C$1391,\"P3\")","v":"(B) OWEN ANDERBERG - [259]"},{"$f":"TeamScoreWithPlayers($B54,\"H\",4,MN_7_REDHEAD!$F$4:$F$1391,MN_7_REDHEAD!$E$4:$E$1391,MN_7_REDHEAD!$G$4:$G$1391,MN_7_REDHEAD!$C$4:$C$1391,\"P4\")","v":"()  - [0]"},null,1112,0,null,1112]
[54,"St Paul Central",{"$f":"TeamScore(B55,\"H\",4,MN_7_REDHEAD!$F$4:$F$1391,MN_7_REDHEAD!$G$4:$G$1391,MN_7_REDHEAD!$C$4:$C$1391)","v":1267},null,null,{"$f":"TeamScoreWithPlayers($B55,\"H\",4,MN_7_REDHEAD!$F$4:$F$1391,MN_7_REDHEAD!$E$4:$E$1391,MN_7_REDHEAD!$G$4:$G$1391,MN_7_REDHEAD!$C$4:$C$1391,\"TS\")","v":1267},{"$f":"TeamScoreWithPlayers($B55,\"H\",4,MN_7_REDHEAD!$F$4:$F$1391,MN_7_REDHEAD!$E$4:$E$1391,MN_7_REDHEAD!$G$4:$G$1391,MN_7_REDHEAD!$C$4:$C$1391,\"P1\")","v":"(B) FINN GARRY - [529]"},{"$f":"TeamScoreWithPlayers($B55,\"H\",4,MN_7_REDHEAD!$F$4:$F$1391,MN_7_REDHEAD!$E$4:$E$1391,MN_7_REDHEAD!$G$4:$G$1391,MN_7_REDHEAD!$C$4:$C$1391,\"P2\")","v":"(B) QUINN BECK - [419]"},{"$f":"TeamScoreWithPlayers($B55,\"H\",4,MN_7_REDHEAD!$F$4:$F$1391,MN_7_REDHEAD!$E$4:$E$1391,MN_7_REDHEAD!$G$4:$G$1391,MN_7_REDHEAD!$C$4:$C$1391,\"P3\")","v":"(B) STEFFEN MONTVILLE - [319]"},{"$f":"TeamScoreWithPlayers($B55,\"H\",4,MN_7_REDHEAD!$F$4:$F$1391,MN_7_REDHEAD!$E$4:$E$1391,MN_7_REDHEAD!$G$4:$G$1391,MN_7_REDHEAD!$C$4:$C$1391,\"P4\")","v":"()  - [0]"},null,1267,0,null,1267]
[55,"St. Paul Composite - North",{"$f":"TeamScore(B56,\"H\",4,MN_7_REDHEAD!$F$4:$F$1391,MN_7_REDHEAD!$G$4:$G$1391,MN_7_REDHEAD!$C$4:$C$1391)","v":1876},null,null,{"$f":"TeamScoreWithPlayers($B56,\"H\",4,MN_7_REDHEAD!$F$4:$F$1391,MN_7_REDHEAD!$E$4:$E$1391,MN_7_REDHEAD!$G$4:$G$1391,MN_7_REDHEAD!$C$4:$C$1391,\"TS\")","v":1876},{"$f":"TeamScoreWithPlayers($B56,\"H\",4,MN_7_REDHEAD!$F$4:$F$1391,MN_7_REDHEAD!$E$4:$E$1391,MN_7_REDHEAD!$G$4:$G$1391,MN_7_REDHEAD!$C$4:$C$1391,\"P1\")","v":"(B) KEIGAN MCCARTY - [519]"},{"$f":"TeamScoreWithPlayers($B56,\"H\",4,MN_7_REDHEAD!$F$4:$F$1391,MN_7_REDHEAD!$E$4:$E$1391,MN_7_REDHEAD!$G$4:$G$1391,MN_7_REDHEAD!$C$4:$C$1391,\"P2\")","v":"(G) VERONICA JANZEN - [493]"},{"$f":"TeamScoreWithPlayers($B56,\"H\",4,MN_7_REDHEAD!$F$4:$F$1391,MN_7_REDHEAD!$E$4:$E$1391,MN_7_REDHEAD!$G$4:$G$1391,MN_7_REDHEAD!$C$4:$C$1391,\"P3\")","v":"(B) MATT BURI - [439]"},{"$f":"TeamScoreWithPlayers($B56,\"H\",4,MN_7_REDHEAD!$F$4:$F$1391,MN_7_REDHEAD!$E$4:$E$1391,MN_7_REDHEAD!$G$4:$G$1391,MN_7_REDHEAD!$C$4:$C$1391,\"P4\")","v":"(B) SHAWN THIERS - [425]"},null,1876,0,null,1876]
[56,"St. Paul Composite - South",{"$f":"TeamScore(B57,\"H\",4,MN_7_REDHEAD!$F$4:$F$1391,MN_7_REDHEAD!$G$4:$G$1391,MN_7_REDHEAD!$C$4:$C$1391)","v":1286},null,null,{"$f":"TeamScoreWithPlayers($B57,\"H\",4,MN_7_REDHEAD!$F$4:$F$1391,MN_7_REDHEAD!$E$4:$E$1391,MN_7_REDHEAD!$G$4:$G$1391,MN_7_REDHEAD!$C$4:$C$1391,\"TS\")","v":1286},{"$f":"TeamScoreWithPlayers($B57,\"H\",4,MN_7_REDHEAD!$F$4:$F$1391,MN_7_REDHEAD!$E$4:$E$1391,MN_7_REDHEAD!$G$4:$G$1391,MN_7_REDHEAD!$C$4:$C$1391,\"P1\")","v":"(B) CHARLES MEYER - [464]"},{"$f":"TeamScoreWithPlayers($B57,\"H\",4,MN_7_REDHEAD!$F$4:$F$1391,MN_7_REDHEAD!$E$4:$E$1391,MN_7_REDHEAD!$G$4:$G$1391,MN_7_REDHEAD!$C$4:$C$1391,\"P2\")","v":"(B) COLIN SHEA - [453]"},{"$f":"TeamScoreWithPlayers($B57,\"H\",4,MN_7_REDHEAD!$F$4:$F$1391,MN_7_REDHEAD!$E$4:$E$1391,MN_7_REDHEAD!$G$4:$G$1391,MN_7_REDHEAD!$C$4:$C$1391,\"P3\")","v":"(B) MATTHIAS PASKE - [369]"},{"$f":"TeamScoreWithPlayers($B57,\"H\",4,MN_7_REDHEAD!$F$4:$F$1391,MN_7_REDHEAD!$E$4:$E$1391,MN_7_REDHEAD!$G$4:$G$1391,MN_7_REDHEAD!$C$4:$C$1391,\"P4\")","v":"()  - [0]"},null,1286,0,null,1286]
[57,"Tioga Trailblazers",{"$f":"TeamScore(B58,\"H\",4,MN_7_REDHEAD!$F$4:$F$1391,MN_7_REDHEAD!$G$4:$G$1391,MN_7_REDHEAD!$C$4:$C$1391)","v":1763},null,null,{"$f":"TeamScoreWithPlayers($B58,\"H\",4,MN_7_REDHEAD!$F$4:$F$1391,MN_7_REDHEAD!$E$4:$E$1391,MN_7_REDHEAD!$G$4:$G$1391,MN_7_REDHEAD!$C$4:$C$1391,\"TS\")","v":1763},{"$f":"TeamScoreWithPlayers($B58,\"H\",4,MN_7_REDHEAD!$F$4:$F$1391,MN_7_REDHEAD!$E$4:$E$1391,MN_7_REDHEAD!$G$4:$G$1391,MN_7_REDHEAD!$C$4:$C$1391,\"P1\")","v":"(G) SANNY GANGI - [479]"},{"$f":"TeamScoreWithPlayers($B58,\"H\",4,MN_7_REDHEAD!$F$4:$F$1391,MN_7_REDHEAD!$E$4:$E$1391,MN_7_REDHEAD!$G$4:$G$1391,MN_7_REDHEAD!$C$4:$C$1391,\"P2\")","v":"(B) MAX CONNELLY - [439]"},{"$f":"TeamScoreWithPlayers($B58,\"H\",4,MN_7_REDHEAD!$F$4:$F$1391,MN_7_REDHEAD!$E$4:$E$1391,MN_7_REDHEAD!$G$4:$G$1391,MN_7_REDHEAD!$C$4:$C$1391,\"P3\")","v":"(B) BREVIK BROWN - [432]"},{"$f":"TeamScoreWithPlayers($B58,\"H\",4,MN_7_REDHEAD!$F$4:$F$1391,MN_7_REDHEAD!$E$4:$E$1391,MN_7_REDHEAD!$G$4:$G$1391,MN_7_REDHEAD!$C$4:$C$1391,\"P4\")","v":"(B) ELI CHERNE - [413]"},null,1763,0,null,1763]
[58,"Totino Grace High School",{"$f":"TeamScore(B59,\"H\",4,MN_7_REDHEAD!$F$4:$F$1391,MN_7_REDHEAD!$G$4:$G$1391,MN_7_REDHEAD!$C$4:$C$1391)","v":261},null,null,{"$f":"TeamScoreWithPlayers($B59,\"H\",4,MN_7_REDHEAD!$F$4:$F$1391,MN_7_REDHEAD!$E$4:$E$1391,MN_7_REDHEAD!$G$4:$G$1391,MN_7_REDHEAD!$C$4:$C$1391,\"TS\")","v":261},{"$f":"TeamScoreWithPlayers($B59,\"H\",4,MN_7_REDHEAD!$F$4:$F$1391,MN_7_REDHEAD!$E$4:$E$1391,MN_7_REDHEAD!$G$4:$G$1391,MN_7_REDHEAD!$C$4:$C$1391,\"P1\")","v":"(B) KYLE VOWELS - [261]"},{"$f":"TeamScoreWithPlayers($B59,\"H\",4,MN_7_REDHEAD!$F$4:$F$1391,MN_7_REDHEAD!$E$4:$E$1391,MN_7_REDHEAD!$G$4:$G$1391,MN_7_REDHEAD!$C$4:$C$1391,\"P2\")","v":"()  - [0]"},{"$f":"TeamScoreWithPlayers($B59,\"H\",4,MN_7_REDHEAD!$F$4:$F$1391,MN_7_REDHEAD!$E$4:$E$1391,MN_7_REDHEAD!$G$4:$G$1391,MN_7_REDHEAD!$C$4:$C$1391,\"P3\")","v":"()  - [0]"},{"$f":"TeamScoreWithPlayers($B59,\"H\",4,MN_7_REDHEAD!$F$4:$F$1391,MN_7_REDHEAD!$E$4:$E$1391,MN_7_REDHEAD!$G$4:$G$1391,MN_7_REDHEAD!$C$4:$C$1391,\"P4\")","v":"()  - [0]"},null,261,0,null,261]
[59,"West Fork",{"$f":"TeamScore(B60,\"H\",4,MN_7_REDHEAD!$F$4:$F$1391,MN_7_REDHEAD!$G$4:$G$1391,MN_7_REDHEAD!$C$4:$C$1391)","v":0},null,null,{"$f":"TeamScoreWithPlayers($B60,\"H\",4,MN_7_REDHEAD!$F$4:$F$1391,MN_7_REDHEAD!$E$4:$E$1391,MN_7_REDHEAD!$G$4:$G$1391,MN_7_REDHEAD!$C$4:$C$1391,\"TS\")","v":0},{"$f":"TeamScoreWithPlayers($B60,\"H\",4,MN_7_REDHEAD!$F$4:$F$1391,MN_7_REDHEAD!$E$4:$E$1391,MN_7_REDHEAD!$G$4:$G$1391,MN_7_REDHEAD!$C$4:$C$1391,\"P1\")","v":"()  - [0]"},{"$f":"TeamScoreWithPlayers($B60,\"H\",4,MN_7_REDHEAD!$F$4:$F$1391,MN_7_REDHEAD!$E$4:$E$1391,MN_7_REDHEAD!$G$4:$G$1391,MN_7_REDHEAD!$C$4:$C$1391,\"P2\")","v":"()  - [0]"},{"$f":"TeamScoreWithPlayers($B60,\"H\",4,MN_7_REDHEAD!$F$4:$F$1391,MN_7_REDHEAD!$E$4:$E$1391,MN_7_REDHEAD!$G$4:$G$1391,MN_7_REDHEAD!$C$4:$C$1391,\"P3\")","v":"()  - [0]"},{"$f":"TeamScoreWithPlayers($B60,\"H\",4,MN_7_REDHEAD!$F$4:$F$1391,MN_7_REDHEAD!$E$4:$E$1391,MN_7_REDHEAD!$G$4:$G$1391,MN_7_REDHEAD!$C$4:$C$1391,\"P4\")","v":"()  - [0]"},null,0,0,null,0]
[60,"West Range Composite",{"$f":"TeamScore(B61,\"H\",4,MN_7_REDHEAD!$F$4:$F$1391,MN_7_REDHEAD!$G$4:$G$1391,MN_7_REDHEAD!$C$4:$C$1391)","v":935},null,null,{"$f":"TeamScoreWithPlayers($B61,\"H\",4,MN_7_REDHEAD!$F$4:$F$1391,MN_7_REDHEAD!$E$4:$E$1391,MN_7_REDHEAD!$G$4:$G$1391,MN_7_REDHEAD!$C$4:$C$1391,\"TS\")","v":935},{"$f":"TeamScoreWithPlayers($B61,\"H\",4,MN_7_REDHEAD!$F$4:$F$1391,MN_7_REDHEAD!$E$4:$E$1391,MN_7_REDHEAD!$G$4:$G$1391,MN_7_REDHEAD!$C$4:$C$1391,\"P1\")","v":"(B) HOWIE LIND - [330]"},{"$f":"TeamScoreWithPlayers($B61,\"H\",4,MN_7_REDHEAD!$F$4:$F$1391,MN_7_REDHEAD!$E$4:$E$1391,MN_7_REDHEAD!$G$4:$G$1391,MN_7_REDHEAD!$C$4:$C$1391,\"P2\")","v":"(B) REX WALLI - [322]"},{"$f":"TeamScoreWithPlayers($B61,\"H\",4,MN_7_REDHEAD!$F$4:$F$1391,MN_7_REDHEAD!$E$4:$E$1391,MN_7_REDHEAD!$G$4:$G$1391,MN_7_REDHEAD!$C$4:$C$1391,\"P3\")","v":"(B) KALUB BROWN - [283]"},{"$f":"TeamScoreWithPlayers($B61,\"H\",4,MN_7_REDHEAD!$F$4:$F$1391,MN_7_REDHEAD!$E$4:$E$1391,MN_7_REDHEAD!$G$4:$G$1391,MN_7_REDHEAD!$C$4:$C$1391,\"P4\")","v":"()  - [0]"},null,935,0,null,935]
[61,"Woodbury Composite",{"$f":"TeamScore(B62,\"H\",4,MN_7_REDHEAD!$F$4:$F$1391,MN_7_REDHEAD!$G$4:$G$1391,MN_7_REDHEAD!$C$4:$C$1391)","v":1125},null,null,{"$f":"TeamScoreWithPlayers($B62,\"H\",4,MN_7_REDHEAD!$F$4:$F$1391,MN_7_REDHEAD!$E$4:$E$1391,MN_7_REDHEAD!$G$4:$G$1391,MN_7_REDHEAD!$C$4:$C$1391,\"TS\")","v":1125},{"$f":"TeamScoreWithPlayers($B62,\"H\",4,MN_7_REDHEAD!$F$4:$F$1391,MN_7_REDHEAD!$E$4:$E$1391,MN_7_REDHEAD!$G$4:$G$1391,MN_7_REDHEAD!$C$4:$C$1391,\"P1\")","v":"(B) RYLAN OACHS - [519]"},{"$f":"TeamScoreWithPlayers($B62,\"H\",4,MN_7_REDHEAD!$F$4:$F$1391,MN_7_REDHEAD!$E$4:$E$1391,MN_7_REDHEAD!$G$4:$G$1391,MN_7_REDHEAD!$C$4:$C$1391,\"P2\")","v":"(B) BENNETT LEVANDER - [315]"},{"$f":"TeamScoreWithPlayers($B62,\"H\",4,MN_7_REDHEAD!$F$4:$F$1391,MN_7_REDHEAD!$E$4:$E$1391,MN_7_REDHEAD!$G$4:$G$1391,MN_7_REDHEAD!$C$4:$C$1391,\"P3\")","v":"(B) TYLER DALAHUNT - [291]"},{"$f":"TeamScoreWithPlayers($B62,\"H\",4,MN_7_REDHEAD!$F$4:$F$1391,MN_7_REDHEAD!$E$4:$E$1391,MN_7_REDHEAD!$G$4:$G$1391,MN_7_REDHEAD!$C$4:$C$1391,\"P4\")","v":"()  - [0]"},null,1125,0,null,1125]
[]
[]
[null,"Results sorted High to Low"]
["Place","TEAM","Score",null,null,"New Total Score","P1","P2","P3","P4"]
[1,"Benilde St Margaret",2086,null,null,2086,"(B) TEAGUE JACKSON - [614]","(B) EVAN NOWLIN - [521]","(B) OWEN MARKS - [492]","(G) STELLA ORDAHL - [459]",null,{"$f":"getnumeric(G67)+getnumeric(H67)+getnumeric(I67)+getnumeric(J67)","v":2086},null,{"$f":"L67-C67","v":0},null,{"$f":"VLOOKUP(B67,Divisions!$P$4:$Q$95,2,FALSE)","v":2}]
[{"$f":"+A67+1","v":2},"Duluth Composite",2038,null,null,2038,"(B) OWEN VANDAL - [550]","(B) BODEE MCFADDEN - [550]","(G) NATALIA KUNZE - [492]","(B) QUINN SPOHN - [446]",null,2038,null,{"$f":"L68-C68","v":0},null,{"$f":"VLOOKUP(B68,Divisions!$P$4:$Q$95,2,FALSE)","v":2}]
[{"$f":"+A68+1","v":3},"Minneapolis Southside Composite",1998,null,null,1998,"(B) THOMAS AVRA - [569]","(G) INGA WING - [550]","(B) DOMINIC WOOD - [484]","(B) WILLIS HEIM - [395]",null,1998,null,0,null,{"$f":"VLOOKUP(B69,Divisions!$P$4:$Q$95,2,FALSE)","v":2}]
[4,"St. Paul Composite - North",1876,null,null,1876,"(B) KEIGAN MCCARTY - [519]","(G) VERONICA JANZEN - [493]","(B) MATT BURI - [439]","(B) SHAWN THIERS - [425]",null,1876,null,0,null,{"$f":"VLOOKUP(B70,Divisions!$P$4:$Q$95,2,FALSE)","v":2}]
[5,"Rochester Mayo",1831,null,null,1831,"(B) JACK MCCAULEY - [576]","(G) ELEANORA WILLIAMS - [472]","(B) PATRICK MCCAULEY - [449]","(B) JAMES NELSON - [334]",null,1831,null,0,null,{"$f":"VLOOKUP(B71,Divisions!$P$4:$Q$95,2,FALSE)","v":2}]
[6,"Hudson High School",1806,null,null,1806,"(G) MAYSA BURNAM - [514]","(B) GRAEME PEARSON - [500]","(B) BRADY WAINIONPAA - [476]","(B) SCOTT STEPHENSON - [316]",null,1806,null,0,null,{"$f":"VLOOKUP(B72,Divisions!$P$4:$Q$95,2,FALSE)","v":2}]
[7,"Cannon Valley Composite",1804,null,null,1804,"(G) KATE BITTENBENDER - [569]","(G) ELOISE DEBUS - [460]","(B) ANDY AMUNDSON - [389]","(B) BEN POWNELL - [386]",null,1804,null,0,null,{"$f":"VLOOKUP(B73,Divisions!$P$4:$Q$95,2,FALSE)","v":2}]
[8,"Minnesota Valley Composite",1773,null,null,1773,"(G) CARISSA BOLSTER - [468]","(B) ODEN OLSON - [468]","(B) ZACH FAHEY - [453]","(B) SAWYER SCHETTL - [384]",null,1773,null,0,null,{"$f":"VLOOKUP(B74,Divisions!$P$4:$Q$95,2,FALSE)","v":2}]
[9,"Tioga Trailblazers",1763,null,null,1763,"(G) SANNY GANGI - [479]","(B) MAX CONNELLY - [439]","(B) BREVIK BROWN - [432]","(B) ELI CHERNE - [413]",null,1763,null,0,null,{"$f":"VLOOKUP(B75,Divisions!$P$4:$Q$95,2,FALSE)","v":2}]
[10,"North Dakota Composite",1711,null,null,1711,"(B) SETH HEIN - [492]","(G) JADAH KELLY - [453]","(B) BRODY PARMER - [425]","(B) LUKAS ROBINSON - [341]",null,1711,null,0,null,{"$f":"VLOOKUP(B76,Divisions!$P$4:$Q$95,2,FALSE)","v":2}]
[11,"Bemidji Composite",1694,null,null,1694,"(B) REED KUZEL - [508]","(G) FAYE CALVERT - [453]","(B) LOUIS MORRISSEY - [414]","(G) JULIA CALVERT - [319]",null,1694,null,0,null,{"$f":"VLOOKUP(B77,Divisions!$P$4:$Q$95,2,FALSE)","v":2}]
[12,"Eden Prairie High School",1690,null,null,1690,"(B) OWEN BRATTEBO - [500]","(B) CHARLIE STEFFEN - [407]","(B) LUKE WARZECHA - [401]","(G) ADA LARA - [382]",null,1690,null,0,null,{"$f":"VLOOKUP(B78,Divisions!$P$4:$Q$95,2,FALSE)","v":2}]
[13,"St Cloud Area Composite",1612,null,null,1612,"(B) HOLDEN ZAK - [539]","(G) ELLA DOLS - [516]","(B) KAMERON MOSCHO - [284]","(B) ANDREW HACKENMUELLER - [273]",null,1612,null,0,null,{"$f":"VLOOKUP(B79,Divisions!$P$4:$Q$95,2,FALSE)","v":2}]
[14,"River Falls High School",1525,null,null,1525,"(G) KATE NICKLESKI - [468]","(B) BRENNEN DADO - [413]","(B) ROMAN DAVENPORT - [359]","(B) DEVAN STRATTON - [285]",null,1525,null,0,null,{"$f":"VLOOKUP(B80,Divisions!$P$4:$Q$95,2,FALSE)","v":2}]
[15,"Elk River Composite",1508,null,null,1508,"(G) AUDREY KEMPEL - [414]","(B) COLTON BANKS - [390]","(B) GRADY MAGRUDER - [354]","(B) BO JEFFERS - [350]",null,1508,null,0,null,{"$f":"VLOOKUP(B81,Divisions!$P$4:$Q$95,2,FALSE)","v":2}]
[16,"Mankato Composite",1479,null,null,1479,"(G) ABBY SKANE - [486]","(B) LOGAN BARKE - [446]","(B) ISAAC SCHAFFER - [298]","(B) SIDNEY SHANAFELT - [249]",null,1479,null,0,null,{"$f":"VLOOKUP(B82,Divisions!$P$4:$Q$95,2,FALSE)","v":2}]
[17,"Roosevelt High School",1450,null,null,1450,"(G) ANI MCQUILLEN - [524]","(B) LEVI LARSON - [342]","(B) OWEN HAIGHT - [298]","(B) RAY ROESNER - [286]",null,1450,null,0,null,{"$f":"VLOOKUP(B83,Divisions!$P$4:$Q$95,2,FALSE)","v":2}]
[18,"Rockford Composite",1432,null,null,1432,"(G) HAEDYN BARKEIM - [404]","(B) EDDIE BINSFELD - [399]","(B) ADAM BOERBOOM - [319]","(B) JOEY KLAITH - [310]",null,1432,null,0,null,{"$f":"VLOOKUP(B84,Divisions!$P$4:$Q$95,2,FALSE)","v":2}]
[19,"Rochester Area Composite",1417,null,null,1417,"(B) GAVIN HAUGEN - [460]","(G) CHLOE HARDTKE - [346]","(B) SAM EAGLE - [322]","(B) KYLER JOHNSON - [289]",null,1417,null,0,null,{"$f":"VLOOKUP(B85,Divisions!$P$4:$Q$95,2,FALSE)","v":2}]
[20,"Hutchinson High School",1410,null,null,1410,"(G) MEARA BUSSE - [419]","(B) LEVI MOORE - [350]","(B) KENNEDY RECH - [325]","(B) SAMUEL REITER - [316]",null,1410,null,0,null,{"$f":"VLOOKUP(B86,Divisions!$P$4:$Q$95,2,FALSE)","v":2}]
[21,"Highland Park St Paul",1405,null,null,1405,"(B) KARL HAALAND - [507]","(B) LIAM HEFFERAN - [501]","(B) TOBY MARTIN-KOHLS - [397]","()  - [0]",null,1405,null,0,null,{"$f":"VLOOKUP(B87,Divisions!$P$4:$Q$95,2,FALSE)","v":2}]
[22,"Eagan High School",1396,null,null,1396,"(G) MEGAN WITT - [465]","(B) IVAN GRINBERG - [354]","(B) AARON HANSON - [295]","(B) JACK MOZEIKA - [282]",null,1396,null,0,null,{"$f":"VLOOKUP(B88,Divisions!$P$4:$Q$95,2,FALSE)","v":2}]
[23,"Orono High School",1372,null,null,1372,"(B) WILLIAM BECK - [559]","(B) JOHNNY DIPRIMA - [510]","(B) WALTER HOLMES - [303]","()  - [0]",null,1372,null,0,null,{"$f":"VLOOKUP(B89,Divisions!$P$4:$Q$95,2,FALSE)","v":2}]
[24,"Minneapolis Henry High School",1368,null,null,1368,"(G) JUNA KRIKAVA - [401]","(G) LELA SABIN - [369]","(B) HENRY MROTZ - [326]","(B) AMIN AIT BENHADDOU - [272]",null,1368,null,0,null,{"$f":"VLOOKUP(B90,Divisions!$P$4:$Q$95,2,FALSE)","v":2}]
[25,"Eastview High School",1357,null,null,1357,"(B) MILES BREMER - [539]","(B) ISAAC POVOLNY - [476]","(B) LANDEN CRISP - [342]","()  - [0]",null,1357,null,0,null,{"$f":"VLOOKUP(B91,Divisions!$P$4:$Q$95,2,FALSE)","v":2}]
[26,"Maple Grove High School",1332,null,null,1332,"(G) SAVANNAH KRULL - [447]","(G) SAMANTHA ALTMAN - [334]","(G) REGAN GROSS - [304]","(B) NOAH FOX - [247]",null,1332,null,0,null,{"$f":"VLOOKUP(B92,Divisions!$P$4:$Q$95,2,FALSE)","v":2}]
[27,"North Dakota Kindred Composite",1328,null,null,1328,"(B) ISAAC SCHWARZ - [510]","(B) ELIJAH SCHWARZ - [459]","(B) NOAH SAUVAGEAU - [359]","()  - [0]",null,1328,null,0,null,{"$f":"VLOOKUP(B93,Divisions!$P$4:$Q$95,2,FALSE)","v":2}]
[28,"Apple Valley High School",1319,null,null,1319,"(B) CODA NGUYEN - [501]","(B) MASON JOHNSON - [429]","(B) NATHAN LENZEN - [389]","()  - [0]",null,1319,null,0,null,{"$f":"VLOOKUP(B94,Divisions!$P$4:$Q$95,2,FALSE)","v":2}]
[29,"St. Paul Composite - South",1286,null,null,1286,"(B) CHARLES MEYER - [464]","(B) COLIN SHEA - [453]","(B) MATTHIAS PASKE - [369]","()  - [0]",null,1286,null,0,null,{"$f":"VLOOKUP(B95,Divisions!$P$4:$Q$95,2,FALSE)","v":2}]
[30,"St Louis Park High School",1275,null,null,1275,"(B) JAVIER SCHIMMING - [374]","(B) TOMMY KELLER - [338]","(G) ELIANA MONTERO-WARD - [295]","(B) JACK LARSON - [268]",null,1275,null,0,null,{"$f":"VLOOKUP(B96,Divisions!$P$4:$Q$95,2,FALSE)","v":2}]
[31,"Chisago Lakes Composite",1272,null,null,1272,"(B) KYLE HAMLIN - [529]","(B) CARTER SCHILDGEN - [460]","(B) DALTON MULLIN - [283]","()  - [0]",null,1272,null,0,null,{"$f":"VLOOKUP(B97,Divisions!$P$4:$Q$95,2,FALSE)","v":2}]
[32,"St Paul Central",1267,null,null,1267,"(B) FINN GARRY - [529]","(B) QUINN BECK - [419]","(B) STEFFEN MONTVILLE - [319]","()  - [0]",null,1267,null,0,null,{"$f":"VLOOKUP(B98,Divisions!$P$4:$Q$95,2,FALSE)","v":2}]
[33,"Roseville Area Composite",1227,null,null,1227,"(G) SANDY FISH - [429]","(B) SIMON ENGLUND - [278]","(B) WILLEM NIBBELINK - [277]","(B) LUKAS SKINNER - [243]",null,1227,null,0,null,{"$f":"VLOOKUP(B99,Divisions!$P$4:$Q$95,2,FALSE)","v":2}]
[34,"Mankato West High School",1215,null,null,1215,"(B) BRENDAN ISENBERG - [468]","(B) CALEB GRASSMANN - [379]","(B) WALTER MICHELS - [368]","()  - [0]",null,1215,null,0,null,{"$f":"VLOOKUP(B100,Divisions!$P$4:$Q$95,2,FALSE)","v":2}]
[35,"Northwest Composite",1204,null,null,1204,"(B) HAYDEN LEISETH - [424]","(B) JACOB T OLSON - [401]","(B) GABE LINDSTROM - [379]","()  - [0]",null,1204,null,0,null,{"$f":"VLOOKUP(B101,Divisions!$P$4:$Q$95,2,FALSE)","v":2}]
[36,"Minneapolis South High",1186,null,null,1186,"(B) JESSE HEIM - [413]","(B) THEO HOLDSWORTH - [409]","(B) ZAE ISENSEE - [364]","()  - [0]",null,1186,null,0,null,{"$f":"VLOOKUP(B102,Divisions!$P$4:$Q$95,2,FALSE)","v":2}]
[37,"Breck/Blake",1177,null,null,1177,"(G) ALYSSA KRIG - [432]","(B) JOSH FRETT - [379]","(B) DUNCAN ARMOUR - [366]","()  - [0]",null,1177,null,0,null,{"$f":"VLOOKUP(B103,Divisions!$P$4:$Q$95,2,FALSE)","v":{"$error":"#N/A"}}]
[38,"Austin High School",1171,null,null,1171,"(G) CLAUDIA MCDONALD - [319]","(B) RORY POLLOCK - [299]","(B) ANDREW THOMPSON - [287]","(B) GAGE SOUCEK - [266]",null,1171,null,0,null,{"$f":"VLOOKUP(B104,Divisions!$P$4:$Q$95,2,FALSE)","v":2}]
[39,"Woodbury Composite",1125,null,null,1125,"(B) RYLAN OACHS - [519]","(B) BENNETT LEVANDER - [315]","(B) TYLER DALAHUNT - [291]","()  - [0]",null,1125,null,0,null,{"$f":"VLOOKUP(B105,Divisions!$P$4:$Q$95,2,FALSE)","v":2}]
[40,"St Michael / Albertville Composite",1112,null,null,1112,"(B) CLAYTON ETNIER - [432]","(B) GAVIN MOORMANN - [421]","(B) OWEN ANDERBERG - [259]","()  - [0]",null,1112,null,0,null,{"$f":"VLOOKUP(B106,Divisions!$P$4:$Q$95,2,FALSE)","v":2}]
[41,"Bloomington Composite",1111,null,null,1111,"(G) MAGGIE WEISS - [389]","(B) MAX HARTMANN - [266]","(B) JACK SQUIRES - [233]","(B) BRADEN THORNBURG - [223]",null,1111,null,0,null,{"$f":"VLOOKUP(B107,Divisions!$P$4:$Q$95,2,FALSE)","v":2}]
[42,"Lakeville South High School",1057,null,null,1057,"(B) COURTLAND BRAGG - [484]","(B) CARTER NESBITT - [298]","(B) ANDERS CLEMON - [275]","()  - [0]",null,1057,null,0,null,{"$f":"VLOOKUP(B108,Divisions!$P$4:$Q$95,2,FALSE)","v":2}]
[43,"Spectrum High School",1055,null,null,1055,"(B) ANDREW BURQUEST - [394]","(B) GARRETT PETERSON - [374]","(B) MATTHEW BURQUEST - [287]","()  - [0]",null,1055,null,0,null,{"$f":"VLOOKUP(B109,Divisions!$P$4:$Q$95,2,FALSE)","v":2}]
[44,"Mound Westonka Composite",1033,null,null,1033,"(B) COLIN PETERSON - [407]","(B) MAX BRYAN - [313]","(B) SAMUEL BURNS - [313]","()  - [0]",null,1033,null,0,null,{"$f":"VLOOKUP(B110,Divisions!$P$4:$Q$95,2,FALSE)","v":2}]
[45,"Mahtomedi High School",948,null,null,948,"(B) ETHAN ALBRECHT - [401]","(B) ISAIAH HORSAGER - [306]","(B) BRENDAN KENNEDY - [241]","()  - [0]",null,948,null,0,null,{"$f":"VLOOKUP(B111,Divisions!$P$4:$Q$95,2,FALSE)","v":2}]
[46,"Borealis Composite",943,null,null,943,"(G) RENA JOHNSTON - [354]","(G) AILA HARDING - [322]","(B) BLAKE HEGFORS - [267]","()  - [0]",null,943,null,0,null,{"$f":"VLOOKUP(B112,Divisions!$P$4:$Q$95,2,FALSE)","v":2}]
[47,"West Range Composite",935,null,null,935,"(B) HOWIE LIND - [330]","(B) REX WALLI - [322]","(B) KALUB BROWN - [283]","()  - [0]",null,935,null,0,null,{"$f":"VLOOKUP(B113,Divisions!$P$4:$Q$95,2,FALSE)","v":{"$error":"#N/A"}}]
[48,"Osseo",904,null,null,904,"(B) BENJAMIN PIPKIN - [307]","(B) SAM FRABEL - [304]","(B) JASON ANDERSEN - [293]","()  - [0]",null,904,null,0,null,{"$f":"VLOOKUP(B114,Divisions!$P$4:$Q$95,2,FALSE)","v":2}]
[49,"Rogers High School",897,null,null,897,"(B) DOMENIC HEGMAN - [550]","(B) MATTHEW O'BRIEN - [347]","()  - [0]","()  - [0]",null,897,null,0,null,{"$f":"VLOOKUP(B115,Divisions!$P$4:$Q$95,2,FALSE)","v":2}]
[50,"Park High School",847,null,null,847,"(B) NOLAN OTT - [338]","(B) JACK SCHWEIGERT - [275]","(B) LOGAN SCHWEIGERT - [234]","()  - [0]",null,847,null,0,null,{"$f":"VLOOKUP(B116,Divisions!$P$4:$Q$95,2,FALSE)","v":2}]
[51,"Osseo Composite",838,null,null,838,"(B) ABE OLSON - [395]","(B) BEN HESLI - [224]","(B) ELLIOT ZIMPFER - [219]","()  - [0]",null,838,null,0,null,{"$f":"VLOOKUP(B117,Divisions!$P$4:$Q$95,2,FALSE)","v":2}]
[52,"Kerkhoven Composite",707,null,null,707,"(B) JUSTIN ROSENBOOM - [249]","(B) BENJAMIN STRICKLAND - [242]","(B) CARL BENSON - [216]","()  - [0]",null,707,null,0,null,{"$f":"VLOOKUP(B118,Divisions!$P$4:$Q$95,2,FALSE)","v":2}]
[53,"Minneapolis Northside Composite",583,null,null,583,"(B) AYDAN DARK - [326]","(B) FINNEGAN BENDER - [257]","()  - [0]","()  - [0]",null,583,null,0,null,{"$f":"VLOOKUP(B119,Divisions!$P$4:$Q$95,2,FALSE)","v":2}]
[54,"Rochester John Marshall",480,null,null,480,"(B) LOGAN LANDON - [248]","(B) RILEY LANDON - [232]","()  - [0]","()  - [0]",null,480,null,0,null,{"$f":"VLOOKUP(B120,Divisions!$P$4:$Q$95,2,FALSE)","v":2}]
[55,"Hastings Area Composite",459,null,null,459,"(B) IAN FERGUSON - [234]","(B) GRAYDON STRAND - [225]","()  - [0]","()  - [0]",null,459,null,0,null,{"$f":"VLOOKUP(B121,Divisions!$P$4:$Q$95,2,FALSE)","v":2}]
[56,"St Croix Composite",388,null,null,388,"(B) BLAKE WAKELING - [388]","()  - [0]","()  - [0]","()  - [0]",null,388,null,0,null,{"$f":"VLOOKUP(B122,Divisions!$P$4:$Q$95,2,FALSE)","v":2}]
[57,"Irondale High School",329,null,null,329,"(B) JAMES CHIRI - [329]","()  - [0]","()  - [0]","()  - [0]",null,329,null,0,null,{"$f":"VLOOKUP(B123,Divisions!$P$4:$Q$95,2,FALSE)","v":"NA2"}]
[58,"Totino Grace High School",261,null,null,261,"(B) KYLE VOWELS - [261]","()  - [0]","()  - [0]","()  - [0]",null,261,null,0,null,{"$f":"VLOOKUP(B124,Divisions!$P$4:$Q$95,2,FALSE)","v":2}]
[59,"Rosemount High School",227,null,null,227,"(B) JACK SHOEMAKER - [227]","()  - [0]","()  - [0]","()  - [0]",null,227,null,0,null,{"$f":"VLOOKUP(B125,Divisions!$P$4:$Q$95,2,FALSE)","v":2}]
[60,"Hermantown-Proctor",0,null,null,0,"()  - [0]","()  - [0]","()  - [0]","()  - [0]",null,0,null,0,null,{"$f":"VLOOKUP(B126,Divisions!$P$4:$Q$95,2,FALSE)","v":2}]
[61,"West Fork",0,null,null,0,"()  - [0]","()  - [0]","()  - [0]","()  - [0]",null,0,null,0,null,{"$f":"VLOOKUP(B127,Divisions!$P$4:$Q$95,2,FALSE)","v":{"$error":"#N/A"}}]

{"sheet":"ScoresBySorting","index":7,"n_rows":3,"n_cols":11,"rows_kept":3,"cut":false,"hidden":false,"merged":[]}
["Sheet Name",null,null,null,null,null,"Count","Division","High or Middle","Score"]
["MN_7_REDHEAD",null,null,null,null,"Woodbury Composite",1388,{"$f":"D4","v":0},"High School",0]
["IYRaceID","Place","Points","Division","Name","Team Name","Category","Comment","IYRaceID","Plate","Laps"]

{"sheet":"Divisions","index":8,"n_rows":95,"n_cols":19,"rows_kept":95,"cut":false,"hidden":false,"merged":[]}
["Team Name","Div",null,null,null,null,null,null,null,null,null,null,null,null,null,"This is the official List here!"]
["Alexandria Area Youth Cycling",1,null,null,"Alexandria Area Youth Cycling",1,null,null,"Apple Valley HS",2,null,null,50]
["Apple Valley HS",2,null,null,"Armstrong Cycle Club",1,null,null,"Austin High School",2,null,null,2,null,null,"Team Name","Division"]
["Armstrong Cycle Club",1,null,null,"Bloomington Jefferson",1,null,null,"BBB Cycling Composite Team",2,null,null,6,null,null,"Alexandria Area Youth Cycling",1]
["Austin High School",2,null,null,"Brainerd High School",1,null,null,"Bemidji Composite",2,null,null,{"$f":"SUM(M2:M4)","v":58},null,null,"Apple Valley High School",2]
["BBB Cycling Composite Team",2,null,null,"Champlin Park High School",1,null,null,"Bloomington Composite",2,null,null,null,null,null,"Armstrong Cycle",1]
["Bemidji Composite",2,null,null,"Chanhassen High School",1,null,null,"Burnsville High School",2,1,null,null,null,null,"Austin High School",2]
["Bloomington Composite",2,null,null,"Chaska High School",1,null,null,"Cannon Valley Composite",2,null,null,null,null,null,"BBB Cycling Composite Team",2]
["Bloomington Jefferson",1,null,null,"Crosby-Ironton High School",1,null,null,"Chisago Lakes Composite",2,null,null,null,null,null,"Bemidji Composite",2]
["Brainerd High School",1,null,null,"Duluth East High School",1,null,null,"Cloquet-Esko-Carlton",2,1,null,null,null,null,"Benilde St Margaret",2]
["Burnsville High School",2,null,null,"Edina Cycling Team",1,null,null,"Duluth Composite",2,null,null,null,null,null,"Bloomington Composite",2]
["Cannon Valley Composite",2,null,null,"Hopkins High School",1,null,null,"Eagan High School",2,null,null,null,null,null,"Bloomington Jefferson",1]
["Champlin Park High School",1,null,null,"Hudson High School",1,2,null,"East Ridge High School",2,1,null,null,null,null,"Borealis Composite",2]
["Chanhassen High School",1,null,null,"Minnetonka High School",1,null,null,"Eastview High School",2,null,null,null,null,null,"Brainerd High School",1]
["Chaska High School",1,null,null,"Mounds View High School",1,null,null,"Eden Prairie High School",2,null,null,null,null,null,"Burnsville High School",1]
["Chisago Lakes Composite",2,null,null,"New Prague Middle and High School",1,null,null,"Elk River Composite",2,null,null,null,null,null,"Cannon Valley Composite",2]
["Cloquet-Esko-Carlton",2,null,null,"Orono High School",1,2,null,"Hastings Area Composite",2,null,null,null,null,null,"Champlin Park High School",1]
["Crosby-Ironton High School",1,null,null,"Prior Lake High School",1,null,null,"Highland Park - St. Paul",2,null,null,null,null,null,"Chanhassen High School",1]
["Duluth Composite",2,null,null,"Rochester Century HS",1,null,null,"Hutchinson High School",2,null,null,null,null,null,"Chaska High School",1]
["Duluth East High School",1,null,null,"Shakopee High School",1,null,null,"Irondale High School",2,null,null,null,null,null,"Chisago Lakes Composite",2]
["Eagan High School",2,null,null,"Southwest Minneapolis",1,null,null,"Kerkhoven Composite",2,null,null,null,null,null,"Cloquet-Esko-Carlton",1]
["East Ridge High School",2,null,null,"Stillwater Mountain Bike",1,null,null,"Lakeville North High School",2,1,null,null,null,null,"Crosby-Ironton High School",1]
["Eastview High School",2,null,null,"Washburn  High School",1,null,null,"Lakeville South High School",2,null,null,null,null,null,"Duluth Composite",2]
["Eden Prairie High School",2,null,null,"Wayzata Mountain Bike Team",1,null,null,"Mahtomedi High School",2,null,null,null,null,null,"Duluth East High School",1]
["Edina Cycling Team",1,null,null,"White Bear Lake High School",1,null,null,"Mankato Composite",2,null,null,null,null,null,"Eagan High School",2]
["Elk River Composite",2,null,null,"Winona",1,null,null,"Mankato West High School",2,null,"dup",null,null,null,"East Ridge High School",1]
["Hastings Area Composite",2,null,null,null,null,null,null,"Maple Grove High School",2,null,null,null,null,null,"Eastview High School",2]
["Highland Park - St. Paul",2,null,null,"Minneapolis Southwest",1,null,null,"Minneapolis Henry High School",2,null,null,null,null,null,"Eden Prairie High School",2]
["Hopkins High School",1,null,null,null,null,null,null,"Minneapolis Northside Composite",2,null,null,null,null,null,"Edina Cycling",1]
["Hudson High School",1,null,"<-",null,null,null,null,"Minneapolis South High",2,null,null,null,null,null,"Elk River Composite",2]
["Hutchinson High School",2,null,null,null,null,null,null,"Minneapolis Southside Composite",2,null,null,null,null,null,"Hastings Area Composite",2]
["Irondale High School",2,null,null,null,null,null,null,"Minnesota Valley Composite",2,null,null,null,null,null,"Hermantown-Proctor",2]
["Kerkhoven Composite",2,null,null,null,null,null,null,"Mound Westonka Composite",2,null,null,null,null,null,"Highland Park St Paul",2,null,"Highland Park St Paul"]
["Lakeville North High School",2,null,null,null,null,null,null,"North Dakota Composite",2,null,null,null,null,null,"Hopkins High School",1]
["Lakeville South High School",2,null,null,null,null,null,null,"North Dakota Kindred Composite",2,null,null,null,null,null,"Hudson High School",2]
["Mahtomedi High School",2,null,null,null,null,null,null,"Northwest Composite",2,null,null,null,null,null,"Hutchinson High School",2]
["Mankato Composite",2,null,null,null,null,null,null,"Open World Learning Community",2,null,null,null,null,null,"Irondale High School","NA2"]
["Mankato West High School",2,null,null,null,null,null,null,"Osseo Composite",2,null,null,null,null,null,"Kerkhoven Composite",2]
["Maple Grove High School",2,null,null,null,null,null,null,"Osseo ",2,null,null,null,null,null,"Lakeville North High School",1]
["Minneapolis Henry High School",2,null,null,null,null,null,null,"Park High School",2,null,null,null,null,null,"Lakeville South High School",2]
["Minneapolis Northside Composite",2,null,null,null,null,null,null,"River Falls High School",2,null,null,null,null,null,"Mahtomedi High School",2]
["Minnesota Valley Composite",2,null,null,null,null,null,null,"Rochester Area Comp",2,null,null,null,null,null,"Mankato Composite",2]
["Minnetonka High School",1,null,null,null,null,null,null,"Rochester Mayo ",2,null,null,null,null,null,"Mankato West High School",2]
["Mound Westonka Composite",2,null,null,null,null,null,null,"Rock Ridge Composite",2,1,null,null,null,null,"Maple Grove High School",2]
["Mounds View High School",1,null,null,null,null,null,null,"Rockford Composite",2,null,null,null,null,null,"Minneapolis Henry High School",2]
["MPLS South High",2,null,null,null,null,null,null,"Rogers High School",2,null,null,null,null,null,"Minneapolis Northside Composite",2]
["MPLS Southside Composite",2,null,null,null,null,null,null,"Roosevelt High School",2,null,null,null,null,null,"Minneapolis South High",2]
["New Prague Middle and High School",1,null,null,null,null,null,null,"Rosemount HS",2,null,null,null,null,null,"Minneapolis Southside Composite",2]
["North Dakota Composite",2,null,null,null,null,null,null,"Roseville Area Composite",2,null,null,null,null,null,"Minneapolis Southwest",1]
["North Dakota Kindred Composite",2,null,null,null,null,null,null,"Saint Paul Composite",2,null,null,null,null,null,"Minnesota Valley Composite",2]
["Northwest Composite",2,null,null,null,null,null,null,"Spectrum High School",2,null,null,null,null,null,"Minnetonka High School",1]
["Open World Learning Community",2,null,null,null,null,null,null,"St Cloud Area Composite",2,null,null,null,null,null,"Mound Westonka Composite",2]
["Orono High School",1,null,null,null,null,null,null,"St Croix Composite",2,null,null,null,null,null,"Mounds View High School",1]
["Osseo Composite",2,null,null,null,null,null,null,"St Louis Park High School",2,null,null,null,null,null,"New Prague Middle and High School",1]
["Osseo ",2,null,null,null,null,null,null,"St. Michael / Albertville Composite",2,null,null,null,null,null,"North Dakota Composite",2]
["Park High School",2,null,null,null,null,null,null,"St. Paul Central",2,null,null,null,null,null,"North Dakota Kindred Composite",2]
["Prior Lake High School",1,null,null,null,null,null,null,"Team BOREALIS Composite",2,null,null,null,null,null,"Northwest Composite",2]
["River Falls High School",2,null,null,null,null,null,null,"Tioga Trailblazers",2,null,null,null,null,null,"Open World Learning Community","NA2"]
["Rochester Area Comp",2,null,null,null,null,null,null,"Totino Grace High School",2,null,null,null,null,null,"Orono High School",2]
["Rochester Century HS",1,null,null,null,null,null,null,"West Range Composite",2,1,null,null,null,null,"Osseo",2]
["Rochester Mayo ",2,null,null,null,null,null,null,"Woodbury High School Comp",2,null,null,null,null,null,"Osseo Composite",2]
["Rock Ridge Composite",2,null,null,null,null,null,null,null,null,null,null,null,null,null,"Park High School",2]
["Rockford Composite",2,null,null,null,null,null,null,"Benilde St Margaret",2,null,null,null,null,null,"Prior Lake High School",1]
["Rogers High School",2,null,null,null,null,null,null,"Borealis Composite",2,null,null,null,null,null,"River Falls High School",2]
["Roosevelt High School",2,null,null,null,null,null,null,"Hermantown‐Proctor",2,null,null,null,null,null,"Rochester Area Composite",2]
["Rosemount HS",2,null,null,null,null,null,null,"Rochester John Marshall",2,null,null,null,null,null,"Rochester Century High School",1]
["Roseville Area Composite",2,null,null,null,null,null,null,"St. Paul Composite ‐ North",2,null,null,null,null,null,"Rochester John Marshall",2]
["Saint Paul Composite",2,null,null,null,null,null,null,"St. Paul Composite ‐ South",2,null,null,null,null,null,"Rochester Mayo",2]
["Shakopee High School",1,null,null,null,null,null,null,null,null,null,null,null,null,null,"Rock Ridge Composite",1]
["Southwest Minneapolis",1,null,null,null,null,null,null,null,null,null,null,null,null,null,"Rockford Composite",2]
["Spectrum High School",2,null,null,null,null,null,null,null,null,null,null,null,null,null,"Rogers High School",2]
["St Cloud Area Composite",2,null,null,null,null,null,null,null,null,null,null,null,null,null,"Roosevelt High School",2]
["St Croix Composite",2,null,null,null,null,null,null,null,null,null,null,null,null,null,"Rosemount High School",2]
["St Louis Park High School",2,null,null,null,null,null,null,null,null,null,null,null,null,null,"Roseville Area Composite",2]
["St. Michael / Albertville Composite",2,null,null,null,null,null,null,null,null,null,null,null,null,null,"Saint Paul Composite","NA2"]
["St. Paul Central",2,null,null,null,null,null,null,null,null,null,null,null,null,null,"Shakopee High School",1]
["Stillwater Mountain Bike",1,null,null,null,null,null,null,null,null,null,null,null,null,null,"Southwest Minneapolis","NA1"]
["Team BOREALIS Composite",2,null,null,null,null,null,null,null,null,null,null,null,null,null,"Spectrum High School",2]
["Tioga Trailblazers",2,null,null,null,null,null,null,null,null,null,null,null,null,null,"St Cloud Area Composite",2]
["Totino Grace High School",2,null,null,null,null,null,null,null,null,null,null,null,null,null,"St Croix Composite",2]
["Washburn  High School",1,null,null,null,null,null,null,null,null,null,null,null,null,null,"St Louis Park High School",2]
["Wayzata Mountain Bike Team",1,null,null,null,null,null,null,null,null,null,null,null,null,null,"St Michael / Albertville Composite",2]
["West Range Composite",2,null,null,null,null,null,null,null,null,null,null,null,null,null,"St Paul Central",2]
["White Bear Lake High School",1,null,null,null,null,null,null,null,null,null,null,null,null,null,"St. Paul Composite - North",2]
["Winona",1,null,null,null,null,null,null,null,null,null,null,null,null,null,"St. Paul Composite - South",2]
["Woodbury High School Comp",2,null,null,null,null,null,null,null,null,null,null,null,null,null,"Stillwater Mountain Bike",1]
[null,null,null,null,null,null,null,null,null,null,null,null,null,null,null,"Team BOREALIS Composite","NA2"]
["Burnsville High School",1,null,null,null,null,null,null,null,null,null,null,null,null,null,"Tioga Trailblazers",2]
["Cloquet‐Esko‐Carlton",1,null,null,null,null,null,null,null,null,null,null,null,null,null,"Totino Grace High School",2]
["East Ridge High School",null,null,null,null,null,null,null,null,null,null,null,null,null,null,"Washburn High School",1]
["Lakeville North High School",null,null,null,null,null,null,null,null,null,null,null,null,null,null,"Wayzata Mountain Bike",1]
[null,null,null,null,null,null,null,null,null,null,null,null,null,null,null,"West Range",1]
[null,null,null,null,null,null,null,null,null,null,null,null,null,null,null,"White Bear Lake High School",1]
[null,null,null,null,null,null,null,null,null,null,null,null,null,null,null,"Winona",1]
[null,null,null,null,null,null,null,null,null,null,null,null,null,null,null,"Woodbury Composite",2]

{"sheet":"Sheet2","index":9,"n_rows":855,"n_cols":9,"rows_kept":855,"cut":false,"hidden":false,"merged":[]}
["old"]
["Team Name","Div"]
["Alexandria Area Youth Cycling",1,null,"Cloquet-Esko-Carlton","6th Grade Boys D1",{"$f":"IF(ISNUMBER(VALUE(RIGHT(E3,1))),VALUE(RIGHT(E3,1)),\"-\")","v":1},null,"Alexandria Area Youth Cycling",{"$f":"_xlfn.MAXIFS($F$3:$F$855, $D$3:$D$855, \"=\"&H3)","v":1}]
["Apple Valley HS",2,null,"Cloquet-Esko-Carlton","6th Grade Boys D1",{"$f":"IF(ISNUMBER(VALUE(RIGHT(E4,1))),VALUE(RIGHT(E4,1)),\"-\")","v":1},null,"Apple Valley High School",{"$f":"_xlfn.MAXIFS($F$3:$F$855, $D$3:$D$855, \"=\"&H4)","v":2}]
["Armstrong Cycle Club",1,null,"Minnetonka High School","6th Grade Boys D1",1,null,"Armstrong Cycle",1]
["Austin High School",2,null,"Cloquet-Esko-Carlton","6th Grade Boys D1",1,null,"Benilde St Margaret",2]
["BBB Cycling Composite Team",2,null,"Minneapolis Southwest","6th Grade Boys D1",1,null,"Borealis Composite",2]
["Bemidji Composite",2,null,"Wayzata Mountain Bike","6th Grade Boys D1",1,null,"Breck/Blake",2]
["Bloomington Composite",2,null,"Armstrong Cycle","6th Grade Boys D1",1,null,"Burnsville High School",1]
["Bloomington Jefferson",1,null,"Wayzata Mountain Bike","6th Grade Boys D1",1,null,"Cannon Valley Composite",2]
["Brainerd High School",1,null,"Minnetonka High School","6th Grade Boys D1",1,null,"Chisago Lakes Composite",2]
["Burnsville High School",2,null,"Minneapolis Southwest","6th Grade Boys D1",1,null,"Cloquet-Esko-Carlton",1]
["Cannon Valley Composite",2,null,"Edina Cycling","6th Grade Boys D1",1,null,"Eagan High School",2]
["Champlin Park High School",1,null,"Minnetonka High School","6th Grade Boys D1",1,null,"Eastview High School",2]
["Chanhassen High School",1,null,"Minneapolis Southwest","6th Grade Boys D1",1,null,"Edina Cycling",1]
["Chaska High School",1,null,"Washburn High School","6th Grade Boys D1",1,null,"Elk River Composite",2]
["Chisago Lakes Composite",2,null,"Edina Cycling","6th Grade Boys D1",1,null,"Hastings Area Composite",2]
["Cloquet-Esko-Carlton",2,null,"Armstrong Cycle","6th Grade Boys D1",1,null,"Highland Park St Paul",2]
["Crosby-Ironton High School",1,null,"Burnsville High School","6th Grade Boys D1",1,null,"Hopkins High School",1]
["Duluth Composite",2,null,"Washburn High School","6th Grade Boys D1",1,null,"Hudson High School",2]
["Duluth East High School",1,null,"Edina Cycling","6th Grade Boys D1",1,null,"Irondale High School",2]
["Eagan High School",2,null,"Prior Lake High School","6th Grade Boys D1",1,null,"Kerkhoven Composite",2]
["East Ridge High School",2,null,"Edina Cycling","6th Grade Boys D1",1,null,"Mahtomedi High School",2]
["Eastview High School",2,null,"Wayzata Mountain Bike","6th Grade Boys D1",1,null,"Mankato Composite",2]
["Eden Prairie High School",2,null,"Minnetonka High School","6th Grade Boys D1",1,null,"Mankato West High School",2]
["Edina Cycling Team",1,null,"Minneapolis Southwest","6th Grade Boys D1",1,null,"Minneapolis Henry High School",2]
["Elk River Composite",2,null,"Prior Lake High School","6th Grade Boys D1",1,null,"Minneapolis Northside Composite",2]
["Hastings Area Composite",2,null,"Minnetonka High School","6th Grade Boys D1",1,null,"Minneapolis South High",2]
["Highland Park - St. Paul",2,null,"Wayzata Mountain Bike","6th Grade Boys D1",1,null,"Minneapolis Southside Composite",2]
["Hopkins High School",1,null,"Chisago Lakes Composite","6th Grade Boys D2",2,null,"Minneapolis Southwest",1]
["Hudson High School",1,null,"Tioga Trailblazers","6th Grade Boys D2",2,null,"Minnetonka High School",1]
["Hutchinson High School",2,null,"Eagan High School","6th Grade Boys D2",2,null,"Mounds View High School",1]
["Irondale High School",2,null,"Breck/Blake","6th Grade Boys D2",2,null,"Prior Lake High School",1]
["Kerkhoven Composite",2,null,"St Paul Central","6th Grade Boys D2",2,null,"River Falls High School",2]
["Lakeville North High School",2,null,"Highland Park St Paul","6th Grade Boys D2",2,null,"Rochester Area Composite",2]
["Lakeville South High School",2,null,"Roosevelt High School","6th Grade Boys D2",2,null,"Rochester Century High School",1]
["Mahtomedi High School",2,null,"Hudson High School","6th Grade Boys D2",2,null,"Rochester John Marshall",2]
["Mankato Composite",2,null,"Hudson High School","6th Grade Boys D2",2,null,"Rochester Mayo",2]
["Mankato West High School",2,null,"Rochester Mayo","6th Grade Boys D2",2,null,"Rogers High School",2]
["Maple Grove High School",2,null,"Mahtomedi High School","6th Grade Boys D2",2,null,"Roosevelt High School",2]
["Minneapolis Henry High School",2,null,"Minneapolis South High","6th Grade Boys D2",2,null,"Rosemount High School",2]
["Minneapolis Northside Composite",2,null,"Rogers High School","6th Grade Boys D2",2,null,"Roseville Area Composite",2]
["Minnesota Valley Composite",2,null,"Rosemount High School","6th Grade Boys D2",2,null,"Spectrum High School",2]
["Minnetonka High School",1,null,"Mahtomedi High School","6th Grade Boys D2",2,null,"St Croix Composite",2]
["Mound Westonka Composite",2,null,"Chisago Lakes Composite","6th Grade Boys D2",2,null,"St Paul Central",2]
["Mounds View High School",1,null,"Mahtomedi High School","6th Grade Boys D2",2,null,"St. Paul Composite - North",2]
["MPLS South High",2,null,"Rosemount High School","6th Grade Boys D2",2,null,"St. Paul Composite - South",2]
["MPLS Southside Composite",2,null,"Hopkins High School","6th Grade Girls","-",null,"Tioga Trailblazers",2]
["New Prague Middle and High School",1,null,"St. Paul Composite - South","6th Grade Girls","-",null,"Totino Grace High School",2]
["North Dakota Composite",2,null,"Cloquet-Esko-Carlton","6th Grade Girls","-",null,"Washburn High School",1]
["North Dakota Kindred Composite",2,null,"Minnetonka High School","6th Grade Girls","-",null,"Wayzata Mountain Bike",1]
["Northwest Composite",2,null,"Alexandria Area Youth Cycling","6th Grade Girls","-",null,"West Fork",2]
["Open World Learning Community",2,null,"Minneapolis Southwest","6th Grade Girls","-",null,"West Range Composite",2]
["Orono High School",1,null,"St Croix Composite","6th Grade Girls","-"]
["Osseo Composite",2,null,"Minneapolis Southwest","6th Grade Girls","-"]
["Osseo ",2,null,"Edina Cycling","6th Grade Girls","-"]
["Park High School",2,null,"Minneapolis Southwest","6th Grade Girls","-"]
["Prior Lake High School",1,null,"Prior Lake High School","6th Grade Girls","-"]
["River Falls High School",2,null,"River Falls High School","6th Grade Girls","-"]
["Rochester Area Comp",2,null,"Burnsville High School","6th Grade Girls","-"]
["Rochester Century HS",1,null,"Hastings Area Composite","6th Grade Girls","-"]
["Rochester Mayo ",2,null,"Prior Lake High School","6th Grade Girls","-"]
["Rock Ridge Composite",2,null,"Minneapolis Southwest","6th Grade Girls","-"]
["Rockford Composite",2,null,"Armstrong Cycle","6th Grade Girls","-"]
["Rogers High School",2,null,"Washburn High School","6th Grade Girls","-"]
["Roosevelt High School",2,null,"Elk River Composite","6th Grade Girls","-"]
["Rosemount HS",2,null,"Cloquet-Esko-Carlton","6th Grade Girls","-"]
["Roseville Area Composite",2,null,"Tioga Trailblazers","6th Grade Girls",{"$f":"IF(ISNUMBER(VALUE(RIGHT(E68,1))),VALUE(RIGHT(E68,1)),\"-\")","v":"-"}]
["Saint Paul Composite",2,null,"Roosevelt High School","6th Grade Girls","-"]
["Shakopee High School",1,null,"Borealis Composite","6th Grade Girls","-"]
["Southwest Minneapolis",1,null,"River Falls High School","6th Grade Girls","-"]
["Spectrum High School",2,null,"Hopkins High School","6th Grade Girls","-"]
["St Cloud Area Composite",2,null,"Burnsville High School","6th Grade Girls","-"]
["St Croix Composite",2,null,"Elk River Composite","6th Grade Girls","-"]
["St Louis Park High School",2,null,"St Paul Central","6th Grade Girls","-"]
["St. Michael / Albertville Composite",2,null,"Minnetonka High School","7th Grade Boys D1",1]
["St. Paul Central",2,null,"Wayzata Mountain Bike","7th Grade Boys D1",1]
["Stillwater Mountain Bike",1,null,"Washburn High School","7th Grade Boys D1",1]
["Team BOREALIS Composite",2,null,"Wayzata Mountain Bike","7th Grade Boys D1",1]
["Tioga Trailblazers",2,null,"Wayzata Mountain Bike","7th Grade Boys D1",1]
["Totino Grace High School",2,null,"Cloquet-Esko-Carlton","7th Grade Boys D1",1]
["Washburn  High School",1,null,"Hopkins High School","7th Grade Boys D1",1]
["Wayzata Mountain Bike Team",1,null,"Cloquet-Esko-Carlton","7th Grade Boys D1",1]
["West Range Composite",2,null,"Prior Lake High School","7th Grade Boys D1",1]
["White Bear Lake High School",1,null,"Cloquet-Esko-Carlton","7th Grade Boys D1",1]
["Winona",1,null,"Hopkins High School","7th Grade Boys D1",1]
["Woodbury High School Comp",2,null,"Armstrong Cycle","7th Grade Boys D1",1]
[null,null,null,"Mounds View High School","7th Grade Boys D1",1]
[null,null,null,"Minnetonka High School","7th Grade Boys D1",1]
[null,null,null,"Minnetonka High School","7th Grade Boys D1",1]
[null,null,null,"Wayzata Mountain Bike","7th Grade Boys D1",1]
[null,null,null,"Cloquet-Esko-Carlton","7th Grade Boys D1",1]
[null,null,null,"Minnetonka High School","7th Grade Boys D1",1]
[null,null,null,"Cloquet-Esko-Carlton","7th Grade Boys D1",1]
[null,null,null,"Minnetonka High School","7th Grade Boys D1",1]
[null,null,null,"Minneapolis Southwest","7th Grade Boys D1",1]
[null,null,null,"Prior Lake High School","7th Grade Boys D1",1]
[null,null,null,"Burnsville High School","7th Grade Boys D1",1]
[null,null,null,"Wayzata Mountain Bike","7th Grade Boys D1",1]
[null,null,null,"Prior Lake High School","7th Grade Boys D1",1]
[null,null,null,"Edina Cycling","7th Grade Boys D1",1]
[null,null,null,"Washburn High School","7th Grade Boys D1",1]
[null,null,null,"Minnetonka High School","7th Grade Boys D1",1]
[null,null,null,"Minneapolis Southwest","7th Grade Boys D1",1]
[null,null,null,"Alexandria Area Youth Cycling","7th Grade Boys D1",1]
[null,null,null,"Prior Lake High School","7th Grade Boys D1",1]
[null,null,null,"Wayzata Mountain Bike","7th Grade Boys D1",1]
[null,null,null,"Hopkins High School","7th Grade Boys D1",1]
[null,null,null,"Alexandria Area Youth Cycling","7th Grade Boys D1",1]
[null,null,null,"Mounds View High School","7th Grade Boys D1",1]
[null,null,null,"Wayzata Mountain Bike","7th Grade Boys D1",1]
[null,null,null,"Edina Cycling","7th Grade Boys D1",1]
[null,null,null,"Edina Cycling","7th Grade Boys D1",1]
[null,null,null,"Alexandria Area Youth Cycling","7th Grade Boys D1",1]
[null,null,null,"Minnetonka High School","7th Grade Boys D1",1]
[null,null,null,"Wayzata Mountain Bike","7th Grade Boys D1",1]
[null,null,null,"Hopkins High School","7th Grade Boys D1",1]
[null,null,null,"Minnetonka High School","7th Grade Boys D1",1]
[null,null,null,"Wayzata Mountain Bike","7th Grade Boys D1",1]
[null,null,null,"Prior Lake High School","7th Grade Boys D1",1]
[null,null,null,"Rochester Century High School","7th Grade Boys D1",1]
[null,null,null,"Minneapolis Southwest","7th Grade Boys D1",1]
[null,null,null,"Washburn High School","7th Grade Boys D1",1]
[null,null,null,"Rochester Century High School","7th Grade Boys D1",1]
[null,null,null,"Alexandria Area Youth Cycling","7th Grade Boys D1",1]
[null,null,null,"Alexandria Area Youth Cycling","7th Grade Boys D1",1]
[null,null,null,"Washburn High School","7th Grade Boys D1",1]
[null,null,null,"Edina Cycling","7th Grade Boys D1",1]
[null,null,null,"Minnetonka High School","7th Grade Boys D1",1]
[null,null,null,"Washburn High School","7th Grade Boys D1",1]
[null,null,null,"Cloquet-Esko-Carlton","7th Grade Boys D1",1]
[null,null,null,"Chisago Lakes Composite","7th Grade Boys D2",{"$f":"IF(ISNUMBER(VALUE(RIGHT(E132,1))),VALUE(RIGHT(E132,1)),\"-\")","v":2}]
[null,null,null,"Rosemount High School","7th Grade Boys D2",2]
[null,null,null,"St Paul Central","7th Grade Boys D2",2]
[null,null,null,"St. Paul Composite - North","7th Grade Boys D2",2]
[null,null,null,"Roosevelt High School","7th Grade Boys D2",2]
[null,null,null,"River Falls High School","7th Grade Boys D2",2]
[null,null,null,"Hudson High School","7th Grade Boys D2",2]
[null,null,null,"Hudson High School","7th Grade Boys D2",2]
[null,null,null,"Eagan High School","7th Grade Boys D2",2]
[null,null,null,"Roosevelt High School","7th Grade Boys D2",2]
[null,null,null,"Rochester John Marshall","7th Grade Boys D2",2]
[null,null,null,"Roseville Area Composite","7th Grade Boys D2",2]
[null,null,null,"Elk River Composite","7th Grade Boys D2",2]
[null,null,null,"St. Paul Composite - South","7th Grade Boys D2",2]
[null,null,null,"River Falls High School","7th Grade Boys D2",2]
[null,null,null,"Tioga Trailblazers","7th Grade Boys D2",2]
[null,null,null,"Rosemount High School","7th Grade Boys D2",2]
[null,null,null,"Hudson High School","7th Grade Boys D2",2]
[null,null,null,"River Falls High School","7th Grade Boys D2",2]
[null,null,null,"West Fork","7th Grade Boys D2",2]
[null,null,null,"West Range Composite","7th Grade Boys D2",2]
[null,null,null,"St. Paul Composite - South","7th Grade Boys D2",2]
[null,null,null,"Cannon Valley Composite","7th Grade Boys D2",2]
[null,null,null,"Tioga Trailblazers","7th Grade Boys D2",2]
[null,null,null,"River Falls High School","7th Grade Boys D2",2]
[null,null,null,"Cannon Valley Composite","7th Grade Boys D2",2]
[null,null,null,"Breck/Blake","7th Grade Boys D2",2]
[null,null,null,"St Paul Central","7th Grade Boys D2",2]
[null,null,null,"River Falls High School","7th Grade Boys D2",2]
[null,null,null,"Roseville Area Composite","7th Grade Boys D2",2]
[null,null,null,"Rochester Area Composite","7th Grade Boys D2",2]
[null,null,null,"Roosevelt High School","7th Grade Boys D2",2]
[null,null,null,"Highland Park St Paul","7th Grade Boys D2",2]
[null,null,null,"Hudson High School","7th Grade Boys D2",2]
[null,null,null,"River Falls High School","7th Grade Boys D2",2]
[null,null,null,"Elk River Composite","7th Grade Boys D2",2]
[null,null,null,"Roosevelt High School","7th Grade Boys D2",2]
[null,null,null,"Eagan High School","7th Grade Boys D2",2]
[null,null,null,"Rochester John Marshall","7th Grade Boys D2",2]
[null,null,null,"St Paul Central","7th Grade Boys D2",2]
[null,null,null,"Chisago Lakes Composite","7th Grade Boys D2",2]
[null,null,null,"Eastview High School","7th Grade Boys D2",2]
[null,null,null,"St Paul Central","7th Grade Boys D2",2]
[null,null,null,"Elk River Composite","7th Grade Boys D2",2]
[null,null,null,"Roseville Area Composite","7th Grade Boys D2",2]
[null,null,null,"Roseville Area Composite","7th Grade Boys D2",2]
[null,null,null,"Eastview High School","7th Grade Girls","-"]
[null,null,null,"River Falls High School","7th Grade Girls","-"]
[null,null,null,"Wayzata Mountain Bike","7th Grade Girls","-"]
[null,null,null,"Alexandria Area Youth Cycling","7th Grade Girls","-"]
[null,null,null,"Mounds View High School","7th Grade Girls","-"]
[null,null,null,"River Falls High School","7th Grade Girls","-"]
[null,null,null,"Hopkins High School","7th Grade Girls","-"]
[null,null,null,"Prior Lake High School","7th Grade Girls","-"]
[null,null,null,"Washburn High School","7th Grade Girls","-"]
[null,null,null,"St Croix Composite","7th Grade Girls","-"]
[null,null,null,"Minneapolis Southwest","7th Grade Girls","-"]
[null,null,null,"Washburn High School","7th Grade Girls","-"]
[null,null,null,"Minnetonka High School","7th Grade Girls","-"]
[null,null,null,"Edina Cycling","7th Grade Girls","-"]
[null,null,null,"Hopkins High School","7th Grade Girls","-"]
[null,null,null,"Prior Lake High School","7th Grade Girls","-"]
[null,null,null,"Hudson High School","7th Grade Girls","-"]
[null,null,null,"Minneapolis Southwest","7th Grade Girls","-"]
[null,null,null,"Washburn High School","7th Grade Girls",{"$f":"IF(ISNUMBER(VALUE(RIGHT(E196,1))),VALUE(RIGHT(E196,1)),\"-\")","v":"-"}]
[null,null,null,"Eagan High School","7th Grade Girls","-"]
[null,null,null,"Hopkins High School","7th Grade Girls","-"]
[null,null,null,"Totino Grace High School","7th Grade Girls","-"]
[null,null,null,"Roosevelt High School","7th Grade Girls","-"]
[null,null,null,"Minnetonka High School","7th Grade Girls","-"]
[null,null,null,"River Falls High School","7th Grade Girls","-"]
[null,null,null,"Roseville Area Composite","7th Grade Girls","-"]
[null,null,null,"Burnsville High School","7th Grade Girls","-"]
[null,null,null,"Roseville Area Composite","7th Grade Girls","-"]
[null,null,null,"Kerkhoven Composite","7th Grade Girls","-"]
[null,null,null,"Hopkins High School","7th Grade Girls","-"]
[null,null,null,"Mounds View High School","8th Grade Boys D1",1]
[null,null,null,"Cloquet-Esko-Carlton","8th Grade Boys D1",1]
[null,null,null,"Mounds View High School","8th Grade Boys D1",1]
[null,null,null,"Edina Cycling","8th Grade Boys D1",1]
[null,null,null,"Prior Lake High School","8th Grade Boys D1",1]
[null,null,null,"Armstrong Cycle","8th Grade Boys D1",1]
[null,null,null,"Prior Lake High School","8th Grade Boys D1",1]
[null,null,null,"Mounds View High School","8th Grade Boys D1",1]
[null,null,null,"Rochester Century High School","8th Grade Boys D1",1]
[null,null,null,"Burnsville High School","8th Grade Boys D1",1]
[null,null,null,"Minnetonka High School","8th Grade Boys D1",1]
[null,null,null,"Washburn High School","8th Grade Boys D1",1]
[null,null,null,"Hopkins High School","8th Grade Boys D1",1]
[null,null,null,"Burnsville High School","8th Grade Boys D1",1]
[null,null,null,"Prior Lake High School","8th Grade Boys D1",1]
[null,null,null,"Edina Cycling","8th Grade Boys D1",1]
[null,null,null,"Cloquet-Esko-Carlton","8th Grade Boys D1",1]
[null,null,null,"Edina Cycling","8th Grade Boys D1",1]
[null,null,null,"Alexandria Area Youth Cycling","8th Grade Boys D1",1]
[null,null,null,"Prior Lake High School","8th Grade Boys D1",1]
[null,null,null,"Washburn High School","8th Grade Boys D1",1]
[null,null,null,"Prior Lake High School","8th Grade Boys D1",1]
[null,null,null,"Hopkins High School","8th Grade Boys D1",1]
[null,null,null,"Cloquet-Esko-Carlton","8th Grade Boys D1",1]
[null,null,null,"Washburn High School","8th Grade Boys D1",1]
[null,null,null,"Washburn High School","8th Grade Boys D1",1]
[null,null,null,"Prior Lake High School","8th Grade Boys D1",1]
[null,null,null,"Minneapolis Southwest","8th Grade Boys D1",1]
[null,null,null,"Mounds View High School","8th Grade Boys D1",1]
[null,null,null,"Minneapolis Southwest","8th Grade Boys D1",1]
[null,null,null,"Edina Cycling","8th Grade Boys D1",1]
[null,null,null,"Washburn High School","8th Grade Boys D1",1]
[null,null,null,"Washburn High School","8th Grade Boys D1",1]
[null,null,null,"Armstrong Cycle","8th Grade Boys D1",1]
[null,null,null,"Hopkins High School","8th Grade Boys D1",1]
[null,null,null,"Minnetonka High School","8th Grade Boys D1",1]
[null,null,null,"Prior Lake High School","8th Grade Boys D1",1]
[null,null,null,"Minneapolis Southwest","8th Grade Boys D1",1]
[null,null,null,"Edina Cycling","8th Grade Boys D1",1]
[null,null,null,"Alexandria Area Youth Cycling","8th Grade Boys D1",1]
[null,null,null,"Armstrong Cycle","8th Grade Boys D1",1]
[null,null,null,"Mounds View High School","8th Grade Boys D1",1]
[null,null,null,"Hopkins High School","8th Grade Boys D1",1]
[null,null,null,"Rochester Century High School","8th Grade Boys D1",1]
[null,null,null,"Rogers High School","8th Grade Boys D2",2]
[null,null,null,"St Croix Composite","8th Grade Boys D2",2]
[null,null,null,"Elk River Composite","8th Grade Boys D2",2]
[null,null,null,"Hudson High School","8th Grade Boys D2",2]
[null,null,null,"Hastings Area Composite","8th Grade Boys D2",2]
[null,null,null,"St. Paul Composite - South","8th Grade Boys D2",2]
[null,null,null,"St Croix Composite","8th Grade Boys D2",2]
[null,null,null,"Hudson High School","8th Grade Boys D2",2]
[null,null,null,"Mahtomedi High School","8th Grade Boys D2",{"$f":"IF(ISNUMBER(VALUE(RIGHT(E260,1))),VALUE(RIGHT(E260,1)),\"-\")","v":2}]
[null,null,null,"Cannon Valley Composite","8th Grade Boys D2",2]
[null,null,null,"Elk River Composite","8th Grade Boys D2",2]
[null,null,null,"Minneapolis Southside Composite","8th Grade Boys D2",2]
[null,null,null,"Rosemount High School","8th Grade Boys D2",2]
[null,null,null,"Apple Valley High School","8th Grade Boys D2",2]
[null,null,null,"Benilde St Margaret","8th Grade Boys D2",2]
[null,null,null,"St. Paul Composite - North","8th Grade Boys D2",2]
[null,null,null,"Hastings Area Composite","8th Grade Boys D2",2]
[null,null,null,"Benilde St Margaret","8th Grade Boys D2",2]
[null,null,null,"River Falls High School","8th Grade Boys D2",2]
[null,null,null,"Mankato West High School","8th Grade Boys D2",2]
[null,null,null,"Rochester Mayo","8th Grade Boys D2",2]
[null,null,null,"St. Paul Composite - North","8th Grade Boys D2",2]
[null,null,null,"Elk River Composite","8th Grade Boys D2",2]
[null,null,null,"Tioga Trailblazers","8th Grade Boys D2",2]
[null,null,null,"Rochester Mayo","8th Grade Boys D2",2]
[null,null,null,"St Croix Composite","8th Grade Boys D2",2]
[null,null,null,"River Falls High School","8th Grade Boys D2",2]
[null,null,null,"River Falls High School","8th Grade Boys D2",2]
[null,null,null,"Roosevelt High School","8th Grade Boys D2",2]
[null,null,null,"Elk River Composite","8th Grade Boys D2",2]
[null,null,null,"Mahtomedi High School","8th Grade Boys D2",2]
[null,null,null,"Borealis Composite","8th Grade Boys D2",2]
[null,null,null,"West Range Composite","8th Grade Boys D2",2]
[null,null,null,"Apple Valley High School","8th Grade Boys D2",2]
[null,null,null,"Mahtomedi High School","8th Grade Boys D2",2]
[null,null,null,"Tioga Trailblazers","8th Grade Boys D2",2]
[null,null,null,"Cannon Valley Composite","8th Grade Boys D2",2]
[null,null,null,"Highland Park St Paul","8th Grade Boys D2",2]
[null,null,null,"Breck/Blake","8th Grade Boys D2",2]
[null,null,null,"River Falls High School","8th Grade Boys D2",2]
[null,null,null,"Benilde St Margaret","8th Grade Boys D2",2]
[null,null,null,"St. Paul Composite - North","8th Grade Boys D2",2]
[null,null,null,"River Falls High School","8th Grade Boys D2",2]
[null,null,null,"River Falls High School","8th Grade Boys D2",2]
[null,null,null,"St Croix Composite","8th Grade Boys D2",2]
[null,null,null,"Kerkhoven Composite","8th Grade Boys D2",2]
[null,null,null,"Kerkhoven Composite","8th Grade Boys D2",2]
[null,null,null,"Rosemount High School","8th Grade Boys D2",2]
[null,null,null,"Borealis Composite","8th Grade Boys D2",2]
[null,null,null,"Hudson High School","8th Grade Boys D2",2]
[null,null,null,"Mahtomedi High School","8th Grade Boys D2",2]
[null,null,null,"Eagan High School","8th Grade Boys D2",2]
[null,null,null,"Minneapolis South High","8th Grade Boys D2",2]
[null,null,null,"Roseville Area Composite","8th Grade Boys D2",2]
[null,null,null,"Rosemount High School","8th Grade Boys D2",2]
[null,null,null,"St. Paul Composite - South","8th Grade Boys D2",2]
[null,null,null,"Roseville Area Composite","8th Grade Boys D2",2]
[null,null,null,"Hudson High School","8th Grade Boys D2",2]
[null,null,null,"River Falls High School","8th Grade Boys D2",2]
[null,null,null,"River Falls High School","8th Grade Boys D2",2]
[null,null,null,"River Falls High School","8th Grade Boys D2",2]
[null,null,null,"Rosemount High School","8th Grade Boys D2",2]
[null,null,null,"Rosemount High School","8th Grade Boys D2",2]
[null,null,null,"St. Paul Composite - South","8th Grade Boys D2",2]
[null,null,null,"St. Paul Composite - North","8th Grade Boys D2",2]
[null,null,null,"Minnetonka High School","8th Grade Girls","-"]
[null,null,null,"Prior Lake High School","8th Grade Girls","-"]
[null,null,null,"Highland Park St Paul","8th Grade Girls","-"]
[null,null,null,"Hastings Area Composite","8th Grade Girls","-"]
[null,null,null,"Cloquet-Esko-Carlton","8th Grade Girls","-"]
[null,null,null,"Minnetonka High School","8th Grade Girls","-"]
[null,null,null,"Hudson High School","8th Grade Girls","-"]
[null,null,null,"Hudson High School","8th Grade Girls",{"$f":"IF(ISNUMBER(VALUE(RIGHT(E324,1))),VALUE(RIGHT(E324,1)),\"-\")","v":"-"}]
[null,null,null,"Edina Cycling","8th Grade Girls","-"]
[null,null,null,"Cloquet-Esko-Carlton","8th Grade Girls","-"]
[null,null,null,"Edina Cycling","8th Grade Girls","-"]
[null,null,null,"Wayzata Mountain Bike","8th Grade Girls","-"]
[null,null,null,"St Croix Composite","8th Grade Girls","-"]
[null,null,null,"Borealis Composite","8th Grade Girls","-"]
[null,null,null,"Cloquet-Esko-Carlton","8th Grade Girls","-"]
[null,null,null,"Armstrong Cycle","8th Grade Girls","-"]
[null,null,null,"Breck/Blake","8th Grade Girls","-"]
[null,null,null,"Wayzata Mountain Bike","8th Grade Girls","-"]
[null,null,null,"Prior Lake High School","8th Grade Girls","-"]
[null,null,null,"Hudson High School","8th Grade Girls","-"]
[null,null,null,"Hopkins High School","Freshman Boys D1",1]
[null,null,null,"Hopkins High School","Freshman Boys D1",1]
[null,null,null,"Rochester Century High School","Freshman Boys D1",1]
[null,null,null,"Edina Cycling","Freshman Boys D1",1]
[null,null,null,"Washburn High School","Freshman Boys D1",1]
[null,null,null,"Wayzata Mountain Bike","Freshman Boys D1",1]
[null,null,null,"Prior Lake High School","Freshman Boys D1",1]
[null,null,null,"Hopkins High School","Freshman Boys D1",1]
[null,null,null,"Mounds View High School","Freshman Boys D1",1]
[null,null,null,"Edina Cycling","Freshman Boys D1",1]
[null,null,null,"Edina Cycling","Freshman Boys D1",1]
[null,null,null,"Minnetonka High School","Freshman Boys D1",1]
[null,null,null,"Edina Cycling","Freshman Boys D1",1]
[null,null,null,"Washburn High School","Freshman Boys D1",1]
[null,null,null,"Edina Cycling","Freshman Boys D1",1]
[null,null,null,"Wayzata Mountain Bike","Freshman Boys D1",1]
[null,null,null,"Alexandria Area Youth Cycling","Freshman Boys D1",1]
[null,null,null,"Prior Lake High School","Freshman Boys D1",1]
[null,null,null,"Cloquet-Esko-Carlton","Freshman Boys D1",1]
[null,null,null,"Wayzata Mountain Bike","Freshman Boys D1",1]
[null,null,null,"Washburn High School","Freshman Boys D1",1]
[null,null,null,"Alexandria Area Youth Cycling","Freshman Boys D1",1]
[null,null,null,"Washburn High School","Freshman Boys D1",1]
[null,null,null,"Edina Cycling","Freshman Boys D1",1]
[null,null,null,"Cloquet-Esko-Carlton","Freshman Boys D1",1]
[null,null,null,"Burnsville High School","Freshman Boys D1",1]
[null,null,null,"Alexandria Area Youth Cycling","Freshman Boys D1",1]
[null,null,null,"Mounds View High School","Freshman Boys D1",1]
[null,null,null,"Minneapolis Southwest","Freshman Boys D1",1]
[null,null,null,"Mounds View High School","Freshman Boys D1",1]
[null,null,null,"Edina Cycling","Freshman Boys D1",1]
[null,null,null,"Wayzata Mountain Bike","Freshman Boys D1",1]
[null,null,null,"Prior Lake High School","Freshman Boys D1",1]
[null,null,null,"Minnetonka High School","Freshman Boys D1",1]
[null,null,null,"Burnsville High School","Freshman Boys D1",1]
[null,null,null,"Edina Cycling","Freshman Boys D1",1]
[null,null,null,"Wayzata Mountain Bike","Freshman Boys D1",1]
[null,null,null,"Prior Lake High School","Freshman Boys D1",1]
[null,null,null,"Wayzata Mountain Bike","Freshman Boys D1",1]
[null,null,null,"Wayzata Mountain Bike","Freshman Boys D1",1]
[null,null,null,"Prior Lake High School","Freshman Boys D1",1]
[null,null,null,"Edina Cycling","Freshman Boys D1",1]
[null,null,null,"Alexandria Area Youth Cycling","Freshman Boys D1",1]
[null,null,null,"Edina Cycling","Freshman Boys D1",1]
[null,null,null,"Alexandria Area Youth Cycling","Freshman Boys D1",1]
[null,null,null,"Minneapolis Southwest","Freshman Boys D1",1]
[null,null,null,"Edina Cycling","Freshman Boys D1",1]
[null,null,null,"Hopkins High School","Freshman Boys D1",1]
[null,null,null,"Prior Lake High School","Freshman Boys D1",1]
[null,null,null,"Minneapolis Southwest","Freshman Boys D1",1]
[null,null,null,"Minnetonka High School","Freshman Boys D1",1]
[null,null,null,"Minnetonka High School","Freshman Boys D1",{"$f":"IF(ISNUMBER(VALUE(RIGHT(E388,1))),VALUE(RIGHT(E388,1)),\"-\")","v":1}]
[null,null,null,"Edina Cycling","Freshman Boys D1",1]
[null,null,null,"Wayzata Mountain Bike","Freshman Boys D1",1]
[null,null,null,"Wayzata Mountain Bike","Freshman Boys D1",1]
[null,null,null,"Cloquet-Esko-Carlton","Freshman Boys D1",1]
[null,null,null,"Armstrong Cycle","Freshman Boys D1",1]
[null,null,null,"Washburn High School","Freshman Boys D1",1]
[null,null,null,"Eastview High School","Freshman Boys D2",2]
[null,null,null,"Eastview High School","Freshman Boys D2",2]
[null,null,null,"Chisago Lakes Composite","Freshman Boys D2",2]
[null,null,null,"Apple Valley High School","Freshman Boys D2",2]
[null,null,null,"St. Paul Composite - South","Freshman Boys D2",2]
[null,null,null,"Minneapolis Southside Composite","Freshman Boys D2",2]
[null,null,null,"Minneapolis Southside Composite","Freshman Boys D2",2]
[null,null,null,"Rochester Area Composite","Freshman Boys D2",2]
[null,null,null,"Benilde St Margaret","Freshman Boys D2",2]
[null,null,null,"Cannon Valley Composite","Freshman Boys D2",2]
[null,null,null,"Tioga Trailblazers","Freshman Boys D2",2]
[null,null,null,"Tioga Trailblazers","Freshman Boys D2",2]
[null,null,null,"Tioga Trailblazers","Freshman Boys D2",2]
[null,null,null,"Roosevelt High School","Freshman Boys D2",2]
[null,null,null,"Minneapolis Southside Composite","Freshman Boys D2",2]
[null,null,null,"Tioga Trailblazers","Freshman Boys D2",2]
[null,null,null,"Minneapolis Southside Composite","Freshman Boys D2",2]
[null,null,null,"Cannon Valley Composite","Freshman Boys D2",2]
[null,null,null,"Benilde St Margaret","Freshman Boys D2",2]
[null,null,null,"Spectrum High School","Freshman Boys D2",2]
[null,null,null,"St. Paul Composite - South","Freshman Boys D2",2]
[null,null,null,"Mankato Composite","Freshman Boys D2",2]
[null,null,null,"Roosevelt High School","Freshman Boys D2",2]
[null,null,null,"Minneapolis Northside Composite","Freshman Boys D2",2]
[null,null,null,"Roosevelt High School","Freshman Boys D2",2]
[null,null,null,"Hastings Area Composite","Freshman Boys D2",2]
[null,null,null,"St. Paul Composite - North","Freshman Boys D2",2]
[null,null,null,"Eagan High School","Freshman Boys D2",2]
[null,null,null,"Minneapolis Henry High School","Freshman Boys D2",2]
[null,null,null,"Tioga Trailblazers","Freshman Boys D2",2]
[null,null,null,"Elk River Composite","Freshman Boys D2",2]
[null,null,null,"Tioga Trailblazers","Freshman Boys D2",2]
[null,null,null,"Totino Grace High School","Freshman Boys D2",2]
[null,null,null,"Elk River Composite","Freshman Boys D2",2]
[null,null,null,"Eastview High School","Freshman Boys D2",2]
[null,null,null,"Eagan High School","Freshman Boys D2",2]
[null,null,null,"Chisago Lakes Composite","Freshman Boys D2",2]
[null,null,null,"Roseville Area Composite","Freshman Boys D2",2]
[null,null,null,"Eagan High School","Freshman Boys D2",2]
[null,null,null,"Elk River Composite","Freshman Boys D2",2]
[null,null,null,"Highland Park St Paul","Freshman Boys D2",2]
[null,null,null,"Roseville Area Composite","Freshman Boys D2",2]
[null,null,null,"Elk River Composite","Freshman Boys D2",2]
[null,null,null,"West Range Composite","Freshman Boys D2",2]
[null,null,null,"St. Paul Composite - North","Freshman Boys D2",2]
[null,null,null,"Mankato West High School","Freshman Boys D2",2]
[null,null,null,"Mankato West High School","Freshman Boys D2",2]
[null,null,null,"Minneapolis Henry High School","Freshman Boys D2",2]
[null,null,null,"Tioga Trailblazers","Freshman Boys D2",2]
[null,null,null,"Roseville Area Composite","Freshman Boys D2",2]
[null,null,null,"Roseville Area Composite","Freshman Boys D2",2]
[null,null,null,"Mahtomedi High School","Freshman Boys D2",2]
[null,null,null,"Totino Grace High School","Freshman Boys D2",2]
[null,null,null,"Minnetonka High School","Freshman Girls","-"]
[null,null,null,"Washburn High School","Freshman Girls","-"]
[null,null,null,"Wayzata Mountain Bike","Freshman Girls","-"]
[null,null,null,"Hopkins High School","Freshman Girls","-"]
[null,null,null,"Hopkins High School","Freshman Girls",{"$f":"IF(ISNUMBER(VALUE(RIGHT(E452,1))),VALUE(RIGHT(E452,1)),\"-\")","v":"-"}]
[null,null,null,"Wayzata Mountain Bike","Freshman Girls","-"]
[null,null,null,"River Falls High School","Freshman Girls","-"]
[null,null,null,"Minneapolis Southwest","Freshman Girls","-"]
[null,null,null,"Mounds View High School","Freshman Girls","-"]
[null,null,null,"Burnsville High School","Freshman Girls","-"]
[null,null,null,"Cannon Valley Composite","Freshman Girls","-"]
[null,null,null,"Mahtomedi High School","Freshman Girls","-"]
[null,null,null,"Minneapolis Southside Composite","Freshman Girls","-"]
[null,null,null,"Wayzata Mountain Bike","Freshman Girls","-"]
[null,null,null,"Hopkins High School","Freshman Girls","-"]
[null,null,null,"Minneapolis Southwest","Freshman Girls","-"]
[null,null,null,"Minnetonka High School","Freshman Girls","-"]
[null,null,null,"Alexandria Area Youth Cycling","Freshman Girls","-"]
[null,null,null,"Burnsville High School","Freshman Girls","-"]
[null,null,null,"Hudson High School","Freshman Girls","-"]
[null,null,null,"Wayzata Mountain Bike","Freshman Girls","-"]
[null,null,null,"Mounds View High School","Freshman Girls","-"]
[null,null,null,"Alexandria Area Youth Cycling","Freshman Girls","-"]
[null,null,null,"Minnetonka High School","JV2 Boys D1",1]
[null,null,null,"Alexandria Area Youth Cycling","JV2 Boys D1",1]
[null,null,null,"Prior Lake High School","JV2 Boys D1",1]
[null,null,null,"Hopkins High School","JV2 Boys D1",1]
[null,null,null,"Hopkins High School","JV2 Boys D1",1]
[null,null,null,"Wayzata Mountain Bike","JV2 Boys D1",1]
[null,null,null,"Minnetonka High School","JV2 Boys D1",1]
[null,null,null,"Edina Cycling","JV2 Boys D1",1]
[null,null,null,"Washburn High School","JV2 Boys D1",1]
[null,null,null,"Prior Lake High School","JV2 Boys D1",1]
[null,null,null,"Mounds View High School","JV2 Boys D1",1]
[null,null,null,"Prior Lake High School","JV2 Boys D1",1]
[null,null,null,"Washburn High School","JV2 Boys D1",1]
[null,null,null,"Hopkins High School","JV2 Boys D1",1]
[null,null,null,"Burnsville High School","JV2 Boys D1",1]
[null,null,null,"Wayzata Mountain Bike","JV2 Boys D1",1]
[null,null,null,"Alexandria Area Youth Cycling","JV2 Boys D1",1]
[null,null,null,"Hopkins High School","JV2 Boys D1",1]
[null,null,null,"Alexandria Area Youth Cycling","JV2 Boys D1",1]
[null,null,null,"Wayzata Mountain Bike","JV2 Boys D1",1]
[null,null,null,"Hopkins High School","JV2 Boys D1",1]
[null,null,null,"Mounds View High School","JV2 Boys D1",1]
[null,null,null,"Mounds View High School","JV2 Boys D1",1]
[null,null,null,"Prior Lake High School","JV2 Boys D1",1]
[null,null,null,"Armstrong Cycle","JV2 Boys D1",1]
[null,null,null,"Alexandria Area Youth Cycling","JV2 Boys D1",1]
[null,null,null,"Alexandria Area Youth Cycling","JV2 Boys D1",1]
[null,null,null,"Mounds View High School","JV2 Boys D1",1]
[null,null,null,"Wayzata Mountain Bike","JV2 Boys D1",1]
[null,null,null,"Prior Lake High School","JV2 Boys D1",1]
[null,null,null,"Mounds View High School","JV2 Boys D1",1]
[null,null,null,"Washburn High School","JV2 Boys D1",1]
[null,null,null,"Prior Lake High School","JV2 Boys D1",1]
[null,null,null,"Washburn High School","JV2 Boys D1",1]
[null,null,null,"Washburn High School","JV2 Boys D1",1]
[null,null,null,"Edina Cycling","JV2 Boys D1",1]
[null,null,null,"Alexandria Area Youth Cycling","JV2 Boys D1",1]
[null,null,null,"Minnetonka High School","JV2 Boys D1",1]
[null,null,null,"Edina Cycling","JV2 Boys D1",1]
[null,null,null,"Wayzata Mountain Bike","JV2 Boys D1",1]
[null,null,null,"Minneapolis Southwest","JV2 Boys D1",1]
[null,null,null,"Mounds View High School","JV2 Boys D1",1]
[null,null,null,"Rochester Century High School","JV2 Boys D1",1]
[null,null,null,"Mounds View High School","JV2 Boys D1",1]
[null,null,null,"Prior Lake High School","JV2 Boys D1",1]
[null,null,null,"Rochester Century High School","JV2 Boys D1",{"$f":"IF(ISNUMBER(VALUE(RIGHT(E516,1))),VALUE(RIGHT(E516,1)),\"-\")","v":1}]
[null,null,null,"Washburn High School","JV2 Boys D1",1]
[null,null,null,"Mounds View High School","JV2 Boys D1",1]
[null,null,null,"Prior Lake High School","JV2 Boys D1",1]
[null,null,null,"Prior Lake High School","JV2 Boys D1",1]
[null,null,null,"Wayzata Mountain Bike","JV2 Boys D1",1]
[null,null,null,"Armstrong Cycle","JV2 Boys D1",1]
[null,null,null,"Hopkins High School","JV2 Boys D1",1]
[null,null,null,"Prior Lake High School","JV2 Boys D1",1]
[null,null,null,"Prior Lake High School","JV2 Boys D1",1]
[null,null,null,"Armstrong Cycle","JV2 Boys D1",1]
[null,null,null,"Prior Lake High School","JV2 Boys D1",1]
[null,null,null,"Minnetonka High School","JV2 Boys D1",1]
[null,null,null,"Prior Lake High School","JV2 Boys D1",1]
[null,null,null,"Edina Cycling","JV2 Boys D1",1]
[null,null,null,"Prior Lake High School","JV2 Boys D1",1]
[null,null,null,"Minnetonka High School","JV2 Boys D1",1]
[null,null,null,"Armstrong Cycle","JV2 Boys D1",1]
[null,null,null,"Minnetonka High School","JV2 Boys D1",1]
[null,null,null,"Washburn High School","JV2 Boys D1",1]
[null,null,null,"Wayzata Mountain Bike","JV2 Boys D1",1]
[null,null,null,"Hopkins High School","JV2 Boys D1",1]
[null,null,null,"Mounds View High School","JV2 Boys D1",1]
[null,null,null,"Armstrong Cycle","JV2 Boys D1",1]
[null,null,null,"Hopkins High School","JV2 Boys D1",1]
[null,null,null,"Mounds View High School","JV2 Boys D1",1]
[null,null,null,"Prior Lake High School","JV2 Boys D1",1]
[null,null,null,"Armstrong Cycle","JV2 Boys D1",1]
[null,null,null,"Washburn High School","JV2 Boys D1",1]
[null,null,null,"Mounds View High School","JV2 Boys D1",1]
[null,null,null,"Prior Lake High School","JV2 Boys D1",1]
[null,null,null,"Washburn High School","JV2 Boys D1",1]
[null,null,null,"Mounds View High School","JV2 Boys D1",1]
[null,null,null,"Burnsville High School","JV2 Boys D1",1]
[null,null,null,"Alexandria Area Youth Cycling","JV2 Boys D1",1]
[null,null,null,"Washburn High School","JV2 Boys D1",1]
[null,null,null,"Armstrong Cycle","JV2 Boys D1",1]
[null,null,null,"Washburn High School","JV2 Boys D1",1]
[null,null,null,"Rochester Century High School","JV2 Boys D1",1]
[null,null,null,"Minnetonka High School","JV2 Boys D1",1]
[null,null,null,"Minneapolis Southwest","JV2 Boys D1",1]
[null,null,null,"Washburn High School","JV2 Boys D1",1]
[null,null,null,"Minnetonka High School","JV2 Boys D1",1]
[null,null,null,"Minneapolis Southwest","JV2 Boys D1",1]
[null,null,null,"Mounds View High School","JV2 Boys D1",1]
[null,null,null,"Minnetonka High School","JV2 Boys D1",1]
[null,null,null,"Prior Lake High School","JV2 Boys D1",1]
[null,null,null,"Mounds View High School","JV2 Boys D1",1]
[null,null,null,"Wayzata Mountain Bike","JV2 Boys D1",1]
[null,null,null,"Minneapolis Southwest","JV2 Boys D1",1]
[null,null,null,"Washburn High School","JV2 Boys D1",1]
[null,null,null,"Washburn High School","JV2 Boys D1",1]
[null,null,null,"Rochester Century High School","JV2 Boys D1",1]
[null,null,null,"Minnetonka High School","JV2 Boys D1",1]
[null,null,null,"Prior Lake High School","JV2 Boys D1",1]
[null,null,null,"Washburn High School","JV2 Boys D1",1]
[null,null,null,"Prior Lake High School","JV2 Boys D1",1]
[null,null,null,"Minnetonka High School","JV2 Boys D1",1]
[null,null,null,"Minnetonka High School","JV2 Boys D1",1]
[null,null,null,"Minnetonka High School","JV2 Boys D1",1]
[null,null,null,"Minnetonka High School","JV2 Boys D1",1]
[null,null,null,"Minnetonka High School","JV2 Boys D1",1]
[null,null,null,"Minnetonka High School","JV2 Boys D1",1]
[null,null,null,"Edina Cycling","JV2 Boys D1",1]
[null,null,null,"St. Paul Composite - North","JV2 Boys D2",{"$f":"IF(ISNUMBER(VALUE(RIGHT(E580,1))),VALUE(RIGHT(E580,1)),\"-\")","v":2}]
[null,null,null,"Rogers High School","JV2 Boys D2",2]
[null,null,null,"River Falls High School","JV2 Boys D2",2]
[null,null,null,"Hudson High School","JV2 Boys D2",2]
[null,null,null,"St. Paul Composite - North","JV2 Boys D2",2]
[null,null,null,"Mankato West High School","JV2 Boys D2",2]
[null,null,null,"St Paul Central","JV2 Boys D2",2]
[null,null,null,"Mankato Composite","JV2 Boys D2",2]
[null,null,null,"Hudson High School","JV2 Boys D2",2]
[null,null,null,"Chisago Lakes Composite","JV2 Boys D2",2]
[null,null,null,"Rochester Mayo","JV2 Boys D2",2]
[null,null,null,"Highland Park St Paul","JV2 Boys D2",2]
[null,null,null,"St. Paul Composite - South","JV2 Boys D2",2]
[null,null,null,"St. Paul Composite - North","JV2 Boys D2",2]
[null,null,null,"Cannon Valley Composite","JV2 Boys D2",2]
[null,null,null,"Hudson High School","JV2 Boys D2",2]
[null,null,null,"Mankato West High School","JV2 Boys D2",2]
[null,null,null,"St Paul Central","JV2 Boys D2",2]
[null,null,null,"St Paul Central","JV2 Boys D2",2]
[null,null,null,"West Range Composite","JV2 Boys D2",2]
[null,null,null,"St Paul Central","JV2 Boys D2",2]
[null,null,null,"Eastview High School","JV2 Boys D2",2]
[null,null,null,"Elk River Composite","JV2 Boys D2",2]
[null,null,null,"Apple Valley High School","JV2 Boys D2",2]
[null,null,null,"Minneapolis Henry High School","JV2 Boys D2",2]
[null,null,null,"St. Paul Composite - South","JV2 Boys D2",2]
[null,null,null,"Minneapolis South High","JV2 Boys D2",2]
[null,null,null,"Chisago Lakes Composite","JV2 Boys D2",2]
[null,null,null,"Eastview High School","JV2 Boys D2",2]
[null,null,null,"West Range Composite","JV2 Boys D2",2]
[null,null,null,"St Paul Central","JV2 Boys D2",2]
[null,null,null,"Eagan High School","JV2 Boys D2",2]
[null,null,null,"River Falls High School","JV2 Boys D2",2]
[null,null,null,"Rochester Area Composite","JV2 Boys D2",2]
[null,null,null,"Mankato West High School","JV2 Boys D2",2]
[null,null,null,"Roseville Area Composite","JV2 Boys D2",2]
[null,null,null,"Hudson High School","JV2 Boys D2",2]
[null,null,null,"Eastview High School","JV2 Boys D2",2]
[null,null,null,"Elk River Composite","JV2 Boys D2",2]
[null,null,null,"Mankato West High School","JV2 Boys D2",2]
[null,null,null,"Highland Park St Paul","JV2 Boys D2",2]
[null,null,null,"Mankato West High School","JV2 Boys D2",2]
[null,null,null,"Eagan High School","JV2 Boys D2",2]
[null,null,null,"St Paul Central","JV2 Boys D2",2]
[null,null,null,"Roosevelt High School","JV2 Boys D2",2]
[null,null,null,"St. Paul Composite - South","JV2 Boys D2",2]
[null,null,null,"Rosemount High School","JV2 Boys D2",2]
[null,null,null,"Breck/Blake","JV2 Boys D2",2]
[null,null,null,"Totino Grace High School","JV2 Boys D2",2]
[null,null,null,"St Paul Central","JV2 Boys D2",2]
[null,null,null,"Hastings Area Composite","JV2 Boys D2",2]
[null,null,null,"Mankato West High School","JV2 Boys D2",2]
[null,null,null,"Mahtomedi High School","JV2 Boys D2",2]
[null,null,null,"Eastview High School","JV2 Boys D2",2]
[null,null,null,"Eastview High School","JV2 Boys D2",2]
[null,null,null,"Hastings Area Composite","JV2 Boys D2",2]
[null,null,null,"Rochester Area Composite","JV2 Boys D2",2]
[null,null,null,"Eastview High School","JV2 Boys D2",2]
[null,null,null,"Minneapolis Southside Composite","JV2 Boys D2",2]
[null,null,null,"Spectrum High School","JV2 Boys D2",2]
[null,null,null,"Hastings Area Composite","JV2 Boys D2",2]
[null,null,null,"Eastview High School","JV2 Boys D2",2]
[null,null,null,"Highland Park St Paul","JV2 Boys D2",2]
[null,null,null,"St. Paul Composite - South","JV2 Boys D2",2]
[null,null,null,"Roosevelt High School","JV2 Boys D2",{"$f":"IF(ISNUMBER(VALUE(RIGHT(E644,1))),VALUE(RIGHT(E644,1)),\"-\")","v":2}]
[null,null,null,"Cannon Valley Composite","JV2 Boys D2",2]
[null,null,null,"Minneapolis Northside Composite","JV2 Boys D2",2]
[null,null,null,"Mankato Composite","JV2 Boys D2",2]
[null,null,null,"St. Paul Composite - North","JV2 Boys D2",2]
[null,null,null,"Mahtomedi High School","JV2 Boys D2",2]
[null,null,null,"Mahtomedi High School","JV2 Boys D2",2]
[null,null,null,"Rochester Area Composite","JV2 Boys D2",2]
[null,null,null,"Kerkhoven Composite","JV2 Boys D2",2]
[null,null,null,"Kerkhoven Composite","JV2 Boys D2",2]
[null,null,null,"Roosevelt High School","JV2 Boys D2",2]
[null,null,null,"River Falls High School","JV2 Boys D2",2]
[null,null,null,"Rosemount High School","JV2 Boys D2",2]
[null,null,null,"Hudson High School","JV2 Boys D2",2]
[null,null,null,"Kerkhoven Composite","JV2 Boys D2",2]
[null,null,null,"Eagan High School","JV2 Boys D2",2]
[null,null,null,"Rochester Mayo","JV2 Boys D2",2]
[null,null,null,"Mahtomedi High School","JV2 Boys D2",2]
[null,null,null,"Hudson High School","JV2 Boys D2",2]
[null,null,null,"Roseville Area Composite","JV2 Boys D2",2]
[null,null,null,"Roosevelt High School","JV2 Boys D2",2]
[null,null,null,"Rochester Area Composite","JV2 Boys D2",2]
[null,null,null,"Elk River Composite","JV2 Boys D2",2]
[null,null,null,"Eastview High School","JV2 Boys D2",2]
[null,null,null,"Mankato West High School","JV2 Boys D2",2]
[null,null,null,"Minnetonka High School","JV2 Girls","-"]
[null,null,null,"Hopkins High School","JV2 Girls","-"]
[null,null,null,"Cloquet-Esko-Carlton","JV2 Girls","-"]
[null,null,null,"Minneapolis Southside Composite","JV2 Girls","-"]
[null,null,null,"Mounds View High School","JV2 Girls","-"]
[null,null,null,"Armstrong Cycle","JV2 Girls","-"]
[null,null,null,"Prior Lake High School","JV2 Girls","-"]
[null,null,null,"Cloquet-Esko-Carlton","JV2 Girls","-"]
[null,null,null,"Breck/Blake","JV2 Girls","-"]
[null,null,null,"Mankato West High School","JV2 Girls","-"]
[null,null,null,"Mounds View High School","JV2 Girls","-"]
[null,null,null,"Minnetonka High School","JV2 Girls","-"]
[null,null,null,"Cloquet-Esko-Carlton","JV2 Girls","-"]
[null,null,null,"Minneapolis Southside Composite","JV2 Girls","-"]
[null,null,null,"Prior Lake High School","JV2 Girls","-"]
[null,null,null,"Minneapolis Henry High School","JV2 Girls","-"]
[null,null,null,"Rochester Area Composite","JV2 Girls","-"]
[null,null,null,"Minneapolis Southwest","JV2 Girls","-"]
[null,null,null,"Mounds View High School","JV2 Girls","-"]
[null,null,null,"Borealis Composite","JV2 Girls","-"]
[null,null,null,"Minneapolis Southwest","JV2 Girls","-"]
[null,null,null,"Minneapolis Southwest","JV2 Girls","-"]
[null,null,null,"Minneapolis Henry High School","JV2 Girls","-"]
[null,null,null,"Armstrong Cycle","JV2 Girls","-"]
[null,null,null,"Washburn High School","JV2 Girls","-"]
[null,null,null,"Mounds View High School","JV2 Girls","-"]
[null,null,null,"Rochester Mayo","JV2 Girls","-"]
[null,null,null,"Prior Lake High School","JV2 Girls","-"]
[null,null,null,"St. Paul Composite - South","JV2 Girls","-"]
[null,null,null,"Eagan High School","JV2 Girls","-"]
[null,null,null,"Armstrong Cycle","JV2 Girls","-"]
[null,null,null,"Wayzata Mountain Bike","JV2 Girls","-"]
[null,null,null,"Washburn High School","JV2 Girls","-"]
[null,null,null,"Wayzata Mountain Bike","JV2 Girls","-"]
[null,null,null,"Washburn High School","JV2 Girls","-"]
[null,null,null,"Hudson High School","JV3 Boys","-"]
[null,null,null,"Hopkins High School","JV3 Boys","-"]
[null,null,null,"Alexandria Area Youth Cycling","JV3 Boys","-"]
[null,null,null,"Minneapolis Southwest","JV3 Boys","-"]
[null,null,null,"Edina Cycling","JV3 Boys",{"$f":"IF(ISNUMBER(VALUE(RIGHT(E708,1))),VALUE(RIGHT(E708,1)),\"-\")","v":"-"}]
[null,null,null,"Edina Cycling","JV3 Boys","-"]
[null,null,null,"Apple Valley High School","JV3 Boys","-"]
[null,null,null,"Minneapolis Southwest","JV3 Boys","-"]
[null,null,null,"Mounds View High School","JV3 Boys","-"]
[null,null,null,"Rochester Century High School","JV3 Boys","-"]
[null,null,null,"Prior Lake High School","JV3 Boys","-"]
[null,null,null,"Edina Cycling","JV3 Boys","-"]
[null,null,null,"Cloquet-Esko-Carlton","JV3 Boys","-"]
[null,null,null,"Spectrum High School","JV3 Boys","-"]
[null,null,null,"Cloquet-Esko-Carlton","JV3 Boys","-"]
[null,null,null,"Cloquet-Esko-Carlton","JV3 Boys","-"]
[null,null,null,"Hopkins High School","JV3 Boys","-"]
[null,null,null,"Elk River Composite","JV3 Boys","-"]
[null,null,null,"Prior Lake High School","JV3 Boys","-"]
[null,null,null,"River Falls High School","JV3 Boys","-"]
[null,null,null,"River Falls High School","JV3 Boys","-"]
[null,null,null,"Washburn High School","JV3 Boys","-"]
[null,null,null,"Cloquet-Esko-Carlton","JV3 Boys","-"]
[null,null,null,"Alexandria Area Youth Cycling","JV3 Boys","-"]
[null,null,null,"Rochester Century High School","JV3 Boys","-"]
[null,null,null,"Rogers High School","JV3 Boys","-"]
[null,null,null,"Hopkins High School","JV3 Boys","-"]
[null,null,null,"Cannon Valley Composite","JV3 Boys","-"]
[null,null,null,"Breck/Blake","JV3 Boys","-"]
[null,null,null,"Alexandria Area Youth Cycling","JV3 Boys","-"]
[null,null,null,"Mahtomedi High School","JV3 Boys","-"]
[null,null,null,"Hudson High School","JV3 Boys","-"]
[null,null,null,"Wayzata Mountain Bike","JV3 Boys","-"]
[null,null,null,"Rochester Century High School","JV3 Boys","-"]
[null,null,null,"Wayzata Mountain Bike","JV3 Boys","-"]
[null,null,null,"Washburn High School","JV3 Boys","-"]
[null,null,null,"Breck/Blake","JV3 Boys","-"]
[null,null,null,"River Falls High School","JV3 Boys","-"]
[null,null,null,"Benilde St Margaret","JV3 Boys","-"]
[null,null,null,"Prior Lake High School","JV3 Boys","-"]
[null,null,null,"Cloquet-Esko-Carlton","JV3 Boys","-"]
[null,null,null,"Cloquet-Esko-Carlton","JV3 Boys","-"]
[null,null,null,"Spectrum High School","JV3 Boys","-"]
[null,null,null,"Mankato Composite","JV3 Boys","-"]
[null,null,null,"Alexandria Area Youth Cycling","JV3 Boys","-"]
[null,null,null,"Armstrong Cycle","JV3 Boys","-"]
[null,null,null,"River Falls High School","JV3 Boys","-"]
[null,null,null,"Minnetonka High School","JV3 Boys","-"]
[null,null,null,"Cloquet-Esko-Carlton","JV3 Boys","-"]
[null,null,null,"Eastview High School","JV3 Boys","-"]
[null,null,null,"Roosevelt High School","JV3 Boys","-"]
[null,null,null,"Alexandria Area Youth Cycling","JV3 Boys","-"]
[null,null,null,"St Paul Central","JV3 Boys","-"]
[null,null,null,"Burnsville High School","JV3 Boys","-"]
[null,null,null,"Prior Lake High School","JV3 Boys","-"]
[null,null,null,"River Falls High School","JV3 Boys","-"]
[null,null,null,"Minnetonka High School","JV3 Boys","-"]
[null,null,null,"Prior Lake High School","JV3 Boys","-"]
[null,null,null,"Wayzata Mountain Bike","JV3 Boys","-"]
[null,null,null,"Minneapolis Southwest","JV3 Boys","-"]
[null,null,null,"Burnsville High School","JV3 Boys","-"]
[null,null,null,"Highland Park St Paul","JV3 Boys","-"]
[null,null,null,"Roosevelt High School","JV3 Boys","-"]
[null,null,null,"Prior Lake High School","JV3 Boys","-"]
[null,null,null,"Armstrong Cycle","JV3 Boys","-"]
[null,null,null,"Armstrong Cycle","JV3 Boys","-"]
[null,null,null,"Prior Lake High School","JV3 Boys","-"]
[null,null,null,"Eagan High School","JV3 Boys","-"]
[null,null,null,"Wayzata Mountain Bike","JV3 Boys",{"$f":"IF(ISNUMBER(VALUE(RIGHT(E772,1))),VALUE(RIGHT(E772,1)),\"-\")","v":"-"}]
[null,null,null,"Mankato Composite","JV3 Boys","-"]
[null,null,null,"Rochester Century High School","JV3 Boys","-"]
[null,null,null,"Minnetonka High School","JV3 Boys","-"]
[null,null,null,"Alexandria Area Youth Cycling","JV3 Boys","-"]
[null,null,null,"Minneapolis Southwest","JV3 Boys","-"]
[null,null,null,"Mankato West High School","JV3 Boys","-"]
[null,null,null,"Hastings Area Composite","JV3 Boys","-"]
[null,null,null,"Minneapolis Southwest","JV3 Boys","-"]
[null,null,null,"Alexandria Area Youth Cycling","JV3 Boys","-"]
[null,null,null,"Edina Cycling","JV3 Boys","-"]
[null,null,null,"Wayzata Mountain Bike","JV3 Boys","-"]
[null,null,null,"Rochester John Marshall","JV3 Boys","-"]
[null,null,null,"Rochester Area Composite","JV3 Boys","-"]
[null,null,null,"Wayzata Mountain Bike","JV3 Boys","-"]
[null,null,null,"Armstrong Cycle","JV3 Boys","-"]
[null,null,null,"St Croix Composite","JV3 Boys","-"]
[null,null,null,"Hudson High School","JV3 Boys","-"]
[null,null,null,"Rochester Area Composite","JV3 Boys","-"]
[null,null,null,"Armstrong Cycle","JV3 Boys","-"]
[null,null,null,"Armstrong Cycle","JV3 Boys","-"]
[null,null,null,"Mankato West High School","JV3 Boys","-"]
[null,null,null,"Irondale High School","JV3 Boys","-"]
[null,null,null,"Rochester Mayo","JV3 Boys","-"]
[null,null,null,"Cannon Valley Composite","JV3 Girls","-"]
[null,null,null,"Hopkins High School","JV3 Girls","-"]
[null,null,null,"Alexandria Area Youth Cycling","JV3 Girls","-"]
[null,null,null,"Roosevelt High School","JV3 Girls","-"]
[null,null,null,"Mankato Composite","JV3 Girls","-"]
[null,null,null,"Rochester Mayo","JV3 Girls","-"]
[null,null,null,"Tioga Trailblazers","JV3 Girls","-"]
[null,null,null,"Eagan High School","JV3 Girls","-"]
[null,null,null,"Minneapolis Southwest","JV3 Girls","-"]
[null,null,null,"Benilde St Margaret","JV3 Girls","-"]
[null,null,null,"Elk River Composite","JV3 Girls","-"]
[null,null,null,"Washburn High School","JV3 Girls","-"]
[null,null,null,"Minneapolis Southwest","JV3 Girls","-"]
[null,null,null,"Prior Lake High School","JV3 Girls","-"]
[null,null,null,"Roseville Area Composite","JV3 Girls","-"]
[null,null,null,"Armstrong Cycle","JV3 Girls","-"]
[null,null,null,"St. Paul Composite - North","JV3 Girls","-"]
[null,null,null,"Benilde St Margaret","Varsity Boys","-"]
[null,null,null,"Washburn High School","Varsity Boys","-"]
[null,null,null,"Cloquet-Esko-Carlton","Varsity Boys","-"]
[null,null,null,"Prior Lake High School","Varsity Boys","-"]
[null,null,null,"Rochester Mayo","Varsity Boys","-"]
[null,null,null,"Hudson High School","Varsity Boys","-"]
[null,null,null,"Benilde St Margaret","Varsity Boys","-"]
[null,null,null,"Highland Park St Paul","Varsity Boys","-"]
[null,null,null,"Edina Cycling","Varsity Boys","-"]
[null,null,null,"Edina Cycling","Varsity Boys","-"]
[null,null,null,"Minnetonka High School","Varsity Boys","-"]
[null,null,null,"Hopkins High School","Varsity Boys","-"]
[null,null,null,"Burnsville High School","Varsity Boys","-"]
[null,null,null,"Minneapolis South High","Varsity Boys","-"]
[null,null,null,"Hopkins High School","Varsity Boys","-"]
[null,null,null,"Minneapolis Southwest","Varsity Boys","-"]
[null,null,null,"Rochester Mayo","Varsity Boys","-"]
[null,null,null,"Rochester Mayo","Varsity Boys","-"]
[null,null,null,"St Croix Composite","Varsity Boys","-"]
[null,null,null,"Minneapolis South High","Varsity Boys","-"]
[null,null,null,"Breck/Blake","Varsity Boys","-"]
[null,null,null,"St. Paul Composite - South","Varsity Boys","-"]
[null,null,null,"Minneapolis Southwest","Varsity Boys","-"]
[null,null,null,"Prior Lake High School","Varsity Boys",{"$f":"IF(ISNUMBER(VALUE(RIGHT(E836,1))),VALUE(RIGHT(E836,1)),\"-\")","v":"-"}]
[null,null,null,"Cloquet-Esko-Carlton","Varsity Boys","-"]
[null,null,null,"Highland Park St Paul","Varsity Boys","-"]
[null,null,null,"Mahtomedi High School","Varsity Boys","-"]
[null,null,null,"Mankato Composite","Varsity Boys","-"]
[null,null,null,"Burnsville High School","Varsity Boys","-"]
[null,null,null,"Totino Grace High School","Varsity Boys","-"]
[null,null,null,"Mankato West High School","Varsity Boys","-"]
[null,null,null,"Minneapolis Southwest","Varsity Boys","-"]
[null,null,null,"Edina Cycling","Varsity Boys","-"]
[null,null,null,"Burnsville High School","Varsity Boys","-"]
[null,null,null,"Washburn High School","Varsity Boys","-"]
[null,null,null,"Edina Cycling","Varsity Girls","-"]
[null,null,null,"Edina Cycling","Varsity Girls","-"]
[null,null,null,"Minnetonka High School","Varsity Girls","-"]
[null,null,null,"Burnsville High School","Varsity Girls","-"]
[null,null,null,"Cloquet-Esko-Carlton","Varsity Girls","-"]
[null,null,null,"Washburn High School","Varsity Girls","-"]
[null,null,null,"Burnsville High School","Varsity Girls","-"]
[null,null,null,"Hudson High School","Varsity Girls","-"]